{"text_format":"1","workbook":"xlsx","n_sheets":7,"sheets":["SOLICITAÇÃO","REPASSE ","PARTES E PEÇAS","MEMORIAL DESCRITIVO-BRI","ABNT NBR ISO TR 8124-8 2017","PLANO DE ENSAIO","DADOS"],"not_rendered":{"charts":0,"images":4,"macros":1,"external_links":1,"defined_names":39,"comments":2,"pivot_tables":0},"unopened":[],"bounds":{"document_bytes":16777216,"sheet_cells":100000,"rows_first":2000,"rows_last":500,"rows_between":2000,"halvings":0,"cell_chars":16384,"cell_head_chars":4096},"cells_cut":0,"cells_raw":0,"read":"whole","date_system":"1900"}

{"sheet":"SOLICITAÇÃO","index":0,"n_rows":59,"n_cols":4,"rows_kept":59,"cut":false,"hidden":false,"merged":[[56,3,56,4],[57,3,57,4],[58,3,58,4],[48,2,48,4],[50,1,50,4],[52,3,52,4],[53,3,53,4],[54,3,54,4],[55,3,55,4],[46,2,46,4],[34,2,34,4],[35,2,35,4],[36,2,36,4],[37,2,37,4],[38,3,38,4],[39,2,39,4],[41,1,41,4],[44,3,44,4],[45,2,45,4],[33,2,33,4],[18,2,18,4],[21,2,21,4],[22,2,22,4],[24,1,24,4],[26,2,26,4],[27,2,27,4],[28,2,28,4],[29,2,29,4],[30,2,30,4],[31,2,31,4],[32,2,32,4],[19,2,19,4],[17,2,17,4],[1,1,1,4],[6,1,6,4],[8,2,8,4],[9,2,9,4],[10,2,10,4],[11,2,11,4],[12,2,12,4],[13,2,13,4],[14,2,14,4],[15,2,15,4],[16,2,16,4],[3,3,4,4]]}
[]
[null,"                                \n                                 ANÁLISE DE VIABILIDADE - BRINQUEDO\n                               "]
[]
[null,"SOLICITAÇÃO:","-","Necessário selecionar MODELO DE CERTIFICAÇÃO para preenchimento do memorial descritivo"]
[null,"MODELO DE CERTIFICAÇÃO:","-"]
[]
[null,"DADOS DA EMPRESA SOLICITANTE"]
[]
[null,"RAZÃO SOCIAL:","-"]
[null,"NOME FANTASIA:"]
[null,"CNPJ:","-"]
[null,"ENDEREÇO:","-"]
[null,"BAIRRO:","-"]
[null,"CEP:","-"]
[null,"CIDADE:","-"]
[null,"ESTADO:","-"]
[null,"E-MAIL:","-"]
[null,"NOME DO CONTATO:","-"]
[null,"TELEFONE: (   )","-"]
[null,{"$f":"IF(C5=\"MODELO 2\",\"Documento de rastreabilidade item: 6.1.1.1 - b) (Portaria 302:2021)\",\"\")","v":""}]
[]
[null,"DATA DA SOLICITAÇÃO:","-"]
[null,null,"______________________________________________________________________\nAssinatura (obrigatório)"]
[]
[null,"DADOS DA FÁBRICA"]
[]
[null,"RAZÃO SOCIAL:","-"]
[null,"NOME FANTASIA:","-"]
[null,"CNPJ:","-"]
[null,"ENDEREÇO:","-"]
[null,"BAIRRO:","-"]
[null,"CEP:","-"]
[null,"CIDADE:","-"]
[null,"ESTADO:","-"]
[null,"PAÍS:","-"]
[null,"E-MAIL - FÁBRICA:","-"]
[null,"NOME DO CONTATO FÁBRICA:","-"]
[null,"TELEFONE (DDD) XXXXX-XXXX:","-"]
[null,"POSSUI CERTIFICAÇÃO ISO 9001? (vigente)","-",{"$f":"IF(C39=\"SIM\",\"Enviar certificado com validade vigente via e-mail\",\"\")","v":""}]
[null,{"$f":"IF(C39=\"sim\",\"DESCREVA O ESCOPO DE CERTIFICAÇÃO\",\"\")","v":""},"-"]
[]
[null,"IDENTIFICAÇÃO DOS PRODUTOS"]
[]
[null,"PRODUTO COM MÚLTIPLAS CERTIFICAÇÕES (PRODUTO HÍBRIDO)?","-",{"$f":"IF(C44=\"SIM\",\"QUAL(IS)\",\"\")","v":""}]
[null,"POSSUI LICENÇA DE TERCEIROS?\n(USO DE MARCA): ","-",{"$f":"IF(C45=\"SIM\",\"Favor preencher as duas linhas abaixo\",\"\")","v":""}]
[null,{"$f":"IF(C45=\"SIM\",\"PRODUTOS LICENCIADOS:\",\"\")","v":""},"-"]
[null,{"$f":"IF(C45=\"SIM\",\"N° DA LICENÇA P/ USO DE MARCAS:\",\"\")","v":""},"-"]
[null,"EXISTE PROCESSO TERCEIRIZADO:","-"]
[null,{"$f":"IF(C48=\"SIM\",\"QUAL?\",\"\")","v":""}]
[]
[null,"RELAÇÃO DE COMPONENTES\n(De acordo com o requisito 6.2.1.2 - e) da Portaria Inmetro n° 200/2021)\nTraduzidos para o Português, quando em idioma distinto do Inglês ou Espanhol;\nComponentes podem ser:\nComponentes podem ser partes ou itens que venham junto com o produto, tal como, pneu de bicicleta, giz, chassi  e todos os demais componentes utilizados para a composição que impactem a conformidade do produto, que sejam fornecidos por empresa terceira ou produzidos pela própria empresa fabricante do produto final."]
[]
[null,"COMPONENTE","MATERIAL UTILIZADO","FORNECEDOR(ES) "]
[null,"-","-","-"]
[null,"-","-","-"]
[null,"-","-","-"]
[null,"-","-","-"]
[null,"-","-","-"]
[null,"-","-","-"]

{"sheet":"REPASSE ","index":1,"n_rows":28,"n_cols":3,"rows_kept":28,"cut":false,"hidden":true,"merged":[[13,2,13,4],[14,2,14,4],[15,2,15,4],[1,1,1,4],[3,1,3,4],[5,2,5,4],[6,2,6,4],[7,2,7,4],[11,2,11,4],[8,2,8,4],[9,2,9,4],[10,2,10,4],[12,2,12,4],[27,1,31,1],[16,2,16,4],[18,2,18,4],[19,2,19,4],[27,2,31,4],[21,2,21,4]]}
[]
[null,"                                \n                     REPASSE - BRINQUEDO\n                 \n                               "]
[]
[null,"DADOS DO EMBALADOR - (Somente em caso de repasse)"]
[]
[null,"RAZÃO SOCIAL:",{"$f":"SOLICITAÇÃO!C9","v":"-"}]
[null,"NOME FANTASIA:",{"$f":"SOLICITAÇÃO!C10","v":0}]
[null,"CNPJ:",{"$f":"SOLICITAÇÃO!C11","v":"-"}]
[null,"ENDEREÇO:",{"$f":"SOLICITAÇÃO!C12","v":"-"}]
[null,"BAIRRO:",{"$f":"SOLICITAÇÃO!C13","v":"-"}]
[null,"CEP:",{"$f":"SOLICITAÇÃO!C14","v":"-"}]
[null,"CIDADE:",{"$f":"SOLICITAÇÃO!C15","v":"-"}]
[null,"ESTADO:",{"$f":"SOLICITAÇÃO!C16","v":"-"}]
[null,"E-MAIL:",{"$f":"SOLICITAÇÃO!C17","v":"-"}]
[null,"NOME DO CONTATO:",{"$f":"SOLICITAÇÃO!C18","v":"-"}]
[null,"TELEFONE: (   )",{"$f":"SOLICITAÇÃO!C19","v":"-"}]
[null,"DATA DA SOLICITAÇÃO:",{"$f":"SOLICITAÇÃO!C22","v":"-"}]
[]
[null,"N° AUTORIZAÇÃO PARTICULAR DE REPASSE:","-"]
[null,"N° AUTORIZAÇÃO DE USO DA MARCA:","-"]
[]
[null,"N° DE LICENÇA DE IMPORTAÇÃO:","-"]
[]
[null,"PROCEDÊNCIA: ","-"]
[null,{"$f":"IF(C24=\"IMPORTADO\",\"PAÍS DE ORIGEM:\",\"\")","v":""},"-"]
[null,{"$f":"IF(C24=\"IMPORTADO\",\"N° DA LICENÇA DE IMPORTAÇÃO\",\"-\")","v":"-"},"-"]
[]
[null,null,"______________________________________________________________________\nAssinatura (obrigatório)\n"]

{"sheet":"PARTES E PEÇAS","index":2,"n_rows":36,"n_cols":5,"rows_kept":36,"cut":false,"hidden":true,"merged":[[16,1,16,4],[9,2,9,3],[10,2,10,3],[11,2,11,3],[12,2,12,3],[7,1,7,4],[13,2,13,3],[14,2,14,3],[15,2,15,3],[8,2,8,3],[30,3,30,4],[31,1,31,2],[31,3,31,4],[32,1,32,2],[32,3,32,4],[23,1,23,2],[24,1,24,2],[25,1,25,4],[29,1,29,2],[29,3,29,4],[26,3,26,4],[27,3,27,4],[28,3,28,4],[26,1,26,2],[22,1,22,2],[21,1,21,2],[20,1,20,2],[34,1,34,4],[0,1,1,4],[3,2,3,4],[4,2,4,4],[5,2,5,4],[30,1,30,2],[17,1,17,2],[18,1,18,2],[19,1,19,2],[33,1,33,2],[33,3,33,4],[27,1,27,2],[28,1,28,2]]}
[null,"PARTES E PEÇAS"]
[]
[]
[null,"NOME DA EMPRESA:"]
[null,"NOME DO REPRESENTANTE:"]
[null,"DATA:"]
[]
[null,"RASTREABILIDADE"]
[null,"ITEM","REFERÊNCIA",null,"NCM MERCOSUL"]
[]
[]
[]
[]
[]
[]
[]
[null,"DESCRIÇÃO"]
[null,"PRODUTO",null,"QUANTIDADE","MEDIDA"]
[null,"Brinquedo 1",null,1,"11 x 36 x 21 cm"]
[null,"Brinquedo 2",null,1,"8 x 28 x 18 cm"]
[null,"Brinquedo 3",null,1,"4 x 18 x 18 cm"]
[null,"Brinquedo 4",null,1,"12 x 18 x 13 cm"]
[null,"Brinquedo 5",null,1,"4 x 16.5 x 11.5 cm"]
[null,"Brinquedo 6",null,1,"4 x 12 x 4 cm"]
[null,"Brinquedo 7",null,1,"2.5 x 17 x 10.5 cm"]
[null,"FAIXA ETÁRIA"]
[null,"INDICATIVA",null,"RESTRITIVA"]
[]
[]
[]
[]
[]
[]
[]
[null,"DESCRIÇÃO TÉCNICA DO PRODUTO"]
[null,"FUNCIONALIDADE","MECANISMO","DIMENSÕES","CONTÉM IMÃ?"]

{"sheet":"MEMORIAL DESCRITIVO-BRI","index":3,"n_rows":509,"n_cols":41,"rows_kept":509,"cut":false,"hidden":false,"merged":[[1,1,4,3],[1,4,4,26],[6,1,6,4]]}
[]
[null,null,null,null,"                                                                                                                  MEMORIAL DESCRITIVO DE BRINQUEDOS\n                                                                                                                      DESCRIPTIVE MEMORIAL OF TOYS"]
[null,null,null,null,null,null,null,null,null,null,null,null,null,null,null,null,null,null,null,null,null,null,null,null,null,null,null,null,null,null,null,null,null,null,null,null,null,null,null,null,"FOR.1.1-1"]
[null,null,null,null,null,null,null,null,null,null,null,null,null,null,null,null,null,null,null,null,null,null,null,null,null,null,null,null,null,null,null,null,null,null,null,null,null,null,null,null,"Rev.: 01"]
[null,null,null,null,null,null,null,null,null,null,null,null,null,null,null,null,null,null,null,null,null,null,null,null,null,null,null,null,null,null,null,null,null,null,null,null,null,null,null,null,"Data da revisão: 06/12/2022"]
[null,{"$f":"SOLICITAÇÃO!C5","v":"-"}]
[null,"PREENCHIDO PELO OCAN",null,null,null,"PREENCHIMENTO PELO CLIENTE\n(PARA OS ITENS NÃO APLICÁVEIS, FAVOR PREENCHER COM N/A)"]
[null,null,null,null,null,2,3,4,5,6,7,8,9,10,11,12,13,14,15,16,17,18,19,20,21,22,23,24,25,26,27,28,29,30,31,32,33,34,null,null,35]
[null,{"$f":"VLOOKUP($B$6,DADOS!F$10:AT$12,2,0)","v":{"$error":"#N/A"}},{"$f":"VLOOKUP($B$6,DADOS!F$10:AT$12,3,0)","v":{"$error":"#N/A"}},{"$f":"VLOOKUP($B$6,DADOS!F$10:AT$12,4,0)","v":{"$error":"#N/A"}},{"$f":"VLOOKUP($B$6,DADOS!F$10:AT$12,5,0)","v":{"$error":"#N/A"}},{"$f":"VLOOKUP($B$6,DADOS!F$10:AT$12,6,0)","v":{"$error":"#N/A"}},{"$f":"VLOOKUP($B$6,DADOS!F$10:AT$12,7,0)","v":{"$error":"#N/A"}},{"$f":"VLOOKUP($B$6,DADOS!F$10:AT$12,8,0)","v":{"$error":"#N/A"}},{"$f":"VLOOKUP($B$6,DADOS!F$10:AT$12,9,0)","v":{"$error":"#N/A"}},{"$f":"VLOOKUP($B$6,DADOS!F$10:AT$12,10,0)","v":{"$error":"#N/A"}},{"$f":"IF(VLOOKUP($B$6,DADOS!F$10:AT$12,11,0)=0,\"N/A\",VLOOKUP($B$6,DADOS!F$10:AT$12,11,0))","v":{"$error":"#N/A"}},{"$f":"IF(VLOOKUP($B$6,DADOS!F$10:AT$12,12,0)=0,\"N/A\",VLOOKUP($B$6,DADOS!F$10:AT$12,12,0))","v":{"$error":"#N/A"}},{"$f":"IF(VLOOKUP($B$6,DADOS!F$10:AT$12,13,0)=0,\"N/A\",VLOOKUP($B$6,DADOS!F$10:AT$12,13,0))","v":{"$error":"#N/A"}},{"$f":"IF(VLOOKUP($B$6,DADOS!F$10:AT$12,14,0)=0,\"N/A\",VLOOKUP($B$6,DADOS!F$10:AT$12,14,0))","v":{"$error":"#N/A"}},{"$f":"IF(VLOOKUP($B$6,DADOS!F$10:AT$12,15,0)=0,\"N/A\",VLOOKUP($B$6,DADOS!F$10:AT$12,15,0))","v":{"$error":"#N/A"}},{"$f":"VLOOKUP($B$6,DADOS!F$10:AT$12,16,0)","v":{"$error":"#N/A"}},{"$f":"VLOOKUP($B$6,DADOS!F$10:AT$12,17,0)","v":{"$error":"#N/A"}},{"$f":"VLOOKUP($B$6,DADOS!F$10:AT$12,18,0)","v":{"$error":"#N/A"}},{"$f":"VLOOKUP($B$6,DADOS!F$10:AT$12,19,0)","v":{"$error":"#N/A"}},{"$f":"VLOOKUP($B$6,DADOS!F$10:AT$12,20,0)","v":{"$error":"#N/A"}},{"$f":"VLOOKUP($B$6,DADOS!F$10:AT$12,21,0)","v":{"$error":"#N/A"}},{"$f":"VLOOKUP($B$6,DADOS!F$10:AT$12,22,0)","v":{"$error":"#N/A"}},{"$f":"VLOOKUP($B$6,DADOS!F$10:AT$12,23,0)","v":{"$error":"#N/A"}},{"$f":"VLOOKUP($B$6,DADOS!F$10:AT$12,24,0)","v":{"$error":"#N/A"}},{"$f":"VLOOKUP($B$6,DADOS!F$10:AT$12,25,0)","v":{"$error":"#N/A"}},{"$f":"VLOOKUP($B$6,DADOS!F$10:AT$12,26,0)","v":{"$error":"#N/A"}},{"$f":"VLOOKUP($B$6,DADOS!F$10:AT$12,27,0)","v":{"$error":"#N/A"}},{"$f":"VLOOKUP($B$6,DADOS!F$10:AT$12,28,0)","v":{"$error":"#N/A"}},{"$f":"VLOOKUP($B$6,DADOS!F$10:AT$12,29,0)","v":{"$error":"#N/A"}},{"$f":"VLOOKUP($B$6,DADOS!F$10:AT$12,30,0)","v":{"$error":"#N/A"}},{"$f":"VLOOKUP($B$6,DADOS!F$10:AT$12,31,0)","v":{"$error":"#N/A"}},{"$f":"VLOOKUP($B$6,DADOS!F$10:AT$12,32,0)","v":{"$error":"#N/A"}},{"$f":"VLOOKUP($B$6,DADOS!F$10:AT$12,33,0)","v":{"$error":"#N/A"}},{"$f":"VLOOKUP($B$6,DADOS!F$10:AT$12,34,0)","v":{"$error":"#N/A"}},{"$f":"VLOOKUP($B$6,DADOS!F$10:AT$12,35,0)","v":{"$error":"#N/A"}},{"$f":"VLOOKUP($B$6,DADOS!F$10:AT$12,36,0)","v":{"$error":"#N/A"}},{"$f":"VLOOKUP($B$6,DADOS!F$10:AT$12,37,0)","v":{"$error":"#N/A"}},{"$f":"VLOOKUP($B$6,DADOS!F$10:AT$12,38,0)","v":{"$error":"#N/A"}},{"$f":"VLOOKUP($B$6,DADOS!F$10:AT$12,39,0)","v":{"$error":"#N/A"}},{"$f":"VLOOKUP($B$6,DADOS!F$10:AU$12,40,0)","v":{"$error":"#N/A"}},{"$f":"VLOOKUP($B$6,DADOS!F$10:AV$12,41,0)","v":{"$error":"#N/A"}}]
[]
[]
[]
[]
[]
[]
[]
[]
[null,null,null,null,null,null,null,null,null,null,null,null,null,null,null,null,null,null,null,null,null,null,null,null,"-","-","-",null,null,null,null,null,null,null,null,null,null,"-"]
[null,null,null,null,null,null,null,null,null,null,null,null,null,null,null,null,null,null,null,null,null,null,null,null,"-","-","-",null,null,null,null,null,null,null,null,null,null,"-"]
[null,null,null,null,null,null,null,null,null,null,null,null,null,null,null,null,null,null,null,null,null,null,null,null,"-","-","-",null,null,null,null,null,null,null,null,null,null,"-"]
[null,null,null,null,null,null,null,null,null,null,null,null,null,null,null,null,null,null,null,null,null,null,null,null,"-","-","-",null,null,null,null,null,null,null,null,null,null,"-"]
[null,null,null,null,null,null,null,null,null,null,null,null,null,null,null,null,null,null,null,null,null,null,null,null,"-","-","-",null,null,null,null,null,null,null,null,null,null,"-"]
[null,null,null,null,null,null,null,null,null,null,null,null,null,null,null,null,null,null,null,null,null,null,null,null,"-","-","-",null,null,null,null,null,null,null,null,null,null,"-"]
[null,null,null,null,null,null,null,null,null,null,null,null,null,null,null,null,null,null,null,null,null,null,null,null,"-","-","-",null,null,null,null,null,null,null,null,null,null,"-"]
[null,null,null,null,null,null,null,null,null,null,null,null,null,null,null,null,null,null,null,null,null,null,null,null,"-","-","-",null,null,null,null,null,null,null,null,null,null,"-"]
[null,null,null,null,null,null,null,null,null,null,null,null,null,null,null,null,null,null,null,null,null,null,null,null,"-","-","-",null,null,null,null,null,null,null,null,null,null,"-"]
[null,null,null,null,null,null,null,null,null,null,null,null,null,null,null,null,null,null,null,null,null,null,null,null,"-","-","-",null,null,null,null,null,null,null,null,null,null,"-"]
[null,null,null,null,null,null,null,null,null,null,null,null,null,null,null,null,null,null,null,null,null,null,null,null,"-","-","-",null,null,null,null,null,null,null,null,null,null,"-"]
[null,null,null,null,null,null,null,null,null,null,null,null,null,null,null,null,null,null,null,null,null,null,null,null,"-","-","-",null,null,null,null,null,null,null,null,null,null,"-"]
[null,null,null,null,null,null,null,null,null,null,null,null,null,null,null,null,null,null,null,null,null,null,null,null,"-","-","-",null,null,null,null,null,null,null,null,null,null,"-"]
[null,null,null,null,null,null,null,null,null,null,null,null,null,null,null,null,null,null,null,null,null,null,null,null,"-","-","-",null,null,null,null,null,null,null,null,null,null,"-"]
[null,null,null,null,null,null,null,null,null,null,null,null,null,null,null,null,null,null,null,null,null,null,null,null,"-","-","-",null,null,null,null,null,null,null,null,null,null,"-"]
[null,null,null,null,null,null,null,null,null,null,null,null,null,null,null,null,null,null,null,null,null,null,null,null,"-","-","-",null,null,null,null,null,null,null,null,null,null,"-"]
[null,null,null,null,null,null,null,null,null,null,null,null,null,null,null,null,null,null,null,null,null,null,null,null,"-","-","-",null,null,null,null,null,null,null,null,null,null,"-"]
[null,null,null,null,null,null,null,null,null,null,null,null,null,null,null,null,null,null,null,null,null,null,null,null,"-","-","-",null,null,null,null,null,null,null,null,null,null,"-"]
[null,null,null,null,null,null,null,null,null,null,null,null,null,null,null,null,null,null,null,null,null,null,null,null,"-","-","-",null,null,null,null,null,null,null,null,null,null,"-"]
[null,null,null,null,null,null,null,null,null,null,null,null,null,null,null,null,null,null,null,null,null,null,null,null,"-","-","-",null,null,null,null,null,null,null,null,null,null,"-"]
[null,null,null,null,null,null,null,null,null,null,null,null,null,null,null,null,null,null,null,null,null,null,null,null,"-","-","-",null,null,null,null,null,null,null,null,null,null,"-"]
[null,null,null,null,null,null,null,null,null,null,null,null,null,null,null,null,null,null,null,null,null,null,null,null,"-","-","-",null,null,null,null,null,null,null,null,null,null,"-"]
[null,null,null,null,null,null,null,null,null,null,null,null,null,null,null,null,null,null,null,null,null,null,null,null,"-","-","-",null,null,null,null,null,null,null,null,null,null,"-"]
[null,null,null,null,null,null,null,null,null,null,null,null,null,null,null,null,null,null,null,null,null,null,null,null,"-","-","-",null,null,null,null,null,null,null,null,null,null,"-"]
[null,null,null,null,null,null,null,null,null,null,null,null,null,null,null,null,null,null,null,null,null,null,null,null,"-","-","-",null,null,null,null,null,null,null,null,null,null,"-"]
[null,null,null,null,null,null,null,null,null,null,null,null,null,null,null,null,null,null,null,null,null,null,null,null,"-","-","-",null,null,null,null,null,null,null,null,null,null,"-"]
[null,null,null,null,null,null,null,null,null,null,null,null,null,null,null,null,null,null,null,null,null,null,null,null,"-","-","-",null,null,null,null,null,null,null,null,null,null,"-"]
[null,null,null,null,null,null,null,null,null,null,null,null,null,null,null,null,null,null,null,null,null,null,null,null,"-","-","-",null,null,null,null,null,null,null,null,null,null,"-"]
[null,null,null,null,null,null,null,null,null,null,null,null,null,null,null,null,null,null,null,null,null,null,null,null,"-","-","-",null,null,null,null,null,null,null,null,null,null,"-"]
[null,null,null,null,null,null,null,null,null,null,null,null,null,null,null,null,null,null,null,null,null,null,null,null,"-","-","-",null,null,null,null,null,null,null,null,null,null,"-"]
[null,null,null,null,null,null,null,null,null,null,null,null,null,null,null,null,null,null,null,null,null,null,null,null,"-","-","-",null,null,null,null,null,null,null,null,null,null,"-"]
[null,null,null,null,null,null,null,null,null,null,null,null,null,null,null,null,null,null,null,null,null,null,null,null,"-","-","-",null,null,null,null,null,null,null,null,null,null,"-"]
[null,null,null,null,null,null,null,null,null,null,null,null,null,null,null,null,null,null,null,null,null,null,null,null,"-","-","-",null,null,null,null,null,null,null,null,null,null,"-"]
[null,null,null,null,null,null,null,null,null,null,null,null,null,null,null,null,null,null,null,null,null,null,null,null,"-","-","-",null,null,null,null,null,null,null,null,null,null,"-"]
[null,null,null,null,null,null,null,null,null,null,null,null,null,null,null,null,null,null,null,null,null,null,null,null,"-","-","-",null,null,null,null,null,null,null,null,null,null,"-"]
[null,null,null,null,null,null,null,null,null,null,null,null,null,null,null,null,null,null,null,null,null,null,null,null,"-","-","-",null,null,null,null,null,null,null,null,null,null,"-"]
[null,null,null,null,null,null,null,null,null,null,null,null,null,null,null,null,null,null,null,null,null,null,null,null,"-","-","-",null,null,null,null,null,null,null,null,null,null,"-"]
[null,null,null,null,null,null,null,null,null,null,null,null,null,null,null,null,null,null,null,null,null,null,null,null,"-","-","-",null,null,null,null,null,null,null,null,null,null,"-"]
[null,null,null,null,null,null,null,null,null,null,null,null,null,null,null,null,null,null,null,null,null,null,null,null,"-","-","-",null,null,null,null,null,null,null,null,null,null,"-"]
[null,null,null,null,null,null,null,null,null,null,null,null,null,null,null,null,null,null,null,null,null,null,null,null,"-","-","-",null,null,null,null,null,null,null,null,null,null,"-"]
[null,null,null,null,null,null,null,null,null,null,null,null,null,null,null,null,null,null,null,null,null,null,null,null,"-","-","-",null,null,null,null,null,null,null,null,null,null,"-"]
[null,null,null,null,null,null,null,null,null,null,null,null,null,null,null,null,null,null,null,null,null,null,null,null,"-","-","-",null,null,null,null,null,null,null,null,null,null,"-"]
[null,null,null,null,null,null,null,null,null,null,null,null,null,null,null,null,null,null,null,null,null,null,null,null,"-","-","-",null,null,null,null,null,null,null,null,null,null,"-"]
[null,null,null,null,null,null,null,null,null,null,null,null,null,null,null,null,null,null,null,null,null,null,null,null,"-","-","-",null,null,null,null,null,null,null,null,null,null,"-"]
[null,null,null,null,null,null,null,null,null,null,null,null,null,null,null,null,null,null,null,null,null,null,null,null,"-","-","-",null,null,null,null,null,null,null,null,null,null,"-"]
[null,null,null,null,null,null,null,null,null,null,null,null,null,null,null,null,null,null,null,null,null,null,null,null,"-","-","-",null,null,null,null,null,null,null,null,null,null,"-"]
[null,null,null,null,null,null,null,null,null,null,null,null,null,null,null,null,null,null,null,null,null,null,null,null,"-","-","-",null,null,null,null,null,null,null,null,null,null,"-"]
[null,null,null,null,null,null,null,null,null,null,null,null,null,null,null,null,null,null,null,null,null,null,null,null,"-","-","-",null,null,null,null,null,null,null,null,null,null,"-"]
[null,null,null,null,null,null,null,null,null,null,null,null,null,null,null,null,null,null,null,null,null,null,null,null,"-","-","-",null,null,null,null,null,null,null,null,null,null,"-"]
[null,null,null,null,null,null,null,null,null,null,null,null,null,null,null,null,null,null,null,null,null,null,null,null,"-","-","-",null,null,null,null,null,null,null,null,null,null,"-"]
[null,null,null,null,null,null,null,null,null,null,null,null,null,null,null,null,null,null,null,null,null,null,null,null,"-","-","-",null,null,null,null,null,null,null,null,null,null,"-"]
[null,null,null,null,null,null,null,null,null,null,null,null,null,null,null,null,null,null,null,null,null,null,null,null,"-","-","-",null,null,null,null,null,null,null,null,null,null,"-"]
[null,null,null,null,null,null,null,null,null,null,null,null,null,null,null,null,null,null,null,null,null,null,null,null,"-","-","-",null,null,null,null,null,null,null,null,null,null,"-"]
[null,null,null,null,null,null,null,null,null,null,null,null,null,null,null,null,null,null,null,null,null,null,null,null,"-","-","-",null,null,null,null,null,null,null,null,null,null,"-"]
[null,null,null,null,null,null,null,null,null,null,null,null,null,null,null,null,null,null,null,null,null,null,null,null,"-","-","-",null,null,null,null,null,null,null,null,null,null,"-"]
[null,null,null,null,null,null,null,null,null,null,null,null,null,null,null,null,null,null,null,null,null,null,null,null,"-","-","-",null,null,null,null,null,null,null,null,null,null,"-"]
[null,null,null,null,null,null,null,null,null,null,null,null,null,null,null,null,null,null,null,null,null,null,null,null,"-","-","-",null,null,null,null,null,null,null,null,null,null,"-"]
[null,null,null,null,null,null,null,null,null,null,null,null,null,null,null,null,null,null,null,null,null,null,null,null,"-","-","-",null,null,null,null,null,null,null,null,null,null,"-"]
[null,null,null,null,null,null,null,null,null,null,null,null,null,null,null,null,null,null,null,null,null,null,null,null,"-","-","-",null,null,null,null,null,null,null,null,null,null,"-"]
[null,null,null,null,null,null,null,null,null,null,null,null,null,null,null,null,null,null,null,null,null,null,null,null,"-","-","-",null,null,null,null,null,null,null,null,null,null,"-"]
[null,null,null,null,null,null,null,null,null,null,null,null,null,null,null,null,null,null,null,null,null,null,null,null,"-","-","-",null,null,null,null,null,null,null,null,null,null,"-"]
[null,null,null,null,null,null,null,null,null,null,null,null,null,null,null,null,null,null,null,null,null,null,null,null,"-","-","-",null,null,null,null,null,null,null,null,null,null,"-"]
[null,null,null,null,null,null,null,null,null,null,null,null,null,null,null,null,null,null,null,null,null,null,null,null,"-","-","-",null,null,null,null,null,null,null,null,null,null,"-"]
[null,null,null,null,null,null,null,null,null,null,null,null,null,null,null,null,null,null,null,null,null,null,null,null,"-","-","-",null,null,null,null,null,null,null,null,null,null,"-"]
[null,null,null,null,null,null,null,null,null,null,null,null,null,null,null,null,null,null,null,null,null,null,null,null,"-","-","-",null,null,null,null,null,null,null,null,null,null,"-"]
[null,null,null,null,null,null,null,null,null,null,null,null,null,null,null,null,null,null,null,null,null,null,null,null,"-","-","-",null,null,null,null,null,null,null,null,null,null,"-"]
[null,null,null,null,null,null,null,null,null,null,null,null,null,null,null,null,null,null,null,null,null,null,null,null,"-","-","-",null,null,null,null,null,null,null,null,null,null,"-"]
[null,null,null,null,null,null,null,null,null,null,null,null,null,null,null,null,null,null,null,null,null,null,null,null,"-","-","-",null,null,null,null,null,null,null,null,null,null,"-"]
[null,null,null,null,null,null,null,null,null,null,null,null,null,null,null,null,null,null,null,null,null,null,null,null,"-","-","-",null,null,null,null,null,null,null,null,null,null,"-"]
[null,null,null,null,null,null,null,null,null,null,null,null,null,null,null,null,null,null,null,null,null,null,null,null,"-","-","-",null,null,null,null,null,null,null,null,null,null,"-"]
[null,null,null,null,null,null,null,null,null,null,null,null,null,null,null,null,null,null,null,null,null,null,null,null,"-","-","-",null,null,null,null,null,null,null,null,null,null,"-"]
[null,null,null,null,null,null,null,null,null,null,null,null,null,null,null,null,null,null,null,null,null,null,null,null,"-","-","-",null,null,null,null,null,null,null,null,null,null,"-"]
[null,null,null,null,null,null,null,null,null,null,null,null,null,null,null,null,null,null,null,null,null,null,null,null,"-","-","-",null,null,null,null,null,null,null,null,null,null,"-"]
[null,null,null,null,null,null,null,null,null,null,null,null,null,null,null,null,null,null,null,null,null,null,null,null,"-","-","-",null,null,null,null,null,null,null,null,null,null,"-"]
[null,null,null,null,null,null,null,null,null,null,null,null,null,null,null,null,null,null,null,null,null,null,null,null,"-","-","-",null,null,null,null,null,null,null,null,null,null,"-"]
[null,null,null,null,null,null,null,null,null,null,null,null,null,null,null,null,null,null,null,null,null,null,null,null,"-","-","-",null,null,null,null,null,null,null,null,null,null,"-"]
[null,null,null,null,null,null,null,null,null,null,null,null,null,null,null,null,null,null,null,null,null,null,null,null,"-","-","-",null,null,null,null,null,null,null,null,null,null,"-"]
[null,null,null,null,null,null,null,null,null,null,null,null,null,null,null,null,null,null,null,null,null,null,null,null,"-","-","-",null,null,null,null,null,null,null,null,null,null,"-"]
[null,null,null,null,null,null,null,null,null,null,null,null,null,null,null,null,null,null,null,null,null,null,null,null,"-","-","-",null,null,null,null,null,null,null,null,null,null,"-"]
[null,null,null,null,null,null,null,null,null,null,null,null,null,null,null,null,null,null,null,null,null,null,null,null,"-","-","-",null,null,null,null,null,null,null,null,null,null,"-"]
[null,null,null,null,null,null,null,null,null,null,null,null,null,null,null,null,null,null,null,null,null,null,null,null,"-","-","-",null,null,null,null,null,null,null,null,null,null,"-"]
[null,null,null,null,null,null,null,null,null,null,null,null,null,null,null,null,null,null,null,null,null,null,null,null,"-","-","-",null,null,null,null,null,null,null,null,null,null,"-"]
[null,null,null,null,null,null,null,null,null,null,null,null,null,null,null,null,null,null,null,null,null,null,null,null,"-","-","-",null,null,null,null,null,null,null,null,null,null,"-"]
[null,null,null,null,null,null,null,null,null,null,null,null,null,null,null,null,null,null,null,null,null,null,null,null,"-","-","-",null,null,null,null,null,null,null,null,null,null,"-"]
[null,null,null,null,null,null,null,null,null,null,null,null,null,null,null,null,null,null,null,null,null,null,null,null,"-","-","-",null,null,null,null,null,null,null,null,null,null,"-"]
[null,null,null,null,null,null,null,null,null,null,null,null,null,null,null,null,null,null,null,null,null,null,null,null,"-","-","-",null,null,null,null,null,null,null,null,null,null,"-"]
[null,null,null,null,null,null,null,null,null,null,null,null,null,null,null,null,null,null,null,null,null,null,null,null,"-","-","-",null,null,null,null,null,null,null,null,null,null,"-"]
[null,null,null,null,null,null,null,null,null,null,null,null,null,null,null,null,null,null,null,null,null,null,null,null,"-","-","-",null,null,null,null,null,null,null,null,null,null,"-"]
[null,null,null,null,null,null,null,null,null,null,null,null,null,null,null,null,null,null,null,null,null,null,null,null,"-","-","-",null,null,null,null,null,null,null,null,null,null,"-"]
[null,null,null,null,null,null,null,null,null,null,null,null,null,null,null,null,null,null,null,null,null,null,null,null,"-","-","-",null,null,null,null,null,null,null,null,null,null,"-"]
[null,null,null,null,null,null,null,null,null,null,null,null,null,null,null,null,null,null,null,null,null,null,null,null,"-","-","-",null,null,null,null,null,null,null,null,null,null,"-"]
[null,null,null,null,null,null,null,null,null,null,null,null,null,null,null,null,null,null,null,null,null,null,null,null,"-","-","-",null,null,null,null,null,null,null,null,null,null,"-"]
[null,null,null,null,null,null,null,null,null,null,null,null,null,null,null,null,null,null,null,null,null,null,null,null,"-","-","-",null,null,null,null,null,null,null,null,null,null,"-"]
[null,null,null,null,null,null,null,null,null,null,null,null,null,null,null,null,null,null,null,null,null,null,null,null,"-","-","-",null,null,null,null,null,null,null,null,null,null,"-"]
[null,null,null,null,null,null,null,null,null,null,null,null,null,null,null,null,null,null,null,null,null,null,null,null,"-","-","-",null,null,null,null,null,null,null,null,null,null,"-"]
[null,null,null,null,null,null,null,null,null,null,null,null,null,null,null,null,null,null,null,null,null,null,null,null,"-","-","-",null,null,null,null,null,null,null,null,null,null,"-"]
[null,null,null,null,null,null,null,null,null,null,null,null,null,null,null,null,null,null,null,null,null,null,null,null,"-","-","-",null,null,null,null,null,null,null,null,null,null,"-"]
[null,null,null,null,null,null,null,null,null,null,null,null,null,null,null,null,null,null,null,null,null,null,null,null,"-","-","-",null,null,null,null,null,null,null,null,null,null,"-"]
[null,null,null,null,null,null,null,null,null,null,null,null,null,null,null,null,null,null,null,null,null,null,null,null,"-","-","-",null,null,null,null,null,null,null,null,null,null,"-"]
[null,null,null,null,null,null,null,null,null,null,null,null,null,null,null,null,null,null,null,null,null,null,null,null,"-","-","-",null,null,null,null,null,null,null,null,null,null,"-"]
[null,null,null,null,null,null,null,null,null,null,null,null,null,null,null,null,null,null,null,null,null,null,null,null,"-","-","-",null,null,null,null,null,null,null,null,null,null,"-"]
[null,null,null,null,null,null,null,null,null,null,null,null,null,null,null,null,null,null,null,null,null,null,null,null,"-","-","-",null,null,null,null,null,null,null,null,null,null,"-"]
[null,null,null,null,null,null,null,null,null,null,null,null,null,null,null,null,null,null,null,null,null,null,null,null,"-","-","-",null,null,null,null,null,null,null,null,null,null,"-"]
[null,null,null,null,null,null,null,null,null,null,null,null,null,null,null,null,null,null,null,null,null,null,null,null,"-","-","-",null,null,null,null,null,null,null,null,null,null,"-"]
[null,null,null,null,null,null,null,null,null,null,null,null,null,null,null,null,null,null,null,null,null,null,null,null,"-","-","-",null,null,null,null,null,null,null,null,null,null,"-"]
[null,null,null,null,null,null,null,null,null,null,null,null,null,null,null,null,null,null,null,null,null,null,null,null,"-","-","-",null,null,null,null,null,null,null,null,null,null,"-"]
[null,null,null,null,null,null,null,null,null,null,null,null,null,null,null,null,null,null,null,null,null,null,null,null,"-","-","-",null,null,null,null,null,null,null,null,null,null,"-"]
[null,null,null,null,null,null,null,null,null,null,null,null,null,null,null,null,null,null,null,null,null,null,null,null,"-","-","-",null,null,null,null,null,null,null,null,null,null,"-"]
[null,null,null,null,null,null,null,null,null,null,null,null,null,null,null,null,null,null,null,null,null,null,null,null,"-","-","-",null,null,null,null,null,null,null,null,null,null,"-"]
[null,null,null,null,null,null,null,null,null,null,null,null,null,null,null,null,null,null,null,null,null,null,null,null,"-","-","-",null,null,null,null,null,null,null,null,null,null,"-"]
[null,null,null,null,null,null,null,null,null,null,null,null,null,null,null,null,null,null,null,null,null,null,null,null,"-","-","-",null,null,null,null,null,null,null,null,null,null,"-"]
[null,null,null,null,null,null,null,null,null,null,null,null,null,null,null,null,null,null,null,null,null,null,null,null,"-","-","-",null,null,null,null,null,null,null,null,null,null,"-"]
[null,null,null,null,null,null,null,null,null,null,null,null,null,null,null,null,null,null,null,null,null,null,null,null,"-","-","-",null,null,null,null,null,null,null,null,null,null,"-"]
[null,null,null,null,null,null,null,null,null,null,null,null,null,null,null,null,null,null,null,null,null,null,null,null,"-","-","-",null,null,null,null,null,null,null,null,null,null,"-"]
[null,null,null,null,null,null,null,null,null,null,null,null,null,null,null,null,null,null,null,null,null,null,null,null,"-","-","-",null,null,null,null,null,null,null,null,null,null,"-"]
[null,null,null,null,null,null,null,null,null,null,null,null,null,null,null,null,null,null,null,null,null,null,null,null,"-","-","-",null,null,null,null,null,null,null,null,null,null,"-"]
[null,null,null,null,null,null,null,null,null,null,null,null,null,null,null,null,null,null,null,null,null,null,null,null,"-","-","-",null,null,null,null,null,null,null,null,null,null,"-"]
[null,null,null,null,null,null,null,null,null,null,null,null,null,null,null,null,null,null,null,null,null,null,null,null,"-","-","-",null,null,null,null,null,null,null,null,null,null,"-"]
[null,null,null,null,null,null,null,null,null,null,null,null,null,null,null,null,null,null,null,null,null,null,null,null,"-","-","-",null,null,null,null,null,null,null,null,null,null,"-"]
[null,null,null,null,null,null,null,null,null,null,null,null,null,null,null,null,null,null,null,null,null,null,null,null,"-","-","-",null,null,null,null,null,null,null,null,null,null,"-"]
[null,null,null,null,null,null,null,null,null,null,null,null,null,null,null,null,null,null,null,null,null,null,null,null,"-","-","-",null,null,null,null,null,null,null,null,null,null,"-"]
[null,null,null,null,null,null,null,null,null,null,null,null,null,null,null,null,null,null,null,null,null,null,null,null,"-","-","-",null,null,null,null,null,null,null,null,null,null,"-"]
[null,null,null,null,null,null,null,null,null,null,null,null,null,null,null,null,null,null,null,null,null,null,null,null,"-","-","-",null,null,null,null,null,null,null,null,null,null,"-"]
[null,null,null,null,null,null,null,null,null,null,null,null,null,null,null,null,null,null,null,null,null,null,null,null,"-","-","-",null,null,null,null,null,null,null,null,null,null,"-"]
[null,null,null,null,null,null,null,null,null,null,null,null,null,null,null,null,null,null,null,null,null,null,null,null,"-","-","-",null,null,null,null,null,null,null,null,null,null,"-"]
[null,null,null,null,null,null,null,null,null,null,null,null,null,null,null,null,null,null,null,null,null,null,null,null,"-","-","-",null,null,null,null,null,null,null,null,null,null,"-"]
[null,null,null,null,null,null,null,null,null,null,null,null,null,null,null,null,null,null,null,null,null,null,null,null,"-","-","-",null,null,null,null,null,null,null,null,null,null,"-"]
[null,null,null,null,null,null,null,null,null,null,null,null,null,null,null,null,null,null,null,null,null,null,null,null,"-","-","-",null,null,null,null,null,null,null,null,null,null,"-"]
[null,null,null,null,null,null,null,null,null,null,null,null,null,null,null,null,null,null,null,null,null,null,null,null,"-","-","-",null,null,null,null,null,null,null,null,null,null,"-"]
[null,null,null,null,null,null,null,null,null,null,null,null,null,null,null,null,null,null,null,null,null,null,null,null,"-","-","-",null,null,null,null,null,null,null,null,null,null,"-"]
[null,null,null,null,null,null,null,null,null,null,null,null,null,null,null,null,null,null,null,null,null,null,null,null,"-","-","-",null,null,null,null,null,null,null,null,null,null,"-"]
[null,null,null,null,null,null,null,null,null,null,null,null,null,null,null,null,null,null,null,null,null,null,null,null,"-","-","-",null,null,null,null,null,null,null,null,null,null,"-"]
[null,null,null,null,null,null,null,null,null,null,null,null,null,null,null,null,null,null,null,null,null,null,null,null,"-","-","-",null,null,null,null,null,null,null,null,null,null,"-"]
[null,null,null,null,null,null,null,null,null,null,null,null,null,null,null,null,null,null,null,null,null,null,null,null,"-","-","-",null,null,null,null,null,null,null,null,null,null,"-"]
[null,null,null,null,null,null,null,null,null,null,null,null,null,null,null,null,null,null,null,null,null,null,null,null,"-","-","-",null,null,null,null,null,null,null,null,null,null,"-"]
[null,null,null,null,null,null,null,null,null,null,null,null,null,null,null,null,null,null,null,null,null,null,null,null,"-","-","-",null,null,null,null,null,null,null,null,null,null,"-"]
[null,null,null,null,null,null,null,null,null,null,null,null,null,null,null,null,null,null,null,null,null,null,null,null,"-","-","-",null,null,null,null,null,null,null,null,null,null,"-"]
[null,null,null,null,null,null,null,null,null,null,null,null,null,null,null,null,null,null,null,null,null,null,null,null,"-","-","-",null,null,null,null,null,null,null,null,null,null,"-"]
[null,null,null,null,null,null,null,null,null,null,null,null,null,null,null,null,null,null,null,null,null,null,null,null,"-","-","-",null,null,null,null,null,null,null,null,null,null,"-"]
[null,null,null,null,null,null,null,null,null,null,null,null,null,null,null,null,null,null,null,null,null,null,null,null,"-","-","-",null,null,null,null,null,null,null,null,null,null,"-"]
[null,null,null,null,null,null,null,null,null,null,null,null,null,null,null,null,null,null,null,null,null,null,null,null,"-","-","-",null,null,null,null,null,null,null,null,null,null,"-"]
[null,null,null,null,null,null,null,null,null,null,null,null,null,null,null,null,null,null,null,null,null,null,null,null,"-","-","-",null,null,null,null,null,null,null,null,null,null,"-"]
[null,null,null,null,null,null,null,null,null,null,null,null,null,null,null,null,null,null,null,null,null,null,null,null,"-","-","-",null,null,null,null,null,null,null,null,null,null,"-"]
[null,null,null,null,null,null,null,null,null,null,null,null,null,null,null,null,null,null,null,null,null,null,null,null,"-","-","-",null,null,null,null,null,null,null,null,null,null,"-"]
[null,null,null,null,null,null,null,null,null,null,null,null,null,null,null,null,null,null,null,null,null,null,null,null,"-","-","-",null,null,null,null,null,null,null,null,null,null,"-"]
[null,null,null,null,null,null,null,null,null,null,null,null,null,null,null,null,null,null,null,null,null,null,null,null,"-","-","-",null,null,null,null,null,null,null,null,null,null,"-"]
[null,null,null,null,null,null,null,null,null,null,null,null,null,null,null,null,null,null,null,null,null,null,null,null,"-","-","-",null,null,null,null,null,null,null,null,null,null,"-"]
[null,null,null,null,null,null,null,null,null,null,null,null,null,null,null,null,null,null,null,null,null,null,null,null,"-","-","-",null,null,null,null,null,null,null,null,null,null,"-"]
[null,null,null,null,null,null,null,null,null,null,null,null,null,null,null,null,null,null,null,null,null,null,null,null,"-","-","-",null,null,null,null,null,null,null,null,null,null,"-"]
[null,null,null,null,null,null,null,null,null,null,null,null,null,null,null,null,null,null,null,null,null,null,null,null,"-","-","-",null,null,null,null,null,null,null,null,null,null,"-"]
[null,null,null,null,null,null,null,null,null,null,null,null,null,null,null,null,null,null,null,null,null,null,null,null,"-","-","-",null,null,null,null,null,null,null,null,null,null,"-"]
[null,null,null,null,null,null,null,null,null,null,null,null,null,null,null,null,null,null,null,null,null,null,null,null,"-","-","-",null,null,null,null,null,null,null,null,null,null,"-"]
[null,null,null,null,null,null,null,null,null,null,null,null,null,null,null,null,null,null,null,null,null,null,null,null,"-","-","-",null,null,null,null,null,null,null,null,null,null,"-"]
[null,null,null,null,null,null,null,null,null,null,null,null,null,null,null,null,null,null,null,null,null,null,null,null,"-","-","-",null,null,null,null,null,null,null,null,null,null,"-"]
[null,null,null,null,null,null,null,null,null,null,null,null,null,null,null,null,null,null,null,null,null,null,null,null,"-","-","-",null,null,null,null,null,null,null,null,null,null,"-"]
[null,null,null,null,null,null,null,null,null,null,null,null,null,null,null,null,null,null,null,null,null,null,null,null,"-","-","-",null,null,null,null,null,null,null,null,null,null,"-"]
[null,null,null,null,null,null,null,null,null,null,null,null,null,null,null,null,null,null,null,null,null,null,null,null,"-","-","-",null,null,null,null,null,null,null,null,null,null,"-"]
[null,null,null,null,null,null,null,null,null,null,null,null,null,null,null,null,null,null,null,null,null,null,null,null,"-","-","-",null,null,null,null,null,null,null,null,null,null,"-"]
[null,null,null,null,null,null,null,null,null,null,null,null,null,null,null,null,null,null,null,null,null,null,null,null,"-","-","-",null,null,null,null,null,null,null,null,null,null,"-"]
[null,null,null,null,null,null,null,null,null,null,null,null,null,null,null,null,null,null,null,null,null,null,null,null,"-","-","-",null,null,null,null,null,null,null,null,null,null,"-"]
[null,null,null,null,null,null,null,null,null,null,null,null,null,null,null,null,null,null,null,null,null,null,null,null,"-","-","-",null,null,null,null,null,null,null,null,null,null,"-"]
[null,null,null,null,null,null,null,null,null,null,null,null,null,null,null,null,null,null,null,null,null,null,null,null,"-","-","-",null,null,null,null,null,null,null,null,null,null,"-"]
[null,null,null,null,null,null,null,null,null,null,null,null,null,null,null,null,null,null,null,null,null,null,null,null,"-","-","-",null,null,null,null,null,null,null,null,null,null,"-"]
[null,null,null,null,null,null,null,null,null,null,null,null,null,null,null,null,null,null,null,null,null,null,null,null,"-","-","-",null,null,null,null,null,null,null,null,null,null,"-"]
[null,null,null,null,null,null,null,null,null,null,null,null,null,null,null,null,null,null,null,null,null,null,null,null,"-","-","-",null,null,null,null,null,null,null,null,null,null,"-"]
[null,null,null,null,null,null,null,null,null,null,null,null,null,null,null,null,null,null,null,null,null,null,null,null,"-","-","-",null,null,null,null,null,null,null,null,null,null,"-"]
[null,null,null,null,null,null,null,null,null,null,null,null,null,null,null,null,null,null,null,null,null,null,null,null,"-","-","-",null,null,null,null,null,null,null,null,null,null,"-"]
[null,null,null,null,null,null,null,null,null,null,null,null,null,null,null,null,null,null,null,null,null,null,null,null,"-","-","-",null,null,null,null,null,null,null,null,null,null,"-"]
[null,null,null,null,null,null,null,null,null,null,null,null,null,null,null,null,null,null,null,null,null,null,null,null,"-","-","-",null,null,null,null,null,null,null,null,null,null,"-"]
[null,null,null,null,null,null,null,null,null,null,null,null,null,null,null,null,null,null,null,null,null,null,null,null,"-","-","-",null,null,null,null,null,null,null,null,null,null,"-"]
[null,null,null,null,null,null,null,null,null,null,null,null,null,null,null,null,null,null,null,null,null,null,null,null,"-","-","-",null,null,null,null,null,null,null,null,null,null,"-"]
[null,null,null,null,null,null,null,null,null,null,null,null,null,null,null,null,null,null,null,null,null,null,null,null,"-","-","-",null,null,null,null,null,null,null,null,null,null,"-"]
[null,null,null,null,null,null,null,null,null,null,null,null,null,null,null,null,null,null,null,null,null,null,null,null,"-","-","-",null,null,null,null,null,null,null,null,null,null,"-"]
[null,null,null,null,null,null,null,null,null,null,null,null,null,null,null,null,null,null,null,null,null,null,null,null,"-","-","-",null,null,null,null,null,null,null,null,null,null,"-"]
[null,null,null,null,null,null,null,null,null,null,null,null,null,null,null,null,null,null,null,null,null,null,null,null,"-","-","-",null,null,null,null,null,null,null,null,null,null,"-"]
[null,null,null,null,null,null,null,null,null,null,null,null,null,null,null,null,null,null,null,null,null,null,null,null,"-","-","-",null,null,null,null,null,null,null,null,null,null,"-"]
[null,null,null,null,null,null,null,null,null,null,null,null,null,null,null,null,null,null,null,null,null,null,null,null,"-","-","-",null,null,null,null,null,null,null,null,null,null,"-"]
[null,null,null,null,null,null,null,null,null,null,null,null,null,null,null,null,null,null,null,null,null,null,null,null,"-","-","-",null,null,null,null,null,null,null,null,null,null,"-"]
[null,null,null,null,null,null,null,null,null,null,null,null,null,null,null,null,null,null,null,null,null,null,null,null,"-","-","-",null,null,null,null,null,null,null,null,null,null,"-"]
[null,null,null,null,null,null,null,null,null,null,null,null,null,null,null,null,null,null,null,null,null,null,null,null,"-","-","-",null,null,null,null,null,null,null,null,null,null,"-"]
[null,null,null,null,null,null,null,null,null,null,null,null,null,null,null,null,null,null,null,null,null,null,null,null,"-","-","-",null,null,null,null,null,null,null,null,null,null,"-"]
[null,null,null,null,null,null,null,null,null,null,null,null,null,null,null,null,null,null,null,null,null,null,null,null,"-","-","-",null,null,null,null,null,null,null,null,null,null,"-"]
[null,null,null,null,null,null,null,null,null,null,null,null,null,null,null,null,null,null,null,null,null,null,null,null,"-","-","-",null,null,null,null,null,null,null,null,null,null,"-"]
[null,null,null,null,null,null,null,null,null,null,null,null,null,null,null,null,null,null,null,null,null,null,null,null,"-","-","-",null,null,null,null,null,null,null,null,null,null,"-"]
[null,null,null,null,null,null,null,null,null,null,null,null,null,null,null,null,null,null,null,null,null,null,null,null,"-","-","-",null,null,null,null,null,null,null,null,null,null,"-"]
[null,null,null,null,null,null,null,null,null,null,null,null,null,null,null,null,null,null,null,null,null,null,null,null,"-","-","-",null,null,null,null,null,null,null,null,null,null,"-"]
[null,null,null,null,null,null,null,null,null,null,null,null,null,null,null,null,null,null,null,null,null,null,null,null,"-","-","-",null,null,null,null,null,null,null,null,null,null,"-"]
[null,null,null,null,null,null,null,null,null,null,null,null,null,null,null,null,null,null,null,null,null,null,null,null,"-","-","-",null,null,null,null,null,null,null,null,null,null,"-"]
[null,null,null,null,null,null,null,null,null,null,null,null,null,null,null,null,null,null,null,null,null,null,null,null,"-","-","-",null,null,null,null,null,null,null,null,null,null,"-"]
[null,null,null,null,null,null,null,null,null,null,null,null,null,null,null,null,null,null,null,null,null,null,null,null,"-","-","-",null,null,null,null,null,null,null,null,null,null,"-"]
[null,null,null,null,null,null,null,null,null,null,null,null,null,null,null,null,null,null,null,null,null,null,null,null,"-","-","-",null,null,null,null,null,null,null,null,null,null,"-"]
[null,null,null,null,null,null,null,null,null,null,null,null,null,null,null,null,null,null,null,null,null,null,null,null,"-","-","-",null,null,null,null,null,null,null,null,null,null,"-"]
[null,null,null,null,null,null,null,null,null,null,null,null,null,null,null,null,null,null,null,null,null,null,null,null,"-","-","-",null,null,null,null,null,null,null,null,null,null,"-"]
[null,null,null,null,null,null,null,null,null,null,null,null,null,null,null,null,null,null,null,null,null,null,null,null,"-","-","-",null,null,null,null,null,null,null,null,null,null,"-"]
[null,null,null,null,null,null,null,null,null,null,null,null,null,null,null,null,null,null,null,null,null,null,null,null,"-","-","-",null,null,null,null,null,null,null,null,null,null,"-"]
[null,null,null,null,null,null,null,null,null,null,null,null,null,null,null,null,null,null,null,null,null,null,null,null,"-","-","-",null,null,null,null,null,null,null,null,null,null,"-"]
[null,null,null,null,null,null,null,null,null,null,null,null,null,null,null,null,null,null,null,null,null,null,null,null,"-","-","-",null,null,null,null,null,null,null,null,null,null,"-"]
[null,null,null,null,null,null,null,null,null,null,null,null,null,null,null,null,null,null,null,null,null,null,null,null,"-","-","-",null,null,null,null,null,null,null,null,null,null,"-"]
[null,null,null,null,null,null,null,null,null,null,null,null,null,null,null,null,null,null,null,null,null,null,null,null,"-","-","-",null,null,null,null,null,null,null,null,null,null,"-"]
[null,null,null,null,null,null,null,null,null,null,null,null,null,null,null,null,null,null,null,null,null,null,null,null,"-","-","-",null,null,null,null,null,null,null,null,null,null,"-"]
[null,null,null,null,null,null,null,null,null,null,null,null,null,null,null,null,null,null,null,null,null,null,null,null,"-","-","-",null,null,null,null,null,null,null,null,null,null,"-"]
[null,null,null,null,null,null,null,null,null,null,null,null,null,null,null,null,null,null,null,null,null,null,null,null,"-","-","-",null,null,null,null,null,null,null,null,null,null,"-"]
[null,null,null,null,null,null,null,null,null,null,null,null,null,null,null,null,null,null,null,null,null,null,null,null,"-","-","-",null,null,null,null,null,null,null,null,null,null,"-"]
[null,null,null,null,null,null,null,null,null,null,null,null,null,null,null,null,null,null,null,null,null,null,null,null,"-","-","-",null,null,null,null,null,null,null,null,null,null,"-"]
[null,null,null,null,null,null,null,null,null,null,null,null,null,null,null,null,null,null,null,null,null,null,null,null,"-","-","-",null,null,null,null,null,null,null,null,null,null,"-"]
[null,null,null,null,null,null,null,null,null,null,null,null,null,null,null,null,null,null,null,null,null,null,null,null,"-","-","-",null,null,null,null,null,null,null,null,null,null,"-"]
[null,null,null,null,null,null,null,null,null,null,null,null,null,null,null,null,null,null,null,null,null,null,null,null,"-","-","-",null,null,null,null,null,null,null,null,null,null,"-"]
[null,null,null,null,null,null,null,null,null,null,null,null,null,null,null,null,null,null,null,null,null,null,null,null,"-","-","-",null,null,null,null,null,null,null,null,null,null,"-"]
[null,null,null,null,null,null,null,null,null,null,null,null,null,null,null,null,null,null,null,null,null,null,null,null,"-","-","-",null,null,null,null,null,null,null,null,null,null,"-"]
[null,null,null,null,null,null,null,null,null,null,null,null,null,null,null,null,null,null,null,null,null,null,null,null,"-","-","-",null,null,null,null,null,null,null,null,null,null,"-"]
[null,null,null,null,null,null,null,null,null,null,null,null,null,null,null,null,null,null,null,null,null,null,null,null,"-","-","-",null,null,null,null,null,null,null,null,null,null,"-"]
[null,null,null,null,null,null,null,null,null,null,null,null,null,null,null,null,null,null,null,null,null,null,null,null,"-","-","-",null,null,null,null,null,null,null,null,null,null,"-"]
[null,null,null,null,null,null,null,null,null,null,null,null,null,null,null,null,null,null,null,null,null,null,null,null,"-","-","-",null,null,null,null,null,null,null,null,null,null,"-"]
[null,null,null,null,null,null,null,null,null,null,null,null,null,null,null,null,null,null,null,null,null,null,null,null,"-","-","-",null,null,null,null,null,null,null,null,null,null,"-"]
[null,null,null,null,null,null,null,null,null,null,null,null,null,null,null,null,null,null,null,null,null,null,null,null,"-","-","-",null,null,null,null,null,null,null,null,null,null,"-"]
[null,null,null,null,null,null,null,null,null,null,null,null,null,null,null,null,null,null,null,null,null,null,null,null,"-","-","-",null,null,null,null,null,null,null,null,null,null,"-"]
[null,null,null,null,null,null,null,null,null,null,null,null,null,null,null,null,null,null,null,null,null,null,null,null,"-","-","-",null,null,null,null,null,null,null,null,null,null,"-"]
[null,null,null,null,null,null,null,null,null,null,null,null,null,null,null,null,null,null,null,null,null,null,null,null,"-","-","-",null,null,null,null,null,null,null,null,null,null,"-"]
[null,null,null,null,null,null,null,null,null,null,null,null,null,null,null,null,null,null,null,null,null,null,null,null,"-","-","-",null,null,null,null,null,null,null,null,null,null,"-"]
[null,null,null,null,null,null,null,null,null,null,null,null,null,null,null,null,null,null,null,null,null,null,null,null,"-","-","-",null,null,null,null,null,null,null,null,null,null,"-"]
[null,null,null,null,null,null,null,null,null,null,null,null,null,null,null,null,null,null,null,null,null,null,null,null,"-","-","-",null,null,null,null,null,null,null,null,null,null,"-"]
[null,null,null,null,null,null,null,null,null,null,null,null,null,null,null,null,null,null,null,null,null,null,null,null,"-","-","-",null,null,null,null,null,null,null,null,null,null,"-"]
[null,null,null,null,null,null,null,null,null,null,null,null,null,null,null,null,null,null,null,null,null,null,null,null,"-","-","-",null,null,null,null,null,null,null,null,null,null,"-"]
[null,null,null,null,null,null,null,null,null,null,null,null,null,null,null,null,null,null,null,null,null,null,null,null,"-","-","-",null,null,null,null,null,null,null,null,null,null,"-"]
[null,null,null,null,null,null,null,null,null,null,null,null,null,null,null,null,null,null,null,null,null,null,null,null,"-","-","-",null,null,null,null,null,null,null,null,null,null,"-"]
[null,null,null,null,null,null,null,null,null,null,null,null,null,null,null,null,null,null,null,null,null,null,null,null,"-","-","-",null,null,null,null,null,null,null,null,null,null,"-"]
[null,null,null,null,null,null,null,null,null,null,null,null,null,null,null,null,null,null,null,null,null,null,null,null,"-","-","-",null,null,null,null,null,null,null,null,null,null,"-"]
[null,null,null,null,null,null,null,null,null,null,null,null,null,null,null,null,null,null,null,null,null,null,null,null,"-","-","-",null,null,null,null,null,null,null,null,null,null,"-"]
[null,null,null,null,null,null,null,null,null,null,null,null,null,null,null,null,null,null,null,null,null,null,null,null,"-","-","-",null,null,null,null,null,null,null,null,null,null,"-"]
[null,null,null,null,null,null,null,null,null,null,null,null,null,null,null,null,null,null,null,null,null,null,null,null,"-","-","-",null,null,null,null,null,null,null,null,null,null,"-"]
[null,null,null,null,null,null,null,null,null,null,null,null,null,null,null,null,null,null,null,null,null,null,null,null,"-","-","-",null,null,null,null,null,null,null,null,null,null,"-"]
[null,null,null,null,null,null,null,null,null,null,null,null,null,null,null,null,null,null,null,null,null,null,null,null,"-","-","-",null,null,null,null,null,null,null,null,null,null,"-"]
[null,null,null,null,null,null,null,null,null,null,null,null,null,null,null,null,null,null,null,null,null,null,null,null,"-","-","-",null,null,null,null,null,null,null,null,null,null,"-"]
[null,null,null,null,null,null,null,null,null,null,null,null,null,null,null,null,null,null,null,null,null,null,null,null,"-","-","-",null,null,null,null,null,null,null,null,null,null,"-"]
[null,null,null,null,null,null,null,null,null,null,null,null,null,null,null,null,null,null,null,null,null,null,null,null,"-","-","-",null,null,null,null,null,null,null,null,null,null,"-"]
[null,null,null,null,null,null,null,null,null,null,null,null,null,null,null,null,null,null,null,null,null,null,null,null,"-","-","-",null,null,null,null,null,null,null,null,null,null,"-"]
[null,null,null,null,null,null,null,null,null,null,null,null,null,null,null,null,null,null,null,null,null,null,null,null,"-","-","-",null,null,null,null,null,null,null,null,null,null,"-"]
[null,null,null,null,null,null,null,null,null,null,null,null,null,null,null,null,null,null,null,null,null,null,null,null,"-","-","-",null,null,null,null,null,null,null,null,null,null,"-"]
[null,null,null,null,null,null,null,null,null,null,null,null,null,null,null,null,null,null,null,null,null,null,null,null,"-","-","-",null,null,null,null,null,null,null,null,null,null,"-"]
[null,null,null,null,null,null,null,null,null,null,null,null,null,null,null,null,null,null,null,null,null,null,null,null,"-","-","-",null,null,null,null,null,null,null,null,null,null,"-"]
[null,null,null,null,null,null,null,null,null,null,null,null,null,null,null,null,null,null,null,null,null,null,null,null,"-","-","-",null,null,null,null,null,null,null,null,null,null,"-"]
[null,null,null,null,null,null,null,null,null,null,null,null,null,null,null,null,null,null,null,null,null,null,null,null,"-","-","-",null,null,null,null,null,null,null,null,null,null,"-"]
[null,null,null,null,null,null,null,null,null,null,null,null,null,null,null,null,null,null,null,null,null,null,null,null,"-","-","-",null,null,null,null,null,null,null,null,null,null,"-"]
[null,null,null,null,null,null,null,null,null,null,null,null,null,null,null,null,null,null,null,null,null,null,null,null,"-","-","-",null,null,null,null,null,null,null,null,null,null,"-"]
[null,null,null,null,null,null,null,null,null,null,null,null,null,null,null,null,null,null,null,null,null,null,null,null,"-","-","-",null,null,null,null,null,null,null,null,null,null,"-"]
[null,null,null,null,null,null,null,null,null,null,null,null,null,null,null,null,null,null,null,null,null,null,null,null,"-","-","-",null,null,null,null,null,null,null,null,null,null,"-"]
[null,null,null,null,null,null,null,null,null,null,null,null,null,null,null,null,null,null,null,null,null,null,null,null,"-","-","-",null,null,null,null,null,null,null,null,null,null,"-"]
[null,null,null,null,null,null,null,null,null,null,null,null,null,null,null,null,null,null,null,null,null,null,null,null,"-","-","-",null,null,null,null,null,null,null,null,null,null,"-"]
[null,null,null,null,null,null,null,null,null,null,null,null,null,null,null,null,null,null,null,null,null,null,null,null,"-","-","-",null,null,null,null,null,null,null,null,null,null,"-"]
[null,null,null,null,null,null,null,null,null,null,null,null,null,null,null,null,null,null,null,null,null,null,null,null,"-","-","-",null,null,null,null,null,null,null,null,null,null,"-"]
[null,null,null,null,null,null,null,null,null,null,null,null,null,null,null,null,null,null,null,null,null,null,null,null,"-","-","-",null,null,null,null,null,null,null,null,null,null,"-"]
[null,null,null,null,null,null,null,null,null,null,null,null,null,null,null,null,null,null,null,null,null,null,null,null,"-","-","-",null,null,null,null,null,null,null,null,null,null,"-"]
[null,null,null,null,null,null,null,null,null,null,null,null,null,null,null,null,null,null,null,null,null,null,null,null,"-","-","-",null,null,null,null,null,null,null,null,null,null,"-"]
[null,null,null,null,null,null,null,null,null,null,null,null,null,null,null,null,null,null,null,null,null,null,null,null,"-","-","-",null,null,null,null,null,null,null,null,null,null,"-"]
[null,null,null,null,null,null,null,null,null,null,null,null,null,null,null,null,null,null,null,null,null,null,null,null,"-","-","-",null,null,null,null,null,null,null,null,null,null,"-"]
[null,null,null,null,null,null,null,null,null,null,null,null,null,null,null,null,null,null,null,null,null,null,null,null,"-","-","-",null,null,null,null,null,null,null,null,null,null,"-"]
[null,null,null,null,null,null,null,null,null,null,null,null,null,null,null,null,null,null,null,null,null,null,null,null,"-","-","-",null,null,null,null,null,null,null,null,null,null,"-"]
[null,null,null,null,null,null,null,null,null,null,null,null,null,null,null,null,null,null,null,null,null,null,null,null,"-","-","-",null,null,null,null,null,null,null,null,null,null,"-"]
[null,null,null,null,null,null,null,null,null,null,null,null,null,null,null,null,null,null,null,null,null,null,null,null,"-","-","-",null,null,null,null,null,null,null,null,null,null,"-"]
[null,null,null,null,null,null,null,null,null,null,null,null,null,null,null,null,null,null,null,null,null,null,null,null,"-","-","-",null,null,null,null,null,null,null,null,null,null,"-"]
[null,null,null,null,null,null,null,null,null,null,null,null,null,null,null,null,null,null,null,null,null,null,null,null,"-","-","-",null,null,null,null,null,null,null,null,null,null,"-"]
[null,null,null,null,null,null,null,null,null,null,null,null,null,null,null,null,null,null,null,null,null,null,null,null,"-","-","-",null,null,null,null,null,null,null,null,null,null,"-"]
[null,null,null,null,null,null,null,null,null,null,null,null,null,null,null,null,null,null,null,null,null,null,null,null,"-","-","-",null,null,null,null,null,null,null,null,null,null,"-"]
[null,null,null,null,null,null,null,null,null,null,null,null,null,null,null,null,null,null,null,null,null,null,null,null,"-","-","-",null,null,null,null,null,null,null,null,null,null,"-"]
[null,null,null,null,null,null,null,null,null,null,null,null,null,null,null,null,null,null,null,null,null,null,null,null,"-","-","-",null,null,null,null,null,null,null,null,null,null,"-"]
[null,null,null,null,null,null,null,null,null,null,null,null,null,null,null,null,null,null,null,null,null,null,null,null,"-","-","-",null,null,null,null,null,null,null,null,null,null,"-"]
[null,null,null,null,null,null,null,null,null,null,null,null,null,null,null,null,null,null,null,null,null,null,null,null,"-","-","-",null,null,null,null,null,null,null,null,null,null,"-"]
[null,null,null,null,null,null,null,null,null,null,null,null,null,null,null,null,null,null,null,null,null,null,null,null,"-","-","-",null,null,null,null,null,null,null,null,null,null,"-"]
[null,null,null,null,null,null,null,null,null,null,null,null,null,null,null,null,null,null,null,null,null,null,null,null,"-","-","-",null,null,null,null,null,null,null,null,null,null,"-"]
[null,null,null,null,null,null,null,null,null,null,null,null,null,null,null,null,null,null,null,null,null,null,null,null,"-","-","-",null,null,null,null,null,null,null,null,null,null,"-"]
[null,null,null,null,null,null,null,null,null,null,null,null,null,null,null,null,null,null,null,null,null,null,null,null,"-","-","-",null,null,null,null,null,null,null,null,null,null,"-"]
[null,null,null,null,null,null,null,null,null,null,null,null,null,null,null,null,null,null,null,null,null,null,null,null,"-","-","-",null,null,null,null,null,null,null,null,null,null,"-"]
[null,null,null,null,null,null,null,null,null,null,null,null,null,null,null,null,null,null,null,null,null,null,null,null,"-","-","-",null,null,null,null,null,null,null,null,null,null,"-"]
[null,null,null,null,null,null,null,null,null,null,null,null,null,null,null,null,null,null,null,null,null,null,null,null,"-","-","-",null,null,null,null,null,null,null,null,null,null,"-"]
[null,null,null,null,null,null,null,null,null,null,null,null,null,null,null,null,null,null,null,null,null,null,null,null,"-","-","-",null,null,null,null,null,null,null,null,null,null,"-"]
[null,null,null,null,null,null,null,null,null,null,null,null,null,null,null,null,null,null,null,null,null,null,null,null,"-","-","-",null,null,null,null,null,null,null,null,null,null,"-"]
[null,null,null,null,null,null,null,null,null,null,null,null,null,null,null,null,null,null,null,null,null,null,null,null,"-","-","-",null,null,null,null,null,null,null,null,null,null,"-"]
[null,null,null,null,null,null,null,null,null,null,null,null,null,null,null,null,null,null,null,null,null,null,null,null,"-","-","-",null,null,null,null,null,null,null,null,null,null,"-"]
[null,null,null,null,null,null,null,null,null,null,null,null,null,null,null,null,null,null,null,null,null,null,null,null,"-","-","-",null,null,null,null,null,null,null,null,null,null,"-"]
[null,null,null,null,null,null,null,null,null,null,null,null,null,null,null,null,null,null,null,null,null,null,null,null,"-","-","-",null,null,null,null,null,null,null,null,null,null,"-"]
[null,null,null,null,null,null,null,null,null,null,null,null,null,null,null,null,null,null,null,null,null,null,null,null,"-","-","-",null,null,null,null,null,null,null,null,null,null,"-"]
[null,null,null,null,null,null,null,null,null,null,null,null,null,null,null,null,null,null,null,null,null,null,null,null,"-","-","-",null,null,null,null,null,null,null,null,null,null,"-"]
[null,null,null,null,null,null,null,null,null,null,null,null,null,null,null,null,null,null,null,null,null,null,null,null,"-","-","-",null,null,null,null,null,null,null,null,null,null,"-"]
[null,null,null,null,null,null,null,null,null,null,null,null,null,null,null,null,null,null,null,null,null,null,null,null,"-","-","-",null,null,null,null,null,null,null,null,null,null,"-"]
[null,null,null,null,null,null,null,null,null,null,null,null,null,null,null,null,null,null,null,null,null,null,null,null,"-","-","-",null,null,null,null,null,null,null,null,null,null,"-"]
[null,null,null,null,null,null,null,null,null,null,null,null,null,null,null,null,null,null,null,null,null,null,null,null,"-","-","-",null,null,null,null,null,null,null,null,null,null,"-"]
[null,null,null,null,null,null,null,null,null,null,null,null,null,null,null,null,null,null,null,null,null,null,null,null,"-","-","-",null,null,null,null,null,null,null,null,null,null,"-"]
[null,null,null,null,null,null,null,null,null,null,null,null,null,null,null,null,null,null,null,null,null,null,null,null,"-","-","-",null,null,null,null,null,null,null,null,null,null,"-"]
[null,null,null,null,null,null,null,null,null,null,null,null,null,null,null,null,null,null,null,null,null,null,null,null,"-","-","-",null,null,null,null,null,null,null,null,null,null,"-"]
[null,null,null,null,null,null,null,null,null,null,null,null,null,null,null,null,null,null,null,null,null,null,null,null,"-","-","-",null,null,null,null,null,null,null,null,null,null,"-"]
[null,null,null,null,null,null,null,null,null,null,null,null,null,null,null,null,null,null,null,null,null,null,null,null,"-","-","-",null,null,null,null,null,null,null,null,null,null,"-"]
[null,null,null,null,null,null,null,null,null,null,null,null,null,null,null,null,null,null,null,null,null,null,null,null,"-","-","-",null,null,null,null,null,null,null,null,null,null,"-"]
[null,null,null,null,null,null,null,null,null,null,null,null,null,null,null,null,null,null,null,null,null,null,null,null,"-","-","-",null,null,null,null,null,null,null,null,null,null,"-"]
[null,null,null,null,null,null,null,null,null,null,null,null,null,null,null,null,null,null,null,null,null,null,null,null,"-","-","-",null,null,null,null,null,null,null,null,null,null,"-"]
[null,null,null,null,null,null,null,null,null,null,null,null,null,null,null,null,null,null,null,null,null,null,null,null,"-","-","-",null,null,null,null,null,null,null,null,null,null,"-"]
[null,null,null,null,null,null,null,null,null,null,null,null,null,null,null,null,null,null,null,null,null,null,null,null,"-","-","-",null,null,null,null,null,null,null,null,null,null,"-"]
[null,null,null,null,null,null,null,null,null,null,null,null,null,null,null,null,null,null,null,null,null,null,null,null,"-","-","-",null,null,null,null,null,null,null,null,null,null,"-"]
[null,null,null,null,null,null,null,null,null,null,null,null,null,null,null,null,null,null,null,null,null,null,null,null,"-","-","-",null,null,null,null,null,null,null,null,null,null,"-"]
[null,null,null,null,null,null,null,null,null,null,null,null,null,null,null,null,null,null,null,null,null,null,null,null,"-","-","-",null,null,null,null,null,null,null,null,null,null,"-"]
[null,null,null,null,null,null,null,null,null,null,null,null,null,null,null,null,null,null,null,null,null,null,null,null,"-","-","-",null,null,null,null,null,null,null,null,null,null,"-"]
[null,null,null,null,null,null,null,null,null,null,null,null,null,null,null,null,null,null,null,null,null,null,null,null,"-","-","-",null,null,null,null,null,null,null,null,null,null,"-"]
[null,null,null,null,null,null,null,null,null,null,null,null,null,null,null,null,null,null,null,null,null,null,null,null,"-","-","-",null,null,null,null,null,null,null,null,null,null,"-"]
[null,null,null,null,null,null,null,null,null,null,null,null,null,null,null,null,null,null,null,null,null,null,null,null,"-","-","-",null,null,null,null,null,null,null,null,null,null,"-"]
[null,null,null,null,null,null,null,null,null,null,null,null,null,null,null,null,null,null,null,null,null,null,null,null,"-","-","-",null,null,null,null,null,null,null,null,null,null,"-"]
[null,null,null,null,null,null,null,null,null,null,null,null,null,null,null,null,null,null,null,null,null,null,null,null,"-","-","-",null,null,null,null,null,null,null,null,null,null,"-"]
[null,null,null,null,null,null,null,null,null,null,null,null,null,null,null,null,null,null,null,null,null,null,null,null,"-","-","-",null,null,null,null,null,null,null,null,null,null,"-"]
[null,null,null,null,null,null,null,null,null,null,null,null,null,null,null,null,null,null,null,null,null,null,null,null,"-","-","-",null,null,null,null,null,null,null,null,null,null,"-"]
[null,null,null,null,null,null,null,null,null,null,null,null,null,null,null,null,null,null,null,null,null,null,null,null,"-","-","-",null,null,null,null,null,null,null,null,null,null,"-"]
[null,null,null,null,null,null,null,null,null,null,null,null,null,null,null,null,null,null,null,null,null,null,null,null,"-","-","-",null,null,null,null,null,null,null,null,null,null,"-"]
[null,null,null,null,null,null,null,null,null,null,null,null,null,null,null,null,null,null,null,null,null,null,null,null,"-","-","-",null,null,null,null,null,null,null,null,null,null,"-"]
[null,null,null,null,null,null,null,null,null,null,null,null,null,null,null,null,null,null,null,null,null,null,null,null,"-","-","-",null,null,null,null,null,null,null,null,null,null,"-"]
[null,null,null,null,null,null,null,null,null,null,null,null,null,null,null,null,null,null,null,null,null,null,null,null,"-","-","-",null,null,null,null,null,null,null,null,null,null,"-"]
[null,null,null,null,null,null,null,null,null,null,null,null,null,null,null,null,null,null,null,null,null,null,null,null,"-","-","-",null,null,null,null,null,null,null,null,null,null,"-"]
[null,null,null,null,null,null,null,null,null,null,null,null,null,null,null,null,null,null,null,null,null,null,null,null,"-","-","-",null,null,null,null,null,null,null,null,null,null,"-"]
[null,null,null,null,null,null,null,null,null,null,null,null,null,null,null,null,null,null,null,null,null,null,null,null,"-","-","-",null,null,null,null,null,null,null,null,null,null,"-"]
[null,null,null,null,null,null,null,null,null,null,null,null,null,null,null,null,null,null,null,null,null,null,null,null,"-","-","-",null,null,null,null,null,null,null,null,null,null,"-"]
[null,null,null,null,null,null,null,null,null,null,null,null,null,null,null,null,null,null,null,null,null,null,null,null,"-","-","-",null,null,null,null,null,null,null,null,null,null,"-"]
[null,null,null,null,null,null,null,null,null,null,null,null,null,null,null,null,null,null,null,null,null,null,null,null,"-","-","-",null,null,null,null,null,null,null,null,null,null,"-"]
[null,null,null,null,null,null,null,null,null,null,null,null,null,null,null,null,null,null,null,null,null,null,null,null,"-","-","-",null,null,null,null,null,null,null,null,null,null,"-"]
[null,null,null,null,null,null,null,null,null,null,null,null,null,null,null,null,null,null,null,null,null,null,null,null,"-","-","-",null,null,null,null,null,null,null,null,null,null,"-"]
[null,null,null,null,null,null,null,null,null,null,null,null,null,null,null,null,null,null,null,null,null,null,null,null,"-","-","-",null,null,null,null,null,null,null,null,null,null,"-"]
[null,null,null,null,null,null,null,null,null,null,null,null,null,null,null,null,null,null,null,null,null,null,null,null,"-","-","-",null,null,null,null,null,null,null,null,null,null,"-"]
[null,null,null,null,null,null,null,null,null,null,null,null,null,null,null,null,null,null,null,null,null,null,null,null,"-","-","-",null,null,null,null,null,null,null,null,null,null,"-"]
[null,null,null,null,null,null,null,null,null,null,null,null,null,null,null,null,null,null,null,null,null,null,null,null,"-","-","-",null,null,null,null,null,null,null,null,null,null,"-"]
[null,null,null,null,null,null,null,null,null,null,null,null,null,null,null,null,null,null,null,null,null,null,null,null,"-","-","-",null,null,null,null,null,null,null,null,null,null,"-"]
[null,null,null,null,null,null,null,null,null,null,null,null,null,null,null,null,null,null,null,null,null,null,null,null,"-","-","-",null,null,null,null,null,null,null,null,null,null,"-"]
[null,null,null,null,null,null,null,null,null,null,null,null,null,null,null,null,null,null,null,null,null,null,null,null,"-","-","-",null,null,null,null,null,null,null,null,null,null,"-"]
[null,null,null,null,null,null,null,null,null,null,null,null,null,null,null,null,null,null,null,null,null,null,null,null,"-","-","-",null,null,null,null,null,null,null,null,null,null,"-"]
[null,null,null,null,null,null,null,null,null,null,null,null,null,null,null,null,null,null,null,null,null,null,null,null,"-","-","-",null,null,null,null,null,null,null,null,null,null,"-"]
[null,null,null,null,null,null,null,null,null,null,null,null,null,null,null,null,null,null,null,null,null,null,null,null,"-","-","-",null,null,null,null,null,null,null,null,null,null,"-"]
[null,null,null,null,null,null,null,null,null,null,null,null,null,null,null,null,null,null,null,null,null,null,null,null,"-","-","-",null,null,null,null,null,null,null,null,null,null,"-"]
[null,null,null,null,null,null,null,null,null,null,null,null,null,null,null,null,null,null,null,null,null,null,null,null,"-","-","-",null,null,null,null,null,null,null,null,null,null,"-"]
[null,null,null,null,null,null,null,null,null,null,null,null,null,null,null,null,null,null,null,null,null,null,null,null,"-","-","-",null,null,null,null,null,null,null,null,null,null,"-"]
[null,null,null,null,null,null,null,null,null,null,null,null,null,null,null,null,null,null,null,null,null,null,null,null,"-","-","-",null,null,null,null,null,null,null,null,null,null,"-"]
[null,null,null,null,null,null,null,null,null,null,null,null,null,null,null,null,null,null,null,null,null,null,null,null,"-","-","-",null,null,null,null,null,null,null,null,null,null,"-"]
[null,null,null,null,null,null,null,null,null,null,null,null,null,null,null,null,null,null,null,null,null,null,null,null,"-","-","-",null,null,null,null,null,null,null,null,null,null,"-"]
[null,null,null,null,null,null,null,null,null,null,null,null,null,null,null,null,null,null,null,null,null,null,null,null,"-","-","-",null,null,null,null,null,null,null,null,null,null,"-"]
[null,null,null,null,null,null,null,null,null,null,null,null,null,null,null,null,null,null,null,null,null,null,null,null,"-","-","-",null,null,null,null,null,null,null,null,null,null,"-"]
[null,null,null,null,null,null,null,null,null,null,null,null,null,null,null,null,null,null,null,null,null,null,null,null,"-","-","-",null,null,null,null,null,null,null,null,null,null,"-"]
[null,null,null,null,null,null,null,null,null,null,null,null,null,null,null,null,null,null,null,null,null,null,null,null,"-","-","-",null,null,null,null,null,null,null,null,null,null,"-"]
[null,null,null,null,null,null,null,null,null,null,null,null,null,null,null,null,null,null,null,null,null,null,null,null,"-","-","-",null,null,null,null,null,null,null,null,null,null,"-"]
[null,null,null,null,null,null,null,null,null,null,null,null,null,null,null,null,null,null,null,null,null,null,null,null,"-","-","-",null,null,null,null,null,null,null,null,null,null,"-"]
[null,null,null,null,null,null,null,null,null,null,null,null,null,null,null,null,null,null,null,null,null,null,null,null,"-","-","-",null,null,null,null,null,null,null,null,null,null,"-"]
[null,null,null,null,null,null,null,null,null,null,null,null,null,null,null,null,null,null,null,null,null,null,null,null,"-","-","-",null,null,null,null,null,null,null,null,null,null,"-"]
[null,null,null,null,null,null,null,null,null,null,null,null,null,null,null,null,null,null,null,null,null,null,null,null,"-","-","-",null,null,null,null,null,null,null,null,null,null,"-"]
[null,null,null,null,null,null,null,null,null,null,null,null,null,null,null,null,null,null,null,null,null,null,null,null,"-","-","-",null,null,null,null,null,null,null,null,null,null,"-"]
[null,null,null,null,null,null,null,null,null,null,null,null,null,null,null,null,null,null,null,null,null,null,null,null,"-","-","-",null,null,null,null,null,null,null,null,null,null,"-"]
[null,null,null,null,null,null,null,null,null,null,null,null,null,null,null,null,null,null,null,null,null,null,null,null,"-","-","-",null,null,null,null,null,null,null,null,null,null,"-"]
[null,null,null,null,null,null,null,null,null,null,null,null,null,null,null,null,null,null,null,null,null,null,null,null,"-","-","-",null,null,null,null,null,null,null,null,null,null,"-"]
[null,null,null,null,null,null,null,null,null,null,null,null,null,null,null,null,null,null,null,null,null,null,null,null,"-","-","-",null,null,null,null,null,null,null,null,null,null,"-"]
[null,null,null,null,null,null,null,null,null,null,null,null,null,null,null,null,null,null,null,null,null,null,null,null,"-","-","-",null,null,null,null,null,null,null,null,null,null,"-"]
[null,null,null,null,null,null,null,null,null,null,null,null,null,null,null,null,null,null,null,null,null,null,null,null,"-","-","-",null,null,null,null,null,null,null,null,null,null,"-"]
[null,null,null,null,null,null,null,null,null,null,null,null,null,null,null,null,null,null,null,null,null,null,null,null,"-","-","-",null,null,null,null,null,null,null,null,null,null,"-"]
[null,null,null,null,null,null,null,null,null,null,null,null,null,null,null,null,null,null,null,null,null,null,null,null,"-","-","-",null,null,null,null,null,null,null,null,null,null,"-"]
[null,null,null,null,null,null,null,null,null,null,null,null,null,null,null,null,null,null,null,null,null,null,null,null,"-","-","-",null,null,null,null,null,null,null,null,null,null,"-"]
[null,null,null,null,null,null,null,null,null,null,null,null,null,null,null,null,null,null,null,null,null,null,null,null,"-","-","-",null,null,null,null,null,null,null,null,null,null,"-"]
[null,null,null,null,null,null,null,null,null,null,null,null,null,null,null,null,null,null,null,null,null,null,null,null,"-","-","-",null,null,null,null,null,null,null,null,null,null,"-"]
[null,null,null,null,null,null,null,null,null,null,null,null,null,null,null,null,null,null,null,null,null,null,null,null,"-","-","-",null,null,null,null,null,null,null,null,null,null,"-"]
[null,null,null,null,null,null,null,null,null,null,null,null,null,null,null,null,null,null,null,null,null,null,null,null,"-","-","-",null,null,null,null,null,null,null,null,null,null,"-"]
[null,null,null,null,null,null,null,null,null,null,null,null,null,null,null,null,null,null,null,null,null,null,null,null,"-","-","-",null,null,null,null,null,null,null,null,null,null,"-"]
[null,null,null,null,null,null,null,null,null,null,null,null,null,null,null,null,null,null,null,null,null,null,null,null,"-","-","-",null,null,null,null,null,null,null,null,null,null,"-"]
[null,null,null,null,null,null,null,null,null,null,null,null,null,null,null,null,null,null,null,null,null,null,null,null,"-","-","-",null,null,null,null,null,null,null,null,null,null,"-"]
[null,null,null,null,null,null,null,null,null,null,null,null,null,null,null,null,null,null,null,null,null,null,null,null,"-","-","-",null,null,null,null,null,null,null,null,null,null,"-"]
[null,null,null,null,null,null,null,null,null,null,null,null,null,null,null,null,null,null,null,null,null,null,null,null,"-","-","-",null,null,null,null,null,null,null,null,null,null,"-"]
[null,null,null,null,null,null,null,null,null,null,null,null,null,null,null,null,null,null,null,null,null,null,null,null,"-","-","-",null,null,null,null,null,null,null,null,null,null,"-"]
[null,null,null,null,null,null,null,null,null,null,null,null,null,null,null,null,null,null,null,null,null,null,null,null,"-","-","-",null,null,null,null,null,null,null,null,null,null,"-"]
[null,null,null,null,null,null,null,null,null,null,null,null,null,null,null,null,null,null,null,null,null,null,null,null,"-","-","-",null,null,null,null,null,null,null,null,null,null,"-"]
[null,null,null,null,null,null,null,null,null,null,null,null,null,null,null,null,null,null,null,null,null,null,null,null,"-","-","-",null,null,null,null,null,null,null,null,null,null,"-"]
[null,null,null,null,null,null,null,null,null,null,null,null,null,null,null,null,null,null,null,null,null,null,null,null,"-","-","-",null,null,null,null,null,null,null,null,null,null,"-"]
[null,null,null,null,null,null,null,null,null,null,null,null,null,null,null,null,null,null,null,null,null,null,null,null,"-","-","-",null,null,null,null,null,null,null,null,null,null,"-"]
[null,null,null,null,null,null,null,null,null,null,null,null,null,null,null,null,null,null,null,null,null,null,null,null,"-","-","-",null,null,null,null,null,null,null,null,null,null,"-"]
[null,null,null,null,null,null,null,null,null,null,null,null,null,null,null,null,null,null,null,null,null,null,null,null,"-","-","-",null,null,null,null,null,null,null,null,null,null,"-"]
[null,null,null,null,null,null,null,null,null,null,null,null,null,null,null,null,null,null,null,null,null,null,null,null,"-","-","-",null,null,null,null,null,null,null,null,null,null,"-"]
[null,null,null,null,null,null,null,null,null,null,null,null,null,null,null,null,null,null,null,null,null,null,null,null,"-","-","-",null,null,null,null,null,null,null,null,null,null,"-"]
[null,null,null,null,null,null,null,null,null,null,null,null,null,null,null,null,null,null,null,null,null,null,null,null,"-","-","-",null,null,null,null,null,null,null,null,null,null,"-"]
[null,null,null,null,null,null,null,null,null,null,null,null,null,null,null,null,null,null,null,null,null,null,null,null,"-","-","-",null,null,null,null,null,null,null,null,null,null,"-"]
[null,null,null,null,null,null,null,null,null,null,null,null,null,null,null,null,null,null,null,null,null,null,null,null,"-","-","-",null,null,null,null,null,null,null,null,null,null,"-"]
[null,null,null,null,null,null,null,null,null,null,null,null,null,null,null,null,null,null,null,null,null,null,null,null,"-","-","-",null,null,null,null,null,null,null,null,null,null,"-"]
[null,null,null,null,null,null,null,null,null,null,null,null,null,null,null,null,null,null,null,null,null,null,null,null,"-","-","-",null,null,null,null,null,null,null,null,null,null,"-"]
[null,null,null,null,null,null,null,null,null,null,null,null,null,null,null,null,null,null,null,null,null,null,null,null,"-","-","-",null,null,null,null,null,null,null,null,null,null,"-"]
[null,null,null,null,null,null,null,null,null,null,null,null,null,null,null,null,null,null,null,null,null,null,null,null,"-","-","-",null,null,null,null,null,null,null,null,null,null,"-"]
[null,null,null,null,null,null,null,null,null,null,null,null,null,null,null,null,null,null,null,null,null,null,null,null,"-","-","-",null,null,null,null,null,null,null,null,null,null,"-"]
[null,null,null,null,null,null,null,null,null,null,null,null,null,null,null,null,null,null,null,null,null,null,null,null,"-","-","-",null,null,null,null,null,null,null,null,null,null,"-"]
[null,null,null,null,null,null,null,null,null,null,null,null,null,null,null,null,null,null,null,null,null,null,null,null,"-","-","-",null,null,null,null,null,null,null,null,null,null,"-"]
[null,null,null,null,null,null,null,null,null,null,null,null,null,null,null,null,null,null,null,null,null,null,null,null,"-","-","-",null,null,null,null,null,null,null,null,null,null,"-"]
[null,null,null,null,null,null,null,null,null,null,null,null,null,null,null,null,null,null,null,null,null,null,null,null,"-","-","-",null,null,null,null,null,null,null,null,null,null,"-"]
[null,null,null,null,null,null,null,null,null,null,null,null,null,null,null,null,null,null,null,null,null,null,null,null,"-","-","-",null,null,null,null,null,null,null,null,null,null,"-"]
[null,null,null,null,null,null,null,null,null,null,null,null,null,null,null,null,null,null,null,null,null,null,null,null,"-","-","-",null,null,null,null,null,null,null,null,null,null,"-"]
[null,null,null,null,null,null,null,null,null,null,null,null,null,null,null,null,null,null,null,null,null,null,null,null,"-","-","-",null,null,null,null,null,null,null,null,null,null,"-"]
[null,null,null,null,null,null,null,null,null,null,null,null,null,null,null,null,null,null,null,null,null,null,null,null,"-","-","-",null,null,null,null,null,null,null,null,null,null,"-"]
[null,null,null,null,null,null,null,null,null,null,null,null,null,null,null,null,null,null,null,null,null,null,null,null,"-","-","-",null,null,null,null,null,null,null,null,null,null,"-"]
[null,null,null,null,null,null,null,null,null,null,null,null,null,null,null,null,null,null,null,null,null,null,null,null,"-","-","-",null,null,null,null,null,null,null,null,null,null,"-"]
[null,null,null,null,null,null,null,null,null,null,null,null,null,null,null,null,null,null,null,null,null,null,null,null,"-","-","-",null,null,null,null,null,null,null,null,null,null,"-"]
[null,null,null,null,null,null,null,null,null,null,null,null,null,null,null,null,null,null,null,null,null,null,null,null,"-","-","-",null,null,null,null,null,null,null,null,null,null,"-"]
[null,null,null,null,null,null,null,null,null,null,null,null,null,null,null,null,null,null,null,null,null,null,null,null,"-","-","-",null,null,null,null,null,null,null,null,null,null,"-"]
[null,null,null,null,null,null,null,null,null,null,null,null,null,null,null,null,null,null,null,null,null,null,null,null,"-","-","-",null,null,null,null,null,null,null,null,null,null,"-"]
[null,null,null,null,null,null,null,null,null,null,null,null,null,null,null,null,null,null,null,null,null,null,null,null,"-","-","-",null,null,null,null,null,null,null,null,null,null,"-"]
[null,null,null,null,null,null,null,null,null,null,null,null,null,null,null,null,null,null,null,null,null,null,null,null,"-","-","-",null,null,null,null,null,null,null,null,null,null,"-"]
[null,null,null,null,null,null,null,null,null,null,null,null,null,null,null,null,null,null,null,null,null,null,null,null,"-","-","-",null,null,null,null,null,null,null,null,null,null,"-"]
[null,null,null,null,null,null,null,null,null,null,null,null,null,null,null,null,null,null,null,null,null,null,null,null,"-","-","-",null,null,null,null,null,null,null,null,null,null,"-"]
[null,null,null,null,null,null,null,null,null,null,null,null,null,null,null,null,null,null,null,null,null,null,null,null,"-","-","-",null,null,null,null,null,null,null,null,null,null,"-"]
[null,null,null,null,null,null,null,null,null,null,null,null,null,null,null,null,null,null,null,null,null,null,null,null,"-","-","-",null,null,null,null,null,null,null,null,null,null,"-"]
[null,null,null,null,null,null,null,null,null,null,null,null,null,null,null,null,null,null,null,null,null,null,null,null,"-","-","-",null,null,null,null,null,null,null,null,null,null,"-"]
[null,null,null,null,null,null,null,null,null,null,null,null,null,null,null,null,null,null,null,null,null,null,null,null,"-","-","-",null,null,null,null,null,null,null,null,null,null,"-"]
[null,null,null,null,null,null,null,null,null,null,null,null,null,null,null,null,null,null,null,null,null,null,null,null,"-","-","-",null,null,null,null,null,null,null,null,null,null,"-"]
[null,null,null,null,null,null,null,null,null,null,null,null,null,null,null,null,null,null,null,null,null,null,null,null,"-","-","-",null,null,null,null,null,null,null,null,null,null,"-"]
[null,null,null,null,null,null,null,null,null,null,null,null,null,null,null,null,null,null,null,null,null,null,null,null,"-","-","-",null,null,null,null,null,null,null,null,null,null,"-"]
[null,null,null,null,null,null,null,null,null,null,null,null,null,null,null,null,null,null,null,null,null,null,null,null,"-","-","-",null,null,null,null,null,null,null,null,null,null,"-"]
[null,null,null,null,null,null,null,null,null,null,null,null,null,null,null,null,null,null,null,null,null,null,null,null,"-","-","-",null,null,null,null,null,null,null,null,null,null,"-"]
[null,null,null,null,null,null,null,null,null,null,null,null,null,null,null,null,null,null,null,null,null,null,null,null,"-","-","-",null,null,null,null,null,null,null,null,null,null,"-"]
[null,null,null,null,null,null,null,null,null,null,null,null,null,null,null,null,null,null,null,null,null,null,null,null,"-","-","-",null,null,null,null,null,null,null,null,null,null,"-"]
[null,null,null,null,null,null,null,null,null,null,null,null,null,null,null,null,null,null,null,null,null,null,null,null,"-","-","-",null,null,null,null,null,null,null,null,null,null,"-"]
[null,null,null,null,null,null,null,null,null,null,null,null,null,null,null,null,null,null,null,null,null,null,null,null,"-","-","-",null,null,null,null,null,null,null,null,null,null,"-"]
[null,null,null,null,null,null,null,null,null,null,null,null,null,null,null,null,null,null,null,null,null,null,null,null,"-","-","-",null,null,null,null,null,null,null,null,null,null,"-"]
[null,null,null,null,null,null,null,null,null,null,null,null,null,null,null,null,null,null,null,null,null,null,null,null,"-","-","-",null,null,null,null,null,null,null,null,null,null,"-"]
[null,null,null,null,null,null,null,null,null,null,null,null,null,null,null,null,null,null,null,null,null,null,null,null,"-","-","-",null,null,null,null,null,null,null,null,null,null,"-"]
[null,null,null,null,null,null,null,null,null,null,null,null,null,null,null,null,null,null,null,null,null,null,null,null,"-","-","-",null,null,null,null,null,null,null,null,null,null,"-"]
[null,null,null,null,null,null,null,null,null,null,null,null,null,null,null,null,null,null,null,null,null,null,null,null,"-","-","-",null,null,null,null,null,null,null,null,null,null,"-"]
[null,null,null,null,null,null,null,null,null,null,null,null,null,null,null,null,null,null,null,null,null,null,null,null,"-","-","-",null,null,null,null,null,null,null,null,null,null,"-"]
[null,null,null,null,null,null,null,null,null,null,null,null,null,null,null,null,null,null,null,null,null,null,null,null,"-","-","-",null,null,null,null,null,null,null,null,null,null,"-"]
[null,null,null,null,null,null,null,null,null,null,null,null,null,null,null,null,null,null,null,null,null,null,null,null,"-","-","-",null,null,null,null,null,null,null,null,null,null,"-"]
[null,null,null,null,null,null,null,null,null,null,null,null,null,null,null,null,null,null,null,null,null,null,null,null,"-","-","-",null,null,null,null,null,null,null,null,null,null,"-"]
[null,null,null,null,null,null,null,null,null,null,null,null,null,null,null,null,null,null,null,null,null,null,null,null,"-","-","-",null,null,null,null,null,null,null,null,null,null,"-"]
[null,null,null,null,null,null,null,null,null,null,null,null,null,null,null,null,null,null,null,null,null,null,null,null,"-","-","-",null,null,null,null,null,null,null,null,null,null,"-"]
[null,null,null,null,null,null,null,null,null,null,null,null,null,null,null,null,null,null,null,null,null,null,null,null,"-","-","-",null,null,null,null,null,null,null,null,null,null,"-"]
[null,null,null,null,null,null,null,null,null,null,null,null,null,null,null,null,null,null,null,null,null,null,null,null,"-","-","-",null,null,null,null,null,null,null,null,null,null,"-"]
[null,null,null,null,null,null,null,null,null,null,null,null,null,null,null,null,null,null,null,null,null,null,null,null,"-","-","-",null,null,null,null,null,null,null,null,null,null,"-"]
[null,null,null,null,null,null,null,null,null,null,null,null,null,null,null,null,null,null,null,null,null,null,null,null,"-","-","-",null,null,null,null,null,null,null,null,null,null,"-"]
[null,null,null,null,null,null,null,null,null,null,null,null,null,null,null,null,null,null,null,null,null,null,null,null,"-","-","-",null,null,null,null,null,null,null,null,null,null,"-"]
[null,null,null,null,null,null,null,null,null,null,null,null,null,null,null,null,null,null,null,null,null,null,null,null,"-","-","-",null,null,null,null,null,null,null,null,null,null,"-"]
[null,null,null,null,null,null,null,null,null,null,null,null,null,null,null,null,null,null,null,null,null,null,null,null,"-","-","-",null,null,null,null,null,null,null,null,null,null,"-"]
[null,null,null,null,null,null,null,null,null,null,null,null,null,null,null,null,null,null,null,null,null,null,null,null,"-","-","-",null,null,null,null,null,null,null,null,null,null,"-"]
[null,null,null,null,null,null,null,null,null,null,null,null,null,null,null,null,null,null,null,null,null,null,null,null,"-","-","-",null,null,null,null,null,null,null,null,null,null,"-"]
[null,null,null,null,null,null,null,null,null,null,null,null,null,null,null,null,null,null,null,null,null,null,null,null,"-","-","-",null,null,null,null,null,null,null,null,null,null,"-"]
[null,null,null,null,null,null,null,null,null,null,null,null,null,null,null,null,null,null,null,null,null,null,null,null,"-","-","-",null,null,null,null,null,null,null,null,null,null,"-"]
[null,null,null,null,null,null,null,null,null,null,null,null,null,null,null,null,null,null,null,null,null,null,null,null,"-","-","-",null,null,null,null,null,null,null,null,null,null,"-"]
[null,null,null,null,null,null,null,null,null,null,null,null,null,null,null,null,null,null,null,null,null,null,null,null,"-","-","-",null,null,null,null,null,null,null,null,null,null,"-"]
[null,null,null,null,null,null,null,null,null,null,null,null,null,null,null,null,null,null,null,null,null,null,null,null,"-","-","-",null,null,null,null,null,null,null,null,null,null,"-"]
[null,null,null,null,null,null,null,null,null,null,null,null,null,null,null,null,null,null,null,null,null,null,null,null,"-","-","-",null,null,null,null,null,null,null,null,null,null,"-"]
[null,null,null,null,null,null,null,null,null,null,null,null,null,null,null,null,null,null,null,null,null,null,null,null,"-","-","-",null,null,null,null,null,null,null,null,null,null,"-"]
[null,null,null,null,null,null,null,null,null,null,null,null,null,null,null,null,null,null,null,null,null,null,null,null,"-","-","-",null,null,null,null,null,null,null,null,null,null,"-"]
[null,null,null,null,null,null,null,null,null,null,null,null,null,null,null,null,null,null,null,null,null,null,null,null,"-","-","-",null,null,null,null,null,null,null,null,null,null,"-"]
[null,null,null,null,null,null,null,null,null,null,null,null,null,null,null,null,null,null,null,null,null,null,null,null,"-","-","-",null,null,null,null,null,null,null,null,null,null,"-"]
[null,null,null,null,null,null,null,null,null,null,null,null,null,null,null,null,null,null,null,null,null,null,null,null,"-","-","-",null,null,null,null,null,null,null,null,null,null,"-"]
[null,null,null,null,null,null,null,null,null,null,null,null,null,null,null,null,null,null,null,null,null,null,null,null,"-","-","-",null,null,null,null,null,null,null,null,null,null,"-"]
[null,null,null,null,null,null,null,null,null,null,null,null,null,null,null,null,null,null,null,null,null,null,null,null,"-","-","-",null,null,null,null,null,null,null,null,null,null,"-"]
[null,null,null,null,null,null,null,null,null,null,null,null,null,null,null,null,null,null,null,null,null,null,null,null,"-","-","-",null,null,null,null,null,null,null,null,null,null,"-"]
[null,null,null,null,null,null,null,null,null,null,null,null,null,null,null,null,null,null,null,null,null,null,null,null,"-","-","-",null,null,null,null,null,null,null,null,null,null,"-"]
[null,null,null,null,null,null,null,null,null,null,null,null,null,null,null,null,null,null,null,null,null,null,null,null,"-","-","-",null,null,null,null,null,null,null,null,null,null,"-"]
[null,null,null,null,null,null,null,null,null,null,null,null,null,null,null,null,null,null,null,null,null,null,null,null,"-","-","-",null,null,null,null,null,null,null,null,null,null,"-"]
[null,null,null,null,null,null,null,null,null,null,null,null,null,null,null,null,null,null,null,null,null,null,null,null,"-","-","-",null,null,null,null,null,null,null,null,null,null,"-"]
[null,null,null,null,null,null,null,null,null,null,null,null,null,null,null,null,null,null,null,null,null,null,null,null,"-","-","-",null,null,null,null,null,null,null,null,null,null,"-"]
[null,null,null,null,null,null,null,null,null,null,null,null,null,null,null,null,null,null,null,null,null,null,null,null,"-","-","-",null,null,null,null,null,null,null,null,null,null,"-"]
[null,null,null,null,null,null,null,null,null,null,null,null,null,null,null,null,null,null,null,null,null,null,null,null,"-","-","-",null,null,null,null,null,null,null,null,null,null,"-"]
[null,null,null,null,null,null,null,null,null,null,null,null,null,null,null,null,null,null,null,null,null,null,null,null,"-","-","-",null,null,null,null,null,null,null,null,null,null,"-"]
[null,null,null,null,null,null,null,null,null,null,null,null,null,null,null,null,null,null,null,null,null,null,null,null,"-","-","-",null,null,null,null,null,null,null,null,null,null,"-"]
[null,null,null,null,null,null,null,null,null,null,null,null,null,null,null,null,null,null,null,null,null,null,null,null,"-","-","-",null,null,null,null,null,null,null,null,null,null,"-"]
[null,null,null,null,null,null,null,null,null,null,null,null,null,null,null,null,null,null,null,null,null,null,null,null,"-","-","-",null,null,null,null,null,null,null,null,null,null,"-"]
[null,null,null,null,null,null,null,null,null,null,null,null,null,null,null,null,null,null,null,null,null,null,null,null,"-","-","-",null,null,null,null,null,null,null,null,null,null,"-"]
[null,null,null,null,null,null,null,null,null,null,null,null,null,null,null,null,null,null,null,null,null,null,null,null,"-","-","-",null,null,null,null,null,null,null,null,null,null,"-"]
[null,null,null,null,null,null,null,null,null,null,null,null,null,null,null,null,null,null,null,null,null,null,null,null,"-","-","-",null,null,null,null,null,null,null,null,null,null,"-"]
[null,null,null,null,null,null,null,null,null,null,null,null,null,null,null,null,null,null,null,null,null,null,null,null,"-","-","-",null,null,null,null,null,null,null,null,null,null,"-"]
[null,null,null,null,null,null,null,null,null,null,null,null,null,null,null,null,null,null,null,null,null,null,null,null,"-","-","-",null,null,null,null,null,null,null,null,null,null,"-"]
[null,null,null,null,null,null,null,null,null,null,null,null,null,null,null,null,null,null,null,null,null,null,null,null,"-","-","-",null,null,null,null,null,null,null,null,null,null,"-"]
[null,null,null,null,null,null,null,null,null,null,null,null,null,null,null,null,null,null,null,null,null,null,null,null,"-","-","-",null,null,null,null,null,null,null,null,null,null,"-"]
[null,null,null,null,null,null,null,null,null,null,null,null,null,null,null,null,null,null,null,null,null,null,null,null,"-","-","-",null,null,null,null,null,null,null,null,null,null,"-"]
[null,null,null,null,null,null,null,null,null,null,null,null,null,null,null,null,null,null,null,null,null,null,null,null,"-","-","-",null,null,null,null,null,null,null,null,null,null,"-"]
[null,null,null,null,null,null,null,null,null,null,null,null,null,null,null,null,null,null,null,null,null,null,null,null,"-","-","-",null,null,null,null,null,null,null,null,null,null,"-"]
[null,null,null,null,null,null,null,null,null,null,null,null,null,null,null,null,null,null,null,null,null,null,null,null,"-","-","-",null,null,null,null,null,null,null,null,null,null,"-"]
[null,null,null,null,null,null,null,null,null,null,null,null,null,null,null,null,null,null,null,null,null,null,null,null,"-","-","-",null,null,null,null,null,null,null,null,null,null,"-"]
[null,null,null,null,null,null,null,null,null,null,null,null,null,null,null,null,null,null,null,null,null,null,null,null,"-","-","-",null,null,null,null,null,null,null,null,null,null,"-"]
[null,null,null,null,null,null,null,null,null,null,null,null,null,null,null,null,null,null,null,null,null,null,null,null,"-","-","-",null,null,null,null,null,null,null,null,null,null,"-"]
[null,null,null,null,null,null,null,null,null,null,null,null,null,null,null,null,null,null,null,null,null,null,null,null,"-","-","-",null,null,null,null,null,null,null,null,null,null,"-"]
[null,null,null,null,null,null,null,null,null,null,null,null,null,null,null,null,null,null,null,null,null,null,null,null,"-","-","-",null,null,null,null,null,null,null,null,null,null,"-"]
[null,null,null,null,null,null,null,null,null,null,null,null,null,null,null,null,null,null,null,null,null,null,null,null,"-","-","-",null,null,null,null,null,null,null,null,null,null,"-"]
[null,null,null,null,null,null,null,null,null,null,null,null,null,null,null,null,null,null,null,null,null,null,null,null,"-","-","-",null,null,null,null,null,null,null,null,null,null,"-"]
[null,null,null,null,null,null,null,null,null,null,null,null,null,null,null,null,null,null,null,null,null,null,null,null,"-","-","-",null,null,null,null,null,null,null,null,null,null,"-"]
[null,null,null,null,null,null,null,null,null,null,null,null,null,null,null,null,null,null,null,null,null,null,null,null,"-","-","-",null,null,null,null,null,null,null,null,null,null,"-"]
[null,null,null,null,null,null,null,null,null,null,null,null,null,null,null,null,null,null,null,null,null,null,null,null,"-","-","-",null,null,null,null,null,null,null,null,null,null,"-"]
[null,null,null,null,null,null,null,null,null,null,null,null,null,null,null,null,null,null,null,null,null,null,null,null,"-","-","-",null,null,null,null,null,null,null,null,null,null,"-"]
[null,null,null,null,null,null,null,null,null,null,null,null,null,null,null,null,null,null,null,null,null,null,null,null,"-","-","-",null,null,null,null,null,null,null,null,null,null,"-"]
[null,null,null,null,null,null,null,null,null,null,null,null,null,null,null,null,null,null,null,null,null,null,null,null,"-","-","-",null,null,null,null,null,null,null,null,null,null,"-"]
[null,null,null,null,null,null,null,null,null,null,null,null,null,null,null,null,null,null,null,null,null,null,null,null,"-","-","-",null,null,null,null,null,null,null,null,null,null,"-"]
[null,null,null,null,null,null,null,null,null,null,null,null,null,null,null,null,null,null,null,null,null,null,null,null,"-","-","-",null,null,null,null,null,null,null,null,null,null,"-"]
[null,null,null,null,null,null,null,null,null,null,null,null,null,null,null,null,null,null,null,null,null,null,null,null,"-","-","-",null,null,null,null,null,null,null,null,null,null,"-"]
[null,null,null,null,null,null,null,null,null,null,null,null,null,null,null,null,null,null,null,null,null,null,null,null,"-","-","-",null,null,null,null,null,null,null,null,null,null,"-"]
[null,null,null,null,null,null,null,null,null,null,null,null,null,null,null,null,null,null,null,null,null,null,null,null,"-","-","-",null,null,null,null,null,null,null,null,null,null,"-"]
[null,null,null,null,null,null,null,null,null,null,null,null,null,null,null,null,null,null,null,null,null,null,null,null,"-","-","-",null,null,null,null,null,null,null,null,null,null,"-"]
[null,null,null,null,null,null,null,null,null,null,null,null,null,null,null,null,null,null,null,null,null,null,null,null,"-","-","-",null,null,null,null,null,null,null,null,null,null,"-"]
[null,null,null,null,null,null,null,null,null,null,null,null,null,null,null,null,null,null,null,null,null,null,null,null,"-","-","-",null,null,null,null,null,null,null,null,null,null,"-"]
[null,null,null,null,null,null,null,null,null,null,null,null,null,null,null,null,null,null,null,null,null,null,null,null,"-","-","-",null,null,null,null,null,null,null,null,null,null,"-"]
[null,null,null,null,null,null,null,null,null,null,null,null,null,null,null,null,null,null,null,null,null,null,null,null,"-","-","-",null,null,null,null,null,null,null,null,null,null,"-"]

{"sheet":"ABNT NBR ISO TR 8124-8 2017","index":4,"n_rows":187,"n_cols":4,"rows_kept":187,"cut":false,"hidden":false,"merged":[[1,1,1,3],[2,1,2,3],[4,1,4,3],[29,1,29,3],[38,3,39,3],[181,1,181,3],[167,1,167,3],[58,1,58,3],[69,1,69,3],[28,1,28,3],[48,1,48,3],[44,1,44,3],[75,1,75,3],[99,1,99,3],[115,1,115,3],[142,1,142,3]]}
[]
[null,"Sistema de classificação de brinquedos,\ndescrição de categorias e subcategorias dos brinquedos"]
[null,"NOTA BRASILEIRA          Este sistema é uma revisão de 2013 do International Council for Children’s Play e Centre National d’Information du Jouet (ICCP)."]
[]
[null,"Tabela A.1 – Subcategoria 1 – 32 subcategorias – Brinquedos para atividades sensório-motoras – Primeira idade"]
[]
[null,"Subcategoria","Idade inicial","Descrição e exemplos para os brinquedos apropriados"]
[null,"1.01","0m+","Chocalhos e anéis"]
[null,"1.02","4m+","Mordedores e anéis para morder"]
[null,"1.03","0m+","Móbiles sonoros ou não – brinquedos com figuras e formas diversas para os colocar suspensos sobre o berço, fora do alcance da criança"]
[null,"1.04","2m+","Tapetes de atividades, ginástica de berço – tapetes de ativi- dades simples; podem incluir estruturas aéreas, que podem ter objetos pendurados para a criança alcançar, agarrar ou bater"]
[null,"1.05","3m+","Brinquedos para berço e cercadinho – esferas, figuras enfiadas em cordão para instalar em berços, carrinhos ou cercados"]
[null,"1.07","4m+","Quadros de atividades – quadros para acoplar ao berço, com peças coloridas de formas diversas, espelhos inquebráveis, guizos, peças que correm em guias, botões de apertar, janelinhas que se abrem"]
[null,"1.09","3m+","Brinquedos de apertar – construídos com material macio, com ou sem guizo interno"]
[null,"1.11","4m+","Brinquedos para banho – animais, barquinhos e peças flutuantes"]
[null,"1.12","6m+","Livros simples de tecido ou plástico"]
[null,"1.13","2m+","Bonecas e bichinhos em tecido, plush ou pelúcia – bonecas e animais com ou sem roupas e detalhes fixos, com dimensões maiores que 5 cm"]
[null,"1.14","8m+","João bobo, pop-up de ação, figuras e animais que balançam em um movimento para frente e para trás, feitos de plástico rígido ou inflável"]
[null,"1.16","8m+","Livros com páginas grossas de materiais diversos"]
[null,"1.17","5m+","Brinquedos simples de empilhar e encaixar (tipo boneca matriosca)"]
[null,"1.18","6m+","Brinquedos simples de bola e percurso"]
[null,"1.19","18m+","Brinquedos de puxar, empurrar ou rolar, com haste ou cordão"]
[null,"1.20","6m+","Veículos simples que rolam (sem cordão ou cabo), os quais fazem sons e/ou têm luzes coloridas – animais de rodas ou veículos"]
[null,"1.21","18m+","Carrinhos de mão, veículos para encher e esvaziar"]
[null,"1.23","12m+","Caixas, arcas, baldes e baús – para guardar brinquedos"]
[null,"1.25","3m+","Bolas e outras formas geométricas em material têxtil macio ou similar"]
[null,"1.27","18m+","Brinquedos para areia e água – baldes, pazinhas, moldes para brincar com areia e água"]
[]
[null,"NOTA BRASILEIRA No Brasil considera-se o escorregador com altura máxima na seção inicial de 50 cm nesta categoria."]
[]
[null,"1.29","12m+","Animais e cadeiras de balanço – no tamanho da criança, para cavalgar e balançar"]
[null,"1.30","12m+","Brinquedos para criança empurrar, com alça elevada, que proporciona estabilidade"]
[null,"1.31","9m+","Carrinhos de empurrar para os primeiros passos – carrinhos com base sólida, rodas com resistência e alça, para a criança se apoiar ao começar a caminhar"]
[null,"1.33","12m+","Veículos sem pedais – tico-ticos, carrinhos sem pedais que se movimentam pelo impulso dos pés das crianças, no chão"]
[null,"1.35","8m+","Sólidos macios, de formas diversas, para empilhar"]
[null,"1.37","12m+","Contas grandes para deslizar em cordão/eixo central – peças empilháveis em eixo fixo"]
[null,"1.39","12m+","Caixas de encaixe de formas e cores – caixas, carrinhos com orifícios de formas geométricas diferentes para receber pecinhas que só passam pelas aberturas correspondentes para cair dentro deles"]
[null,"1.41","12m+","Bancadas e brinquedos para martelar – brinquedos imitando bancadas de marceneiro"]
[null,null,null,"Brinquedos animados mecânicos – figuras de animais de plástico, metal, tecido ou pelúcia, com movimentos de corda, a pilha ou bateria"]
[null,"1.43","12m+"]
[null,"1.45","4m+","Esferas ou cilindros – esferas transparentes com conteúdo visível externamente"]
[null,"1.47","0m+","Caixas de música – brinquedos de pendurar, com alça para acionamento do mecanismo musical interno, acionados pelo adulto"]
[null,"1.48","6m+","Teclado simples ou brinquedos portáteis com botões que ativam luz e som"]
[]
[null,"Tabela A.2 – CATEGORIA 2 – 25 subcategorias – Brinquedos para atividades físicas"]
[]
[null,"Subcategoria","Idade inicial","Descrição e exemplos para os brinquedos apropriados"]
[null,"2.01","2+","Veículos com pedais, patinetes com três ou mais rodas e bicicletas sem pedal – triciclos, tico-ticos, karts com pedais, motos"]
[null,"NOTA BRASILEIRA Carrinhos elétricos na escala da criança para dirigir e que possuam controle remoto para o adulto controlar se enquadram na faixa etária de 2.02, uma vez que o controle é exclusivamente para uso do adulto."]
[null,"2.02","2+","Veículos elétricos no tamanho da criança – carrinhos para a criança dirigir, movidos à bateria ou à pilha"]
[null,"2.03","3+","Bicicletas de brinquedo – bicicletas com duas rodas, com ou sem rodinhas de apoio"]
[null,"2.05","6+","Skates, patinetes de duas rodas e patins in-line"]
[null,"2.06","3+","Patins (exceto in-line) – patins cujas rodas não estejam posicionadas em sentido linear (inline)"]
[null,"2.07","5+","Objetos voadores – pipas, bumerangues, aviõezinhos simples (com elástico)"]
[null,"2.08","3+","Bolhas de sabão – brinquedos com acessórios para soprar bolhas"]
[null,"2.09","3+","Boliches, jogos tipo “boccia”, jogos de argolas – boliches de plástico ou madeira, argolas para lançar e encaixar em um eixo"]
[null,"2.10","12m+","Bolas leves (plásticas)"]
[null,"2.11","3+","Brinquedos que imitam as versões reais de esportes – beisebol, basquete, críquete, golfe, tênis, pingue-pongue, peteca ou raquetes de praia etc."]
[null,"NOTA BRASILEIRA No projeto inicial apresentado na ISO constava o item a seguir, porém, devido à aplicabilidade global, foi decidido retirar da norma ISO e manter na Norma Brasileira."]
[null,"2.12","2+","Balões infláveis (bexiga) (com supervisão de um adulto)"]
[null,"2.13","4+","Jogos de pular obstáculos e percursos tipo amarelinha"]
[null,"2.14","3+","Peças para atirar em alvos"]
[null,"2.16","4+","Piões (exceto piões de madeira acionados com cordão)"]
[null,"2.17","4+","Pernas de pau, bambolês, aros para equilibrar com uma haste"]
[null,"2.18","6+","Ioiôs e piões de madeira acionados com cordão"]
[null,"2.19","6+","Minigolfe, críquete, bilhar, pebolim, futebol de mesa e outros similares"]
[null,"2.20","5+","Cordas de pular"]
[null,"2.22","7+","Tapetes de dança eletrônico – para aprender passos de dança e seguir coreografias complexas"]
[null,"2.23","3+","Brinquedos de uso doméstico para atividades físicas (áreas internas ou externas) – escorregadores, balanços abertos, gangorras, trepa-trepa"]
[null,"NOTA BRASILEIRA No Brasil, entende-se como escorregador com poucos degraus o escorregador  com altura de no máximo 1 m na seção inicial"]
[null,"2.24","2+","Brinquedos de uso doméstico para atividade física (áreas interna ou externa) – balanços que envolvem o corpo e escor- regador curto com poucos degraus"]
[null,"2.25","3+","Brinquedos aquáticos – pranchas e infláveis (animais, perso- nagens, barcos)"]
[null,"2.26","2+","Piscininhas rasas (com supervisão de adulto)"]
[null,"2.27","3+","Tapetes eletrônicos simples – para seguir padrões, fazendo música, aprendendo coreografias simples"]
[]
[null,"Tabela A.3 – CATEGORIA 3 – 20 subcategorias – Brinquedos para atividades intelectuais"]
[]
[null,"Subcategoria","Idade inicial","Descrição e exemplos para os brinquedos apropriados"]
[null,"3.01","4+","Puzzles fáceis de 20 peças a 150 peças (inclusive)"]
[null,"3.03","2+","Baby puzzles e encaixes planos – quebra-cabeças com até 20 peças grandes e brinquedos de encaixes de peças em bandejas, podem ter pinos para aprender as formas das peças encaixando em bandejas"]
[null,"3.05","7+","Puzzles – de 150 a 500 peças (inclusive)"]
[null,"3.07","18m+","Brinquedos com peças fixas com movimentos de girar, rosquear e parafusar"]
[null,"3.09","18m+","Blocos de construção por superposição de peças que podem ou não ter encaixe"]
[null,"3.10","2+","Atividade simples – por meio da combinação de formas, cores ou imagens"]
[null,"3.11","3+","Brinquedos ou jogos de montagem ou construção – peças com formas diversas, com encaixes diversificados para fixação"]
[null,"3.12","2+","Blocos de construção por encaixe de peças – peças grandes com encaixes definidos para construção/fixação/montagem, que podem incluir temas ou representações"]
[null,"3.13","18m+","Brinquedos de mecânica simples – planos inclinados por onde escorregam objetos, brinquedos com acionamento de pás, rodas e outras partes por meio do uso de água e/ou areia"]
[null,"3.15","7+","Brinquedos que demonstram leis físicas elementares"]
[null,"3.17","8+","Caixas de experiência, caixas científicas – caixas químicas, corpo humano em detalhes, caixas de materiais orgânicos, cristais, herbários, microscópios, habitats"]
[null,"3.19","4+","Brinquedos e jogos de perguntas e respostas – combinação de figuras"]
[null,"3.20","2+","Brinquedos educativos – letras e números simples"]
[null,"3.21","3+","Brinquedos, jogos de observação e reflexão – lotos, dominó, jogos de memória, “resta um”, jogos de tabuleiro sem estratégia"]
[null,"3.22","5+","Brinquedos de aprendizado temporal – relógios, calendários e brinquedos de noções de horas, dias e meses"]
[null,"3.23","3+","Brinquedos didáticos – aprendizado de ABC e números simples, quantidade, tamanho, volume, peso, espaço e forma e tempo"]
[null,"3.24","6+","Jogos de formação de palavras, soletrar e reconhecimento numérico (jogador geralmente individual) – palavras cruzadas, encontrar palavras, sudoku"]
[null,"3.25","4+","Brinquedos e jogos lógicos e matemáticos – sequências lógicas, sequências temporais"]
[null,"3.26","6+","Jogos com operações matemáticas – incluindo frações"]
[null,"3.27","2+","Computadores, tablets e dispositivos de jogos portáteis – computador para jogar, multilingual e correspondência"]
[]
[null,"Tabela A.4 – CATEGORIA 4 – 12 subcategorias – Brinquedos para atividades que reproduzem o mundo técnico"]
[]
[null,"Subcategoria","Idade inicial","Descrição e exemplos para os brinquedos apropriados"]
[null,"4.01","5+","Walkie-talkies, telefones, meios de comunicação"]
[null,"4.03","4+","Aparelhos de áudio e audiovisuais com função real – mídias portáteis, karaokes e microfones"]
[null,"4.06","5+","Aparelhos eletrodomésticos com função real limitada – máquina de costura, pipoqueira, forno, batedeira, liquidificador, sorveteira, máquina de algodão doce etc.\nNOTA Nem  todos  os  equipamentos  podem  ser  apropriados  a  esta idade inicial, particularmente brinquedos que funcionam com eletricidade ou com funções de aquecimento."]
[null,"4.07","5+","Réplicas de veículos em escala detalhada e/ou mais realista\n– incluem recursos como portas, capô e porta-mala que abrem e fecham"]
[null,"4.08","18m+","Veículos simples de tamanho reduzido, sem mecanismos – carros, trens, motocicletas, caminhões, aviões, barcos e navios, e outros"]
[null,"4.09","3+","Veículos mecânicos e elétricos que imitam versões do mundo adulto (nível de detalhe proporcional) – carrinhos, caminhões, aviões, barcos movidos à fricção, pilha ou mola"]
[null,"4.11","4+","Veículos complexos telecomandados com multidireção e funcionalidade – carrinhos, caminhões, aviões, barcos movidos por controle remoto, por rádio comando, infravermelho ou outros"]
[null,"4.13","6+","Máquinas e guindastes simples, mecânicos ou elétricos – caminhões basculantes e gruas, movidos à pilha, à fricção ou simples"]
[null,"4.15","6+","Pistas para carros, trens elétricos e acessórios – autoramas, trilhos para trens, circuitos sofisticados acompanhados ou não por acessórios, como plataformas, túneis, obstáculos, peças para cenário, veículos, entre outros"]
[null,"4.17","3+","Veículos sem propulsão e máquinas que imitam versões adultas (nível de detalhe, proporcional) – caminhões, aviões, barcos de formas simples, leves, de plástico ou madeira, que podem ou não viajar sobre trilhos"]
[null,"4.19","3+","Brinquedos e objetos transformáveis – brinquedos que representam figuras cujas partes ao serem movimentadas passam a representar outros objetos"]
[null,"4.21","3+","Robôs com movimentos ou controles simples"]
[]
[null,"Tabela A.5 – CATEGORIA 5 – 23 subcategorias – Brinquedos para o desenvolvimento afetivo"]
[]
[null,"Subcategoria","Idade inicial","Descrição e exemplos para os brinquedos apropriados"]
[null,"5.02","9m+","Bonecos, personagens imagináveis zoomorfos, sem com- ponentes que possam ser arrancados – bonecos que repre- sentam figuras de ficção, heróis e guerreiros com forma de ani- mais, ou outros seres com aparência humana, pelúcias medindo mais de 50 cm"]
[null,"5.03","2+","Bonecas para vestir (não manequim) – todas as bonecas com cabelos, olhos móveis, braços e pernas articulados, atividades animadas, como choro, fazer xixi, rir e/ou falar, com roupas e acessórios para imitar atividades familiares (garrafa, cobertor etc.)"]
[null,"5.07","3+","Carrinhos, berços e móveis para bonecas que imitam versões reais"]
[null,"5.09","2+","Louças, panelinhas, mamadeiras de brinquedo"]
[null,"5.11","2+","Brinquedos simples de faz de conta – fogões, aparelhos domésticos no tamanho da criança sem função real"]
[null,"5.12","3+","Aparelhos eletrodomésticos reduzidos com aspecto realís- tico mas sem função real – fogão, máquina de costura, ferro de passar, liquidificador, batedeira, mixer e outros eletrodomés- ticos de brinquedo"]
[null,"5.13","2+","Aparelhos audiovisuais que imitam equipamentos reais\n– versões plásticas imitando rádios, toca-discos, toca-CD, tocadores de mídias portáteis, telefones celulares infantis, karaokes e microfones com funções limitadas"]
[null,"5.15","2+","Miniaturas de figuras simples – animais, soldadinhos, figuras feitas de plástico, como animais de zoológico, super-heróis, personagens de fantasia, ficção e temas históricos"]
[null,"5.17","3+","Personagens articulados com acessórios limitados – perso- nagens com membros articulados, cabeça móvel e mecanismos simples para simular heróis, guerreiros, histórias de ficção e ba- talhas"]
[null,"5.19","12m+","Veículos, objetos de simulação, quadros de bordo – veículos e volantes imitando atividades de direção de carros, barcos e naves"]
[null,"5.20","12m+","Trajes e disfarces simples – roupas sem botões e sem velcro, com aberturas grandes para os braços e pernas; materiais básicos de vestir, incluindo acessórios tipo chapéu, lenço, sapato e outros acessórios para cabelo"]
[null,"5.21","2+","Fantasias e acessórios de imitação de personagens de lendas e contos – roupas para crianças com acessórios como espadas, capacetes, máscaras"]
[null,"5.23","3+","Objetos de imitação de atividades domésticas e profissões\n– apetrechos para limpeza da casa, ferramentas de marceneiro, mecânico, instrumentos de médico e de enfermeiro, instrumentos de policial, bombeiro e soldado como capacetes, armas e acessórios"]
[null,"5.25","3+","Acessórios de beleza para bonecas – materiais para maquiagem, bijuterias, acessórios vestíveis, sapatos de salto e bolsinhas"]
[null,"5.27","3+","Brinquedos no tamanho da criança – barracas de feira, posto de correio"]
[null,"5.29","2+","Estruturas macias rígidas em que a criança possa entrar – casas, cavernas, fortalezas, tendas e túneis"]
[null,"5.35","3+","Brinquedos imitando áreas urbanas e rurais – estabeleci- mentos comerciais, lojas, bancos, postos de gasolina, estacio- namentos, correios, escolas e salas de aula, estações de trem e metrô, hospital, aeroportos, rodoviárias, zoológicos, arca de Noé, barracas de feira, cidades, fazendas e quaisquer outros brinquedos que imitem áreas, locais e regiões"]
[null,"5.36","2+","Livros – com efeitos especiais, como pop-up, figuras escondidas e vestir-me"]
[null,"5.37","2+","Tapetes de jogos – tapetes com circuito, imitando cidades, ruas, personagens etc."]
[null,"5.38","4+","Cartões, figurinhas e álbuns para colecionar – com função lúdica"]
[null,"5.39","3+","Casinhas de bonecas e acessórios – casas com comparti- mentos, móveis na proporção imitando cozinha, dormitório, sala de jantar"]
[null,"5.41","3+","Bonecas manequins e acessórios – bonecas articuladas  tipo fashion dolls, com detalhes anatômicos e seus acessórios de moda e complementos de suas atividades, como móveis, objetos pessoais, equipamentos esportivos e outros"]
[null,"5.45","18m+","Bonecas para imitar as atividades de cuidados (banho e alimentação) – bonecas plásticas ou de tecido, simples, que imitam bebês, com olhos fixos ou pintados e braços e pernas sem articulação"]
[]
[null,"Tabela A.6 – CATEGORIA 6 – 21 subcategorias – Brinquedos para atividades criativas"]
[]
[null,"Subcategoria","Idade inicial","Descrição e exemplos para os brinquedos apropriados"]
[null,"6.01","5+","Mosaicos – peças geométricas ou pinos, em madeira ou plástico, coloridos, para formar figuras"]
[null,"6.03","4+","Carimbos para impressão com figuras de animais, persona- gens, letras e máquinas de imprensa"]
[null,"6.05","3+","Brinquedos para criar cenários – adesivos de papel, tecido ou plástico colorido ou ilustrados para formar cenas ou figuras, peças com imãs para formar cenários"]
[null,"6.06","3+","Adesivos ou tintas decorativas para serem aplicados na criança – tatuagem e tinta para a pele e adesivos para unhas"]
[null,"6.07","6+","Tapeçaria em tear, bordado com agulha, trabalhos de costura, bordados, tecelagem"]
[null,"6.09","3+","Trabalhos de enfiar e amarrar – contas de segmentação em fios ou cordas etc."]
[null,"6.10","4+","Trabalhos de furar e cortar"]
[null,"6.11","8+","Gravuras e metal trabalhado em baixo-relevo e alto-relevo"]
[null,"6.13","6+","Trabalhos em argila, cerâmica para modelar"]
[null,"6.15","7+","Dobraduras – origami"]
[null,"6.17","8+","Maquetes, modelos técnicos – aeronaves, embarcações, automóveis e motocicletas com partes para montar"]
[null,"6.18","3+","Kit de pintar e colorir – Materiais detalhados, gabaritos e estênceis, giz de cera, lápis, canetas hidrográficas de ponta fina e aquarelas"]
[null,"6.19","2+","Materiais de colorir e pintar – kits simples e limitados de materiais e gabaritos, crayons grossos, giz, canetas hidrocor e tintas para pintura a dedo"]
[null,"6.20","4+","Kits de pintar e colorir – pintura com tinta à base de água e acessórios (pincel, silk screen)"]
[null,"6.21","4+","Jogos de desenho – brinquedos com telas e tapetes de tecido, papel ou plástico para desenhar, colorir e apagar. Brinquedos tipo “traço mágico”, brinquedos de reprodução e imitação de fotocópias (pantógrafos), jogos com quadros de escrever, lousas e flip charts"]
[null,"6.23","3+","Modelagem (manual) e moldagem (com moldes) – modelagem manual e moldagem com moldes de massas, utensílios para trabalhar com massa de modelagem"]
[null,"6.24","5+","Moldagem em gesso e areias de modelar"]
[null,"6.25","12m+","Brinquedos musicais – instrumentos musicais simples: pianos, violões, tambores, tamborins, pandeiros, cornetas e outros"]
[null,"6.26","12m+","Conjunto de peças simples – três a cinco figuras com detalhes limitados"]
[null,"6.27","4+","Instrumentos musicais eletrônicos – teclados, guitarras, baterias eletrônicas realistas e funcionais"]
[null,"6.29","3+","Marionetes, fantoches, teatrinhos – de madeira, plástico ou tecido, com olhos fixos e acessórios removíveis"]
[]
[null,"Tabela A.7 – CATEGORIA 7 – 16 subcategorias – Brinquedos para relacionamento social"]
[]
[null,"Subcategoria","Idade inicial","Descrição e exemplos para os brinquedos apropriados"]
[null,"7.01","4+","Jogos de cartas simples – jogos de cartas simples, baralhos de famílias (quarteto), mico-preto, jogo da memória simples"]
[null,"7.03","7+","Jogos sociais, para famílias – jogos para vários participantes, com regras prefixadas, podendo requerer ou não o conhecimento de temas variados, envolvendo grau médio a difícil de dificuldade"]
[null,"7.04","4+","Jogos cooperativos – jogos de tabuleiro para o ensino de trabalho em equipe, enfatizando o jogo em vez da competição"]
[null,"7.05","5+","Jogos de sorte e azar – jogos de lançamento de dados, cara ou coroa, bingos, roletas"]
[null,"7.07","4+","Jogos de tabuleiro com percurso – jogos de tabuleiro com percurso a ser percorrido por meio de indicador ou por sorteio de dados"]
[null,"7.09","4+","Jogos de sociedade para crianças pequenas – com vários participantes, envolvendo grau simples de dificuldade"]
[null,"7.11","5+","Jogos de habilidade e destreza – jogos de equilibrar peças, capturar, acertar o alvo, entre outros que exijam destreza e rapidez nos reflexos"]
[null,"7.13","4+","Jogos de habilidade e destreza eletrônicos – videogames, videogames portáteis, brinquedos que simulam a vida real por meio de um personagem virtual (avatar)"]
[null,"7.15","5+","Jogos simples de estratégia e reflexão – dama, gamão, trilha, xadrez chinês, batalha naval, dominó, jogos de estratégia em geral"]
[null,"7.16","6+","Jogos complexos de estratégia e reflexão – xadrez, jogos de tabuleiro que exigem estratégia"]
[null,"7.17","9+","Jogos de simulação, conquistas e interpretação – jogos tipo RPG e de simulação, conquistas e aquisições onde os participantes devem, analisando diversas situações e fazendo uso de estratégias pessoais, tomar decisões para conquistar territórios, adquirir bens ou imóveis, construir cidades, decidir novas posições de personagens para transformar a história"]
[null,"NOTA BRASILEIRA No projeto inicial apresentado, constava na ISO o item a seguir, porém, devido à aplicabilidade global, foi decidido retirá-lo da norma ISO e manter na Norma Brasileira."]
[null,"7.18","12+","Jogos sociais de estratégia, com merchandising de marcas do universo adulto – jogos com imagens de marcas/logos que representam explicitamente o universo de consumo adulto"]
[null,"7.19","7+","Jogos enciclopédicos, de conhecimentos gerais – jogos que envolvem o conhecimento de temas variados"]
[null,"7.21","6+","Jogos de números e letras (usualmente com vários jogado- res) – jogos de descoberta de palavras e números ocultos"]
[null,"7.23","7+","Jogos de mágica"]
[null,"7.25","6+","Coleções de jogos – caixas com jogos variados"]

{"sheet":"PLANO DE ENSAIO","index":5,"n_rows":577,"n_cols":39,"rows_kept":577,"cut":false,"hidden":true,"merged":[[1,3,2,34],[6,1,6,2],[7,1,7,2],[7,3,7,7],[7,35,7,39],[6,3,6,17],[6,18,6,23],[7,8,7,12],[7,13,7,17],[7,18,7,23],[7,24,7,33],[6,24,6,39],[1,35,1,39],[3,1,3,39],[4,1,4,2],[4,3,4,7],[4,13,4,17],[4,18,4,23],[4,24,4,34],[5,8,5,12],[4,8,4,12],[4,35,4,36],[4,37,4,39],[5,1,5,2],[5,18,5,23],[5,3,5,7],[5,13,5,17],[5,24,5,39],[2,35,2,37],[2,38,2,39],[1,1,2,2],[8,1,8,39],[9,14,9,19],[9,20,9,39],[10,1,11,1],[10,2,11,2],[10,3,11,3],[10,4,11,4],[10,5,11,5],[10,6,11,6],[10,32,11,33],[10,34,11,34],[10,35,11,35],[10,36,11,37],[10,38,11,39],[10,17,11,19],[10,20,11,22],[10,23,11,26],[10,27,11,27],[10,28,11,28],[10,29,11,29],[9,1,9,10],[10,30,11,31],[10,7,11,7],[10,12,11,12],[10,11,11,11],[14,36,14,37],[14,38,14,39],[15,14,15,16],[15,17,15,19],[14,14,14,16],[14,17,14,19],[14,20,14,22],[14,23,14,26],[14,30,14,31],[14,32,14,33],[15,20,15,22],[15,23,15,26],[15,30,15,31],[13,32,13,33],[13,36,13,37],[13,38,13,39],[12,36,12,37],[12,38,12,39],[13,14,13,16],[13,17,13,19],[12,14,12,16],[12,17,12,19],[12,20,12,22],[12,23,12,26],[12,30,12,31],[12,32,12,33],[13,20,13,22],[13,23,13,26],[13,30,13,31],[17,32,17,33],[17,36,17,37],[17,38,17,39],[16,36,16,37],[16,38,16,39],[17,14,17,16],[17,17,17,19],[16,14,16,16],[16,17,16,19],[16,20,16,22],[16,23,16,26],[16,30,16,31],[16,32,16,33],[17,20,17,22],[17,23,17,26],[17,30,17,31],[15,32,15,33],[15,36,15,37],[15,38,15,39],[20,30,20,31],[20,32,20,33],[21,20,21,22],[21,23,21,26],[21,30,21,31],[19,32,19,33],[19,36,19,37],[19,38,19,39],[18,36,18,37],[18,38,18,39],[19,14,19,16],[19,17,19,19],[18,14,18,16],[18,17,18,19],[18,20,18,22],[18,23,18,26],[18,30,18,31],[18,32,18,33],[19,20,19,22],[19,23,19,26],[19,30,19,31],[25,14,25,16],[25,17,25,19],[25,20,25,22],[25,23,25,26],[25,30,25,31],[25,32,25,33],[24,14,24,16],[24,17,24,19],[24,20,24,22],[24,23,24,26],[24,30,24,31],[24,32,24,33],[24,36,24,37],[24,38,24,39],[25,36,25,37],[25,38,25,39],[10,8,11,8],[10,14,11,16],[10,9,11,9],[10,10,11,10],[10,13,11,13],[21,32,21,33],[21,36,21,37],[21,38,21,39],[20,36,20,37],[20,38,20,39],[21,14,21,16],[21,17,21,19],[20,14,20,16],[20,17,20,19],[20,20,20,22],[20,23,20,26],[27,36,27,37],[27,38,27,39],[28,14,28,16],[28,17,28,19],[28,20,28,22],[28,23,28,26],[28,30,28,31],[28,32,28,33],[28,36,28,37],[28,38,28,39],[27,14,27,16],[27,17,27,19],[27,20,27,22],[27,23,27,26],[27,30,27,31],[27,32,27,33],[26,14,26,16],[26,17,26,19],[26,20,26,22],[26,23,26,26],[26,30,26,31],[26,32,26,33],[26,36,26,37],[26,38,26,39],[31,36,31,37],[31,38,31,39],[32,14,32,16],[32,17,32,19],[32,20,32,22],[32,23,32,26],[32,30,32,31],[32,32,32,33],[32,36,32,37],[32,38,32,39],[31,14,31,16],[31,17,31,19],[31,20,31,22],[31,23,31,26],[31,30,31,31],[31,32,31,33],[29,36,29,37],[29,38,29,39],[30,14,30,16],[30,17,30,19],[30,20,30,22],[30,23,30,26],[30,30,30,31],[30,32,30,33],[30,36,30,37],[30,38,30,39],[29,14,29,16],[29,17,29,19],[29,20,29,22],[29,23,29,26],[29,30,29,31],[29,32,29,33],[35,36,35,37],[35,38,35,39],[36,14,36,16],[36,17,36,19],[36,20,36,22],[36,23,36,26],[36,30,36,31],[36,32,36,33],[36,36,36,37],[36,38,36,39],[35,14,35,16],[35,17,35,19],[35,20,35,22],[35,23,35,26],[35,30,35,31],[35,32,35,33],[33,36,33,37],[33,38,33,39],[34,14,34,16],[34,17,34,19],[34,20,34,22],[34,23,34,26],[34,30,34,31],[34,32,34,33],[34,36,34,37],[34,38,34,39],[33,14,33,16],[33,17,33,19],[33,20,33,22],[33,23,33,26],[33,30,33,31],[33,32,33,33],[39,36,39,37],[39,38,39,39],[40,14,40,16],[40,17,40,19],[40,20,40,22],[40,23,40,26],[40,30,40,31],[40,32,40,33],[40,36,40,37],[40,38,40,39],[39,14,39,16],[39,17,39,19],[39,20,39,22],[39,23,39,26],[39,30,39,31],[39,32,39,33],[37,36,37,37],[37,38,37,39],[38,14,38,16],[38,17,38,19],[38,20,38,22],[38,23,38,26],[38,30,38,31],[38,32,38,33],[38,36,38,37],[38,38,38,39],[37,14,37,16],[37,17,37,19],[37,20,37,22],[37,23,37,26],[37,30,37,31],[37,32,37,33],[44,36,44,37],[44,38,44,39],[43,14,43,16],[43,17,43,19],[43,20,43,22],[43,23,43,26],[43,30,43,31],[43,32,43,33],[41,36,41,37],[41,38,41,39],[42,14,42,16],[42,17,42,19],[42,20,42,22],[42,23,42,26],[42,30,42,31],[42,32,42,33],[42,36,42,37],[42,38,42,39],[41,14,41,16],[41,17,41,19],[41,20,41,22],[41,23,41,26],[41,30,41,31],[41,32,41,33],[22,32,22,33],[22,36,22,37],[22,38,22,39],[23,14,23,16],[23,17,23,19],[23,20,23,22],[23,23,23,26],[23,30,23,31],[23,32,23,33],[23,36,23,37],[23,38,23,39],[22,14,22,16],[22,17,22,19],[22,20,22,22],[22,23,22,26],[22,30,22,31],[45,36,45,37],[45,38,45,39],[45,14,45,16],[45,17,45,19],[45,20,45,22],[45,23,45,26],[45,30,45,31],[45,32,45,33],[43,36,43,37],[43,38,43,39],[44,14,44,16],[44,17,44,19],[44,20,44,22],[44,23,44,26],[44,30,44,31],[44,32,44,33],[48,14,48,16],[48,17,48,19],[48,20,48,22],[48,23,48,26],[48,30,48,31],[48,32,48,33],[48,36,48,37],[48,38,48,39],[49,14,49,16],[49,17,49,19],[49,20,49,22],[49,23,49,26],[49,30,49,31],[49,32,49,33],[49,36,49,37],[49,38,49,39],[46,14,46,16],[46,17,46,19],[46,20,46,22],[46,23,46,26],[46,30,46,31],[46,32,46,33],[46,36,46,37],[46,38,46,39],[47,14,47,16],[47,17,47,19],[47,20,47,22],[47,23,47,26],[47,30,47,31],[47,32,47,33],[47,36,47,37],[47,38,47,39],[52,14,52,16],[52,17,52,19],[52,20,52,22],[52,23,52,26],[52,30,52,31],[52,32,52,33],[52,36,52,37],[52,38,52,39],[53,14,53,16],[53,17,53,19],[53,20,53,22],[53,23,53,26],[53,30,53,31],[53,32,53,33],[53,36,53,37],[53,38,53,39],[50,14,50,16],[50,17,50,19],[50,20,50,22],[50,23,50,26],[50,30,50,31],[50,32,50,33],[50,36,50,37],[50,38,50,39],[51,14,51,16],[51,17,51,19],[51,20,51,22],[51,23,51,26],[51,30,51,31],[51,32,51,33],[51,36,51,37],[51,38,51,39],[56,14,56,16],[56,17,56,19],[56,20,56,22],[56,23,56,26],[56,30,56,31],[56,32,56,33],[56,36,56,37],[56,38,56,39],[57,14,57,16],[57,17,57,19],[57,20,57,22],[57,23,57,26],[57,30,57,31],[57,32,57,33],[57,36,57,37],[57,38,57,39],[54,14,54,16],[54,17,54,19],[54,20,54,22],[54,23,54,26],[54,30,54,31],[54,32,54,33],[54,36,54,37],[54,38,54,39],[55,14,55,16],[55,17,55,19],[55,20,55,22],[55,23,55,26],[55,30,55,31],[55,32,55,33],[55,36,55,37],[55,38,55,39],[60,14,60,16],[60,17,60,19],[60,20,60,22],[60,23,60,26],[60,30,60,31],[60,32,60,33],[60,36,60,37],[60,38,60,39],[61,14,61,16],[61,17,61,19],[61,20,61,22],[61,23,61,26],[61,30,61,31],[61,32,61,33],[61,36,61,37],[61,38,61,39],[58,14,58,16],[58,17,58,19],[58,20,58,22],[58,23,58,26],[58,30,58,31],[58,32,58,33],[58,36,58,37],[58,38,58,39],[59,14,59,16],[59,17,59,19],[59,20,59,22],[59,23,59,26],[59,30,59,31],[59,32,59,33],[59,36,59,37],[59,38,59,39],[64,14,64,16],[64,17,64,19],[64,20,64,22],[64,23,64,26],[64,30,64,31],[64,32,64,33],[64,36,64,37],[64,38,64,39],[65,14,65,16],[65,17,65,19],[65,20,65,22],[65,23,65,26],[65,30,65,31],[65,32,65,33],[65,36,65,37],[65,38,65,39],[62,14,62,16],[62,17,62,19],[62,20,62,22],[62,23,62,26],[62,30,62,31],[62,32,62,33],[62,36,62,37],[62,38,62,39],[63,14,63,16],[63,17,63,19],[63,20,63,22],[63,23,63,26],[63,30,63,31],[63,32,63,33],[63,36,63,37],[63,38,63,39],[68,14,68,16],[68,17,68,19],[68,20,68,22],[68,23,68,26],[68,30,68,31],[68,32,68,33],[68,36,68,37],[68,38,68,39],[69,14,69,16],[69,17,69,19],[69,20,69,22],[69,23,69,26],[69,30,69,31],[69,32,69,33],[69,36,69,37],[69,38,69,39],[66,14,66,16],[66,17,66,19],[66,20,66,22],[66,23,66,26],[66,30,66,31],[66,32,66,33],[66,36,66,37],[66,38,66,39],[67,14,67,16],[67,17,67,19],[67,20,67,22],[67,23,67,26],[67,30,67,31],[67,32,67,33],[67,36,67,37],[67,38,67,39],[72,14,72,16],[72,17,72,19],[72,20,72,22],[72,23,72,26],[72,30,72,31],[72,32,72,33],[72,36,72,37],[72,38,72,39],[73,14,73,16],[73,17,73,19],[73,20,73,22],[73,23,73,26],[73,30,73,31],[73,32,73,33],[73,36,73,37],[73,38,73,39],[70,14,70,16],[70,17,70,19],[70,20,70,22],[70,23,70,26],[70,30,70,31],[70,32,70,33],[70,36,70,37],[70,38,70,39],[71,14,71,16],[71,17,71,19],[71,20,71,22],[71,23,71,26],[71,30,71,31],[71,32,71,33],[71,36,71,37],[71,38,71,39],[76,14,76,16],[76,17,76,19],[76,20,76,22],[76,23,76,26],[76,30,76,31],[76,32,76,33],[76,36,76,37],[76,38,76,39],[77,14,77,16],[77,17,77,19],[77,20,77,22],[77,23,77,26],[77,30,77,31],[77,32,77,33],[77,36,77,37],[77,38,77,39],[74,14,74,16],[74,17,74,19],[74,20,74,22],[74,23,74,26],[74,30,74,31],[74,32,74,33],[74,36,74,37],[74,38,74,39],[75,14,75,16],[75,17,75,19],[75,20,75,22],[75,23,75,26],[75,30,75,31],[75,32,75,33],[75,36,75,37],[75,38,75,39],[80,14,80,16],[80,17,80,19],[80,20,80,22],[80,23,80,26],[80,30,80,31],[80,32,80,33],[80,36,80,37],[80,38,80,39],[81,14,81,16],[81,17,81,19],[81,20,81,22],[81,23,81,26],[81,30,81,31],[81,32,81,33],[81,36,81,37],[81,38,81,39],[78,14,78,16],[78,17,78,19],[78,20,78,22],[78,23,78,26],[78,30,78,31],[78,32,78,33],[78,36,78,37],[78,38,78,39],[79,14,79,16],[79,17,79,19],[79,20,79,22],[79,23,79,26],[79,30,79,31],[79,32,79,33],[79,36,79,37],[79,38,79,39],[84,14,84,16],[84,17,84,19],[84,20,84,22],[84,23,84,26],[84,30,84,31],[84,32,84,33],[84,36,84,37],[84,38,84,39],[85,14,85,16],[85,17,85,19],[85,20,85,22],[85,23,85,26],[85,30,85,31],[85,32,85,33],[85,36,85,37],[85,38,85,39],[82,14,82,16],[82,17,82,19],[82,20,82,22],[82,23,82,26],[82,30,82,31],[82,32,82,33],[82,36,82,37],[82,38,82,39],[83,14,83,16],[83,17,83,19],[83,20,83,22],[83,23,83,26],[83,30,83,31],[83,32,83,33],[83,36,83,37],[83,38,83,39],[88,14,88,16],[88,17,88,19],[88,20,88,22],[88,23,88,26],[88,30,88,31],[88,32,88,33],[88,36,88,37],[88,38,88,39],[89,14,89,16],[89,17,89,19],[89,20,89,22],[89,23,89,26],[89,30,89,31],[89,32,89,33],[89,36,89,37],[89,38,89,39],[86,14,86,16],[86,17,86,19],[86,20,86,22],[86,23,86,26],[86,30,86,31],[86,32,86,33],[86,36,86,37],[86,38,86,39],[87,14,87,16],[87,17,87,19],[87,20,87,22],[87,23,87,26],[87,30,87,31],[87,32,87,33],[87,36,87,37],[87,38,87,39],[92,14,92,16],[92,17,92,19],[92,20,92,22],[92,23,92,26],[92,30,92,31],[92,32,92,33],[92,36,92,37],[92,38,92,39],[93,14,93,16],[93,17,93,19],[93,20,93,22],[93,23,93,26],[93,30,93,31],[93,32,93,33],[93,36,93,37],[93,38,93,39],[90,14,90,16],[90,17,90,19],[90,20,90,22],[90,23,90,26],[90,30,90,31],[90,32,90,33],[90,36,90,37],[90,38,90,39],[91,14,91,16],[91,17,91,19],[91,20,91,22],[91,23,91,26],[91,30,91,31],[91,32,91,33],[91,36,91,37],[91,38,91,39],[96,14,96,16],[96,17,96,19],[96,20,96,22],[96,23,96,26],[96,30,96,31],[96,32,96,33],[96,36,96,37],[96,38,96,39],[97,14,97,16],[97,17,97,19],[97,20,97,22],[97,23,97,26],[97,30,97,31],[97,32,97,33],[97,36,97,37],[97,38,97,39],[94,14,94,16],[94,17,94,19],[94,20,94,22],[94,23,94,26],[94,30,94,31],[94,32,94,33],[94,36,94,37],[94,38,94,39],[95,14,95,16],[95,17,95,19],[95,20,95,22],[95,23,95,26],[95,30,95,31],[95,32,95,33],[95,36,95,37],[95,38,95,39],[100,14,100,16],[100,17,100,19],[100,20,100,22],[100,23,100,26],[100,30,100,31],[100,32,100,33],[100,36,100,37],[100,38,100,39],[101,14,101,16],[101,17,101,19],[101,20,101,22],[101,23,101,26],[101,30,101,31],[101,32,101,33],[101,36,101,37],[101,38,101,39],[98,14,98,16],[98,17,98,19],[98,20,98,22],[98,23,98,26],[98,30,98,31],[98,32,98,33],[98,36,98,37],[98,38,98,39],[99,14,99,16],[99,17,99,19],[99,20,99,22],[99,23,99,26],[99,30,99,31],[99,32,99,33],[99,36,99,37],[99,38,99,39],[104,14,104,16],[104,17,104,19],[104,20,104,22],[104,23,104,26],[104,30,104,31],[104,32,104,33],[104,36,104,37],[104,38,104,39],[105,14,105,16],[105,17,105,19],[105,20,105,22],[105,23,105,26],[105,30,105,31],[105,32,105,33],[105,36,105,37],[105,38,105,39],[102,14,102,16],[102,17,102,19],[102,20,102,22],[102,23,102,26],[102,30,102,31],[102,32,102,33],[102,36,102,37],[102,38,102,39],[103,14,103,16],[103,17,103,19],[103,20,103,22],[103,23,103,26],[103,30,103,31],[103,32,103,33],[103,36,103,37],[103,38,103,39],[108,14,108,16],[108,17,108,19],[108,20,108,22],[108,23,108,26],[108,30,108,31],[108,32,108,33],[108,36,108,37],[108,38,108,39],[109,14,109,16],[109,17,109,19],[109,20,109,22],[109,23,109,26],[109,30,109,31],[109,32,109,33],[109,36,109,37],[109,38,109,39],[106,14,106,16],[106,17,106,19],[106,20,106,22],[106,23,106,26],[106,30,106,31],[106,32,106,33],[106,36,106,37],[106,38,106,39],[107,14,107,16],[107,17,107,19],[107,20,107,22],[107,23,107,26],[107,30,107,31],[107,32,107,33],[107,36,107,37],[107,38,107,39],[112,14,112,16],[112,17,112,19],[112,20,112,22],[112,23,112,26],[112,30,112,31],[112,32,112,33],[112,36,112,37],[112,38,112,39],[113,14,113,16],[113,17,113,19],[113,20,113,22],[113,23,113,26],[113,30,113,31],[113,32,113,33],[113,36,113,37],[113,38,113,39],[110,14,110,16],[110,17,110,19],[110,20,110,22],[110,23,110,26],[110,30,110,31],[110,32,110,33],[110,36,110,37],[110,38,110,39],[111,14,111,16],[111,17,111,19],[111,20,111,22],[111,23,111,26],[111,30,111,31],[111,32,111,33],[111,36,111,37],[111,38,111,39],[116,14,116,16],[116,17,116,19],[116,20,116,22],[116,23,116,26],[116,30,116,31],[116,32,116,33],[116,36,116,37],[116,38,116,39],[117,14,117,16],[117,17,117,19],[117,20,117,22],[117,23,117,26],[117,30,117,31],[117,32,117,33],[117,36,117,37],[117,38,117,39],[114,14,114,16],[114,17,114,19],[114,20,114,22],[114,23,114,26],[114,30,114,31],[114,32,114,33],[114,36,114,37],[114,38,114,39],[115,14,115,16],[115,17,115,19],[115,20,115,22],[115,23,115,26],[115,30,115,31],[115,32,115,33],[115,36,115,37],[115,38,115,39],[120,14,120,16],[120,17,120,19],[120,20,120,22],[120,23,120,26],[120,30,120,31],[120,32,120,33],[120,36,120,37],[120,38,120,39],[121,14,121,16],[121,17,121,19],[121,20,121,22],[121,23,121,26],[121,30,121,31],[121,32,121,33],[121,36,121,37],[121,38,121,39],[118,14,118,16],[118,17,118,19],[118,20,118,22],[118,23,118,26],[118,30,118,31],[118,32,118,33],[118,36,118,37],[118,38,118,39],[119,14,119,16],[119,17,119,19],[119,20,119,22],[119,23,119,26],[119,30,119,31],[119,32,119,33],[119,36,119,37],[119,38,119,39],[124,14,124,16],[124,17,124,19],[124,20,124,22],[124,23,124,26],[124,30,124,31],[124,32,124,33],[124,36,124,37],[124,38,124,39],[125,14,125,16],[125,17,125,19],[125,20,125,22],[125,23,125,26],[125,30,125,31],[125,32,125,33],[125,36,125,37],[125,38,125,39],[122,14,122,16],[122,17,122,19],[122,20,122,22],[122,23,122,26],[122,30,122,31],[122,32,122,33],[122,36,122,37],[122,38,122,39],[123,14,123,16],[123,17,123,19],[123,20,123,22],[123,23,123,26],[123,30,123,31],[123,32,123,33],[123,36,123,37],[123,38,123,39],[128,14,128,16],[128,17,128,19],[128,20,128,22],[128,23,128,26],[128,30,128,31],[128,32,128,33],[128,36,128,37],[128,38,128,39],[129,14,129,16],[129,17,129,19],[129,20,129,22],[129,23,129,26],[129,30,129,31],[129,32,129,33],[129,36,129,37],[129,38,129,39],[126,14,126,16],[126,17,126,19],[126,20,126,22],[126,23,126,26],[126,30,126,31],[126,32,126,33],[126,36,126,37],[126,38,126,39],[127,14,127,16],[127,17,127,19],[127,20,127,22]],"merged_total":4581,"flags":["merged_cut"]}
[]
[null,null,null,"PLANO DE ENSAIOS PARA BRINQUEDOS",null,null,null,null,null,null,null,null,null,null,null,null,null,null,null,null,null,null,null,null,null,null,null,null,null,null,null,null,null,null,null,"FOR.024"]
[null,null,null,null,null,null,null,null,null,null,null,null,null,null,null,null,null,null,null,null,null,null,null,null,null,null,null,null,null,null,null,null,null,null,null,"Rev.07",null,null,"2026-02-11"]
[null,"IDENTIFICAÇÃO DO PROCESSO"]
[null,"Razão Social: (Solicitante)",null,{"$f":"SOLICITAÇÃO!C9","v":"-"},null,null,null,null,"CNPJ:",null,null,null,null,{"$f":"SOLICITAÇÃO!C11","v":"-"},null,null,null,null,"Endereço:",null,null,null,null,null,{"$f":"CONCATENATE(SOLICITAÇÃO!C12,\" - \",SOLICITAÇÃO!C13,\" - \",SOLICITAÇÃO!C15,\" - \",SOLICITAÇÃO!C16)","v":"- - - - - - -"},null,null,null,null,null,null,null,null,null,null,"Cep:",null,{"$f":"SOLICITAÇÃO!C14","v":"-"}]
[null,"Fabricante:",null,{"$f":"SOLICITAÇÃO!C27","v":"-"},null,null,null,null,"E-mail: (Solicitante)",null,null,null,null,{"$f":"SOLICITAÇÃO!C17","v":"-"},null,null,null,null,"Processo: (evento)"]
[null,"Portaria:",null,"Portaria n° 302, de 12 de julho de 2021 - Regulamento Técnico da Qualidade e os Requisitos de Avaliação da Conformidade para Brinquedos – Consolidado",null,null,null,null,null,null,null,null,null,null,null,null,null,null,"Tipo de amostra:",null,null,null,null,null,"Escolher um item."]
[null,"Tipo de amostragem:",null,"Escolher um item.",null,null,null,null,"Modelo de Certificação:",null,null,null,null,{"$f":"SOLICITAÇÃO!C5","v":"-"},null,null,null,null,"Técnico Responsável:      ",null,null,null,null,null,null,null,null,null,null,null,null,null,null,null,"Data:"]
[null,"Tabela 1 - Fragmentação das amostras para ensaios de prova"]
[null,"Identificação     (Identification)",null,null,null,null,null,null,null,null,null,"Subcategoria","Rastreabilidade","Quantidade","Ensaios para todos os tipos de brinquedos",null,null,null,null,null,"Ensaios que dependem do tipo de brinquedo \n(Tests that depend on the type of toy)"]
[null,"Família","Código de barras","Modelo (Referência\nComercial)\ne\n Nome Comercial","Foto do produto","Material","Mecanismo de funcionamento (manual ou elétrico)","Processo de fabricação","Marca","Faixa etária restritiva","Faixa etária indicativa","Subcategoria (conforme ISO/TR 8124-8)","Rastreabilidade da amostra:","Quantidade total de amostras para ensaio ","Inspeções Visuais e Propriedades Gerais Mecânicas e Físicas \n(Norma ABNT NBR NM 300-1) / Laser (quando houver) (Norma IEC 60825-1:2014) \n",null,null,"Migração de certo elementos (Norma ABNT NBR NM 300 – 3)",null,null,"Inflamabilidade (Norma ABNT NBR NM 300-2)",null,null,"Jogos Químicos e Experimentos (Norma ABNT NBR NM 300-4 e 5) e Jogos químicos distintos de jogos de experimentos (Norma ABNT NBR NM 300 -4 e 5)",null,null,null,"Elétrico (Norma ABNT NBR NM 300-6)","Ftalato  (Norma ABNT NBR 16040, Portaria INMETRO Nº 302:2021 - Anexo A)","Formamida (Anexo A - Item 6 - Portaria INMETRO Nº 302:2021 )","Limites Microbiológicos (Portaria INMETRO Nº 302:2021 - Anexo A/ Pharmacopea USP nº28/2005, ou equivalente/ANVISA nº481:1999 ou substitutivas)",null,"Toxicológicos - Irritabilidade Dérmica (Portaria INMETRO Nº 302:2021 - Anexo A)",null,"Toxicológicos  Irritabilidade Ocular Primária (Portaria INMETRO Nº 302:2021 - Anexo A)","Toxicológicos \nToxidez Oral Aguda (Portaria INMETRO Nº 302:2021, Anexo A)","Mordida (Portaria INMETRO Nº 302:2021, Anexo A /Metodologia baseada na norma ABNT NBR 13793:2012 - Segurança de mamadeiras e bicos de mamadeira)",null,"Fervura (Portaria INMETRO Nº 302:2021, Anexo A /Metodologia baseada na norma ABNT NBR 13793:2012 - Segurança de mamadeiras e bicos de mamadeira)"]
[]
[null,{"$f":"IFERROR(INDEX('MEMORIAL DESCRITIVO-BRI'!B:B,SMALL(IF('MEMORIAL DESCRITIVO-BRI'!$E$2:$E$4000=\"Sim\",ROW('MEMORIAL DESCRITIVO-BRI'!$B$2:$B$4000)),ROW(B1))), \"\")","v":""},{"$f":"IFERROR(INDEX('MEMORIAL DESCRITIVO-BRI'!I:I,SMALL(IF('MEMORIAL DESCRITIVO-BRI'!$E$2:$E$4000=\"Sim\",ROW('MEMORIAL DESCRITIVO-BRI'!$I$2:$I$4000)),ROW(B1))), \"\")","v":""},{"$f":"IFERROR(INDEX('MEMORIAL DESCRITIVO-BRI'!F:F,SMALL(IF('MEMORIAL DESCRITIVO-BRI'!$E$2:$E$4000=\"Sim\",ROW('MEMORIAL DESCRITIVO-BRI'!$F$2:$F$4000)),ROW(B1))) & \" - \" & INDEX('MEMORIAL DESCRITIVO-BRI'!H:H,SMALL(IF('MEMORIAL DESCRITIVO-BRI'!$E$2:$E$4000=\"Sim\",ROW('MEMORIAL DESCRITIVO-BRI'!$H$2:$H$4000)),ROW(B1))), \"\")","v":""},null,{"$f":"IFERROR(INDEX('MEMORIAL DESCRITIVO-BRI'!S:S,SMALL(IF('MEMORIAL DESCRITIVO-BRI'!$E$2:$E$4000=\"Sim\",ROW('MEMORIAL DESCRITIVO-BRI'!$S$2:$S$4000)),ROW(B1))), \"\")","v":""},{"$f":"IFERROR(INDEX('MEMORIAL DESCRITIVO-BRI'!Z:Z,SMALL(IF('MEMORIAL DESCRITIVO-BRI'!$E$2:$E$4000=\"Sim\",ROW('MEMORIAL DESCRITIVO-BRI'!$Z$2:$Z$4000)),ROW(B1))), \"\")","v":""},{"$f":"IFERROR(INDEX('MEMORIAL DESCRITIVO-BRI'!W:W,SMALL(IF('MEMORIAL DESCRITIVO-BRI'!$E$2:$E$4000=\"Sim\",ROW('MEMORIAL DESCRITIVO-BRI'!$W$2:$W$4000)),ROW(B1))), \"\")","v":""},{"$f":"IFERROR(INDEX('MEMORIAL DESCRITIVO-BRI'!G:G,SMALL(IF('MEMORIAL DESCRITIVO-BRI'!$E$2:$E$4000=\"Sim\",ROW('MEMORIAL DESCRITIVO-BRI'!$G$2:$G$4000)),ROW(B1))), \"\")","v":""},{"$f":"IFERROR(INDEX('MEMORIAL DESCRITIVO-BRI'!P:P,SMALL(IF('MEMORIAL DESCRITIVO-BRI'!$E$2:$E$4000=\"Sim\",ROW('MEMORIAL DESCRITIVO-BRI'!$P$2:$P$4000)),ROW(B1))), \"\")","v":""},{"$f":"IFERROR(INDEX('MEMORIAL DESCRITIVO-BRI'!Q:Q,SMALL(IF('MEMORIAL DESCRITIVO-BRI'!$E$2:$E$4000=\"Sim\",ROW('MEMORIAL DESCRITIVO-BRI'!$Q$2:$Q$4000)),ROW(B1))), \"\")","v":""}]
[null,{"$f":"IFERROR(INDEX('MEMORIAL DESCRITIVO-BRI'!B:B,SMALL(IF('MEMORIAL DESCRITIVO-BRI'!$E$2:$E$4000=\"Sim\",ROW('MEMORIAL DESCRITIVO-BRI'!$B$2:$B$4000)),ROW(D2))), \"\")","v":""},{"$f":"IFERROR(INDEX('MEMORIAL DESCRITIVO-BRI'!I:I,SMALL(IF('MEMORIAL DESCRITIVO-BRI'!$E$2:$E$4000=\"Sim\",ROW('MEMORIAL DESCRITIVO-BRI'!$I$2:$I$4000)),ROW(D2))), \"\")","v":""},{"$f":"IFERROR(INDEX('MEMORIAL DESCRITIVO-BRI'!F:F,SMALL(IF('MEMORIAL DESCRITIVO-BRI'!$E$2:$E$4000=\"Sim\",ROW('MEMORIAL DESCRITIVO-BRI'!$F$2:$F$4000)),ROW(D2))) & \" - \" & INDEX('MEMORIAL DESCRITIVO-BRI'!H:H,SMALL(IF('MEMORIAL DESCRITIVO-BRI'!$E$2:$E$4000=\"Sim\",ROW('MEMORIAL DESCRITIVO-BRI'!$H$2:$H$4000)),ROW(D2))), \"\")","v":""},null,{"$f":"IFERROR(INDEX('MEMORIAL DESCRITIVO-BRI'!S:S,SMALL(IF('MEMORIAL DESCRITIVO-BRI'!$E$2:$E$4000=\"Sim\",ROW('MEMORIAL DESCRITIVO-BRI'!$S$2:$S$4000)),ROW(D2))), \"\")","v":""},{"$f":"IFERROR(INDEX('MEMORIAL DESCRITIVO-BRI'!Z:Z,SMALL(IF('MEMORIAL DESCRITIVO-BRI'!$E$2:$E$4000=\"Sim\",ROW('MEMORIAL DESCRITIVO-BRI'!$Z$2:$Z$4000)),ROW(D2))), \"\")","v":""},{"$f":"IFERROR(INDEX('MEMORIAL DESCRITIVO-BRI'!W:W,SMALL(IF('MEMORIAL DESCRITIVO-BRI'!$E$2:$E$4000=\"Sim\",ROW('MEMORIAL DESCRITIVO-BRI'!$W$2:$W$4000)),ROW(D2))), \"\")","v":""},{"$f":"IFERROR(INDEX('MEMORIAL DESCRITIVO-BRI'!G:G,SMALL(IF('MEMORIAL DESCRITIVO-BRI'!$E$2:$E$4000=\"Sim\",ROW('MEMORIAL DESCRITIVO-BRI'!$G$2:$G$4000)),ROW(D2))), \"\")","v":""},{"$f":"IFERROR(INDEX('MEMORIAL DESCRITIVO-BRI'!P:P,SMALL(IF('MEMORIAL DESCRITIVO-BRI'!$E$2:$E$4000=\"Sim\",ROW('MEMORIAL DESCRITIVO-BRI'!$P$2:$P$4000)),ROW(D2))), \"\")","v":""},{"$f":"IFERROR(INDEX('MEMORIAL DESCRITIVO-BRI'!Q:Q,SMALL(IF('MEMORIAL DESCRITIVO-BRI'!$E$2:$E$4000=\"Sim\",ROW('MEMORIAL DESCRITIVO-BRI'!$Q$2:$Q$4000)),ROW(D2))), \"\")","v":""}]
[null,{"$f":"IFERROR(INDEX('MEMORIAL DESCRITIVO-BRI'!B:B,SMALL(IF('MEMORIAL DESCRITIVO-BRI'!$E$2:$E$4000=\"Sim\",ROW('MEMORIAL DESCRITIVO-BRI'!$B$2:$B$4000)),ROW(B3))), \"\")","v":""},{"$f":"IFERROR(INDEX('MEMORIAL DESCRITIVO-BRI'!I:I,SMALL(IF('MEMORIAL DESCRITIVO-BRI'!$E$2:$E$4000=\"Sim\",ROW('MEMORIAL DESCRITIVO-BRI'!$I$2:$I$4000)),ROW(B3))), \"\")","v":""},{"$f":"IFERROR(INDEX('MEMORIAL DESCRITIVO-BRI'!F:F,SMALL(IF('MEMORIAL DESCRITIVO-BRI'!$E$2:$E$4000=\"Sim\",ROW('MEMORIAL DESCRITIVO-BRI'!$F$2:$F$4000)),ROW(B3))) & \" - \" & INDEX('MEMORIAL DESCRITIVO-BRI'!H:H,SMALL(IF('MEMORIAL DESCRITIVO-BRI'!$E$2:$E$4000=\"Sim\",ROW('MEMORIAL DESCRITIVO-BRI'!$H$2:$H$4000)),ROW(B3))), \"\")","v":""},null,{"$f":"IFERROR(INDEX('MEMORIAL DESCRITIVO-BRI'!S:S,SMALL(IF('MEMORIAL DESCRITIVO-BRI'!$E$2:$E$4000=\"Sim\",ROW('MEMORIAL DESCRITIVO-BRI'!$S$2:$S$4000)),ROW(B3))), \"\")","v":""},{"$f":"IFERROR(INDEX('MEMORIAL DESCRITIVO-BRI'!Z:Z,SMALL(IF('MEMORIAL DESCRITIVO-BRI'!$E$2:$E$4000=\"Sim\",ROW('MEMORIAL DESCRITIVO-BRI'!$Z$2:$Z$4000)),ROW(B3))), \"\")","v":""},{"$f":"IFERROR(INDEX('MEMORIAL DESCRITIVO-BRI'!W:W,SMALL(IF('MEMORIAL DESCRITIVO-BRI'!$E$2:$E$4000=\"Sim\",ROW('MEMORIAL DESCRITIVO-BRI'!$W$2:$W$4000)),ROW(B3))), \"\")","v":""},{"$f":"IFERROR(INDEX('MEMORIAL DESCRITIVO-BRI'!G:G,SMALL(IF('MEMORIAL DESCRITIVO-BRI'!$E$2:$E$4000=\"Sim\",ROW('MEMORIAL DESCRITIVO-BRI'!$G$2:$G$4000)),ROW(B3))), \"\")","v":""},{"$f":"IFERROR(INDEX('MEMORIAL DESCRITIVO-BRI'!P:P,SMALL(IF('MEMORIAL DESCRITIVO-BRI'!$E$2:$E$4000=\"Sim\",ROW('MEMORIAL DESCRITIVO-BRI'!$P$2:$P$4000)),ROW(B3))), \"\")","v":""},{"$f":"IFERROR(INDEX('MEMORIAL DESCRITIVO-BRI'!Q:Q,SMALL(IF('MEMORIAL DESCRITIVO-BRI'!$E$2:$E$4000=\"Sim\",ROW('MEMORIAL DESCRITIVO-BRI'!$Q$2:$Q$4000)),ROW(B3))), \"\")","v":""}]
[null,{"$f":"IFERROR(INDEX('MEMORIAL DESCRITIVO-BRI'!B:B,SMALL(IF('MEMORIAL DESCRITIVO-BRI'!$E$2:$E$4000=\"Sim\",ROW('MEMORIAL DESCRITIVO-BRI'!$B$2:$B$4000)),ROW(B4))), \"\")","v":""},{"$f":"IFERROR(INDEX('MEMORIAL DESCRITIVO-BRI'!I:I,SMALL(IF('MEMORIAL DESCRITIVO-BRI'!$E$2:$E$4000=\"Sim\",ROW('MEMORIAL DESCRITIVO-BRI'!$I$2:$I$4000)),ROW(B4))), \"\")","v":""},{"$f":"IFERROR(INDEX('MEMORIAL DESCRITIVO-BRI'!F:F,SMALL(IF('MEMORIAL DESCRITIVO-BRI'!$E$2:$E$4000=\"Sim\",ROW('MEMORIAL DESCRITIVO-BRI'!$F$2:$F$4000)),ROW(B4))) & \" - \" & INDEX('MEMORIAL DESCRITIVO-BRI'!H:H,SMALL(IF('MEMORIAL DESCRITIVO-BRI'!$E$2:$E$4000=\"Sim\",ROW('MEMORIAL DESCRITIVO-BRI'!$H$2:$H$4000)),ROW(B4))), \"\")","v":""},null,{"$f":"IFERROR(INDEX('MEMORIAL DESCRITIVO-BRI'!S:S,SMALL(IF('MEMORIAL DESCRITIVO-BRI'!$E$2:$E$4000=\"Sim\",ROW('MEMORIAL DESCRITIVO-BRI'!$S$2:$S$4000)),ROW(B4))), \"\")","v":""},{"$f":"IFERROR(INDEX('MEMORIAL DESCRITIVO-BRI'!Z:Z,SMALL(IF('MEMORIAL DESCRITIVO-BRI'!$E$2:$E$4000=\"Sim\",ROW('MEMORIAL DESCRITIVO-BRI'!$Z$2:$Z$4000)),ROW(B4))), \"\")","v":""},{"$f":"IFERROR(INDEX('MEMORIAL DESCRITIVO-BRI'!W:W,SMALL(IF('MEMORIAL DESCRITIVO-BRI'!$E$2:$E$4000=\"Sim\",ROW('MEMORIAL DESCRITIVO-BRI'!$W$2:$W$4000)),ROW(B4))), \"\")","v":""},{"$f":"IFERROR(INDEX('MEMORIAL DESCRITIVO-BRI'!G:G,SMALL(IF('MEMORIAL DESCRITIVO-BRI'!$E$2:$E$4000=\"Sim\",ROW('MEMORIAL DESCRITIVO-BRI'!$G$2:$G$4000)),ROW(B4))), \"\")","v":""},{"$f":"IFERROR(INDEX('MEMORIAL DESCRITIVO-BRI'!P:P,SMALL(IF('MEMORIAL DESCRITIVO-BRI'!$E$2:$E$4000=\"Sim\",ROW('MEMORIAL DESCRITIVO-BRI'!$P$2:$P$4000)),ROW(B4))), \"\")","v":""},{"$f":"IFERROR(INDEX('MEMORIAL DESCRITIVO-BRI'!Q:Q,SMALL(IF('MEMORIAL DESCRITIVO-BRI'!$E$2:$E$4000=\"Sim\",ROW('MEMORIAL DESCRITIVO-BRI'!$Q$2:$Q$4000)),ROW(B4))), \"\")","v":""}]
[null,{"$f":"IFERROR(INDEX('MEMORIAL DESCRITIVO-BRI'!B:B,SMALL(IF('MEMORIAL DESCRITIVO-BRI'!$E$2:$E$4000=\"Sim\",ROW('MEMORIAL DESCRITIVO-BRI'!$B$2:$B$4000)),ROW(B5))), \"\")","v":""},{"$f":"IFERROR(INDEX('MEMORIAL DESCRITIVO-BRI'!I:I,SMALL(IF('MEMORIAL DESCRITIVO-BRI'!$E$2:$E$4000=\"Sim\",ROW('MEMORIAL DESCRITIVO-BRI'!$I$2:$I$4000)),ROW(B5))), \"\")","v":""},{"$f":"IFERROR(INDEX('MEMORIAL DESCRITIVO-BRI'!F:F,SMALL(IF('MEMORIAL DESCRITIVO-BRI'!$E$2:$E$4000=\"Sim\",ROW('MEMORIAL DESCRITIVO-BRI'!$F$2:$F$4000)),ROW(B5))) & \" - \" & INDEX('MEMORIAL DESCRITIVO-BRI'!H:H,SMALL(IF('MEMORIAL DESCRITIVO-BRI'!$E$2:$E$4000=\"Sim\",ROW('MEMORIAL DESCRITIVO-BRI'!$H$2:$H$4000)),ROW(B5))), \"\")","v":""},null,{"$f":"IFERROR(INDEX('MEMORIAL DESCRITIVO-BRI'!S:S,SMALL(IF('MEMORIAL DESCRITIVO-BRI'!$E$2:$E$4000=\"Sim\",ROW('MEMORIAL DESCRITIVO-BRI'!$S$2:$S$4000)),ROW(B5))), \"\")","v":""},{"$f":"IFERROR(INDEX('MEMORIAL DESCRITIVO-BRI'!Z:Z,SMALL(IF('MEMORIAL DESCRITIVO-BRI'!$E$2:$E$4000=\"Sim\",ROW('MEMORIAL DESCRITIVO-BRI'!$Z$2:$Z$4000)),ROW(B5))), \"\")","v":""},{"$f":"IFERROR(INDEX('MEMORIAL DESCRITIVO-BRI'!W:W,SMALL(IF('MEMORIAL DESCRITIVO-BRI'!$E$2:$E$4000=\"Sim\",ROW('MEMORIAL DESCRITIVO-BRI'!$W$2:$W$4000)),ROW(B5))), \"\")","v":""},{"$f":"IFERROR(INDEX('MEMORIAL DESCRITIVO-BRI'!G:G,SMALL(IF('MEMORIAL DESCRITIVO-BRI'!$E$2:$E$4000=\"Sim\",ROW('MEMORIAL DESCRITIVO-BRI'!$G$2:$G$4000)),ROW(B5))), \"\")","v":""},{"$f":"IFERROR(INDEX('MEMORIAL DESCRITIVO-BRI'!P:P,SMALL(IF('MEMORIAL DESCRITIVO-BRI'!$E$2:$E$4000=\"Sim\",ROW('MEMORIAL DESCRITIVO-BRI'!$P$2:$P$4000)),ROW(B5))), \"\")","v":""},{"$f":"IFERROR(INDEX('MEMORIAL DESCRITIVO-BRI'!Q:Q,SMALL(IF('MEMORIAL DESCRITIVO-BRI'!$E$2:$E$4000=\"Sim\",ROW('MEMORIAL DESCRITIVO-BRI'!$Q$2:$Q$4000)),ROW(B5))), \"\")","v":""}]
[null,{"$f":"IFERROR(INDEX('MEMORIAL DESCRITIVO-BRI'!B:B,SMALL(IF('MEMORIAL DESCRITIVO-BRI'!$E$2:$E$4000=\"Sim\",ROW('MEMORIAL DESCRITIVO-BRI'!$B$2:$B$4000)),ROW(B6))), \"\")","v":""},{"$f":"IFERROR(INDEX('MEMORIAL DESCRITIVO-BRI'!I:I,SMALL(IF('MEMORIAL DESCRITIVO-BRI'!$E$2:$E$4000=\"Sim\",ROW('MEMORIAL DESCRITIVO-BRI'!$I$2:$I$4000)),ROW(B6))), \"\")","v":""},{"$f":"IFERROR(INDEX('MEMORIAL DESCRITIVO-BRI'!F:F,SMALL(IF('MEMORIAL DESCRITIVO-BRI'!$E$2:$E$4000=\"Sim\",ROW('MEMORIAL DESCRITIVO-BRI'!$F$2:$F$4000)),ROW(B6))) & \" - \" & INDEX('MEMORIAL DESCRITIVO-BRI'!H:H,SMALL(IF('MEMORIAL DESCRITIVO-BRI'!$E$2:$E$4000=\"Sim\",ROW('MEMORIAL DESCRITIVO-BRI'!$H$2:$H$4000)),ROW(B6))), \"\")","v":""},null,{"$f":"IFERROR(INDEX('MEMORIAL DESCRITIVO-BRI'!S:S,SMALL(IF('MEMORIAL DESCRITIVO-BRI'!$E$2:$E$4000=\"Sim\",ROW('MEMORIAL DESCRITIVO-BRI'!$S$2:$S$4000)),ROW(B6))), \"\")","v":""},{"$f":"IFERROR(INDEX('MEMORIAL DESCRITIVO-BRI'!Z:Z,SMALL(IF('MEMORIAL DESCRITIVO-BRI'!$E$2:$E$4000=\"Sim\",ROW('MEMORIAL DESCRITIVO-BRI'!$Z$2:$Z$4000)),ROW(B6))), \"\")","v":""},{"$f":"IFERROR(INDEX('MEMORIAL DESCRITIVO-BRI'!W:W,SMALL(IF('MEMORIAL DESCRITIVO-BRI'!$E$2:$E$4000=\"Sim\",ROW('MEMORIAL DESCRITIVO-BRI'!$W$2:$W$4000)),ROW(B6))), \"\")","v":""},{"$f":"IFERROR(INDEX('MEMORIAL DESCRITIVO-BRI'!G:G,SMALL(IF('MEMORIAL DESCRITIVO-BRI'!$E$2:$E$4000=\"Sim\",ROW('MEMORIAL DESCRITIVO-BRI'!$G$2:$G$4000)),ROW(B6))), \"\")","v":""},{"$f":"IFERROR(INDEX('MEMORIAL DESCRITIVO-BRI'!P:P,SMALL(IF('MEMORIAL DESCRITIVO-BRI'!$E$2:$E$4000=\"Sim\",ROW('MEMORIAL DESCRITIVO-BRI'!$P$2:$P$4000)),ROW(B6))), \"\")","v":""},{"$f":"IFERROR(INDEX('MEMORIAL DESCRITIVO-BRI'!Q:Q,SMALL(IF('MEMORIAL DESCRITIVO-BRI'!$E$2:$E$4000=\"Sim\",ROW('MEMORIAL DESCRITIVO-BRI'!$Q$2:$Q$4000)),ROW(B6))), \"\")","v":""}]
[null,{"$f":"IFERROR(INDEX('MEMORIAL DESCRITIVO-BRI'!B:B,SMALL(IF('MEMORIAL DESCRITIVO-BRI'!$E$2:$E$4000=\"Sim\",ROW('MEMORIAL DESCRITIVO-BRI'!$B$2:$B$4000)),ROW(B7))), \"\")","v":""},{"$f":"IFERROR(INDEX('MEMORIAL DESCRITIVO-BRI'!I:I,SMALL(IF('MEMORIAL DESCRITIVO-BRI'!$E$2:$E$4000=\"Sim\",ROW('MEMORIAL DESCRITIVO-BRI'!$I$2:$I$4000)),ROW(B7))), \"\")","v":""},{"$f":"IFERROR(INDEX('MEMORIAL DESCRITIVO-BRI'!F:F,SMALL(IF('MEMORIAL DESCRITIVO-BRI'!$E$2:$E$4000=\"Sim\",ROW('MEMORIAL DESCRITIVO-BRI'!$F$2:$F$4000)),ROW(B7))) & \" - \" & INDEX('MEMORIAL DESCRITIVO-BRI'!H:H,SMALL(IF('MEMORIAL DESCRITIVO-BRI'!$E$2:$E$4000=\"Sim\",ROW('MEMORIAL DESCRITIVO-BRI'!$H$2:$H$4000)),ROW(B7))), \"\")","v":""},null,{"$f":"IFERROR(INDEX('MEMORIAL DESCRITIVO-BRI'!S:S,SMALL(IF('MEMORIAL DESCRITIVO-BRI'!$E$2:$E$4000=\"Sim\",ROW('MEMORIAL DESCRITIVO-BRI'!$S$2:$S$4000)),ROW(B7))), \"\")","v":""},{"$f":"IFERROR(INDEX('MEMORIAL DESCRITIVO-BRI'!Z:Z,SMALL(IF('MEMORIAL DESCRITIVO-BRI'!$E$2:$E$4000=\"Sim\",ROW('MEMORIAL DESCRITIVO-BRI'!$Z$2:$Z$4000)),ROW(B7))), \"\")","v":""},{"$f":"IFERROR(INDEX('MEMORIAL DESCRITIVO-BRI'!W:W,SMALL(IF('MEMORIAL DESCRITIVO-BRI'!$E$2:$E$4000=\"Sim\",ROW('MEMORIAL DESCRITIVO-BRI'!$W$2:$W$4000)),ROW(B7))), \"\")","v":""},{"$f":"IFERROR(INDEX('MEMORIAL DESCRITIVO-BRI'!G:G,SMALL(IF('MEMORIAL DESCRITIVO-BRI'!$E$2:$E$4000=\"Sim\",ROW('MEMORIAL DESCRITIVO-BRI'!$G$2:$G$4000)),ROW(B7))), \"\")","v":""},{"$f":"IFERROR(INDEX('MEMORIAL DESCRITIVO-BRI'!P:P,SMALL(IF('MEMORIAL DESCRITIVO-BRI'!$E$2:$E$4000=\"Sim\",ROW('MEMORIAL DESCRITIVO-BRI'!$P$2:$P$4000)),ROW(B7))), \"\")","v":""},{"$f":"IFERROR(INDEX('MEMORIAL DESCRITIVO-BRI'!Q:Q,SMALL(IF('MEMORIAL DESCRITIVO-BRI'!$E$2:$E$4000=\"Sim\",ROW('MEMORIAL DESCRITIVO-BRI'!$Q$2:$Q$4000)),ROW(B7))), \"\")","v":""}]
[null,{"$f":"IFERROR(INDEX('MEMORIAL DESCRITIVO-BRI'!B:B,SMALL(IF('MEMORIAL DESCRITIVO-BRI'!$E$2:$E$4000=\"Sim\",ROW('MEMORIAL DESCRITIVO-BRI'!$B$2:$B$4000)),ROW(B8))), \"\")","v":""},{"$f":"IFERROR(INDEX('MEMORIAL DESCRITIVO-BRI'!I:I,SMALL(IF('MEMORIAL DESCRITIVO-BRI'!$E$2:$E$4000=\"Sim\",ROW('MEMORIAL DESCRITIVO-BRI'!$I$2:$I$4000)),ROW(B8))), \"\")","v":""},{"$f":"IFERROR(INDEX('MEMORIAL DESCRITIVO-BRI'!F:F,SMALL(IF('MEMORIAL DESCRITIVO-BRI'!$E$2:$E$4000=\"Sim\",ROW('MEMORIAL DESCRITIVO-BRI'!$F$2:$F$4000)),ROW(B8))) & \" - \" & INDEX('MEMORIAL DESCRITIVO-BRI'!H:H,SMALL(IF('MEMORIAL DESCRITIVO-BRI'!$E$2:$E$4000=\"Sim\",ROW('MEMORIAL DESCRITIVO-BRI'!$H$2:$H$4000)),ROW(B8))), \"\")","v":""},null,{"$f":"IFERROR(INDEX('MEMORIAL DESCRITIVO-BRI'!S:S,SMALL(IF('MEMORIAL DESCRITIVO-BRI'!$E$2:$E$4000=\"Sim\",ROW('MEMORIAL DESCRITIVO-BRI'!$S$2:$S$4000)),ROW(B8))), \"\")","v":""},{"$f":"IFERROR(INDEX('MEMORIAL DESCRITIVO-BRI'!Z:Z,SMALL(IF('MEMORIAL DESCRITIVO-BRI'!$E$2:$E$4000=\"Sim\",ROW('MEMORIAL DESCRITIVO-BRI'!$Z$2:$Z$4000)),ROW(B8))), \"\")","v":""},{"$f":"IFERROR(INDEX('MEMORIAL DESCRITIVO-BRI'!W:W,SMALL(IF('MEMORIAL DESCRITIVO-BRI'!$E$2:$E$4000=\"Sim\",ROW('MEMORIAL DESCRITIVO-BRI'!$W$2:$W$4000)),ROW(B8))), \"\")","v":""},{"$f":"IFERROR(INDEX('MEMORIAL DESCRITIVO-BRI'!G:G,SMALL(IF('MEMORIAL DESCRITIVO-BRI'!$E$2:$E$4000=\"Sim\",ROW('MEMORIAL DESCRITIVO-BRI'!$G$2:$G$4000)),ROW(B8))), \"\")","v":""},{"$f":"IFERROR(INDEX('MEMORIAL DESCRITIVO-BRI'!P:P,SMALL(IF('MEMORIAL DESCRITIVO-BRI'!$E$2:$E$4000=\"Sim\",ROW('MEMORIAL DESCRITIVO-BRI'!$P$2:$P$4000)),ROW(B8))), \"\")","v":""},{"$f":"IFERROR(INDEX('MEMORIAL DESCRITIVO-BRI'!Q:Q,SMALL(IF('MEMORIAL DESCRITIVO-BRI'!$E$2:$E$4000=\"Sim\",ROW('MEMORIAL DESCRITIVO-BRI'!$Q$2:$Q$4000)),ROW(B8))), \"\")","v":""}]
[null,{"$f":"IFERROR(INDEX('MEMORIAL DESCRITIVO-BRI'!B:B,SMALL(IF('MEMORIAL DESCRITIVO-BRI'!$E$2:$E$4000=\"Sim\",ROW('MEMORIAL DESCRITIVO-BRI'!$B$2:$B$4000)),ROW(B9))), \"\")","v":""},{"$f":"IFERROR(INDEX('MEMORIAL DESCRITIVO-BRI'!I:I,SMALL(IF('MEMORIAL DESCRITIVO-BRI'!$E$2:$E$4000=\"Sim\",ROW('MEMORIAL DESCRITIVO-BRI'!$I$2:$I$4000)),ROW(B9))), \"\")","v":""},{"$f":"IFERROR(INDEX('MEMORIAL DESCRITIVO-BRI'!F:F,SMALL(IF('MEMORIAL DESCRITIVO-BRI'!$E$2:$E$4000=\"Sim\",ROW('MEMORIAL DESCRITIVO-BRI'!$F$2:$F$4000)),ROW(B9))) & \" - \" & INDEX('MEMORIAL DESCRITIVO-BRI'!H:H,SMALL(IF('MEMORIAL DESCRITIVO-BRI'!$E$2:$E$4000=\"Sim\",ROW('MEMORIAL DESCRITIVO-BRI'!$H$2:$H$4000)),ROW(B9))), \"\")","v":""},null,{"$f":"IFERROR(INDEX('MEMORIAL DESCRITIVO-BRI'!S:S,SMALL(IF('MEMORIAL DESCRITIVO-BRI'!$E$2:$E$4000=\"Sim\",ROW('MEMORIAL DESCRITIVO-BRI'!$S$2:$S$4000)),ROW(B9))), \"\")","v":""},{"$f":"IFERROR(INDEX('MEMORIAL DESCRITIVO-BRI'!Z:Z,SMALL(IF('MEMORIAL DESCRITIVO-BRI'!$E$2:$E$4000=\"Sim\",ROW('MEMORIAL DESCRITIVO-BRI'!$Z$2:$Z$4000)),ROW(B9))), \"\")","v":""},{"$f":"IFERROR(INDEX('MEMORIAL DESCRITIVO-BRI'!W:W,SMALL(IF('MEMORIAL DESCRITIVO-BRI'!$E$2:$E$4000=\"Sim\",ROW('MEMORIAL DESCRITIVO-BRI'!$W$2:$W$4000)),ROW(B9))), \"\")","v":""},{"$f":"IFERROR(INDEX('MEMORIAL DESCRITIVO-BRI'!G:G,SMALL(IF('MEMORIAL DESCRITIVO-BRI'!$E$2:$E$4000=\"Sim\",ROW('MEMORIAL DESCRITIVO-BRI'!$G$2:$G$4000)),ROW(B9))), \"\")","v":""},{"$f":"IFERROR(INDEX('MEMORIAL DESCRITIVO-BRI'!P:P,SMALL(IF('MEMORIAL DESCRITIVO-BRI'!$E$2:$E$4000=\"Sim\",ROW('MEMORIAL DESCRITIVO-BRI'!$P$2:$P$4000)),ROW(B9))), \"\")","v":""},{"$f":"IFERROR(INDEX('MEMORIAL DESCRITIVO-BRI'!Q:Q,SMALL(IF('MEMORIAL DESCRITIVO-BRI'!$E$2:$E$4000=\"Sim\",ROW('MEMORIAL DESCRITIVO-BRI'!$Q$2:$Q$4000)),ROW(B9))), \"\")","v":""}]
[null,{"$f":"IFERROR(INDEX('MEMORIAL DESCRITIVO-BRI'!B:B,SMALL(IF('MEMORIAL DESCRITIVO-BRI'!$E$2:$E$4000=\"Sim\",ROW('MEMORIAL DESCRITIVO-BRI'!$B$2:$B$4000)),ROW(B10))), \"\")","v":""},{"$f":"IFERROR(INDEX('MEMORIAL DESCRITIVO-BRI'!I:I,SMALL(IF('MEMORIAL DESCRITIVO-BRI'!$E$2:$E$4000=\"Sim\",ROW('MEMORIAL DESCRITIVO-BRI'!$I$2:$I$4000)),ROW(B10))), \"\")","v":""},{"$f":"IFERROR(INDEX('MEMORIAL DESCRITIVO-BRI'!F:F,SMALL(IF('MEMORIAL DESCRITIVO-BRI'!$E$2:$E$4000=\"Sim\",ROW('MEMORIAL DESCRITIVO-BRI'!$F$2:$F$4000)),ROW(B10))) & \" - \" & INDEX('MEMORIAL DESCRITIVO-BRI'!H:H,SMALL(IF('MEMORIAL DESCRITIVO-BRI'!$E$2:$E$4000=\"Sim\",ROW('MEMORIAL DESCRITIVO-BRI'!$H$2:$H$4000)),ROW(B10))), \"\")","v":""},null,{"$f":"IFERROR(INDEX('MEMORIAL DESCRITIVO-BRI'!S:S,SMALL(IF('MEMORIAL DESCRITIVO-BRI'!$E$2:$E$4000=\"Sim\",ROW('MEMORIAL DESCRITIVO-BRI'!$S$2:$S$4000)),ROW(B10))), \"\")","v":""},{"$f":"IFERROR(INDEX('MEMORIAL DESCRITIVO-BRI'!Z:Z,SMALL(IF('MEMORIAL DESCRITIVO-BRI'!$E$2:$E$4000=\"Sim\",ROW('MEMORIAL DESCRITIVO-BRI'!$Z$2:$Z$4000)),ROW(B10))), \"\")","v":""},{"$f":"IFERROR(INDEX('MEMORIAL DESCRITIVO-BRI'!W:W,SMALL(IF('MEMORIAL DESCRITIVO-BRI'!$E$2:$E$4000=\"Sim\",ROW('MEMORIAL DESCRITIVO-BRI'!$W$2:$W$4000)),ROW(B10))), \"\")","v":""},{"$f":"IFERROR(INDEX('MEMORIAL DESCRITIVO-BRI'!G:G,SMALL(IF('MEMORIAL DESCRITIVO-BRI'!$E$2:$E$4000=\"Sim\",ROW('MEMORIAL DESCRITIVO-BRI'!$G$2:$G$4000)),ROW(B10))), \"\")","v":""},{"$f":"IFERROR(INDEX('MEMORIAL DESCRITIVO-BRI'!P:P,SMALL(IF('MEMORIAL DESCRITIVO-BRI'!$E$2:$E$4000=\"Sim\",ROW('MEMORIAL DESCRITIVO-BRI'!$P$2:$P$4000)),ROW(B10))), \"\")","v":""},{"$f":"IFERROR(INDEX('MEMORIAL DESCRITIVO-BRI'!Q:Q,SMALL(IF('MEMORIAL DESCRITIVO-BRI'!$E$2:$E$4000=\"Sim\",ROW('MEMORIAL DESCRITIVO-BRI'!$Q$2:$Q$4000)),ROW(B10))), \"\")","v":""}]
[null,{"$f":"IFERROR(INDEX('MEMORIAL DESCRITIVO-BRI'!B:B,SMALL(IF('MEMORIAL DESCRITIVO-BRI'!$E$2:$E$4000=\"Sim\",ROW('MEMORIAL DESCRITIVO-BRI'!$B$2:$B$4000)),ROW(B11))), \"\")","v":""},{"$f":"IFERROR(INDEX('MEMORIAL DESCRITIVO-BRI'!I:I,SMALL(IF('MEMORIAL DESCRITIVO-BRI'!$E$2:$E$4000=\"Sim\",ROW('MEMORIAL DESCRITIVO-BRI'!$I$2:$I$4000)),ROW(B11))), \"\")","v":""},{"$f":"IFERROR(INDEX('MEMORIAL DESCRITIVO-BRI'!F:F,SMALL(IF('MEMORIAL DESCRITIVO-BRI'!$E$2:$E$4000=\"Sim\",ROW('MEMORIAL DESCRITIVO-BRI'!$F$2:$F$4000)),ROW(B11))) & \" - \" & INDEX('MEMORIAL DESCRITIVO-BRI'!H:H,SMALL(IF('MEMORIAL DESCRITIVO-BRI'!$E$2:$E$4000=\"Sim\",ROW('MEMORIAL DESCRITIVO-BRI'!$H$2:$H$4000)),ROW(B11))), \"\")","v":""},null,{"$f":"IFERROR(INDEX('MEMORIAL DESCRITIVO-BRI'!S:S,SMALL(IF('MEMORIAL DESCRITIVO-BRI'!$E$2:$E$4000=\"Sim\",ROW('MEMORIAL DESCRITIVO-BRI'!$S$2:$S$4000)),ROW(B11))), \"\")","v":""},{"$f":"IFERROR(INDEX('MEMORIAL DESCRITIVO-BRI'!Z:Z,SMALL(IF('MEMORIAL DESCRITIVO-BRI'!$E$2:$E$4000=\"Sim\",ROW('MEMORIAL DESCRITIVO-BRI'!$Z$2:$Z$4000)),ROW(B11))), \"\")","v":""},{"$f":"IFERROR(INDEX('MEMORIAL DESCRITIVO-BRI'!W:W,SMALL(IF('MEMORIAL DESCRITIVO-BRI'!$E$2:$E$4000=\"Sim\",ROW('MEMORIAL DESCRITIVO-BRI'!$W$2:$W$4000)),ROW(B11))), \"\")","v":""},{"$f":"IFERROR(INDEX('MEMORIAL DESCRITIVO-BRI'!G:G,SMALL(IF('MEMORIAL DESCRITIVO-BRI'!$E$2:$E$4000=\"Sim\",ROW('MEMORIAL DESCRITIVO-BRI'!$G$2:$G$4000)),ROW(B11))), \"\")","v":""},{"$f":"IFERROR(INDEX('MEMORIAL DESCRITIVO-BRI'!P:P,SMALL(IF('MEMORIAL DESCRITIVO-BRI'!$E$2:$E$4000=\"Sim\",ROW('MEMORIAL DESCRITIVO-BRI'!$P$2:$P$4000)),ROW(B11))), \"\")","v":""},{"$f":"IFERROR(INDEX('MEMORIAL DESCRITIVO-BRI'!Q:Q,SMALL(IF('MEMORIAL DESCRITIVO-BRI'!$E$2:$E$4000=\"Sim\",ROW('MEMORIAL DESCRITIVO-BRI'!$Q$2:$Q$4000)),ROW(B11))), \"\")","v":""}]
[null,{"$f":"IFERROR(INDEX('MEMORIAL DESCRITIVO-BRI'!B:B,SMALL(IF('MEMORIAL DESCRITIVO-BRI'!$E$2:$E$4000=\"Sim\",ROW('MEMORIAL DESCRITIVO-BRI'!$B$2:$B$4000)),ROW(B12))), \"\")","v":""},{"$f":"IFERROR(INDEX('MEMORIAL DESCRITIVO-BRI'!I:I,SMALL(IF('MEMORIAL DESCRITIVO-BRI'!$E$2:$E$4000=\"Sim\",ROW('MEMORIAL DESCRITIVO-BRI'!$I$2:$I$4000)),ROW(B12))), \"\")","v":""},{"$f":"IFERROR(INDEX('MEMORIAL DESCRITIVO-BRI'!F:F,SMALL(IF('MEMORIAL DESCRITIVO-BRI'!$E$2:$E$4000=\"Sim\",ROW('MEMORIAL DESCRITIVO-BRI'!$F$2:$F$4000)),ROW(B12))) & \" - \" & INDEX('MEMORIAL DESCRITIVO-BRI'!H:H,SMALL(IF('MEMORIAL DESCRITIVO-BRI'!$E$2:$E$4000=\"Sim\",ROW('MEMORIAL DESCRITIVO-BRI'!$H$2:$H$4000)),ROW(B12))), \"\")","v":""},null,{"$f":"IFERROR(INDEX('MEMORIAL DESCRITIVO-BRI'!S:S,SMALL(IF('MEMORIAL DESCRITIVO-BRI'!$E$2:$E$4000=\"Sim\",ROW('MEMORIAL DESCRITIVO-BRI'!$S$2:$S$4000)),ROW(B12))), \"\")","v":""},{"$f":"IFERROR(INDEX('MEMORIAL DESCRITIVO-BRI'!Z:Z,SMALL(IF('MEMORIAL DESCRITIVO-BRI'!$E$2:$E$4000=\"Sim\",ROW('MEMORIAL DESCRITIVO-BRI'!$Z$2:$Z$4000)),ROW(B12))), \"\")","v":""},{"$f":"IFERROR(INDEX('MEMORIAL DESCRITIVO-BRI'!W:W,SMALL(IF('MEMORIAL DESCRITIVO-BRI'!$E$2:$E$4000=\"Sim\",ROW('MEMORIAL DESCRITIVO-BRI'!$W$2:$W$4000)),ROW(B12))), \"\")","v":""},{"$f":"IFERROR(INDEX('MEMORIAL DESCRITIVO-BRI'!G:G,SMALL(IF('MEMORIAL DESCRITIVO-BRI'!$E$2:$E$4000=\"Sim\",ROW('MEMORIAL DESCRITIVO-BRI'!$G$2:$G$4000)),ROW(B12))), \"\")","v":""},{"$f":"IFERROR(INDEX('MEMORIAL DESCRITIVO-BRI'!P:P,SMALL(IF('MEMORIAL DESCRITIVO-BRI'!$E$2:$E$4000=\"Sim\",ROW('MEMORIAL DESCRITIVO-BRI'!$P$2:$P$4000)),ROW(B12))), \"\")","v":""},{"$f":"IFERROR(INDEX('MEMORIAL DESCRITIVO-BRI'!Q:Q,SMALL(IF('MEMORIAL DESCRITIVO-BRI'!$E$2:$E$4000=\"Sim\",ROW('MEMORIAL DESCRITIVO-BRI'!$Q$2:$Q$4000)),ROW(B12))), \"\")","v":""}]
[null,{"$f":"IFERROR(INDEX('MEMORIAL DESCRITIVO-BRI'!B:B,SMALL(IF('MEMORIAL DESCRITIVO-BRI'!$E$2:$E$4000=\"Sim\",ROW('MEMORIAL DESCRITIVO-BRI'!$B$2:$B$4000)),ROW(B13))), \"\")","v":""},{"$f":"IFERROR(INDEX('MEMORIAL DESCRITIVO-BRI'!I:I,SMALL(IF('MEMORIAL DESCRITIVO-BRI'!$E$2:$E$4000=\"Sim\",ROW('MEMORIAL DESCRITIVO-BRI'!$I$2:$I$4000)),ROW(B13))), \"\")","v":""},{"$f":"IFERROR(INDEX('MEMORIAL DESCRITIVO-BRI'!F:F,SMALL(IF('MEMORIAL DESCRITIVO-BRI'!$E$2:$E$4000=\"Sim\",ROW('MEMORIAL DESCRITIVO-BRI'!$F$2:$F$4000)),ROW(B13))) & \" - \" & INDEX('MEMORIAL DESCRITIVO-BRI'!H:H,SMALL(IF('MEMORIAL DESCRITIVO-BRI'!$E$2:$E$4000=\"Sim\",ROW('MEMORIAL DESCRITIVO-BRI'!$H$2:$H$4000)),ROW(B13))), \"\")","v":""},null,{"$f":"IFERROR(INDEX('MEMORIAL DESCRITIVO-BRI'!S:S,SMALL(IF('MEMORIAL DESCRITIVO-BRI'!$E$2:$E$4000=\"Sim\",ROW('MEMORIAL DESCRITIVO-BRI'!$S$2:$S$4000)),ROW(B13))), \"\")","v":""},{"$f":"IFERROR(INDEX('MEMORIAL DESCRITIVO-BRI'!Z:Z,SMALL(IF('MEMORIAL DESCRITIVO-BRI'!$E$2:$E$4000=\"Sim\",ROW('MEMORIAL DESCRITIVO-BRI'!$Z$2:$Z$4000)),ROW(B13))), \"\")","v":""},{"$f":"IFERROR(INDEX('MEMORIAL DESCRITIVO-BRI'!W:W,SMALL(IF('MEMORIAL DESCRITIVO-BRI'!$E$2:$E$4000=\"Sim\",ROW('MEMORIAL DESCRITIVO-BRI'!$W$2:$W$4000)),ROW(B13))), \"\")","v":""},{"$f":"IFERROR(INDEX('MEMORIAL DESCRITIVO-BRI'!G:G,SMALL(IF('MEMORIAL DESCRITIVO-BRI'!$E$2:$E$4000=\"Sim\",ROW('MEMORIAL DESCRITIVO-BRI'!$G$2:$G$4000)),ROW(B13))), \"\")","v":""},{"$f":"IFERROR(INDEX('MEMORIAL DESCRITIVO-BRI'!P:P,SMALL(IF('MEMORIAL DESCRITIVO-BRI'!$E$2:$E$4000=\"Sim\",ROW('MEMORIAL DESCRITIVO-BRI'!$P$2:$P$4000)),ROW(B13))), \"\")","v":""},{"$f":"IFERROR(INDEX('MEMORIAL DESCRITIVO-BRI'!Q:Q,SMALL(IF('MEMORIAL DESCRITIVO-BRI'!$E$2:$E$4000=\"Sim\",ROW('MEMORIAL DESCRITIVO-BRI'!$Q$2:$Q$4000)),ROW(B13))), \"\")","v":""}]
[null,{"$f":"IFERROR(INDEX('MEMORIAL DESCRITIVO-BRI'!B:B,SMALL(IF('MEMORIAL DESCRITIVO-BRI'!$E$2:$E$4000=\"Sim\",ROW('MEMORIAL DESCRITIVO-BRI'!$B$2:$B$4000)),ROW(B14))), \"\")","v":""},{"$f":"IFERROR(INDEX('MEMORIAL DESCRITIVO-BRI'!I:I,SMALL(IF('MEMORIAL DESCRITIVO-BRI'!$E$2:$E$4000=\"Sim\",ROW('MEMORIAL DESCRITIVO-BRI'!$I$2:$I$4000)),ROW(B14))), \"\")","v":""},{"$f":"IFERROR(INDEX('MEMORIAL DESCRITIVO-BRI'!F:F,SMALL(IF('MEMORIAL DESCRITIVO-BRI'!$E$2:$E$4000=\"Sim\",ROW('MEMORIAL DESCRITIVO-BRI'!$F$2:$F$4000)),ROW(B14))) & \" - \" & INDEX('MEMORIAL DESCRITIVO-BRI'!H:H,SMALL(IF('MEMORIAL DESCRITIVO-BRI'!$E$2:$E$4000=\"Sim\",ROW('MEMORIAL DESCRITIVO-BRI'!$H$2:$H$4000)),ROW(B14))), \"\")","v":""},null,{"$f":"IFERROR(INDEX('MEMORIAL DESCRITIVO-BRI'!S:S,SMALL(IF('MEMORIAL DESCRITIVO-BRI'!$E$2:$E$4000=\"Sim\",ROW('MEMORIAL DESCRITIVO-BRI'!$S$2:$S$4000)),ROW(B14))), \"\")","v":""},{"$f":"IFERROR(INDEX('MEMORIAL DESCRITIVO-BRI'!Z:Z,SMALL(IF('MEMORIAL DESCRITIVO-BRI'!$E$2:$E$4000=\"Sim\",ROW('MEMORIAL DESCRITIVO-BRI'!$Z$2:$Z$4000)),ROW(B14))), \"\")","v":""},{"$f":"IFERROR(INDEX('MEMORIAL DESCRITIVO-BRI'!W:W,SMALL(IF('MEMORIAL DESCRITIVO-BRI'!$E$2:$E$4000=\"Sim\",ROW('MEMORIAL DESCRITIVO-BRI'!$W$2:$W$4000)),ROW(B14))), \"\")","v":""},{"$f":"IFERROR(INDEX('MEMORIAL DESCRITIVO-BRI'!G:G,SMALL(IF('MEMORIAL DESCRITIVO-BRI'!$E$2:$E$4000=\"Sim\",ROW('MEMORIAL DESCRITIVO-BRI'!$G$2:$G$4000)),ROW(B14))), \"\")","v":""},{"$f":"IFERROR(INDEX('MEMORIAL DESCRITIVO-BRI'!P:P,SMALL(IF('MEMORIAL DESCRITIVO-BRI'!$E$2:$E$4000=\"Sim\",ROW('MEMORIAL DESCRITIVO-BRI'!$P$2:$P$4000)),ROW(B14))), \"\")","v":""},{"$f":"IFERROR(INDEX('MEMORIAL DESCRITIVO-BRI'!Q:Q,SMALL(IF('MEMORIAL DESCRITIVO-BRI'!$E$2:$E$4000=\"Sim\",ROW('MEMORIAL DESCRITIVO-BRI'!$Q$2:$Q$4000)),ROW(B14))), \"\")","v":""}]
[null,{"$f":"IFERROR(INDEX('MEMORIAL DESCRITIVO-BRI'!B:B,SMALL(IF('MEMORIAL DESCRITIVO-BRI'!$E$2:$E$4000=\"Sim\",ROW('MEMORIAL DESCRITIVO-BRI'!$B$2:$B$4000)),ROW(B15))), \"\")","v":""},{"$f":"IFERROR(INDEX('MEMORIAL DESCRITIVO-BRI'!I:I,SMALL(IF('MEMORIAL DESCRITIVO-BRI'!$E$2:$E$4000=\"Sim\",ROW('MEMORIAL DESCRITIVO-BRI'!$I$2:$I$4000)),ROW(B15))), \"\")","v":""},{"$f":"IFERROR(INDEX('MEMORIAL DESCRITIVO-BRI'!F:F,SMALL(IF('MEMORIAL DESCRITIVO-BRI'!$E$2:$E$4000=\"Sim\",ROW('MEMORIAL DESCRITIVO-BRI'!$F$2:$F$4000)),ROW(B15))) & \" - \" & INDEX('MEMORIAL DESCRITIVO-BRI'!H:H,SMALL(IF('MEMORIAL DESCRITIVO-BRI'!$E$2:$E$4000=\"Sim\",ROW('MEMORIAL DESCRITIVO-BRI'!$H$2:$H$4000)),ROW(B15))), \"\")","v":""},null,{"$f":"IFERROR(INDEX('MEMORIAL DESCRITIVO-BRI'!S:S,SMALL(IF('MEMORIAL DESCRITIVO-BRI'!$E$2:$E$4000=\"Sim\",ROW('MEMORIAL DESCRITIVO-BRI'!$S$2:$S$4000)),ROW(B15))), \"\")","v":""},{"$f":"IFERROR(INDEX('MEMORIAL DESCRITIVO-BRI'!Z:Z,SMALL(IF('MEMORIAL DESCRITIVO-BRI'!$E$2:$E$4000=\"Sim\",ROW('MEMORIAL DESCRITIVO-BRI'!$Z$2:$Z$4000)),ROW(B15))), \"\")","v":""},{"$f":"IFERROR(INDEX('MEMORIAL DESCRITIVO-BRI'!W:W,SMALL(IF('MEMORIAL DESCRITIVO-BRI'!$E$2:$E$4000=\"Sim\",ROW('MEMORIAL DESCRITIVO-BRI'!$W$2:$W$4000)),ROW(B15))), \"\")","v":""},{"$f":"IFERROR(INDEX('MEMORIAL DESCRITIVO-BRI'!G:G,SMALL(IF('MEMORIAL DESCRITIVO-BRI'!$E$2:$E$4000=\"Sim\",ROW('MEMORIAL DESCRITIVO-BRI'!$G$2:$G$4000)),ROW(B15))), \"\")","v":""},{"$f":"IFERROR(INDEX('MEMORIAL DESCRITIVO-BRI'!P:P,SMALL(IF('MEMORIAL DESCRITIVO-BRI'!$E$2:$E$4000=\"Sim\",ROW('MEMORIAL DESCRITIVO-BRI'!$P$2:$P$4000)),ROW(B15))), \"\")","v":""},{"$f":"IFERROR(INDEX('MEMORIAL DESCRITIVO-BRI'!Q:Q,SMALL(IF('MEMORIAL DESCRITIVO-BRI'!$E$2:$E$4000=\"Sim\",ROW('MEMORIAL DESCRITIVO-BRI'!$Q$2:$Q$4000)),ROW(B15))), \"\")","v":""}]
[null,{"$f":"IFERROR(INDEX('MEMORIAL DESCRITIVO-BRI'!B:B,SMALL(IF('MEMORIAL DESCRITIVO-BRI'!$E$2:$E$4000=\"Sim\",ROW('MEMORIAL DESCRITIVO-BRI'!$B$2:$B$4000)),ROW(B16))), \"\")","v":""},{"$f":"IFERROR(INDEX('MEMORIAL DESCRITIVO-BRI'!I:I,SMALL(IF('MEMORIAL DESCRITIVO-BRI'!$E$2:$E$4000=\"Sim\",ROW('MEMORIAL DESCRITIVO-BRI'!$I$2:$I$4000)),ROW(B16))), \"\")","v":""},{"$f":"IFERROR(INDEX('MEMORIAL DESCRITIVO-BRI'!F:F,SMALL(IF('MEMORIAL DESCRITIVO-BRI'!$E$2:$E$4000=\"Sim\",ROW('MEMORIAL DESCRITIVO-BRI'!$F$2:$F$4000)),ROW(B16))) & \" - \" & INDEX('MEMORIAL DESCRITIVO-BRI'!H:H,SMALL(IF('MEMORIAL DESCRITIVO-BRI'!$E$2:$E$4000=\"Sim\",ROW('MEMORIAL DESCRITIVO-BRI'!$H$2:$H$4000)),ROW(B16))), \"\")","v":""},null,{"$f":"IFERROR(INDEX('MEMORIAL DESCRITIVO-BRI'!S:S,SMALL(IF('MEMORIAL DESCRITIVO-BRI'!$E$2:$E$4000=\"Sim\",ROW('MEMORIAL DESCRITIVO-BRI'!$S$2:$S$4000)),ROW(B16))), \"\")","v":""},{"$f":"IFERROR(INDEX('MEMORIAL DESCRITIVO-BRI'!Z:Z,SMALL(IF('MEMORIAL DESCRITIVO-BRI'!$E$2:$E$4000=\"Sim\",ROW('MEMORIAL DESCRITIVO-BRI'!$Z$2:$Z$4000)),ROW(B16))), \"\")","v":""},{"$f":"IFERROR(INDEX('MEMORIAL DESCRITIVO-BRI'!W:W,SMALL(IF('MEMORIAL DESCRITIVO-BRI'!$E$2:$E$4000=\"Sim\",ROW('MEMORIAL DESCRITIVO-BRI'!$W$2:$W$4000)),ROW(B16))), \"\")","v":""},{"$f":"IFERROR(INDEX('MEMORIAL DESCRITIVO-BRI'!G:G,SMALL(IF('MEMORIAL DESCRITIVO-BRI'!$E$2:$E$4000=\"Sim\",ROW('MEMORIAL DESCRITIVO-BRI'!$G$2:$G$4000)),ROW(B16))), \"\")","v":""},{"$f":"IFERROR(INDEX('MEMORIAL DESCRITIVO-BRI'!P:P,SMALL(IF('MEMORIAL DESCRITIVO-BRI'!$E$2:$E$4000=\"Sim\",ROW('MEMORIAL DESCRITIVO-BRI'!$P$2:$P$4000)),ROW(B16))), \"\")","v":""},{"$f":"IFERROR(INDEX('MEMORIAL DESCRITIVO-BRI'!Q:Q,SMALL(IF('MEMORIAL DESCRITIVO-BRI'!$E$2:$E$4000=\"Sim\",ROW('MEMORIAL DESCRITIVO-BRI'!$Q$2:$Q$4000)),ROW(B16))), \"\")","v":""}]
[null,{"$f":"IFERROR(INDEX('MEMORIAL DESCRITIVO-BRI'!B:B,SMALL(IF('MEMORIAL DESCRITIVO-BRI'!$E$2:$E$4000=\"Sim\",ROW('MEMORIAL DESCRITIVO-BRI'!$B$2:$B$4000)),ROW(B17))), \"\")","v":""},{"$f":"IFERROR(INDEX('MEMORIAL DESCRITIVO-BRI'!I:I,SMALL(IF('MEMORIAL DESCRITIVO-BRI'!$E$2:$E$4000=\"Sim\",ROW('MEMORIAL DESCRITIVO-BRI'!$I$2:$I$4000)),ROW(B17))), \"\")","v":""},{"$f":"IFERROR(INDEX('MEMORIAL DESCRITIVO-BRI'!F:F,SMALL(IF('MEMORIAL DESCRITIVO-BRI'!$E$2:$E$4000=\"Sim\",ROW('MEMORIAL DESCRITIVO-BRI'!$F$2:$F$4000)),ROW(B17))) & \" - \" & INDEX('MEMORIAL DESCRITIVO-BRI'!H:H,SMALL(IF('MEMORIAL DESCRITIVO-BRI'!$E$2:$E$4000=\"Sim\",ROW('MEMORIAL DESCRITIVO-BRI'!$H$2:$H$4000)),ROW(B17))), \"\")","v":""},null,{"$f":"IFERROR(INDEX('MEMORIAL DESCRITIVO-BRI'!S:S,SMALL(IF('MEMORIAL DESCRITIVO-BRI'!$E$2:$E$4000=\"Sim\",ROW('MEMORIAL DESCRITIVO-BRI'!$S$2:$S$4000)),ROW(B17))), \"\")","v":""},{"$f":"IFERROR(INDEX('MEMORIAL DESCRITIVO-BRI'!Z:Z,SMALL(IF('MEMORIAL DESCRITIVO-BRI'!$E$2:$E$4000=\"Sim\",ROW('MEMORIAL DESCRITIVO-BRI'!$Z$2:$Z$4000)),ROW(B17))), \"\")","v":""},{"$f":"IFERROR(INDEX('MEMORIAL DESCRITIVO-BRI'!W:W,SMALL(IF('MEMORIAL DESCRITIVO-BRI'!$E$2:$E$4000=\"Sim\",ROW('MEMORIAL DESCRITIVO-BRI'!$W$2:$W$4000)),ROW(B17))), \"\")","v":""},{"$f":"IFERROR(INDEX('MEMORIAL DESCRITIVO-BRI'!G:G,SMALL(IF('MEMORIAL DESCRITIVO-BRI'!$E$2:$E$4000=\"Sim\",ROW('MEMORIAL DESCRITIVO-BRI'!$G$2:$G$4000)),ROW(B17))), \"\")","v":""},{"$f":"IFERROR(INDEX('MEMORIAL DESCRITIVO-BRI'!P:P,SMALL(IF('MEMORIAL DESCRITIVO-BRI'!$E$2:$E$4000=\"Sim\",ROW('MEMORIAL DESCRITIVO-BRI'!$P$2:$P$4000)),ROW(B17))), \"\")","v":""},{"$f":"IFERROR(INDEX('MEMORIAL DESCRITIVO-BRI'!Q:Q,SMALL(IF('MEMORIAL DESCRITIVO-BRI'!$E$2:$E$4000=\"Sim\",ROW('MEMORIAL DESCRITIVO-BRI'!$Q$2:$Q$4000)),ROW(B17))), \"\")","v":""}]
[null,{"$f":"IFERROR(INDEX('MEMORIAL DESCRITIVO-BRI'!B:B,SMALL(IF('MEMORIAL DESCRITIVO-BRI'!$E$2:$E$4000=\"Sim\",ROW('MEMORIAL DESCRITIVO-BRI'!$B$2:$B$4000)),ROW(B18))), \"\")","v":""},{"$f":"IFERROR(INDEX('MEMORIAL DESCRITIVO-BRI'!I:I,SMALL(IF('MEMORIAL DESCRITIVO-BRI'!$E$2:$E$4000=\"Sim\",ROW('MEMORIAL DESCRITIVO-BRI'!$I$2:$I$4000)),ROW(B18))), \"\")","v":""},{"$f":"IFERROR(INDEX('MEMORIAL DESCRITIVO-BRI'!F:F,SMALL(IF('MEMORIAL DESCRITIVO-BRI'!$E$2:$E$4000=\"Sim\",ROW('MEMORIAL DESCRITIVO-BRI'!$F$2:$F$4000)),ROW(B18))) & \" - \" & INDEX('MEMORIAL DESCRITIVO-BRI'!H:H,SMALL(IF('MEMORIAL DESCRITIVO-BRI'!$E$2:$E$4000=\"Sim\",ROW('MEMORIAL DESCRITIVO-BRI'!$H$2:$H$4000)),ROW(B18))), \"\")","v":""},null,{"$f":"IFERROR(INDEX('MEMORIAL DESCRITIVO-BRI'!S:S,SMALL(IF('MEMORIAL DESCRITIVO-BRI'!$E$2:$E$4000=\"Sim\",ROW('MEMORIAL DESCRITIVO-BRI'!$S$2:$S$4000)),ROW(B18))), \"\")","v":""},{"$f":"IFERROR(INDEX('MEMORIAL DESCRITIVO-BRI'!Z:Z,SMALL(IF('MEMORIAL DESCRITIVO-BRI'!$E$2:$E$4000=\"Sim\",ROW('MEMORIAL DESCRITIVO-BRI'!$Z$2:$Z$4000)),ROW(B18))), \"\")","v":""},{"$f":"IFERROR(INDEX('MEMORIAL DESCRITIVO-BRI'!W:W,SMALL(IF('MEMORIAL DESCRITIVO-BRI'!$E$2:$E$4000=\"Sim\",ROW('MEMORIAL DESCRITIVO-BRI'!$W$2:$W$4000)),ROW(B18))), \"\")","v":""},{"$f":"IFERROR(INDEX('MEMORIAL DESCRITIVO-BRI'!G:G,SMALL(IF('MEMORIAL DESCRITIVO-BRI'!$E$2:$E$4000=\"Sim\",ROW('MEMORIAL DESCRITIVO-BRI'!$G$2:$G$4000)),ROW(B18))), \"\")","v":""},{"$f":"IFERROR(INDEX('MEMORIAL DESCRITIVO-BRI'!P:P,SMALL(IF('MEMORIAL DESCRITIVO-BRI'!$E$2:$E$4000=\"Sim\",ROW('MEMORIAL DESCRITIVO-BRI'!$P$2:$P$4000)),ROW(B18))), \"\")","v":""},{"$f":"IFERROR(INDEX('MEMORIAL DESCRITIVO-BRI'!Q:Q,SMALL(IF('MEMORIAL DESCRITIVO-BRI'!$E$2:$E$4000=\"Sim\",ROW('MEMORIAL DESCRITIVO-BRI'!$Q$2:$Q$4000)),ROW(B18))), \"\")","v":""}]
[null,{"$f":"IFERROR(INDEX('MEMORIAL DESCRITIVO-BRI'!B:B,SMALL(IF('MEMORIAL DESCRITIVO-BRI'!$E$2:$E$4000=\"Sim\",ROW('MEMORIAL DESCRITIVO-BRI'!$B$2:$B$4000)),ROW(B19))), \"\")","v":""},{"$f":"IFERROR(INDEX('MEMORIAL DESCRITIVO-BRI'!I:I,SMALL(IF('MEMORIAL DESCRITIVO-BRI'!$E$2:$E$4000=\"Sim\",ROW('MEMORIAL DESCRITIVO-BRI'!$I$2:$I$4000)),ROW(B19))), \"\")","v":""},{"$f":"IFERROR(INDEX('MEMORIAL DESCRITIVO-BRI'!F:F,SMALL(IF('MEMORIAL DESCRITIVO-BRI'!$E$2:$E$4000=\"Sim\",ROW('MEMORIAL DESCRITIVO-BRI'!$F$2:$F$4000)),ROW(B19))) & \" - \" & INDEX('MEMORIAL DESCRITIVO-BRI'!H:H,SMALL(IF('MEMORIAL DESCRITIVO-BRI'!$E$2:$E$4000=\"Sim\",ROW('MEMORIAL DESCRITIVO-BRI'!$H$2:$H$4000)),ROW(B19))), \"\")","v":""},null,{"$f":"IFERROR(INDEX('MEMORIAL DESCRITIVO-BRI'!S:S,SMALL(IF('MEMORIAL DESCRITIVO-BRI'!$E$2:$E$4000=\"Sim\",ROW('MEMORIAL DESCRITIVO-BRI'!$S$2:$S$4000)),ROW(B19))), \"\")","v":""},{"$f":"IFERROR(INDEX('MEMORIAL DESCRITIVO-BRI'!Z:Z,SMALL(IF('MEMORIAL DESCRITIVO-BRI'!$E$2:$E$4000=\"Sim\",ROW('MEMORIAL DESCRITIVO-BRI'!$Z$2:$Z$4000)),ROW(B19))), \"\")","v":""},{"$f":"IFERROR(INDEX('MEMORIAL DESCRITIVO-BRI'!W:W,SMALL(IF('MEMORIAL DESCRITIVO-BRI'!$E$2:$E$4000=\"Sim\",ROW('MEMORIAL DESCRITIVO-BRI'!$W$2:$W$4000)),ROW(B19))), \"\")","v":""},{"$f":"IFERROR(INDEX('MEMORIAL DESCRITIVO-BRI'!G:G,SMALL(IF('MEMORIAL DESCRITIVO-BRI'!$E$2:$E$4000=\"Sim\",ROW('MEMORIAL DESCRITIVO-BRI'!$G$2:$G$4000)),ROW(B19))), \"\")","v":""},{"$f":"IFERROR(INDEX('MEMORIAL DESCRITIVO-BRI'!P:P,SMALL(IF('MEMORIAL DESCRITIVO-BRI'!$E$2:$E$4000=\"Sim\",ROW('MEMORIAL DESCRITIVO-BRI'!$P$2:$P$4000)),ROW(B19))), \"\")","v":""},{"$f":"IFERROR(INDEX('MEMORIAL DESCRITIVO-BRI'!Q:Q,SMALL(IF('MEMORIAL DESCRITIVO-BRI'!$E$2:$E$4000=\"Sim\",ROW('MEMORIAL DESCRITIVO-BRI'!$Q$2:$Q$4000)),ROW(B19))), \"\")","v":""}]
[null,{"$f":"IFERROR(INDEX('MEMORIAL DESCRITIVO-BRI'!B:B,SMALL(IF('MEMORIAL DESCRITIVO-BRI'!$E$2:$E$4000=\"Sim\",ROW('MEMORIAL DESCRITIVO-BRI'!$B$2:$B$4000)),ROW(B20))), \"\")","v":""},{"$f":"IFERROR(INDEX('MEMORIAL DESCRITIVO-BRI'!I:I,SMALL(IF('MEMORIAL DESCRITIVO-BRI'!$E$2:$E$4000=\"Sim\",ROW('MEMORIAL DESCRITIVO-BRI'!$I$2:$I$4000)),ROW(B20))), \"\")","v":""},{"$f":"IFERROR(INDEX('MEMORIAL DESCRITIVO-BRI'!F:F,SMALL(IF('MEMORIAL DESCRITIVO-BRI'!$E$2:$E$4000=\"Sim\",ROW('MEMORIAL DESCRITIVO-BRI'!$F$2:$F$4000)),ROW(B20))) & \" - \" & INDEX('MEMORIAL DESCRITIVO-BRI'!H:H,SMALL(IF('MEMORIAL DESCRITIVO-BRI'!$E$2:$E$4000=\"Sim\",ROW('MEMORIAL DESCRITIVO-BRI'!$H$2:$H$4000)),ROW(B20))), \"\")","v":""},null,{"$f":"IFERROR(INDEX('MEMORIAL DESCRITIVO-BRI'!S:S,SMALL(IF('MEMORIAL DESCRITIVO-BRI'!$E$2:$E$4000=\"Sim\",ROW('MEMORIAL DESCRITIVO-BRI'!$S$2:$S$4000)),ROW(B20))), \"\")","v":""},{"$f":"IFERROR(INDEX('MEMORIAL DESCRITIVO-BRI'!Z:Z,SMALL(IF('MEMORIAL DESCRITIVO-BRI'!$E$2:$E$4000=\"Sim\",ROW('MEMORIAL DESCRITIVO-BRI'!$Z$2:$Z$4000)),ROW(B20))), \"\")","v":""},{"$f":"IFERROR(INDEX('MEMORIAL DESCRITIVO-BRI'!W:W,SMALL(IF('MEMORIAL DESCRITIVO-BRI'!$E$2:$E$4000=\"Sim\",ROW('MEMORIAL DESCRITIVO-BRI'!$W$2:$W$4000)),ROW(B20))), \"\")","v":""},{"$f":"IFERROR(INDEX('MEMORIAL DESCRITIVO-BRI'!G:G,SMALL(IF('MEMORIAL DESCRITIVO-BRI'!$E$2:$E$4000=\"Sim\",ROW('MEMORIAL DESCRITIVO-BRI'!$G$2:$G$4000)),ROW(B20))), \"\")","v":""},{"$f":"IFERROR(INDEX('MEMORIAL DESCRITIVO-BRI'!P:P,SMALL(IF('MEMORIAL DESCRITIVO-BRI'!$E$2:$E$4000=\"Sim\",ROW('MEMORIAL DESCRITIVO-BRI'!$P$2:$P$4000)),ROW(B20))), \"\")","v":""},{"$f":"IFERROR(INDEX('MEMORIAL DESCRITIVO-BRI'!Q:Q,SMALL(IF('MEMORIAL DESCRITIVO-BRI'!$E$2:$E$4000=\"Sim\",ROW('MEMORIAL DESCRITIVO-BRI'!$Q$2:$Q$4000)),ROW(B20))), \"\")","v":""}]
[null,{"$f":"IFERROR(INDEX('MEMORIAL DESCRITIVO-BRI'!B:B,SMALL(IF('MEMORIAL DESCRITIVO-BRI'!$E$2:$E$4000=\"Sim\",ROW('MEMORIAL DESCRITIVO-BRI'!$B$2:$B$4000)),ROW(B21))), \"\")","v":""},{"$f":"IFERROR(INDEX('MEMORIAL DESCRITIVO-BRI'!I:I,SMALL(IF('MEMORIAL DESCRITIVO-BRI'!$E$2:$E$4000=\"Sim\",ROW('MEMORIAL DESCRITIVO-BRI'!$I$2:$I$4000)),ROW(B21))), \"\")","v":""},{"$f":"IFERROR(INDEX('MEMORIAL DESCRITIVO-BRI'!F:F,SMALL(IF('MEMORIAL DESCRITIVO-BRI'!$E$2:$E$4000=\"Sim\",ROW('MEMORIAL DESCRITIVO-BRI'!$F$2:$F$4000)),ROW(B21))) & \" - \" & INDEX('MEMORIAL DESCRITIVO-BRI'!H:H,SMALL(IF('MEMORIAL DESCRITIVO-BRI'!$E$2:$E$4000=\"Sim\",ROW('MEMORIAL DESCRITIVO-BRI'!$H$2:$H$4000)),ROW(B21))), \"\")","v":""},null,{"$f":"IFERROR(INDEX('MEMORIAL DESCRITIVO-BRI'!S:S,SMALL(IF('MEMORIAL DESCRITIVO-BRI'!$E$2:$E$4000=\"Sim\",ROW('MEMORIAL DESCRITIVO-BRI'!$S$2:$S$4000)),ROW(B21))), \"\")","v":""},{"$f":"IFERROR(INDEX('MEMORIAL DESCRITIVO-BRI'!Z:Z,SMALL(IF('MEMORIAL DESCRITIVO-BRI'!$E$2:$E$4000=\"Sim\",ROW('MEMORIAL DESCRITIVO-BRI'!$Z$2:$Z$4000)),ROW(B21))), \"\")","v":""},{"$f":"IFERROR(INDEX('MEMORIAL DESCRITIVO-BRI'!W:W,SMALL(IF('MEMORIAL DESCRITIVO-BRI'!$E$2:$E$4000=\"Sim\",ROW('MEMORIAL DESCRITIVO-BRI'!$W$2:$W$4000)),ROW(B21))), \"\")","v":""},{"$f":"IFERROR(INDEX('MEMORIAL DESCRITIVO-BRI'!G:G,SMALL(IF('MEMORIAL DESCRITIVO-BRI'!$E$2:$E$4000=\"Sim\",ROW('MEMORIAL DESCRITIVO-BRI'!$G$2:$G$4000)),ROW(B21))), \"\")","v":""},{"$f":"IFERROR(INDEX('MEMORIAL DESCRITIVO-BRI'!P:P,SMALL(IF('MEMORIAL DESCRITIVO-BRI'!$E$2:$E$4000=\"Sim\",ROW('MEMORIAL DESCRITIVO-BRI'!$P$2:$P$4000)),ROW(B21))), \"\")","v":""},{"$f":"IFERROR(INDEX('MEMORIAL DESCRITIVO-BRI'!Q:Q,SMALL(IF('MEMORIAL DESCRITIVO-BRI'!$E$2:$E$4000=\"Sim\",ROW('MEMORIAL DESCRITIVO-BRI'!$Q$2:$Q$4000)),ROW(B21))), \"\")","v":""}]
[null,{"$f":"IFERROR(INDEX('MEMORIAL DESCRITIVO-BRI'!B:B,SMALL(IF('MEMORIAL DESCRITIVO-BRI'!$E$2:$E$4000=\"Sim\",ROW('MEMORIAL DESCRITIVO-BRI'!$B$2:$B$4000)),ROW(B22))), \"\")","v":""},{"$f":"IFERROR(INDEX('MEMORIAL DESCRITIVO-BRI'!I:I,SMALL(IF('MEMORIAL DESCRITIVO-BRI'!$E$2:$E$4000=\"Sim\",ROW('MEMORIAL DESCRITIVO-BRI'!$I$2:$I$4000)),ROW(B22))), \"\")","v":""},{"$f":"IFERROR(INDEX('MEMORIAL DESCRITIVO-BRI'!F:F,SMALL(IF('MEMORIAL DESCRITIVO-BRI'!$E$2:$E$4000=\"Sim\",ROW('MEMORIAL DESCRITIVO-BRI'!$F$2:$F$4000)),ROW(B22))) & \" - \" & INDEX('MEMORIAL DESCRITIVO-BRI'!H:H,SMALL(IF('MEMORIAL DESCRITIVO-BRI'!$E$2:$E$4000=\"Sim\",ROW('MEMORIAL DESCRITIVO-BRI'!$H$2:$H$4000)),ROW(B22))), \"\")","v":""},null,{"$f":"IFERROR(INDEX('MEMORIAL DESCRITIVO-BRI'!S:S,SMALL(IF('MEMORIAL DESCRITIVO-BRI'!$E$2:$E$4000=\"Sim\",ROW('MEMORIAL DESCRITIVO-BRI'!$S$2:$S$4000)),ROW(B22))), \"\")","v":""},{"$f":"IFERROR(INDEX('MEMORIAL DESCRITIVO-BRI'!Z:Z,SMALL(IF('MEMORIAL DESCRITIVO-BRI'!$E$2:$E$4000=\"Sim\",ROW('MEMORIAL DESCRITIVO-BRI'!$Z$2:$Z$4000)),ROW(B22))), \"\")","v":""},{"$f":"IFERROR(INDEX('MEMORIAL DESCRITIVO-BRI'!W:W,SMALL(IF('MEMORIAL DESCRITIVO-BRI'!$E$2:$E$4000=\"Sim\",ROW('MEMORIAL DESCRITIVO-BRI'!$W$2:$W$4000)),ROW(B22))), \"\")","v":""},{"$f":"IFERROR(INDEX('MEMORIAL DESCRITIVO-BRI'!G:G,SMALL(IF('MEMORIAL DESCRITIVO-BRI'!$E$2:$E$4000=\"Sim\",ROW('MEMORIAL DESCRITIVO-BRI'!$G$2:$G$4000)),ROW(B22))), \"\")","v":""},{"$f":"IFERROR(INDEX('MEMORIAL DESCRITIVO-BRI'!P:P,SMALL(IF('MEMORIAL DESCRITIVO-BRI'!$E$2:$E$4000=\"Sim\",ROW('MEMORIAL DESCRITIVO-BRI'!$P$2:$P$4000)),ROW(B22))), \"\")","v":""},{"$f":"IFERROR(INDEX('MEMORIAL DESCRITIVO-BRI'!Q:Q,SMALL(IF('MEMORIAL DESCRITIVO-BRI'!$E$2:$E$4000=\"Sim\",ROW('MEMORIAL DESCRITIVO-BRI'!$Q$2:$Q$4000)),ROW(B22))), \"\")","v":""}]
[null,{"$f":"IFERROR(INDEX('MEMORIAL DESCRITIVO-BRI'!B:B,SMALL(IF('MEMORIAL DESCRITIVO-BRI'!$E$2:$E$4000=\"Sim\",ROW('MEMORIAL DESCRITIVO-BRI'!$B$2:$B$4000)),ROW(B23))), \"\")","v":""},{"$f":"IFERROR(INDEX('MEMORIAL DESCRITIVO-BRI'!I:I,SMALL(IF('MEMORIAL DESCRITIVO-BRI'!$E$2:$E$4000=\"Sim\",ROW('MEMORIAL DESCRITIVO-BRI'!$I$2:$I$4000)),ROW(B23))), \"\")","v":""},{"$f":"IFERROR(INDEX('MEMORIAL DESCRITIVO-BRI'!F:F,SMALL(IF('MEMORIAL DESCRITIVO-BRI'!$E$2:$E$4000=\"Sim\",ROW('MEMORIAL DESCRITIVO-BRI'!$F$2:$F$4000)),ROW(B23))) & \" - \" & INDEX('MEMORIAL DESCRITIVO-BRI'!H:H,SMALL(IF('MEMORIAL DESCRITIVO-BRI'!$E$2:$E$4000=\"Sim\",ROW('MEMORIAL DESCRITIVO-BRI'!$H$2:$H$4000)),ROW(B23))), \"\")","v":""},null,{"$f":"IFERROR(INDEX('MEMORIAL DESCRITIVO-BRI'!S:S,SMALL(IF('MEMORIAL DESCRITIVO-BRI'!$E$2:$E$4000=\"Sim\",ROW('MEMORIAL DESCRITIVO-BRI'!$S$2:$S$4000)),ROW(B23))), \"\")","v":""},{"$f":"IFERROR(INDEX('MEMORIAL DESCRITIVO-BRI'!Z:Z,SMALL(IF('MEMORIAL DESCRITIVO-BRI'!$E$2:$E$4000=\"Sim\",ROW('MEMORIAL DESCRITIVO-BRI'!$Z$2:$Z$4000)),ROW(B23))), \"\")","v":""},{"$f":"IFERROR(INDEX('MEMORIAL DESCRITIVO-BRI'!W:W,SMALL(IF('MEMORIAL DESCRITIVO-BRI'!$E$2:$E$4000=\"Sim\",ROW('MEMORIAL DESCRITIVO-BRI'!$W$2:$W$4000)),ROW(B23))), \"\")","v":""},{"$f":"IFERROR(INDEX('MEMORIAL DESCRITIVO-BRI'!G:G,SMALL(IF('MEMORIAL DESCRITIVO-BRI'!$E$2:$E$4000=\"Sim\",ROW('MEMORIAL DESCRITIVO-BRI'!$G$2:$G$4000)),ROW(B23))), \"\")","v":""},{"$f":"IFERROR(INDEX('MEMORIAL DESCRITIVO-BRI'!P:P,SMALL(IF('MEMORIAL DESCRITIVO-BRI'!$E$2:$E$4000=\"Sim\",ROW('MEMORIAL DESCRITIVO-BRI'!$P$2:$P$4000)),ROW(B23))), \"\")","v":""},{"$f":"IFERROR(INDEX('MEMORIAL DESCRITIVO-BRI'!Q:Q,SMALL(IF('MEMORIAL DESCRITIVO-BRI'!$E$2:$E$4000=\"Sim\",ROW('MEMORIAL DESCRITIVO-BRI'!$Q$2:$Q$4000)),ROW(B23))), \"\")","v":""}]
[null,{"$f":"IFERROR(INDEX('MEMORIAL DESCRITIVO-BRI'!B:B,SMALL(IF('MEMORIAL DESCRITIVO-BRI'!$E$2:$E$4000=\"Sim\",ROW('MEMORIAL DESCRITIVO-BRI'!$B$2:$B$4000)),ROW(B24))), \"\")","v":""},{"$f":"IFERROR(INDEX('MEMORIAL DESCRITIVO-BRI'!I:I,SMALL(IF('MEMORIAL DESCRITIVO-BRI'!$E$2:$E$4000=\"Sim\",ROW('MEMORIAL DESCRITIVO-BRI'!$I$2:$I$4000)),ROW(B24))), \"\")","v":""},{"$f":"IFERROR(INDEX('MEMORIAL DESCRITIVO-BRI'!F:F,SMALL(IF('MEMORIAL DESCRITIVO-BRI'!$E$2:$E$4000=\"Sim\",ROW('MEMORIAL DESCRITIVO-BRI'!$F$2:$F$4000)),ROW(B24))) & \" - \" & INDEX('MEMORIAL DESCRITIVO-BRI'!H:H,SMALL(IF('MEMORIAL DESCRITIVO-BRI'!$E$2:$E$4000=\"Sim\",ROW('MEMORIAL DESCRITIVO-BRI'!$H$2:$H$4000)),ROW(B24))), \"\")","v":""},null,{"$f":"IFERROR(INDEX('MEMORIAL DESCRITIVO-BRI'!S:S,SMALL(IF('MEMORIAL DESCRITIVO-BRI'!$E$2:$E$4000=\"Sim\",ROW('MEMORIAL DESCRITIVO-BRI'!$S$2:$S$4000)),ROW(B24))), \"\")","v":""},{"$f":"IFERROR(INDEX('MEMORIAL DESCRITIVO-BRI'!Z:Z,SMALL(IF('MEMORIAL DESCRITIVO-BRI'!$E$2:$E$4000=\"Sim\",ROW('MEMORIAL DESCRITIVO-BRI'!$Z$2:$Z$4000)),ROW(B24))), \"\")","v":""},{"$f":"IFERROR(INDEX('MEMORIAL DESCRITIVO-BRI'!W:W,SMALL(IF('MEMORIAL DESCRITIVO-BRI'!$E$2:$E$4000=\"Sim\",ROW('MEMORIAL DESCRITIVO-BRI'!$W$2:$W$4000)),ROW(B24))), \"\")","v":""},{"$f":"IFERROR(INDEX('MEMORIAL DESCRITIVO-BRI'!G:G,SMALL(IF('MEMORIAL DESCRITIVO-BRI'!$E$2:$E$4000=\"Sim\",ROW('MEMORIAL DESCRITIVO-BRI'!$G$2:$G$4000)),ROW(B24))), \"\")","v":""},{"$f":"IFERROR(INDEX('MEMORIAL DESCRITIVO-BRI'!P:P,SMALL(IF('MEMORIAL DESCRITIVO-BRI'!$E$2:$E$4000=\"Sim\",ROW('MEMORIAL DESCRITIVO-BRI'!$P$2:$P$4000)),ROW(B24))), \"\")","v":""},{"$f":"IFERROR(INDEX('MEMORIAL DESCRITIVO-BRI'!Q:Q,SMALL(IF('MEMORIAL DESCRITIVO-BRI'!$E$2:$E$4000=\"Sim\",ROW('MEMORIAL DESCRITIVO-BRI'!$Q$2:$Q$4000)),ROW(B24))), \"\")","v":""}]
[null,{"$f":"IFERROR(INDEX('MEMORIAL DESCRITIVO-BRI'!B:B,SMALL(IF('MEMORIAL DESCRITIVO-BRI'!$E$2:$E$4000=\"Sim\",ROW('MEMORIAL DESCRITIVO-BRI'!$B$2:$B$4000)),ROW(B25))), \"\")","v":""},{"$f":"IFERROR(INDEX('MEMORIAL DESCRITIVO-BRI'!I:I,SMALL(IF('MEMORIAL DESCRITIVO-BRI'!$E$2:$E$4000=\"Sim\",ROW('MEMORIAL DESCRITIVO-BRI'!$I$2:$I$4000)),ROW(B25))), \"\")","v":""},{"$f":"IFERROR(INDEX('MEMORIAL DESCRITIVO-BRI'!F:F,SMALL(IF('MEMORIAL DESCRITIVO-BRI'!$E$2:$E$4000=\"Sim\",ROW('MEMORIAL DESCRITIVO-BRI'!$F$2:$F$4000)),ROW(B25))) & \" - \" & INDEX('MEMORIAL DESCRITIVO-BRI'!H:H,SMALL(IF('MEMORIAL DESCRITIVO-BRI'!$E$2:$E$4000=\"Sim\",ROW('MEMORIAL DESCRITIVO-BRI'!$H$2:$H$4000)),ROW(B25))), \"\")","v":""},null,{"$f":"IFERROR(INDEX('MEMORIAL DESCRITIVO-BRI'!S:S,SMALL(IF('MEMORIAL DESCRITIVO-BRI'!$E$2:$E$4000=\"Sim\",ROW('MEMORIAL DESCRITIVO-BRI'!$S$2:$S$4000)),ROW(B25))), \"\")","v":""},{"$f":"IFERROR(INDEX('MEMORIAL DESCRITIVO-BRI'!Z:Z,SMALL(IF('MEMORIAL DESCRITIVO-BRI'!$E$2:$E$4000=\"Sim\",ROW('MEMORIAL DESCRITIVO-BRI'!$Z$2:$Z$4000)),ROW(B25))), \"\")","v":""},{"$f":"IFERROR(INDEX('MEMORIAL DESCRITIVO-BRI'!W:W,SMALL(IF('MEMORIAL DESCRITIVO-BRI'!$E$2:$E$4000=\"Sim\",ROW('MEMORIAL DESCRITIVO-BRI'!$W$2:$W$4000)),ROW(B25))), \"\")","v":""},{"$f":"IFERROR(INDEX('MEMORIAL DESCRITIVO-BRI'!G:G,SMALL(IF('MEMORIAL DESCRITIVO-BRI'!$E$2:$E$4000=\"Sim\",ROW('MEMORIAL DESCRITIVO-BRI'!$G$2:$G$4000)),ROW(B25))), \"\")","v":""},{"$f":"IFERROR(INDEX('MEMORIAL DESCRITIVO-BRI'!P:P,SMALL(IF('MEMORIAL DESCRITIVO-BRI'!$E$2:$E$4000=\"Sim\",ROW('MEMORIAL DESCRITIVO-BRI'!$P$2:$P$4000)),ROW(B25))), \"\")","v":""},{"$f":"IFERROR(INDEX('MEMORIAL DESCRITIVO-BRI'!Q:Q,SMALL(IF('MEMORIAL DESCRITIVO-BRI'!$E$2:$E$4000=\"Sim\",ROW('MEMORIAL DESCRITIVO-BRI'!$Q$2:$Q$4000)),ROW(B25))), \"\")","v":""}]
[null,{"$f":"IFERROR(INDEX('MEMORIAL DESCRITIVO-BRI'!B:B,SMALL(IF('MEMORIAL DESCRITIVO-BRI'!$E$2:$E$4000=\"Sim\",ROW('MEMORIAL DESCRITIVO-BRI'!$B$2:$B$4000)),ROW(B26))), \"\")","v":""},{"$f":"IFERROR(INDEX('MEMORIAL DESCRITIVO-BRI'!I:I,SMALL(IF('MEMORIAL DESCRITIVO-BRI'!$E$2:$E$4000=\"Sim\",ROW('MEMORIAL DESCRITIVO-BRI'!$I$2:$I$4000)),ROW(B26))), \"\")","v":""},{"$f":"IFERROR(INDEX('MEMORIAL DESCRITIVO-BRI'!F:F,SMALL(IF('MEMORIAL DESCRITIVO-BRI'!$E$2:$E$4000=\"Sim\",ROW('MEMORIAL DESCRITIVO-BRI'!$F$2:$F$4000)),ROW(B26))) & \" - \" & INDEX('MEMORIAL DESCRITIVO-BRI'!H:H,SMALL(IF('MEMORIAL DESCRITIVO-BRI'!$E$2:$E$4000=\"Sim\",ROW('MEMORIAL DESCRITIVO-BRI'!$H$2:$H$4000)),ROW(B26))), \"\")","v":""},null,{"$f":"IFERROR(INDEX('MEMORIAL DESCRITIVO-BRI'!S:S,SMALL(IF('MEMORIAL DESCRITIVO-BRI'!$E$2:$E$4000=\"Sim\",ROW('MEMORIAL DESCRITIVO-BRI'!$S$2:$S$4000)),ROW(B26))), \"\")","v":""},{"$f":"IFERROR(INDEX('MEMORIAL DESCRITIVO-BRI'!Z:Z,SMALL(IF('MEMORIAL DESCRITIVO-BRI'!$E$2:$E$4000=\"Sim\",ROW('MEMORIAL DESCRITIVO-BRI'!$Z$2:$Z$4000)),ROW(B26))), \"\")","v":""},{"$f":"IFERROR(INDEX('MEMORIAL DESCRITIVO-BRI'!W:W,SMALL(IF('MEMORIAL DESCRITIVO-BRI'!$E$2:$E$4000=\"Sim\",ROW('MEMORIAL DESCRITIVO-BRI'!$W$2:$W$4000)),ROW(B26))), \"\")","v":""},{"$f":"IFERROR(INDEX('MEMORIAL DESCRITIVO-BRI'!G:G,SMALL(IF('MEMORIAL DESCRITIVO-BRI'!$E$2:$E$4000=\"Sim\",ROW('MEMORIAL DESCRITIVO-BRI'!$G$2:$G$4000)),ROW(B26))), \"\")","v":""},{"$f":"IFERROR(INDEX('MEMORIAL DESCRITIVO-BRI'!P:P,SMALL(IF('MEMORIAL DESCRITIVO-BRI'!$E$2:$E$4000=\"Sim\",ROW('MEMORIAL DESCRITIVO-BRI'!$P$2:$P$4000)),ROW(B26))), \"\")","v":""},{"$f":"IFERROR(INDEX('MEMORIAL DESCRITIVO-BRI'!Q:Q,SMALL(IF('MEMORIAL DESCRITIVO-BRI'!$E$2:$E$4000=\"Sim\",ROW('MEMORIAL DESCRITIVO-BRI'!$Q$2:$Q$4000)),ROW(B26))), \"\")","v":""}]
[null,{"$f":"IFERROR(INDEX('MEMORIAL DESCRITIVO-BRI'!B:B,SMALL(IF('MEMORIAL DESCRITIVO-BRI'!$E$2:$E$4000=\"Sim\",ROW('MEMORIAL DESCRITIVO-BRI'!$B$2:$B$4000)),ROW(B27))), \"\")","v":""},{"$f":"IFERROR(INDEX('MEMORIAL DESCRITIVO-BRI'!I:I,SMALL(IF('MEMORIAL DESCRITIVO-BRI'!$E$2:$E$4000=\"Sim\",ROW('MEMORIAL DESCRITIVO-BRI'!$I$2:$I$4000)),ROW(B27))), \"\")","v":""},{"$f":"IFERROR(INDEX('MEMORIAL DESCRITIVO-BRI'!F:F,SMALL(IF('MEMORIAL DESCRITIVO-BRI'!$E$2:$E$4000=\"Sim\",ROW('MEMORIAL DESCRITIVO-BRI'!$F$2:$F$4000)),ROW(B27))) & \" - \" & INDEX('MEMORIAL DESCRITIVO-BRI'!H:H,SMALL(IF('MEMORIAL DESCRITIVO-BRI'!$E$2:$E$4000=\"Sim\",ROW('MEMORIAL DESCRITIVO-BRI'!$H$2:$H$4000)),ROW(B27))), \"\")","v":""},null,{"$f":"IFERROR(INDEX('MEMORIAL DESCRITIVO-BRI'!S:S,SMALL(IF('MEMORIAL DESCRITIVO-BRI'!$E$2:$E$4000=\"Sim\",ROW('MEMORIAL DESCRITIVO-BRI'!$S$2:$S$4000)),ROW(B27))), \"\")","v":""},{"$f":"IFERROR(INDEX('MEMORIAL DESCRITIVO-BRI'!Z:Z,SMALL(IF('MEMORIAL DESCRITIVO-BRI'!$E$2:$E$4000=\"Sim\",ROW('MEMORIAL DESCRITIVO-BRI'!$Z$2:$Z$4000)),ROW(B27))), \"\")","v":""},{"$f":"IFERROR(INDEX('MEMORIAL DESCRITIVO-BRI'!W:W,SMALL(IF('MEMORIAL DESCRITIVO-BRI'!$E$2:$E$4000=\"Sim\",ROW('MEMORIAL DESCRITIVO-BRI'!$W$2:$W$4000)),ROW(B27))), \"\")","v":""},{"$f":"IFERROR(INDEX('MEMORIAL DESCRITIVO-BRI'!G:G,SMALL(IF('MEMORIAL DESCRITIVO-BRI'!$E$2:$E$4000=\"Sim\",ROW('MEMORIAL DESCRITIVO-BRI'!$G$2:$G$4000)),ROW(B27))), \"\")","v":""},{"$f":"IFERROR(INDEX('MEMORIAL DESCRITIVO-BRI'!P:P,SMALL(IF('MEMORIAL DESCRITIVO-BRI'!$E$2:$E$4000=\"Sim\",ROW('MEMORIAL DESCRITIVO-BRI'!$P$2:$P$4000)),ROW(B27))), \"\")","v":""},{"$f":"IFERROR(INDEX('MEMORIAL DESCRITIVO-BRI'!Q:Q,SMALL(IF('MEMORIAL DESCRITIVO-BRI'!$E$2:$E$4000=\"Sim\",ROW('MEMORIAL DESCRITIVO-BRI'!$Q$2:$Q$4000)),ROW(B27))), \"\")","v":""}]
[null,{"$f":"IFERROR(INDEX('MEMORIAL DESCRITIVO-BRI'!B:B,SMALL(IF('MEMORIAL DESCRITIVO-BRI'!$E$2:$E$4000=\"Sim\",ROW('MEMORIAL DESCRITIVO-BRI'!$B$2:$B$4000)),ROW(B28))), \"\")","v":""},{"$f":"IFERROR(INDEX('MEMORIAL DESCRITIVO-BRI'!I:I,SMALL(IF('MEMORIAL DESCRITIVO-BRI'!$E$2:$E$4000=\"Sim\",ROW('MEMORIAL DESCRITIVO-BRI'!$I$2:$I$4000)),ROW(B28))), \"\")","v":""},{"$f":"IFERROR(INDEX('MEMORIAL DESCRITIVO-BRI'!F:F,SMALL(IF('MEMORIAL DESCRITIVO-BRI'!$E$2:$E$4000=\"Sim\",ROW('MEMORIAL DESCRITIVO-BRI'!$F$2:$F$4000)),ROW(B28))) & \" - \" & INDEX('MEMORIAL DESCRITIVO-BRI'!H:H,SMALL(IF('MEMORIAL DESCRITIVO-BRI'!$E$2:$E$4000=\"Sim\",ROW('MEMORIAL DESCRITIVO-BRI'!$H$2:$H$4000)),ROW(B28))), \"\")","v":""},null,{"$f":"IFERROR(INDEX('MEMORIAL DESCRITIVO-BRI'!S:S,SMALL(IF('MEMORIAL DESCRITIVO-BRI'!$E$2:$E$4000=\"Sim\",ROW('MEMORIAL DESCRITIVO-BRI'!$S$2:$S$4000)),ROW(B28))), \"\")","v":""},{"$f":"IFERROR(INDEX('MEMORIAL DESCRITIVO-BRI'!Z:Z,SMALL(IF('MEMORIAL DESCRITIVO-BRI'!$E$2:$E$4000=\"Sim\",ROW('MEMORIAL DESCRITIVO-BRI'!$Z$2:$Z$4000)),ROW(B28))), \"\")","v":""},{"$f":"IFERROR(INDEX('MEMORIAL DESCRITIVO-BRI'!W:W,SMALL(IF('MEMORIAL DESCRITIVO-BRI'!$E$2:$E$4000=\"Sim\",ROW('MEMORIAL DESCRITIVO-BRI'!$W$2:$W$4000)),ROW(B28))), \"\")","v":""},{"$f":"IFERROR(INDEX('MEMORIAL DESCRITIVO-BRI'!G:G,SMALL(IF('MEMORIAL DESCRITIVO-BRI'!$E$2:$E$4000=\"Sim\",ROW('MEMORIAL DESCRITIVO-BRI'!$G$2:$G$4000)),ROW(B28))), \"\")","v":""},{"$f":"IFERROR(INDEX('MEMORIAL DESCRITIVO-BRI'!P:P,SMALL(IF('MEMORIAL DESCRITIVO-BRI'!$E$2:$E$4000=\"Sim\",ROW('MEMORIAL DESCRITIVO-BRI'!$P$2:$P$4000)),ROW(B28))), \"\")","v":""},{"$f":"IFERROR(INDEX('MEMORIAL DESCRITIVO-BRI'!Q:Q,SMALL(IF('MEMORIAL DESCRITIVO-BRI'!$E$2:$E$4000=\"Sim\",ROW('MEMORIAL DESCRITIVO-BRI'!$Q$2:$Q$4000)),ROW(B28))), \"\")","v":""}]
[null,{"$f":"IFERROR(INDEX('MEMORIAL DESCRITIVO-BRI'!B:B,SMALL(IF('MEMORIAL DESCRITIVO-BRI'!$E$2:$E$4000=\"Sim\",ROW('MEMORIAL DESCRITIVO-BRI'!$B$2:$B$4000)),ROW(B29))), \"\")","v":""},{"$f":"IFERROR(INDEX('MEMORIAL DESCRITIVO-BRI'!I:I,SMALL(IF('MEMORIAL DESCRITIVO-BRI'!$E$2:$E$4000=\"Sim\",ROW('MEMORIAL DESCRITIVO-BRI'!$I$2:$I$4000)),ROW(B29))), \"\")","v":""},{"$f":"IFERROR(INDEX('MEMORIAL DESCRITIVO-BRI'!F:F,SMALL(IF('MEMORIAL DESCRITIVO-BRI'!$E$2:$E$4000=\"Sim\",ROW('MEMORIAL DESCRITIVO-BRI'!$F$2:$F$4000)),ROW(B29))) & \" - \" & INDEX('MEMORIAL DESCRITIVO-BRI'!H:H,SMALL(IF('MEMORIAL DESCRITIVO-BRI'!$E$2:$E$4000=\"Sim\",ROW('MEMORIAL DESCRITIVO-BRI'!$H$2:$H$4000)),ROW(B29))), \"\")","v":""},null,{"$f":"IFERROR(INDEX('MEMORIAL DESCRITIVO-BRI'!S:S,SMALL(IF('MEMORIAL DESCRITIVO-BRI'!$E$2:$E$4000=\"Sim\",ROW('MEMORIAL DESCRITIVO-BRI'!$S$2:$S$4000)),ROW(B29))), \"\")","v":""},{"$f":"IFERROR(INDEX('MEMORIAL DESCRITIVO-BRI'!Z:Z,SMALL(IF('MEMORIAL DESCRITIVO-BRI'!$E$2:$E$4000=\"Sim\",ROW('MEMORIAL DESCRITIVO-BRI'!$Z$2:$Z$4000)),ROW(B29))), \"\")","v":""},{"$f":"IFERROR(INDEX('MEMORIAL DESCRITIVO-BRI'!W:W,SMALL(IF('MEMORIAL DESCRITIVO-BRI'!$E$2:$E$4000=\"Sim\",ROW('MEMORIAL DESCRITIVO-BRI'!$W$2:$W$4000)),ROW(B29))), \"\")","v":""},{"$f":"IFERROR(INDEX('MEMORIAL DESCRITIVO-BRI'!G:G,SMALL(IF('MEMORIAL DESCRITIVO-BRI'!$E$2:$E$4000=\"Sim\",ROW('MEMORIAL DESCRITIVO-BRI'!$G$2:$G$4000)),ROW(B29))), \"\")","v":""},{"$f":"IFERROR(INDEX('MEMORIAL DESCRITIVO-BRI'!P:P,SMALL(IF('MEMORIAL DESCRITIVO-BRI'!$E$2:$E$4000=\"Sim\",ROW('MEMORIAL DESCRITIVO-BRI'!$P$2:$P$4000)),ROW(B29))), \"\")","v":""},{"$f":"IFERROR(INDEX('MEMORIAL DESCRITIVO-BRI'!Q:Q,SMALL(IF('MEMORIAL DESCRITIVO-BRI'!$E$2:$E$4000=\"Sim\",ROW('MEMORIAL DESCRITIVO-BRI'!$Q$2:$Q$4000)),ROW(B29))), \"\")","v":""}]
[null,{"$f":"IFERROR(INDEX('MEMORIAL DESCRITIVO-BRI'!B:B,SMALL(IF('MEMORIAL DESCRITIVO-BRI'!$E$2:$E$4000=\"Sim\",ROW('MEMORIAL DESCRITIVO-BRI'!$B$2:$B$4000)),ROW(B30))), \"\")","v":""},{"$f":"IFERROR(INDEX('MEMORIAL DESCRITIVO-BRI'!I:I,SMALL(IF('MEMORIAL DESCRITIVO-BRI'!$E$2:$E$4000=\"Sim\",ROW('MEMORIAL DESCRITIVO-BRI'!$I$2:$I$4000)),ROW(B30))), \"\")","v":""},{"$f":"IFERROR(INDEX('MEMORIAL DESCRITIVO-BRI'!F:F,SMALL(IF('MEMORIAL DESCRITIVO-BRI'!$E$2:$E$4000=\"Sim\",ROW('MEMORIAL DESCRITIVO-BRI'!$F$2:$F$4000)),ROW(B30))) & \" - \" & INDEX('MEMORIAL DESCRITIVO-BRI'!H:H,SMALL(IF('MEMORIAL DESCRITIVO-BRI'!$E$2:$E$4000=\"Sim\",ROW('MEMORIAL DESCRITIVO-BRI'!$H$2:$H$4000)),ROW(B30))), \"\")","v":""},null,{"$f":"IFERROR(INDEX('MEMORIAL DESCRITIVO-BRI'!S:S,SMALL(IF('MEMORIAL DESCRITIVO-BRI'!$E$2:$E$4000=\"Sim\",ROW('MEMORIAL DESCRITIVO-BRI'!$S$2:$S$4000)),ROW(B30))), \"\")","v":""},{"$f":"IFERROR(INDEX('MEMORIAL DESCRITIVO-BRI'!Z:Z,SMALL(IF('MEMORIAL DESCRITIVO-BRI'!$E$2:$E$4000=\"Sim\",ROW('MEMORIAL DESCRITIVO-BRI'!$Z$2:$Z$4000)),ROW(B30))), \"\")","v":""},{"$f":"IFERROR(INDEX('MEMORIAL DESCRITIVO-BRI'!W:W,SMALL(IF('MEMORIAL DESCRITIVO-BRI'!$E$2:$E$4000=\"Sim\",ROW('MEMORIAL DESCRITIVO-BRI'!$W$2:$W$4000)),ROW(B30))), \"\")","v":""},{"$f":"IFERROR(INDEX('MEMORIAL DESCRITIVO-BRI'!G:G,SMALL(IF('MEMORIAL DESCRITIVO-BRI'!$E$2:$E$4000=\"Sim\",ROW('MEMORIAL DESCRITIVO-BRI'!$G$2:$G$4000)),ROW(B30))), \"\")","v":""},{"$f":"IFERROR(INDEX('MEMORIAL DESCRITIVO-BRI'!P:P,SMALL(IF('MEMORIAL DESCRITIVO-BRI'!$E$2:$E$4000=\"Sim\",ROW('MEMORIAL DESCRITIVO-BRI'!$P$2:$P$4000)),ROW(B30))), \"\")","v":""},{"$f":"IFERROR(INDEX('MEMORIAL DESCRITIVO-BRI'!Q:Q,SMALL(IF('MEMORIAL DESCRITIVO-BRI'!$E$2:$E$4000=\"Sim\",ROW('MEMORIAL DESCRITIVO-BRI'!$Q$2:$Q$4000)),ROW(B30))), \"\")","v":""}]
[null,{"$f":"IFERROR(INDEX('MEMORIAL DESCRITIVO-BRI'!B:B,SMALL(IF('MEMORIAL DESCRITIVO-BRI'!$E$2:$E$4000=\"Sim\",ROW('MEMORIAL DESCRITIVO-BRI'!$B$2:$B$4000)),ROW(B31))), \"\")","v":""},{"$f":"IFERROR(INDEX('MEMORIAL DESCRITIVO-BRI'!I:I,SMALL(IF('MEMORIAL DESCRITIVO-BRI'!$E$2:$E$4000=\"Sim\",ROW('MEMORIAL DESCRITIVO-BRI'!$I$2:$I$4000)),ROW(B31))), \"\")","v":""},{"$f":"IFERROR(INDEX('MEMORIAL DESCRITIVO-BRI'!F:F,SMALL(IF('MEMORIAL DESCRITIVO-BRI'!$E$2:$E$4000=\"Sim\",ROW('MEMORIAL DESCRITIVO-BRI'!$F$2:$F$4000)),ROW(B31))) & \" - \" & INDEX('MEMORIAL DESCRITIVO-BRI'!H:H,SMALL(IF('MEMORIAL DESCRITIVO-BRI'!$E$2:$E$4000=\"Sim\",ROW('MEMORIAL DESCRITIVO-BRI'!$H$2:$H$4000)),ROW(B31))), \"\")","v":""},null,{"$f":"IFERROR(INDEX('MEMORIAL DESCRITIVO-BRI'!S:S,SMALL(IF('MEMORIAL DESCRITIVO-BRI'!$E$2:$E$4000=\"Sim\",ROW('MEMORIAL DESCRITIVO-BRI'!$S$2:$S$4000)),ROW(B31))), \"\")","v":""},{"$f":"IFERROR(INDEX('MEMORIAL DESCRITIVO-BRI'!Z:Z,SMALL(IF('MEMORIAL DESCRITIVO-BRI'!$E$2:$E$4000=\"Sim\",ROW('MEMORIAL DESCRITIVO-BRI'!$Z$2:$Z$4000)),ROW(B31))), \"\")","v":""},{"$f":"IFERROR(INDEX('MEMORIAL DESCRITIVO-BRI'!W:W,SMALL(IF('MEMORIAL DESCRITIVO-BRI'!$E$2:$E$4000=\"Sim\",ROW('MEMORIAL DESCRITIVO-BRI'!$W$2:$W$4000)),ROW(B31))), \"\")","v":""},{"$f":"IFERROR(INDEX('MEMORIAL DESCRITIVO-BRI'!G:G,SMALL(IF('MEMORIAL DESCRITIVO-BRI'!$E$2:$E$4000=\"Sim\",ROW('MEMORIAL DESCRITIVO-BRI'!$G$2:$G$4000)),ROW(B31))), \"\")","v":""},{"$f":"IFERROR(INDEX('MEMORIAL DESCRITIVO-BRI'!P:P,SMALL(IF('MEMORIAL DESCRITIVO-BRI'!$E$2:$E$4000=\"Sim\",ROW('MEMORIAL DESCRITIVO-BRI'!$P$2:$P$4000)),ROW(B31))), \"\")","v":""},{"$f":"IFERROR(INDEX('MEMORIAL DESCRITIVO-BRI'!Q:Q,SMALL(IF('MEMORIAL DESCRITIVO-BRI'!$E$2:$E$4000=\"Sim\",ROW('MEMORIAL DESCRITIVO-BRI'!$Q$2:$Q$4000)),ROW(B31))), \"\")","v":""}]
[null,{"$f":"IFERROR(INDEX('MEMORIAL DESCRITIVO-BRI'!B:B,SMALL(IF('MEMORIAL DESCRITIVO-BRI'!$E$2:$E$4000=\"Sim\",ROW('MEMORIAL DESCRITIVO-BRI'!$B$2:$B$4000)),ROW(B32))), \"\")","v":""},{"$f":"IFERROR(INDEX('MEMORIAL DESCRITIVO-BRI'!I:I,SMALL(IF('MEMORIAL DESCRITIVO-BRI'!$E$2:$E$4000=\"Sim\",ROW('MEMORIAL DESCRITIVO-BRI'!$I$2:$I$4000)),ROW(B32))), \"\")","v":""},{"$f":"IFERROR(INDEX('MEMORIAL DESCRITIVO-BRI'!F:F,SMALL(IF('MEMORIAL DESCRITIVO-BRI'!$E$2:$E$4000=\"Sim\",ROW('MEMORIAL DESCRITIVO-BRI'!$F$2:$F$4000)),ROW(B32))) & \" - \" & INDEX('MEMORIAL DESCRITIVO-BRI'!H:H,SMALL(IF('MEMORIAL DESCRITIVO-BRI'!$E$2:$E$4000=\"Sim\",ROW('MEMORIAL DESCRITIVO-BRI'!$H$2:$H$4000)),ROW(B32))), \"\")","v":""},null,{"$f":"IFERROR(INDEX('MEMORIAL DESCRITIVO-BRI'!S:S,SMALL(IF('MEMORIAL DESCRITIVO-BRI'!$E$2:$E$4000=\"Sim\",ROW('MEMORIAL DESCRITIVO-BRI'!$S$2:$S$4000)),ROW(B32))), \"\")","v":""},{"$f":"IFERROR(INDEX('MEMORIAL DESCRITIVO-BRI'!Z:Z,SMALL(IF('MEMORIAL DESCRITIVO-BRI'!$E$2:$E$4000=\"Sim\",ROW('MEMORIAL DESCRITIVO-BRI'!$Z$2:$Z$4000)),ROW(B32))), \"\")","v":""},{"$f":"IFERROR(INDEX('MEMORIAL DESCRITIVO-BRI'!W:W,SMALL(IF('MEMORIAL DESCRITIVO-BRI'!$E$2:$E$4000=\"Sim\",ROW('MEMORIAL DESCRITIVO-BRI'!$W$2:$W$4000)),ROW(B32))), \"\")","v":""},{"$f":"IFERROR(INDEX('MEMORIAL DESCRITIVO-BRI'!G:G,SMALL(IF('MEMORIAL DESCRITIVO-BRI'!$E$2:$E$4000=\"Sim\",ROW('MEMORIAL DESCRITIVO-BRI'!$G$2:$G$4000)),ROW(B32))), \"\")","v":""},{"$f":"IFERROR(INDEX('MEMORIAL DESCRITIVO-BRI'!P:P,SMALL(IF('MEMORIAL DESCRITIVO-BRI'!$E$2:$E$4000=\"Sim\",ROW('MEMORIAL DESCRITIVO-BRI'!$P$2:$P$4000)),ROW(B32))), \"\")","v":""},{"$f":"IFERROR(INDEX('MEMORIAL DESCRITIVO-BRI'!Q:Q,SMALL(IF('MEMORIAL DESCRITIVO-BRI'!$E$2:$E$4000=\"Sim\",ROW('MEMORIAL DESCRITIVO-BRI'!$Q$2:$Q$4000)),ROW(B32))), \"\")","v":""}]
[null,{"$f":"IFERROR(INDEX('MEMORIAL DESCRITIVO-BRI'!B:B,SMALL(IF('MEMORIAL DESCRITIVO-BRI'!$E$2:$E$4000=\"Sim\",ROW('MEMORIAL DESCRITIVO-BRI'!$B$2:$B$4000)),ROW(B33))), \"\")","v":""},{"$f":"IFERROR(INDEX('MEMORIAL DESCRITIVO-BRI'!I:I,SMALL(IF('MEMORIAL DESCRITIVO-BRI'!$E$2:$E$4000=\"Sim\",ROW('MEMORIAL DESCRITIVO-BRI'!$I$2:$I$4000)),ROW(B33))), \"\")","v":""},{"$f":"IFERROR(INDEX('MEMORIAL DESCRITIVO-BRI'!F:F,SMALL(IF('MEMORIAL DESCRITIVO-BRI'!$E$2:$E$4000=\"Sim\",ROW('MEMORIAL DESCRITIVO-BRI'!$F$2:$F$4000)),ROW(B33))) & \" - \" & INDEX('MEMORIAL DESCRITIVO-BRI'!H:H,SMALL(IF('MEMORIAL DESCRITIVO-BRI'!$E$2:$E$4000=\"Sim\",ROW('MEMORIAL DESCRITIVO-BRI'!$H$2:$H$4000)),ROW(B33))), \"\")","v":""},null,{"$f":"IFERROR(INDEX('MEMORIAL DESCRITIVO-BRI'!S:S,SMALL(IF('MEMORIAL DESCRITIVO-BRI'!$E$2:$E$4000=\"Sim\",ROW('MEMORIAL DESCRITIVO-BRI'!$S$2:$S$4000)),ROW(B33))), \"\")","v":""},{"$f":"IFERROR(INDEX('MEMORIAL DESCRITIVO-BRI'!Z:Z,SMALL(IF('MEMORIAL DESCRITIVO-BRI'!$E$2:$E$4000=\"Sim\",ROW('MEMORIAL DESCRITIVO-BRI'!$Z$2:$Z$4000)),ROW(B33))), \"\")","v":""},{"$f":"IFERROR(INDEX('MEMORIAL DESCRITIVO-BRI'!W:W,SMALL(IF('MEMORIAL DESCRITIVO-BRI'!$E$2:$E$4000=\"Sim\",ROW('MEMORIAL DESCRITIVO-BRI'!$W$2:$W$4000)),ROW(B33))), \"\")","v":""},{"$f":"IFERROR(INDEX('MEMORIAL DESCRITIVO-BRI'!G:G,SMALL(IF('MEMORIAL DESCRITIVO-BRI'!$E$2:$E$4000=\"Sim\",ROW('MEMORIAL DESCRITIVO-BRI'!$G$2:$G$4000)),ROW(B33))), \"\")","v":""},{"$f":"IFERROR(INDEX('MEMORIAL DESCRITIVO-BRI'!P:P,SMALL(IF('MEMORIAL DESCRITIVO-BRI'!$E$2:$E$4000=\"Sim\",ROW('MEMORIAL DESCRITIVO-BRI'!$P$2:$P$4000)),ROW(B33))), \"\")","v":""},{"$f":"IFERROR(INDEX('MEMORIAL DESCRITIVO-BRI'!Q:Q,SMALL(IF('MEMORIAL DESCRITIVO-BRI'!$E$2:$E$4000=\"Sim\",ROW('MEMORIAL DESCRITIVO-BRI'!$Q$2:$Q$4000)),ROW(B33))), \"\")","v":""}]
[null,{"$f":"IFERROR(INDEX('MEMORIAL DESCRITIVO-BRI'!B:B,SMALL(IF('MEMORIAL DESCRITIVO-BRI'!$E$2:$E$4000=\"Sim\",ROW('MEMORIAL DESCRITIVO-BRI'!$B$2:$B$4000)),ROW(B34))), \"\")","v":""},{"$f":"IFERROR(INDEX('MEMORIAL DESCRITIVO-BRI'!I:I,SMALL(IF('MEMORIAL DESCRITIVO-BRI'!$E$2:$E$4000=\"Sim\",ROW('MEMORIAL DESCRITIVO-BRI'!$I$2:$I$4000)),ROW(B34))), \"\")","v":""},{"$f":"IFERROR(INDEX('MEMORIAL DESCRITIVO-BRI'!F:F,SMALL(IF('MEMORIAL DESCRITIVO-BRI'!$E$2:$E$4000=\"Sim\",ROW('MEMORIAL DESCRITIVO-BRI'!$F$2:$F$4000)),ROW(B34))) & \" - \" & INDEX('MEMORIAL DESCRITIVO-BRI'!H:H,SMALL(IF('MEMORIAL DESCRITIVO-BRI'!$E$2:$E$4000=\"Sim\",ROW('MEMORIAL DESCRITIVO-BRI'!$H$2:$H$4000)),ROW(B34))), \"\")","v":""},null,{"$f":"IFERROR(INDEX('MEMORIAL DESCRITIVO-BRI'!S:S,SMALL(IF('MEMORIAL DESCRITIVO-BRI'!$E$2:$E$4000=\"Sim\",ROW('MEMORIAL DESCRITIVO-BRI'!$S$2:$S$4000)),ROW(B34))), \"\")","v":""},{"$f":"IFERROR(INDEX('MEMORIAL DESCRITIVO-BRI'!Z:Z,SMALL(IF('MEMORIAL DESCRITIVO-BRI'!$E$2:$E$4000=\"Sim\",ROW('MEMORIAL DESCRITIVO-BRI'!$Z$2:$Z$4000)),ROW(B34))), \"\")","v":""},{"$f":"IFERROR(INDEX('MEMORIAL DESCRITIVO-BRI'!W:W,SMALL(IF('MEMORIAL DESCRITIVO-BRI'!$E$2:$E$4000=\"Sim\",ROW('MEMORIAL DESCRITIVO-BRI'!$W$2:$W$4000)),ROW(B34))), \"\")","v":""},{"$f":"IFERROR(INDEX('MEMORIAL DESCRITIVO-BRI'!G:G,SMALL(IF('MEMORIAL DESCRITIVO-BRI'!$E$2:$E$4000=\"Sim\",ROW('MEMORIAL DESCRITIVO-BRI'!$G$2:$G$4000)),ROW(B34))), \"\")","v":""},{"$f":"IFERROR(INDEX('MEMORIAL DESCRITIVO-BRI'!P:P,SMALL(IF('MEMORIAL DESCRITIVO-BRI'!$E$2:$E$4000=\"Sim\",ROW('MEMORIAL DESCRITIVO-BRI'!$P$2:$P$4000)),ROW(B34))), \"\")","v":""},{"$f":"IFERROR(INDEX('MEMORIAL DESCRITIVO-BRI'!Q:Q,SMALL(IF('MEMORIAL DESCRITIVO-BRI'!$E$2:$E$4000=\"Sim\",ROW('MEMORIAL DESCRITIVO-BRI'!$Q$2:$Q$4000)),ROW(B34))), \"\")","v":""}]
[null,{"$f":"IFERROR(INDEX('MEMORIAL DESCRITIVO-BRI'!B:B,SMALL(IF('MEMORIAL DESCRITIVO-BRI'!$E$2:$E$4000=\"Sim\",ROW('MEMORIAL DESCRITIVO-BRI'!$B$2:$B$4000)),ROW(B35))), \"\")","v":""},{"$f":"IFERROR(INDEX('MEMORIAL DESCRITIVO-BRI'!I:I,SMALL(IF('MEMORIAL DESCRITIVO-BRI'!$E$2:$E$4000=\"Sim\",ROW('MEMORIAL DESCRITIVO-BRI'!$I$2:$I$4000)),ROW(B35))), \"\")","v":""},{"$f":"IFERROR(INDEX('MEMORIAL DESCRITIVO-BRI'!F:F,SMALL(IF('MEMORIAL DESCRITIVO-BRI'!$E$2:$E$4000=\"Sim\",ROW('MEMORIAL DESCRITIVO-BRI'!$F$2:$F$4000)),ROW(B35))) & \" - \" & INDEX('MEMORIAL DESCRITIVO-BRI'!H:H,SMALL(IF('MEMORIAL DESCRITIVO-BRI'!$E$2:$E$4000=\"Sim\",ROW('MEMORIAL DESCRITIVO-BRI'!$H$2:$H$4000)),ROW(B35))), \"\")","v":""},null,{"$f":"IFERROR(INDEX('MEMORIAL DESCRITIVO-BRI'!S:S,SMALL(IF('MEMORIAL DESCRITIVO-BRI'!$E$2:$E$4000=\"Sim\",ROW('MEMORIAL DESCRITIVO-BRI'!$S$2:$S$4000)),ROW(B35))), \"\")","v":""},{"$f":"IFERROR(INDEX('MEMORIAL DESCRITIVO-BRI'!Z:Z,SMALL(IF('MEMORIAL DESCRITIVO-BRI'!$E$2:$E$4000=\"Sim\",ROW('MEMORIAL DESCRITIVO-BRI'!$Z$2:$Z$4000)),ROW(B35))), \"\")","v":""},{"$f":"IFERROR(INDEX('MEMORIAL DESCRITIVO-BRI'!W:W,SMALL(IF('MEMORIAL DESCRITIVO-BRI'!$E$2:$E$4000=\"Sim\",ROW('MEMORIAL DESCRITIVO-BRI'!$W$2:$W$4000)),ROW(B35))), \"\")","v":""},{"$f":"IFERROR(INDEX('MEMORIAL DESCRITIVO-BRI'!G:G,SMALL(IF('MEMORIAL DESCRITIVO-BRI'!$E$2:$E$4000=\"Sim\",ROW('MEMORIAL DESCRITIVO-BRI'!$G$2:$G$4000)),ROW(B35))), \"\")","v":""},{"$f":"IFERROR(INDEX('MEMORIAL DESCRITIVO-BRI'!P:P,SMALL(IF('MEMORIAL DESCRITIVO-BRI'!$E$2:$E$4000=\"Sim\",ROW('MEMORIAL DESCRITIVO-BRI'!$P$2:$P$4000)),ROW(B35))), \"\")","v":""},{"$f":"IFERROR(INDEX('MEMORIAL DESCRITIVO-BRI'!Q:Q,SMALL(IF('MEMORIAL DESCRITIVO-BRI'!$E$2:$E$4000=\"Sim\",ROW('MEMORIAL DESCRITIVO-BRI'!$Q$2:$Q$4000)),ROW(B35))), \"\")","v":""}]
[null,{"$f":"IFERROR(INDEX('MEMORIAL DESCRITIVO-BRI'!B:B,SMALL(IF('MEMORIAL DESCRITIVO-BRI'!$E$2:$E$4000=\"Sim\",ROW('MEMORIAL DESCRITIVO-BRI'!$B$2:$B$4000)),ROW(B36))), \"\")","v":""},{"$f":"IFERROR(INDEX('MEMORIAL DESCRITIVO-BRI'!I:I,SMALL(IF('MEMORIAL DESCRITIVO-BRI'!$E$2:$E$4000=\"Sim\",ROW('MEMORIAL DESCRITIVO-BRI'!$I$2:$I$4000)),ROW(B36))), \"\")","v":""},{"$f":"IFERROR(INDEX('MEMORIAL DESCRITIVO-BRI'!F:F,SMALL(IF('MEMORIAL DESCRITIVO-BRI'!$E$2:$E$4000=\"Sim\",ROW('MEMORIAL DESCRITIVO-BRI'!$F$2:$F$4000)),ROW(B36))) & \" - \" & INDEX('MEMORIAL DESCRITIVO-BRI'!H:H,SMALL(IF('MEMORIAL DESCRITIVO-BRI'!$E$2:$E$4000=\"Sim\",ROW('MEMORIAL DESCRITIVO-BRI'!$H$2:$H$4000)),ROW(B36))), \"\")","v":""},null,{"$f":"IFERROR(INDEX('MEMORIAL DESCRITIVO-BRI'!S:S,SMALL(IF('MEMORIAL DESCRITIVO-BRI'!$E$2:$E$4000=\"Sim\",ROW('MEMORIAL DESCRITIVO-BRI'!$S$2:$S$4000)),ROW(B36))), \"\")","v":""},{"$f":"IFERROR(INDEX('MEMORIAL DESCRITIVO-BRI'!Z:Z,SMALL(IF('MEMORIAL DESCRITIVO-BRI'!$E$2:$E$4000=\"Sim\",ROW('MEMORIAL DESCRITIVO-BRI'!$Z$2:$Z$4000)),ROW(B36))), \"\")","v":""},{"$f":"IFERROR(INDEX('MEMORIAL DESCRITIVO-BRI'!W:W,SMALL(IF('MEMORIAL DESCRITIVO-BRI'!$E$2:$E$4000=\"Sim\",ROW('MEMORIAL DESCRITIVO-BRI'!$W$2:$W$4000)),ROW(B36))), \"\")","v":""},{"$f":"IFERROR(INDEX('MEMORIAL DESCRITIVO-BRI'!G:G,SMALL(IF('MEMORIAL DESCRITIVO-BRI'!$E$2:$E$4000=\"Sim\",ROW('MEMORIAL DESCRITIVO-BRI'!$G$2:$G$4000)),ROW(B36))), \"\")","v":""},{"$f":"IFERROR(INDEX('MEMORIAL DESCRITIVO-BRI'!P:P,SMALL(IF('MEMORIAL DESCRITIVO-BRI'!$E$2:$E$4000=\"Sim\",ROW('MEMORIAL DESCRITIVO-BRI'!$P$2:$P$4000)),ROW(B36))), \"\")","v":""},{"$f":"IFERROR(INDEX('MEMORIAL DESCRITIVO-BRI'!Q:Q,SMALL(IF('MEMORIAL DESCRITIVO-BRI'!$E$2:$E$4000=\"Sim\",ROW('MEMORIAL DESCRITIVO-BRI'!$Q$2:$Q$4000)),ROW(B36))), \"\")","v":""}]
[null,{"$f":"IFERROR(INDEX('MEMORIAL DESCRITIVO-BRI'!B:B,SMALL(IF('MEMORIAL DESCRITIVO-BRI'!$E$2:$E$4000=\"Sim\",ROW('MEMORIAL DESCRITIVO-BRI'!$B$2:$B$4000)),ROW(B37))), \"\")","v":""},{"$f":"IFERROR(INDEX('MEMORIAL DESCRITIVO-BRI'!I:I,SMALL(IF('MEMORIAL DESCRITIVO-BRI'!$E$2:$E$4000=\"Sim\",ROW('MEMORIAL DESCRITIVO-BRI'!$I$2:$I$4000)),ROW(B37))), \"\")","v":""},{"$f":"IFERROR(INDEX('MEMORIAL DESCRITIVO-BRI'!F:F,SMALL(IF('MEMORIAL DESCRITIVO-BRI'!$E$2:$E$4000=\"Sim\",ROW('MEMORIAL DESCRITIVO-BRI'!$F$2:$F$4000)),ROW(B37))) & \" - \" & INDEX('MEMORIAL DESCRITIVO-BRI'!H:H,SMALL(IF('MEMORIAL DESCRITIVO-BRI'!$E$2:$E$4000=\"Sim\",ROW('MEMORIAL DESCRITIVO-BRI'!$H$2:$H$4000)),ROW(B37))), \"\")","v":""},null,{"$f":"IFERROR(INDEX('MEMORIAL DESCRITIVO-BRI'!S:S,SMALL(IF('MEMORIAL DESCRITIVO-BRI'!$E$2:$E$4000=\"Sim\",ROW('MEMORIAL DESCRITIVO-BRI'!$S$2:$S$4000)),ROW(B37))), \"\")","v":""},{"$f":"IFERROR(INDEX('MEMORIAL DESCRITIVO-BRI'!Z:Z,SMALL(IF('MEMORIAL DESCRITIVO-BRI'!$E$2:$E$4000=\"Sim\",ROW('MEMORIAL DESCRITIVO-BRI'!$Z$2:$Z$4000)),ROW(B37))), \"\")","v":""},{"$f":"IFERROR(INDEX('MEMORIAL DESCRITIVO-BRI'!W:W,SMALL(IF('MEMORIAL DESCRITIVO-BRI'!$E$2:$E$4000=\"Sim\",ROW('MEMORIAL DESCRITIVO-BRI'!$W$2:$W$4000)),ROW(B37))), \"\")","v":""},{"$f":"IFERROR(INDEX('MEMORIAL DESCRITIVO-BRI'!G:G,SMALL(IF('MEMORIAL DESCRITIVO-BRI'!$E$2:$E$4000=\"Sim\",ROW('MEMORIAL DESCRITIVO-BRI'!$G$2:$G$4000)),ROW(B37))), \"\")","v":""},{"$f":"IFERROR(INDEX('MEMORIAL DESCRITIVO-BRI'!P:P,SMALL(IF('MEMORIAL DESCRITIVO-BRI'!$E$2:$E$4000=\"Sim\",ROW('MEMORIAL DESCRITIVO-BRI'!$P$2:$P$4000)),ROW(B37))), \"\")","v":""},{"$f":"IFERROR(INDEX('MEMORIAL DESCRITIVO-BRI'!Q:Q,SMALL(IF('MEMORIAL DESCRITIVO-BRI'!$E$2:$E$4000=\"Sim\",ROW('MEMORIAL DESCRITIVO-BRI'!$Q$2:$Q$4000)),ROW(B37))), \"\")","v":""}]
[null,{"$f":"IFERROR(INDEX('MEMORIAL DESCRITIVO-BRI'!B:B,SMALL(IF('MEMORIAL DESCRITIVO-BRI'!$E$2:$E$4000=\"Sim\",ROW('MEMORIAL DESCRITIVO-BRI'!$B$2:$B$4000)),ROW(B38))), \"\")","v":""},{"$f":"IFERROR(INDEX('MEMORIAL DESCRITIVO-BRI'!I:I,SMALL(IF('MEMORIAL DESCRITIVO-BRI'!$E$2:$E$4000=\"Sim\",ROW('MEMORIAL DESCRITIVO-BRI'!$I$2:$I$4000)),ROW(B38))), \"\")","v":""},{"$f":"IFERROR(INDEX('MEMORIAL DESCRITIVO-BRI'!F:F,SMALL(IF('MEMORIAL DESCRITIVO-BRI'!$E$2:$E$4000=\"Sim\",ROW('MEMORIAL DESCRITIVO-BRI'!$F$2:$F$4000)),ROW(B38))) & \" - \" & INDEX('MEMORIAL DESCRITIVO-BRI'!H:H,SMALL(IF('MEMORIAL DESCRITIVO-BRI'!$E$2:$E$4000=\"Sim\",ROW('MEMORIAL DESCRITIVO-BRI'!$H$2:$H$4000)),ROW(B38))), \"\")","v":""},null,{"$f":"IFERROR(INDEX('MEMORIAL DESCRITIVO-BRI'!S:S,SMALL(IF('MEMORIAL DESCRITIVO-BRI'!$E$2:$E$4000=\"Sim\",ROW('MEMORIAL DESCRITIVO-BRI'!$S$2:$S$4000)),ROW(B38))), \"\")","v":""},{"$f":"IFERROR(INDEX('MEMORIAL DESCRITIVO-BRI'!Z:Z,SMALL(IF('MEMORIAL DESCRITIVO-BRI'!$E$2:$E$4000=\"Sim\",ROW('MEMORIAL DESCRITIVO-BRI'!$Z$2:$Z$4000)),ROW(B38))), \"\")","v":""},{"$f":"IFERROR(INDEX('MEMORIAL DESCRITIVO-BRI'!W:W,SMALL(IF('MEMORIAL DESCRITIVO-BRI'!$E$2:$E$4000=\"Sim\",ROW('MEMORIAL DESCRITIVO-BRI'!$W$2:$W$4000)),ROW(B38))), \"\")","v":""},{"$f":"IFERROR(INDEX('MEMORIAL DESCRITIVO-BRI'!G:G,SMALL(IF('MEMORIAL DESCRITIVO-BRI'!$E$2:$E$4000=\"Sim\",ROW('MEMORIAL DESCRITIVO-BRI'!$G$2:$G$4000)),ROW(B38))), \"\")","v":""},{"$f":"IFERROR(INDEX('MEMORIAL DESCRITIVO-BRI'!P:P,SMALL(IF('MEMORIAL DESCRITIVO-BRI'!$E$2:$E$4000=\"Sim\",ROW('MEMORIAL DESCRITIVO-BRI'!$P$2:$P$4000)),ROW(B38))), \"\")","v":""},{"$f":"IFERROR(INDEX('MEMORIAL DESCRITIVO-BRI'!Q:Q,SMALL(IF('MEMORIAL DESCRITIVO-BRI'!$E$2:$E$4000=\"Sim\",ROW('MEMORIAL DESCRITIVO-BRI'!$Q$2:$Q$4000)),ROW(B38))), \"\")","v":""}]
[null,{"$f":"IFERROR(INDEX('MEMORIAL DESCRITIVO-BRI'!B:B,SMALL(IF('MEMORIAL DESCRITIVO-BRI'!$E$2:$E$4000=\"Sim\",ROW('MEMORIAL DESCRITIVO-BRI'!$B$2:$B$4000)),ROW(B39))), \"\")","v":""},{"$f":"IFERROR(INDEX('MEMORIAL DESCRITIVO-BRI'!I:I,SMALL(IF('MEMORIAL DESCRITIVO-BRI'!$E$2:$E$4000=\"Sim\",ROW('MEMORIAL DESCRITIVO-BRI'!$I$2:$I$4000)),ROW(B39))), \"\")","v":""},{"$f":"IFERROR(INDEX('MEMORIAL DESCRITIVO-BRI'!F:F,SMALL(IF('MEMORIAL DESCRITIVO-BRI'!$E$2:$E$4000=\"Sim\",ROW('MEMORIAL DESCRITIVO-BRI'!$F$2:$F$4000)),ROW(B39))) & \" - \" & INDEX('MEMORIAL DESCRITIVO-BRI'!H:H,SMALL(IF('MEMORIAL DESCRITIVO-BRI'!$E$2:$E$4000=\"Sim\",ROW('MEMORIAL DESCRITIVO-BRI'!$H$2:$H$4000)),ROW(B39))), \"\")","v":""},null,{"$f":"IFERROR(INDEX('MEMORIAL DESCRITIVO-BRI'!S:S,SMALL(IF('MEMORIAL DESCRITIVO-BRI'!$E$2:$E$4000=\"Sim\",ROW('MEMORIAL DESCRITIVO-BRI'!$S$2:$S$4000)),ROW(B39))), \"\")","v":""},{"$f":"IFERROR(INDEX('MEMORIAL DESCRITIVO-BRI'!Z:Z,SMALL(IF('MEMORIAL DESCRITIVO-BRI'!$E$2:$E$4000=\"Sim\",ROW('MEMORIAL DESCRITIVO-BRI'!$Z$2:$Z$4000)),ROW(B39))), \"\")","v":""},{"$f":"IFERROR(INDEX('MEMORIAL DESCRITIVO-BRI'!W:W,SMALL(IF('MEMORIAL DESCRITIVO-BRI'!$E$2:$E$4000=\"Sim\",ROW('MEMORIAL DESCRITIVO-BRI'!$W$2:$W$4000)),ROW(B39))), \"\")","v":""},{"$f":"IFERROR(INDEX('MEMORIAL DESCRITIVO-BRI'!G:G,SMALL(IF('MEMORIAL DESCRITIVO-BRI'!$E$2:$E$4000=\"Sim\",ROW('MEMORIAL DESCRITIVO-BRI'!$G$2:$G$4000)),ROW(B39))), \"\")","v":""},{"$f":"IFERROR(INDEX('MEMORIAL DESCRITIVO-BRI'!P:P,SMALL(IF('MEMORIAL DESCRITIVO-BRI'!$E$2:$E$4000=\"Sim\",ROW('MEMORIAL DESCRITIVO-BRI'!$P$2:$P$4000)),ROW(B39))), \"\")","v":""},{"$f":"IFERROR(INDEX('MEMORIAL DESCRITIVO-BRI'!Q:Q,SMALL(IF('MEMORIAL DESCRITIVO-BRI'!$E$2:$E$4000=\"Sim\",ROW('MEMORIAL DESCRITIVO-BRI'!$Q$2:$Q$4000)),ROW(B39))), \"\")","v":""}]
[null,{"$f":"IFERROR(INDEX('MEMORIAL DESCRITIVO-BRI'!B:B,SMALL(IF('MEMORIAL DESCRITIVO-BRI'!$E$2:$E$4000=\"Sim\",ROW('MEMORIAL DESCRITIVO-BRI'!$B$2:$B$4000)),ROW(B40))), \"\")","v":""},{"$f":"IFERROR(INDEX('MEMORIAL DESCRITIVO-BRI'!I:I,SMALL(IF('MEMORIAL DESCRITIVO-BRI'!$E$2:$E$4000=\"Sim\",ROW('MEMORIAL DESCRITIVO-BRI'!$I$2:$I$4000)),ROW(B40))), \"\")","v":""},{"$f":"IFERROR(INDEX('MEMORIAL DESCRITIVO-BRI'!F:F,SMALL(IF('MEMORIAL DESCRITIVO-BRI'!$E$2:$E$4000=\"Sim\",ROW('MEMORIAL DESCRITIVO-BRI'!$F$2:$F$4000)),ROW(B40))) & \" - \" & INDEX('MEMORIAL DESCRITIVO-BRI'!H:H,SMALL(IF('MEMORIAL DESCRITIVO-BRI'!$E$2:$E$4000=\"Sim\",ROW('MEMORIAL DESCRITIVO-BRI'!$H$2:$H$4000)),ROW(B40))), \"\")","v":""},null,{"$f":"IFERROR(INDEX('MEMORIAL DESCRITIVO-BRI'!S:S,SMALL(IF('MEMORIAL DESCRITIVO-BRI'!$E$2:$E$4000=\"Sim\",ROW('MEMORIAL DESCRITIVO-BRI'!$S$2:$S$4000)),ROW(B40))), \"\")","v":""},{"$f":"IFERROR(INDEX('MEMORIAL DESCRITIVO-BRI'!Z:Z,SMALL(IF('MEMORIAL DESCRITIVO-BRI'!$E$2:$E$4000=\"Sim\",ROW('MEMORIAL DESCRITIVO-BRI'!$Z$2:$Z$4000)),ROW(B40))), \"\")","v":""},{"$f":"IFERROR(INDEX('MEMORIAL DESCRITIVO-BRI'!W:W,SMALL(IF('MEMORIAL DESCRITIVO-BRI'!$E$2:$E$4000=\"Sim\",ROW('MEMORIAL DESCRITIVO-BRI'!$W$2:$W$4000)),ROW(B40))), \"\")","v":""},{"$f":"IFERROR(INDEX('MEMORIAL DESCRITIVO-BRI'!G:G,SMALL(IF('MEMORIAL DESCRITIVO-BRI'!$E$2:$E$4000=\"Sim\",ROW('MEMORIAL DESCRITIVO-BRI'!$G$2:$G$4000)),ROW(B40))), \"\")","v":""},{"$f":"IFERROR(INDEX('MEMORIAL DESCRITIVO-BRI'!P:P,SMALL(IF('MEMORIAL DESCRITIVO-BRI'!$E$2:$E$4000=\"Sim\",ROW('MEMORIAL DESCRITIVO-BRI'!$P$2:$P$4000)),ROW(B40))), \"\")","v":""},{"$f":"IFERROR(INDEX('MEMORIAL DESCRITIVO-BRI'!Q:Q,SMALL(IF('MEMORIAL DESCRITIVO-BRI'!$E$2:$E$4000=\"Sim\",ROW('MEMORIAL DESCRITIVO-BRI'!$Q$2:$Q$4000)),ROW(B40))), \"\")","v":""}]
[null,{"$f":"IFERROR(INDEX('MEMORIAL DESCRITIVO-BRI'!B:B,SMALL(IF('MEMORIAL DESCRITIVO-BRI'!$E$2:$E$4000=\"Sim\",ROW('MEMORIAL DESCRITIVO-BRI'!$B$2:$B$4000)),ROW(B41))), \"\")","v":""},{"$f":"IFERROR(INDEX('MEMORIAL DESCRITIVO-BRI'!I:I,SMALL(IF('MEMORIAL DESCRITIVO-BRI'!$E$2:$E$4000=\"Sim\",ROW('MEMORIAL DESCRITIVO-BRI'!$I$2:$I$4000)),ROW(B41))), \"\")","v":""},{"$f":"IFERROR(INDEX('MEMORIAL DESCRITIVO-BRI'!F:F,SMALL(IF('MEMORIAL DESCRITIVO-BRI'!$E$2:$E$4000=\"Sim\",ROW('MEMORIAL DESCRITIVO-BRI'!$F$2:$F$4000)),ROW(B41))) & \" - \" & INDEX('MEMORIAL DESCRITIVO-BRI'!H:H,SMALL(IF('MEMORIAL DESCRITIVO-BRI'!$E$2:$E$4000=\"Sim\",ROW('MEMORIAL DESCRITIVO-BRI'!$H$2:$H$4000)),ROW(B41))), \"\")","v":""},null,{"$f":"IFERROR(INDEX('MEMORIAL DESCRITIVO-BRI'!S:S,SMALL(IF('MEMORIAL DESCRITIVO-BRI'!$E$2:$E$4000=\"Sim\",ROW('MEMORIAL DESCRITIVO-BRI'!$S$2:$S$4000)),ROW(B41))), \"\")","v":""},{"$f":"IFERROR(INDEX('MEMORIAL DESCRITIVO-BRI'!Z:Z,SMALL(IF('MEMORIAL DESCRITIVO-BRI'!$E$2:$E$4000=\"Sim\",ROW('MEMORIAL DESCRITIVO-BRI'!$Z$2:$Z$4000)),ROW(B41))), \"\")","v":""},{"$f":"IFERROR(INDEX('MEMORIAL DESCRITIVO-BRI'!W:W,SMALL(IF('MEMORIAL DESCRITIVO-BRI'!$E$2:$E$4000=\"Sim\",ROW('MEMORIAL DESCRITIVO-BRI'!$W$2:$W$4000)),ROW(B41))), \"\")","v":""},{"$f":"IFERROR(INDEX('MEMORIAL DESCRITIVO-BRI'!G:G,SMALL(IF('MEMORIAL DESCRITIVO-BRI'!$E$2:$E$4000=\"Sim\",ROW('MEMORIAL DESCRITIVO-BRI'!$G$2:$G$4000)),ROW(B41))), \"\")","v":""},{"$f":"IFERROR(INDEX('MEMORIAL DESCRITIVO-BRI'!P:P,SMALL(IF('MEMORIAL DESCRITIVO-BRI'!$E$2:$E$4000=\"Sim\",ROW('MEMORIAL DESCRITIVO-BRI'!$P$2:$P$4000)),ROW(B41))), \"\")","v":""},{"$f":"IFERROR(INDEX('MEMORIAL DESCRITIVO-BRI'!Q:Q,SMALL(IF('MEMORIAL DESCRITIVO-BRI'!$E$2:$E$4000=\"Sim\",ROW('MEMORIAL DESCRITIVO-BRI'!$Q$2:$Q$4000)),ROW(B41))), \"\")","v":""}]
[null,{"$f":"IFERROR(INDEX('MEMORIAL DESCRITIVO-BRI'!B:B,SMALL(IF('MEMORIAL DESCRITIVO-BRI'!$E$2:$E$4000=\"Sim\",ROW('MEMORIAL DESCRITIVO-BRI'!$B$2:$B$4000)),ROW(B42))), \"\")","v":""},{"$f":"IFERROR(INDEX('MEMORIAL DESCRITIVO-BRI'!I:I,SMALL(IF('MEMORIAL DESCRITIVO-BRI'!$E$2:$E$4000=\"Sim\",ROW('MEMORIAL DESCRITIVO-BRI'!$I$2:$I$4000)),ROW(B42))), \"\")","v":""},{"$f":"IFERROR(INDEX('MEMORIAL DESCRITIVO-BRI'!F:F,SMALL(IF('MEMORIAL DESCRITIVO-BRI'!$E$2:$E$4000=\"Sim\",ROW('MEMORIAL DESCRITIVO-BRI'!$F$2:$F$4000)),ROW(B42))) & \" - \" & INDEX('MEMORIAL DESCRITIVO-BRI'!H:H,SMALL(IF('MEMORIAL DESCRITIVO-BRI'!$E$2:$E$4000=\"Sim\",ROW('MEMORIAL DESCRITIVO-BRI'!$H$2:$H$4000)),ROW(B42))), \"\")","v":""},null,{"$f":"IFERROR(INDEX('MEMORIAL DESCRITIVO-BRI'!S:S,SMALL(IF('MEMORIAL DESCRITIVO-BRI'!$E$2:$E$4000=\"Sim\",ROW('MEMORIAL DESCRITIVO-BRI'!$S$2:$S$4000)),ROW(B42))), \"\")","v":""},{"$f":"IFERROR(INDEX('MEMORIAL DESCRITIVO-BRI'!Z:Z,SMALL(IF('MEMORIAL DESCRITIVO-BRI'!$E$2:$E$4000=\"Sim\",ROW('MEMORIAL DESCRITIVO-BRI'!$Z$2:$Z$4000)),ROW(B42))), \"\")","v":""},{"$f":"IFERROR(INDEX('MEMORIAL DESCRITIVO-BRI'!W:W,SMALL(IF('MEMORIAL DESCRITIVO-BRI'!$E$2:$E$4000=\"Sim\",ROW('MEMORIAL DESCRITIVO-BRI'!$W$2:$W$4000)),ROW(B42))), \"\")","v":""},{"$f":"IFERROR(INDEX('MEMORIAL DESCRITIVO-BRI'!G:G,SMALL(IF('MEMORIAL DESCRITIVO-BRI'!$E$2:$E$4000=\"Sim\",ROW('MEMORIAL DESCRITIVO-BRI'!$G$2:$G$4000)),ROW(B42))), \"\")","v":""},{"$f":"IFERROR(INDEX('MEMORIAL DESCRITIVO-BRI'!P:P,SMALL(IF('MEMORIAL DESCRITIVO-BRI'!$E$2:$E$4000=\"Sim\",ROW('MEMORIAL DESCRITIVO-BRI'!$P$2:$P$4000)),ROW(B42))), \"\")","v":""},{"$f":"IFERROR(INDEX('MEMORIAL DESCRITIVO-BRI'!Q:Q,SMALL(IF('MEMORIAL DESCRITIVO-BRI'!$E$2:$E$4000=\"Sim\",ROW('MEMORIAL DESCRITIVO-BRI'!$Q$2:$Q$4000)),ROW(B42))), \"\")","v":""}]
[null,{"$f":"IFERROR(INDEX('MEMORIAL DESCRITIVO-BRI'!B:B,SMALL(IF('MEMORIAL DESCRITIVO-BRI'!$E$2:$E$4000=\"Sim\",ROW('MEMORIAL DESCRITIVO-BRI'!$B$2:$B$4000)),ROW(B43))), \"\")","v":""},{"$f":"IFERROR(INDEX('MEMORIAL DESCRITIVO-BRI'!I:I,SMALL(IF('MEMORIAL DESCRITIVO-BRI'!$E$2:$E$4000=\"Sim\",ROW('MEMORIAL DESCRITIVO-BRI'!$I$2:$I$4000)),ROW(B43))), \"\")","v":""},{"$f":"IFERROR(INDEX('MEMORIAL DESCRITIVO-BRI'!F:F,SMALL(IF('MEMORIAL DESCRITIVO-BRI'!$E$2:$E$4000=\"Sim\",ROW('MEMORIAL DESCRITIVO-BRI'!$F$2:$F$4000)),ROW(B43))) & \" - \" & INDEX('MEMORIAL DESCRITIVO-BRI'!H:H,SMALL(IF('MEMORIAL DESCRITIVO-BRI'!$E$2:$E$4000=\"Sim\",ROW('MEMORIAL DESCRITIVO-BRI'!$H$2:$H$4000)),ROW(B43))), \"\")","v":""},null,{"$f":"IFERROR(INDEX('MEMORIAL DESCRITIVO-BRI'!S:S,SMALL(IF('MEMORIAL DESCRITIVO-BRI'!$E$2:$E$4000=\"Sim\",ROW('MEMORIAL DESCRITIVO-BRI'!$S$2:$S$4000)),ROW(B43))), \"\")","v":""},{"$f":"IFERROR(INDEX('MEMORIAL DESCRITIVO-BRI'!Z:Z,SMALL(IF('MEMORIAL DESCRITIVO-BRI'!$E$2:$E$4000=\"Sim\",ROW('MEMORIAL DESCRITIVO-BRI'!$Z$2:$Z$4000)),ROW(B43))), \"\")","v":""},{"$f":"IFERROR(INDEX('MEMORIAL DESCRITIVO-BRI'!W:W,SMALL(IF('MEMORIAL DESCRITIVO-BRI'!$E$2:$E$4000=\"Sim\",ROW('MEMORIAL DESCRITIVO-BRI'!$W$2:$W$4000)),ROW(B43))), \"\")","v":""},{"$f":"IFERROR(INDEX('MEMORIAL DESCRITIVO-BRI'!G:G,SMALL(IF('MEMORIAL DESCRITIVO-BRI'!$E$2:$E$4000=\"Sim\",ROW('MEMORIAL DESCRITIVO-BRI'!$G$2:$G$4000)),ROW(B43))), \"\")","v":""},{"$f":"IFERROR(INDEX('MEMORIAL DESCRITIVO-BRI'!P:P,SMALL(IF('MEMORIAL DESCRITIVO-BRI'!$E$2:$E$4000=\"Sim\",ROW('MEMORIAL DESCRITIVO-BRI'!$P$2:$P$4000)),ROW(B43))), \"\")","v":""},{"$f":"IFERROR(INDEX('MEMORIAL DESCRITIVO-BRI'!Q:Q,SMALL(IF('MEMORIAL DESCRITIVO-BRI'!$E$2:$E$4000=\"Sim\",ROW('MEMORIAL DESCRITIVO-BRI'!$Q$2:$Q$4000)),ROW(B43))), \"\")","v":""}]
[null,{"$f":"IFERROR(INDEX('MEMORIAL DESCRITIVO-BRI'!B:B,SMALL(IF('MEMORIAL DESCRITIVO-BRI'!$E$2:$E$4000=\"Sim\",ROW('MEMORIAL DESCRITIVO-BRI'!$B$2:$B$4000)),ROW(B44))), \"\")","v":""},{"$f":"IFERROR(INDEX('MEMORIAL DESCRITIVO-BRI'!I:I,SMALL(IF('MEMORIAL DESCRITIVO-BRI'!$E$2:$E$4000=\"Sim\",ROW('MEMORIAL DESCRITIVO-BRI'!$I$2:$I$4000)),ROW(B44))), \"\")","v":""},{"$f":"IFERROR(INDEX('MEMORIAL DESCRITIVO-BRI'!F:F,SMALL(IF('MEMORIAL DESCRITIVO-BRI'!$E$2:$E$4000=\"Sim\",ROW('MEMORIAL DESCRITIVO-BRI'!$F$2:$F$4000)),ROW(B44))) & \" - \" & INDEX('MEMORIAL DESCRITIVO-BRI'!H:H,SMALL(IF('MEMORIAL DESCRITIVO-BRI'!$E$2:$E$4000=\"Sim\",ROW('MEMORIAL DESCRITIVO-BRI'!$H$2:$H$4000)),ROW(B44))), \"\")","v":""},null,{"$f":"IFERROR(INDEX('MEMORIAL DESCRITIVO-BRI'!S:S,SMALL(IF('MEMORIAL DESCRITIVO-BRI'!$E$2:$E$4000=\"Sim\",ROW('MEMORIAL DESCRITIVO-BRI'!$S$2:$S$4000)),ROW(B44))), \"\")","v":""},{"$f":"IFERROR(INDEX('MEMORIAL DESCRITIVO-BRI'!Z:Z,SMALL(IF('MEMORIAL DESCRITIVO-BRI'!$E$2:$E$4000=\"Sim\",ROW('MEMORIAL DESCRITIVO-BRI'!$Z$2:$Z$4000)),ROW(B44))), \"\")","v":""},{"$f":"IFERROR(INDEX('MEMORIAL DESCRITIVO-BRI'!W:W,SMALL(IF('MEMORIAL DESCRITIVO-BRI'!$E$2:$E$4000=\"Sim\",ROW('MEMORIAL DESCRITIVO-BRI'!$W$2:$W$4000)),ROW(B44))), \"\")","v":""},{"$f":"IFERROR(INDEX('MEMORIAL DESCRITIVO-BRI'!G:G,SMALL(IF('MEMORIAL DESCRITIVO-BRI'!$E$2:$E$4000=\"Sim\",ROW('MEMORIAL DESCRITIVO-BRI'!$G$2:$G$4000)),ROW(B44))), \"\")","v":""},{"$f":"IFERROR(INDEX('MEMORIAL DESCRITIVO-BRI'!P:P,SMALL(IF('MEMORIAL DESCRITIVO-BRI'!$E$2:$E$4000=\"Sim\",ROW('MEMORIAL DESCRITIVO-BRI'!$P$2:$P$4000)),ROW(B44))), \"\")","v":""},{"$f":"IFERROR(INDEX('MEMORIAL DESCRITIVO-BRI'!Q:Q,SMALL(IF('MEMORIAL DESCRITIVO-BRI'!$E$2:$E$4000=\"Sim\",ROW('MEMORIAL DESCRITIVO-BRI'!$Q$2:$Q$4000)),ROW(B44))), \"\")","v":""}]
[null,{"$f":"IFERROR(INDEX('MEMORIAL DESCRITIVO-BRI'!B:B,SMALL(IF('MEMORIAL DESCRITIVO-BRI'!$E$2:$E$4000=\"Sim\",ROW('MEMORIAL DESCRITIVO-BRI'!$B$2:$B$4000)),ROW(B45))), \"\")","v":""},{"$f":"IFERROR(INDEX('MEMORIAL DESCRITIVO-BRI'!I:I,SMALL(IF('MEMORIAL DESCRITIVO-BRI'!$E$2:$E$4000=\"Sim\",ROW('MEMORIAL DESCRITIVO-BRI'!$I$2:$I$4000)),ROW(B45))), \"\")","v":""},{"$f":"IFERROR(INDEX('MEMORIAL DESCRITIVO-BRI'!F:F,SMALL(IF('MEMORIAL DESCRITIVO-BRI'!$E$2:$E$4000=\"Sim\",ROW('MEMORIAL DESCRITIVO-BRI'!$F$2:$F$4000)),ROW(B45))) & \" - \" & INDEX('MEMORIAL DESCRITIVO-BRI'!H:H,SMALL(IF('MEMORIAL DESCRITIVO-BRI'!$E$2:$E$4000=\"Sim\",ROW('MEMORIAL DESCRITIVO-BRI'!$H$2:$H$4000)),ROW(B45))), \"\")","v":""},null,{"$f":"IFERROR(INDEX('MEMORIAL DESCRITIVO-BRI'!S:S,SMALL(IF('MEMORIAL DESCRITIVO-BRI'!$E$2:$E$4000=\"Sim\",ROW('MEMORIAL DESCRITIVO-BRI'!$S$2:$S$4000)),ROW(B45))), \"\")","v":""},{"$f":"IFERROR(INDEX('MEMORIAL DESCRITIVO-BRI'!Z:Z,SMALL(IF('MEMORIAL DESCRITIVO-BRI'!$E$2:$E$4000=\"Sim\",ROW('MEMORIAL DESCRITIVO-BRI'!$Z$2:$Z$4000)),ROW(B45))), \"\")","v":""},{"$f":"IFERROR(INDEX('MEMORIAL DESCRITIVO-BRI'!W:W,SMALL(IF('MEMORIAL DESCRITIVO-BRI'!$E$2:$E$4000=\"Sim\",ROW('MEMORIAL DESCRITIVO-BRI'!$W$2:$W$4000)),ROW(B45))), \"\")","v":""},{"$f":"IFERROR(INDEX('MEMORIAL DESCRITIVO-BRI'!G:G,SMALL(IF('MEMORIAL DESCRITIVO-BRI'!$E$2:$E$4000=\"Sim\",ROW('MEMORIAL DESCRITIVO-BRI'!$G$2:$G$4000)),ROW(B45))), \"\")","v":""},{"$f":"IFERROR(INDEX('MEMORIAL DESCRITIVO-BRI'!P:P,SMALL(IF('MEMORIAL DESCRITIVO-BRI'!$E$2:$E$4000=\"Sim\",ROW('MEMORIAL DESCRITIVO-BRI'!$P$2:$P$4000)),ROW(B45))), \"\")","v":""},{"$f":"IFERROR(INDEX('MEMORIAL DESCRITIVO-BRI'!Q:Q,SMALL(IF('MEMORIAL DESCRITIVO-BRI'!$E$2:$E$4000=\"Sim\",ROW('MEMORIAL DESCRITIVO-BRI'!$Q$2:$Q$4000)),ROW(B45))), \"\")","v":""}]
[null,{"$f":"IFERROR(INDEX('MEMORIAL DESCRITIVO-BRI'!B:B,SMALL(IF('MEMORIAL DESCRITIVO-BRI'!$E$2:$E$4000=\"Sim\",ROW('MEMORIAL DESCRITIVO-BRI'!$B$2:$B$4000)),ROW(B46))), \"\")","v":""},{"$f":"IFERROR(INDEX('MEMORIAL DESCRITIVO-BRI'!I:I,SMALL(IF('MEMORIAL DESCRITIVO-BRI'!$E$2:$E$4000=\"Sim\",ROW('MEMORIAL DESCRITIVO-BRI'!$I$2:$I$4000)),ROW(B46))), \"\")","v":""},{"$f":"IFERROR(INDEX('MEMORIAL DESCRITIVO-BRI'!F:F,SMALL(IF('MEMORIAL DESCRITIVO-BRI'!$E$2:$E$4000=\"Sim\",ROW('MEMORIAL DESCRITIVO-BRI'!$F$2:$F$4000)),ROW(B46))) & \" - \" & INDEX('MEMORIAL DESCRITIVO-BRI'!H:H,SMALL(IF('MEMORIAL DESCRITIVO-BRI'!$E$2:$E$4000=\"Sim\",ROW('MEMORIAL DESCRITIVO-BRI'!$H$2:$H$4000)),ROW(B46))), \"\")","v":""},null,{"$f":"IFERROR(INDEX('MEMORIAL DESCRITIVO-BRI'!S:S,SMALL(IF('MEMORIAL DESCRITIVO-BRI'!$E$2:$E$4000=\"Sim\",ROW('MEMORIAL DESCRITIVO-BRI'!$S$2:$S$4000)),ROW(B46))), \"\")","v":""},{"$f":"IFERROR(INDEX('MEMORIAL DESCRITIVO-BRI'!Z:Z,SMALL(IF('MEMORIAL DESCRITIVO-BRI'!$E$2:$E$4000=\"Sim\",ROW('MEMORIAL DESCRITIVO-BRI'!$Z$2:$Z$4000)),ROW(B46))), \"\")","v":""},{"$f":"IFERROR(INDEX('MEMORIAL DESCRITIVO-BRI'!W:W,SMALL(IF('MEMORIAL DESCRITIVO-BRI'!$E$2:$E$4000=\"Sim\",ROW('MEMORIAL DESCRITIVO-BRI'!$W$2:$W$4000)),ROW(B46))), \"\")","v":""},{"$f":"IFERROR(INDEX('MEMORIAL DESCRITIVO-BRI'!G:G,SMALL(IF('MEMORIAL DESCRITIVO-BRI'!$E$2:$E$4000=\"Sim\",ROW('MEMORIAL DESCRITIVO-BRI'!$G$2:$G$4000)),ROW(B46))), \"\")","v":""},{"$f":"IFERROR(INDEX('MEMORIAL DESCRITIVO-BRI'!P:P,SMALL(IF('MEMORIAL DESCRITIVO-BRI'!$E$2:$E$4000=\"Sim\",ROW('MEMORIAL DESCRITIVO-BRI'!$P$2:$P$4000)),ROW(B46))), \"\")","v":""},{"$f":"IFERROR(INDEX('MEMORIAL DESCRITIVO-BRI'!Q:Q,SMALL(IF('MEMORIAL DESCRITIVO-BRI'!$E$2:$E$4000=\"Sim\",ROW('MEMORIAL DESCRITIVO-BRI'!$Q$2:$Q$4000)),ROW(B46))), \"\")","v":""}]
[null,{"$f":"IFERROR(INDEX('MEMORIAL DESCRITIVO-BRI'!B:B,SMALL(IF('MEMORIAL DESCRITIVO-BRI'!$E$2:$E$4000=\"Sim\",ROW('MEMORIAL DESCRITIVO-BRI'!$B$2:$B$4000)),ROW(B47))), \"\")","v":""},{"$f":"IFERROR(INDEX('MEMORIAL DESCRITIVO-BRI'!I:I,SMALL(IF('MEMORIAL DESCRITIVO-BRI'!$E$2:$E$4000=\"Sim\",ROW('MEMORIAL DESCRITIVO-BRI'!$I$2:$I$4000)),ROW(B47))), \"\")","v":""},{"$f":"IFERROR(INDEX('MEMORIAL DESCRITIVO-BRI'!F:F,SMALL(IF('MEMORIAL DESCRITIVO-BRI'!$E$2:$E$4000=\"Sim\",ROW('MEMORIAL DESCRITIVO-BRI'!$F$2:$F$4000)),ROW(B47))) & \" - \" & INDEX('MEMORIAL DESCRITIVO-BRI'!H:H,SMALL(IF('MEMORIAL DESCRITIVO-BRI'!$E$2:$E$4000=\"Sim\",ROW('MEMORIAL DESCRITIVO-BRI'!$H$2:$H$4000)),ROW(B47))), \"\")","v":""},null,{"$f":"IFERROR(INDEX('MEMORIAL DESCRITIVO-BRI'!S:S,SMALL(IF('MEMORIAL DESCRITIVO-BRI'!$E$2:$E$4000=\"Sim\",ROW('MEMORIAL DESCRITIVO-BRI'!$S$2:$S$4000)),ROW(B47))), \"\")","v":""},{"$f":"IFERROR(INDEX('MEMORIAL DESCRITIVO-BRI'!Z:Z,SMALL(IF('MEMORIAL DESCRITIVO-BRI'!$E$2:$E$4000=\"Sim\",ROW('MEMORIAL DESCRITIVO-BRI'!$Z$2:$Z$4000)),ROW(B47))), \"\")","v":""},{"$f":"IFERROR(INDEX('MEMORIAL DESCRITIVO-BRI'!W:W,SMALL(IF('MEMORIAL DESCRITIVO-BRI'!$E$2:$E$4000=\"Sim\",ROW('MEMORIAL DESCRITIVO-BRI'!$W$2:$W$4000)),ROW(B47))), \"\")","v":""},{"$f":"IFERROR(INDEX('MEMORIAL DESCRITIVO-BRI'!G:G,SMALL(IF('MEMORIAL DESCRITIVO-BRI'!$E$2:$E$4000=\"Sim\",ROW('MEMORIAL DESCRITIVO-BRI'!$G$2:$G$4000)),ROW(B47))), \"\")","v":""},{"$f":"IFERROR(INDEX('MEMORIAL DESCRITIVO-BRI'!P:P,SMALL(IF('MEMORIAL DESCRITIVO-BRI'!$E$2:$E$4000=\"Sim\",ROW('MEMORIAL DESCRITIVO-BRI'!$P$2:$P$4000)),ROW(B47))), \"\")","v":""},{"$f":"IFERROR(INDEX('MEMORIAL DESCRITIVO-BRI'!Q:Q,SMALL(IF('MEMORIAL DESCRITIVO-BRI'!$E$2:$E$4000=\"Sim\",ROW('MEMORIAL DESCRITIVO-BRI'!$Q$2:$Q$4000)),ROW(B47))), \"\")","v":""}]
[null,{"$f":"IFERROR(INDEX('MEMORIAL DESCRITIVO-BRI'!B:B,SMALL(IF('MEMORIAL DESCRITIVO-BRI'!$E$2:$E$4000=\"Sim\",ROW('MEMORIAL DESCRITIVO-BRI'!$B$2:$B$4000)),ROW(B48))), \"\")","v":""},{"$f":"IFERROR(INDEX('MEMORIAL DESCRITIVO-BRI'!I:I,SMALL(IF('MEMORIAL DESCRITIVO-BRI'!$E$2:$E$4000=\"Sim\",ROW('MEMORIAL DESCRITIVO-BRI'!$I$2:$I$4000)),ROW(B48))), \"\")","v":""},{"$f":"IFERROR(INDEX('MEMORIAL DESCRITIVO-BRI'!F:F,SMALL(IF('MEMORIAL DESCRITIVO-BRI'!$E$2:$E$4000=\"Sim\",ROW('MEMORIAL DESCRITIVO-BRI'!$F$2:$F$4000)),ROW(B48))) & \" - \" & INDEX('MEMORIAL DESCRITIVO-BRI'!H:H,SMALL(IF('MEMORIAL DESCRITIVO-BRI'!$E$2:$E$4000=\"Sim\",ROW('MEMORIAL DESCRITIVO-BRI'!$H$2:$H$4000)),ROW(B48))), \"\")","v":""},null,{"$f":"IFERROR(INDEX('MEMORIAL DESCRITIVO-BRI'!S:S,SMALL(IF('MEMORIAL DESCRITIVO-BRI'!$E$2:$E$4000=\"Sim\",ROW('MEMORIAL DESCRITIVO-BRI'!$S$2:$S$4000)),ROW(B48))), \"\")","v":""},{"$f":"IFERROR(INDEX('MEMORIAL DESCRITIVO-BRI'!Z:Z,SMALL(IF('MEMORIAL DESCRITIVO-BRI'!$E$2:$E$4000=\"Sim\",ROW('MEMORIAL DESCRITIVO-BRI'!$Z$2:$Z$4000)),ROW(B48))), \"\")","v":""},{"$f":"IFERROR(INDEX('MEMORIAL DESCRITIVO-BRI'!W:W,SMALL(IF('MEMORIAL DESCRITIVO-BRI'!$E$2:$E$4000=\"Sim\",ROW('MEMORIAL DESCRITIVO-BRI'!$W$2:$W$4000)),ROW(B48))), \"\")","v":""},{"$f":"IFERROR(INDEX('MEMORIAL DESCRITIVO-BRI'!G:G,SMALL(IF('MEMORIAL DESCRITIVO-BRI'!$E$2:$E$4000=\"Sim\",ROW('MEMORIAL DESCRITIVO-BRI'!$G$2:$G$4000)),ROW(B48))), \"\")","v":""},{"$f":"IFERROR(INDEX('MEMORIAL DESCRITIVO-BRI'!P:P,SMALL(IF('MEMORIAL DESCRITIVO-BRI'!$E$2:$E$4000=\"Sim\",ROW('MEMORIAL DESCRITIVO-BRI'!$P$2:$P$4000)),ROW(B48))), \"\")","v":""},{"$f":"IFERROR(INDEX('MEMORIAL DESCRITIVO-BRI'!Q:Q,SMALL(IF('MEMORIAL DESCRITIVO-BRI'!$E$2:$E$4000=\"Sim\",ROW('MEMORIAL DESCRITIVO-BRI'!$Q$2:$Q$4000)),ROW(B48))), \"\")","v":""}]
[null,{"$f":"IFERROR(INDEX('MEMORIAL DESCRITIVO-BRI'!B:B,SMALL(IF('MEMORIAL DESCRITIVO-BRI'!$E$2:$E$4000=\"Sim\",ROW('MEMORIAL DESCRITIVO-BRI'!$B$2:$B$4000)),ROW(B49))), \"\")","v":""},{"$f":"IFERROR(INDEX('MEMORIAL DESCRITIVO-BRI'!I:I,SMALL(IF('MEMORIAL DESCRITIVO-BRI'!$E$2:$E$4000=\"Sim\",ROW('MEMORIAL DESCRITIVO-BRI'!$I$2:$I$4000)),ROW(B49))), \"\")","v":""},{"$f":"IFERROR(INDEX('MEMORIAL DESCRITIVO-BRI'!F:F,SMALL(IF('MEMORIAL DESCRITIVO-BRI'!$E$2:$E$4000=\"Sim\",ROW('MEMORIAL DESCRITIVO-BRI'!$F$2:$F$4000)),ROW(B49))) & \" - \" & INDEX('MEMORIAL DESCRITIVO-BRI'!H:H,SMALL(IF('MEMORIAL DESCRITIVO-BRI'!$E$2:$E$4000=\"Sim\",ROW('MEMORIAL DESCRITIVO-BRI'!$H$2:$H$4000)),ROW(B49))), \"\")","v":""},null,{"$f":"IFERROR(INDEX('MEMORIAL DESCRITIVO-BRI'!S:S,SMALL(IF('MEMORIAL DESCRITIVO-BRI'!$E$2:$E$4000=\"Sim\",ROW('MEMORIAL DESCRITIVO-BRI'!$S$2:$S$4000)),ROW(B49))), \"\")","v":""},{"$f":"IFERROR(INDEX('MEMORIAL DESCRITIVO-BRI'!Z:Z,SMALL(IF('MEMORIAL DESCRITIVO-BRI'!$E$2:$E$4000=\"Sim\",ROW('MEMORIAL DESCRITIVO-BRI'!$Z$2:$Z$4000)),ROW(B49))), \"\")","v":""},{"$f":"IFERROR(INDEX('MEMORIAL DESCRITIVO-BRI'!W:W,SMALL(IF('MEMORIAL DESCRITIVO-BRI'!$E$2:$E$4000=\"Sim\",ROW('MEMORIAL DESCRITIVO-BRI'!$W$2:$W$4000)),ROW(B49))), \"\")","v":""},{"$f":"IFERROR(INDEX('MEMORIAL DESCRITIVO-BRI'!G:G,SMALL(IF('MEMORIAL DESCRITIVO-BRI'!$E$2:$E$4000=\"Sim\",ROW('MEMORIAL DESCRITIVO-BRI'!$G$2:$G$4000)),ROW(B49))), \"\")","v":""},{"$f":"IFERROR(INDEX('MEMORIAL DESCRITIVO-BRI'!P:P,SMALL(IF('MEMORIAL DESCRITIVO-BRI'!$E$2:$E$4000=\"Sim\",ROW('MEMORIAL DESCRITIVO-BRI'!$P$2:$P$4000)),ROW(B49))), \"\")","v":""},{"$f":"IFERROR(INDEX('MEMORIAL DESCRITIVO-BRI'!Q:Q,SMALL(IF('MEMORIAL DESCRITIVO-BRI'!$E$2:$E$4000=\"Sim\",ROW('MEMORIAL DESCRITIVO-BRI'!$Q$2:$Q$4000)),ROW(B49))), \"\")","v":""}]
[null,{"$f":"IFERROR(INDEX('MEMORIAL DESCRITIVO-BRI'!B:B,SMALL(IF('MEMORIAL DESCRITIVO-BRI'!$E$2:$E$4000=\"Sim\",ROW('MEMORIAL DESCRITIVO-BRI'!$B$2:$B$4000)),ROW(B50))), \"\")","v":""},{"$f":"IFERROR(INDEX('MEMORIAL DESCRITIVO-BRI'!I:I,SMALL(IF('MEMORIAL DESCRITIVO-BRI'!$E$2:$E$4000=\"Sim\",ROW('MEMORIAL DESCRITIVO-BRI'!$I$2:$I$4000)),ROW(B50))), \"\")","v":""},{"$f":"IFERROR(INDEX('MEMORIAL DESCRITIVO-BRI'!F:F,SMALL(IF('MEMORIAL DESCRITIVO-BRI'!$E$2:$E$4000=\"Sim\",ROW('MEMORIAL DESCRITIVO-BRI'!$F$2:$F$4000)),ROW(B50))) & \" - \" & INDEX('MEMORIAL DESCRITIVO-BRI'!H:H,SMALL(IF('MEMORIAL DESCRITIVO-BRI'!$E$2:$E$4000=\"Sim\",ROW('MEMORIAL DESCRITIVO-BRI'!$H$2:$H$4000)),ROW(B50))), \"\")","v":""},null,{"$f":"IFERROR(INDEX('MEMORIAL DESCRITIVO-BRI'!S:S,SMALL(IF('MEMORIAL DESCRITIVO-BRI'!$E$2:$E$4000=\"Sim\",ROW('MEMORIAL DESCRITIVO-BRI'!$S$2:$S$4000)),ROW(B50))), \"\")","v":""},{"$f":"IFERROR(INDEX('MEMORIAL DESCRITIVO-BRI'!Z:Z,SMALL(IF('MEMORIAL DESCRITIVO-BRI'!$E$2:$E$4000=\"Sim\",ROW('MEMORIAL DESCRITIVO-BRI'!$Z$2:$Z$4000)),ROW(B50))), \"\")","v":""},{"$f":"IFERROR(INDEX('MEMORIAL DESCRITIVO-BRI'!W:W,SMALL(IF('MEMORIAL DESCRITIVO-BRI'!$E$2:$E$4000=\"Sim\",ROW('MEMORIAL DESCRITIVO-BRI'!$W$2:$W$4000)),ROW(B50))), \"\")","v":""},{"$f":"IFERROR(INDEX('MEMORIAL DESCRITIVO-BRI'!G:G,SMALL(IF('MEMORIAL DESCRITIVO-BRI'!$E$2:$E$4000=\"Sim\",ROW('MEMORIAL DESCRITIVO-BRI'!$G$2:$G$4000)),ROW(B50))), \"\")","v":""},{"$f":"IFERROR(INDEX('MEMORIAL DESCRITIVO-BRI'!P:P,SMALL(IF('MEMORIAL DESCRITIVO-BRI'!$E$2:$E$4000=\"Sim\",ROW('MEMORIAL DESCRITIVO-BRI'!$P$2:$P$4000)),ROW(B50))), \"\")","v":""},{"$f":"IFERROR(INDEX('MEMORIAL DESCRITIVO-BRI'!Q:Q,SMALL(IF('MEMORIAL DESCRITIVO-BRI'!$E$2:$E$4000=\"Sim\",ROW('MEMORIAL DESCRITIVO-BRI'!$Q$2:$Q$4000)),ROW(B50))), \"\")","v":""}]
[null,{"$f":"IFERROR(INDEX('MEMORIAL DESCRITIVO-BRI'!B:B,SMALL(IF('MEMORIAL DESCRITIVO-BRI'!$E$2:$E$4000=\"Sim\",ROW('MEMORIAL DESCRITIVO-BRI'!$B$2:$B$4000)),ROW(B51))), \"\")","v":""},{"$f":"IFERROR(INDEX('MEMORIAL DESCRITIVO-BRI'!I:I,SMALL(IF('MEMORIAL DESCRITIVO-BRI'!$E$2:$E$4000=\"Sim\",ROW('MEMORIAL DESCRITIVO-BRI'!$I$2:$I$4000)),ROW(B51))), \"\")","v":""},{"$f":"IFERROR(INDEX('MEMORIAL DESCRITIVO-BRI'!F:F,SMALL(IF('MEMORIAL DESCRITIVO-BRI'!$E$2:$E$4000=\"Sim\",ROW('MEMORIAL DESCRITIVO-BRI'!$F$2:$F$4000)),ROW(B51))) & \" - \" & INDEX('MEMORIAL DESCRITIVO-BRI'!H:H,SMALL(IF('MEMORIAL DESCRITIVO-BRI'!$E$2:$E$4000=\"Sim\",ROW('MEMORIAL DESCRITIVO-BRI'!$H$2:$H$4000)),ROW(B51))), \"\")","v":""},null,{"$f":"IFERROR(INDEX('MEMORIAL DESCRITIVO-BRI'!S:S,SMALL(IF('MEMORIAL DESCRITIVO-BRI'!$E$2:$E$4000=\"Sim\",ROW('MEMORIAL DESCRITIVO-BRI'!$S$2:$S$4000)),ROW(B51))), \"\")","v":""},{"$f":"IFERROR(INDEX('MEMORIAL DESCRITIVO-BRI'!Z:Z,SMALL(IF('MEMORIAL DESCRITIVO-BRI'!$E$2:$E$4000=\"Sim\",ROW('MEMORIAL DESCRITIVO-BRI'!$Z$2:$Z$4000)),ROW(B51))), \"\")","v":""},{"$f":"IFERROR(INDEX('MEMORIAL DESCRITIVO-BRI'!W:W,SMALL(IF('MEMORIAL DESCRITIVO-BRI'!$E$2:$E$4000=\"Sim\",ROW('MEMORIAL DESCRITIVO-BRI'!$W$2:$W$4000)),ROW(B51))), \"\")","v":""},{"$f":"IFERROR(INDEX('MEMORIAL DESCRITIVO-BRI'!G:G,SMALL(IF('MEMORIAL DESCRITIVO-BRI'!$E$2:$E$4000=\"Sim\",ROW('MEMORIAL DESCRITIVO-BRI'!$G$2:$G$4000)),ROW(B51))), \"\")","v":""},{"$f":"IFERROR(INDEX('MEMORIAL DESCRITIVO-BRI'!P:P,SMALL(IF('MEMORIAL DESCRITIVO-BRI'!$E$2:$E$4000=\"Sim\",ROW('MEMORIAL DESCRITIVO-BRI'!$P$2:$P$4000)),ROW(B51))), \"\")","v":""},{"$f":"IFERROR(INDEX('MEMORIAL DESCRITIVO-BRI'!Q:Q,SMALL(IF('MEMORIAL DESCRITIVO-BRI'!$E$2:$E$4000=\"Sim\",ROW('MEMORIAL DESCRITIVO-BRI'!$Q$2:$Q$4000)),ROW(B51))), \"\")","v":""}]
[null,{"$f":"IFERROR(INDEX('MEMORIAL DESCRITIVO-BRI'!B:B,SMALL(IF('MEMORIAL DESCRITIVO-BRI'!$E$2:$E$4000=\"Sim\",ROW('MEMORIAL DESCRITIVO-BRI'!$B$2:$B$4000)),ROW(B52))), \"\")","v":""},{"$f":"IFERROR(INDEX('MEMORIAL DESCRITIVO-BRI'!I:I,SMALL(IF('MEMORIAL DESCRITIVO-BRI'!$E$2:$E$4000=\"Sim\",ROW('MEMORIAL DESCRITIVO-BRI'!$I$2:$I$4000)),ROW(B52))), \"\")","v":""},{"$f":"IFERROR(INDEX('MEMORIAL DESCRITIVO-BRI'!F:F,SMALL(IF('MEMORIAL DESCRITIVO-BRI'!$E$2:$E$4000=\"Sim\",ROW('MEMORIAL DESCRITIVO-BRI'!$F$2:$F$4000)),ROW(B52))) & \" - \" & INDEX('MEMORIAL DESCRITIVO-BRI'!H:H,SMALL(IF('MEMORIAL DESCRITIVO-BRI'!$E$2:$E$4000=\"Sim\",ROW('MEMORIAL DESCRITIVO-BRI'!$H$2:$H$4000)),ROW(B52))), \"\")","v":""},null,{"$f":"IFERROR(INDEX('MEMORIAL DESCRITIVO-BRI'!S:S,SMALL(IF('MEMORIAL DESCRITIVO-BRI'!$E$2:$E$4000=\"Sim\",ROW('MEMORIAL DESCRITIVO-BRI'!$S$2:$S$4000)),ROW(B52))), \"\")","v":""},{"$f":"IFERROR(INDEX('MEMORIAL DESCRITIVO-BRI'!Z:Z,SMALL(IF('MEMORIAL DESCRITIVO-BRI'!$E$2:$E$4000=\"Sim\",ROW('MEMORIAL DESCRITIVO-BRI'!$Z$2:$Z$4000)),ROW(B52))), \"\")","v":""},{"$f":"IFERROR(INDEX('MEMORIAL DESCRITIVO-BRI'!W:W,SMALL(IF('MEMORIAL DESCRITIVO-BRI'!$E$2:$E$4000=\"Sim\",ROW('MEMORIAL DESCRITIVO-BRI'!$W$2:$W$4000)),ROW(B52))), \"\")","v":""},{"$f":"IFERROR(INDEX('MEMORIAL DESCRITIVO-BRI'!G:G,SMALL(IF('MEMORIAL DESCRITIVO-BRI'!$E$2:$E$4000=\"Sim\",ROW('MEMORIAL DESCRITIVO-BRI'!$G$2:$G$4000)),ROW(B52))), \"\")","v":""},{"$f":"IFERROR(INDEX('MEMORIAL DESCRITIVO-BRI'!P:P,SMALL(IF('MEMORIAL DESCRITIVO-BRI'!$E$2:$E$4000=\"Sim\",ROW('MEMORIAL DESCRITIVO-BRI'!$P$2:$P$4000)),ROW(B52))), \"\")","v":""},{"$f":"IFERROR(INDEX('MEMORIAL DESCRITIVO-BRI'!Q:Q,SMALL(IF('MEMORIAL DESCRITIVO-BRI'!$E$2:$E$4000=\"Sim\",ROW('MEMORIAL DESCRITIVO-BRI'!$Q$2:$Q$4000)),ROW(B52))), \"\")","v":""}]
[null,{"$f":"IFERROR(INDEX('MEMORIAL DESCRITIVO-BRI'!B:B,SMALL(IF('MEMORIAL DESCRITIVO-BRI'!$E$2:$E$4000=\"Sim\",ROW('MEMORIAL DESCRITIVO-BRI'!$B$2:$B$4000)),ROW(B53))), \"\")","v":""},{"$f":"IFERROR(INDEX('MEMORIAL DESCRITIVO-BRI'!I:I,SMALL(IF('MEMORIAL DESCRITIVO-BRI'!$E$2:$E$4000=\"Sim\",ROW('MEMORIAL DESCRITIVO-BRI'!$I$2:$I$4000)),ROW(B53))), \"\")","v":""},{"$f":"IFERROR(INDEX('MEMORIAL DESCRITIVO-BRI'!F:F,SMALL(IF('MEMORIAL DESCRITIVO-BRI'!$E$2:$E$4000=\"Sim\",ROW('MEMORIAL DESCRITIVO-BRI'!$F$2:$F$4000)),ROW(B53))) & \" - \" & INDEX('MEMORIAL DESCRITIVO-BRI'!H:H,SMALL(IF('MEMORIAL DESCRITIVO-BRI'!$E$2:$E$4000=\"Sim\",ROW('MEMORIAL DESCRITIVO-BRI'!$H$2:$H$4000)),ROW(B53))), \"\")","v":""},null,{"$f":"IFERROR(INDEX('MEMORIAL DESCRITIVO-BRI'!S:S,SMALL(IF('MEMORIAL DESCRITIVO-BRI'!$E$2:$E$4000=\"Sim\",ROW('MEMORIAL DESCRITIVO-BRI'!$S$2:$S$4000)),ROW(B53))), \"\")","v":""},{"$f":"IFERROR(INDEX('MEMORIAL DESCRITIVO-BRI'!Z:Z,SMALL(IF('MEMORIAL DESCRITIVO-BRI'!$E$2:$E$4000=\"Sim\",ROW('MEMORIAL DESCRITIVO-BRI'!$Z$2:$Z$4000)),ROW(B53))), \"\")","v":""},{"$f":"IFERROR(INDEX('MEMORIAL DESCRITIVO-BRI'!W:W,SMALL(IF('MEMORIAL DESCRITIVO-BRI'!$E$2:$E$4000=\"Sim\",ROW('MEMORIAL DESCRITIVO-BRI'!$W$2:$W$4000)),ROW(B53))), \"\")","v":""},{"$f":"IFERROR(INDEX('MEMORIAL DESCRITIVO-BRI'!G:G,SMALL(IF('MEMORIAL DESCRITIVO-BRI'!$E$2:$E$4000=\"Sim\",ROW('MEMORIAL DESCRITIVO-BRI'!$G$2:$G$4000)),ROW(B53))), \"\")","v":""},{"$f":"IFERROR(INDEX('MEMORIAL DESCRITIVO-BRI'!P:P,SMALL(IF('MEMORIAL DESCRITIVO-BRI'!$E$2:$E$4000=\"Sim\",ROW('MEMORIAL DESCRITIVO-BRI'!$P$2:$P$4000)),ROW(B53))), \"\")","v":""},{"$f":"IFERROR(INDEX('MEMORIAL DESCRITIVO-BRI'!Q:Q,SMALL(IF('MEMORIAL DESCRITIVO-BRI'!$E$2:$E$4000=\"Sim\",ROW('MEMORIAL DESCRITIVO-BRI'!$Q$2:$Q$4000)),ROW(B53))), \"\")","v":""}]
[null,{"$f":"IFERROR(INDEX('MEMORIAL DESCRITIVO-BRI'!B:B,SMALL(IF('MEMORIAL DESCRITIVO-BRI'!$E$2:$E$4000=\"Sim\",ROW('MEMORIAL DESCRITIVO-BRI'!$B$2:$B$4000)),ROW(B54))), \"\")","v":""},{"$f":"IFERROR(INDEX('MEMORIAL DESCRITIVO-BRI'!I:I,SMALL(IF('MEMORIAL DESCRITIVO-BRI'!$E$2:$E$4000=\"Sim\",ROW('MEMORIAL DESCRITIVO-BRI'!$I$2:$I$4000)),ROW(B54))), \"\")","v":""},{"$f":"IFERROR(INDEX('MEMORIAL DESCRITIVO-BRI'!F:F,SMALL(IF('MEMORIAL DESCRITIVO-BRI'!$E$2:$E$4000=\"Sim\",ROW('MEMORIAL DESCRITIVO-BRI'!$F$2:$F$4000)),ROW(B54))) & \" - \" & INDEX('MEMORIAL DESCRITIVO-BRI'!H:H,SMALL(IF('MEMORIAL DESCRITIVO-BRI'!$E$2:$E$4000=\"Sim\",ROW('MEMORIAL DESCRITIVO-BRI'!$H$2:$H$4000)),ROW(B54))), \"\")","v":""},null,{"$f":"IFERROR(INDEX('MEMORIAL DESCRITIVO-BRI'!S:S,SMALL(IF('MEMORIAL DESCRITIVO-BRI'!$E$2:$E$4000=\"Sim\",ROW('MEMORIAL DESCRITIVO-BRI'!$S$2:$S$4000)),ROW(B54))), \"\")","v":""},{"$f":"IFERROR(INDEX('MEMORIAL DESCRITIVO-BRI'!Z:Z,SMALL(IF('MEMORIAL DESCRITIVO-BRI'!$E$2:$E$4000=\"Sim\",ROW('MEMORIAL DESCRITIVO-BRI'!$Z$2:$Z$4000)),ROW(B54))), \"\")","v":""},{"$f":"IFERROR(INDEX('MEMORIAL DESCRITIVO-BRI'!W:W,SMALL(IF('MEMORIAL DESCRITIVO-BRI'!$E$2:$E$4000=\"Sim\",ROW('MEMORIAL DESCRITIVO-BRI'!$W$2:$W$4000)),ROW(B54))), \"\")","v":""},{"$f":"IFERROR(INDEX('MEMORIAL DESCRITIVO-BRI'!G:G,SMALL(IF('MEMORIAL DESCRITIVO-BRI'!$E$2:$E$4000=\"Sim\",ROW('MEMORIAL DESCRITIVO-BRI'!$G$2:$G$4000)),ROW(B54))), \"\")","v":""},{"$f":"IFERROR(INDEX('MEMORIAL DESCRITIVO-BRI'!P:P,SMALL(IF('MEMORIAL DESCRITIVO-BRI'!$E$2:$E$4000=\"Sim\",ROW('MEMORIAL DESCRITIVO-BRI'!$P$2:$P$4000)),ROW(B54))), \"\")","v":""},{"$f":"IFERROR(INDEX('MEMORIAL DESCRITIVO-BRI'!Q:Q,SMALL(IF('MEMORIAL DESCRITIVO-BRI'!$E$2:$E$4000=\"Sim\",ROW('MEMORIAL DESCRITIVO-BRI'!$Q$2:$Q$4000)),ROW(B54))), \"\")","v":""}]
[null,{"$f":"IFERROR(INDEX('MEMORIAL DESCRITIVO-BRI'!B:B,SMALL(IF('MEMORIAL DESCRITIVO-BRI'!$E$2:$E$4000=\"Sim\",ROW('MEMORIAL DESCRITIVO-BRI'!$B$2:$B$4000)),ROW(B55))), \"\")","v":""},{"$f":"IFERROR(INDEX('MEMORIAL DESCRITIVO-BRI'!I:I,SMALL(IF('MEMORIAL DESCRITIVO-BRI'!$E$2:$E$4000=\"Sim\",ROW('MEMORIAL DESCRITIVO-BRI'!$I$2:$I$4000)),ROW(B55))), \"\")","v":""},{"$f":"IFERROR(INDEX('MEMORIAL DESCRITIVO-BRI'!F:F,SMALL(IF('MEMORIAL DESCRITIVO-BRI'!$E$2:$E$4000=\"Sim\",ROW('MEMORIAL DESCRITIVO-BRI'!$F$2:$F$4000)),ROW(B55))) & \" - \" & INDEX('MEMORIAL DESCRITIVO-BRI'!H:H,SMALL(IF('MEMORIAL DESCRITIVO-BRI'!$E$2:$E$4000=\"Sim\",ROW('MEMORIAL DESCRITIVO-BRI'!$H$2:$H$4000)),ROW(B55))), \"\")","v":""},null,{"$f":"IFERROR(INDEX('MEMORIAL DESCRITIVO-BRI'!S:S,SMALL(IF('MEMORIAL DESCRITIVO-BRI'!$E$2:$E$4000=\"Sim\",ROW('MEMORIAL DESCRITIVO-BRI'!$S$2:$S$4000)),ROW(B55))), \"\")","v":""},{"$f":"IFERROR(INDEX('MEMORIAL DESCRITIVO-BRI'!Z:Z,SMALL(IF('MEMORIAL DESCRITIVO-BRI'!$E$2:$E$4000=\"Sim\",ROW('MEMORIAL DESCRITIVO-BRI'!$Z$2:$Z$4000)),ROW(B55))), \"\")","v":""},{"$f":"IFERROR(INDEX('MEMORIAL DESCRITIVO-BRI'!W:W,SMALL(IF('MEMORIAL DESCRITIVO-BRI'!$E$2:$E$4000=\"Sim\",ROW('MEMORIAL DESCRITIVO-BRI'!$W$2:$W$4000)),ROW(B55))), \"\")","v":""},{"$f":"IFERROR(INDEX('MEMORIAL DESCRITIVO-BRI'!G:G,SMALL(IF('MEMORIAL DESCRITIVO-BRI'!$E$2:$E$4000=\"Sim\",ROW('MEMORIAL DESCRITIVO-BRI'!$G$2:$G$4000)),ROW(B55))), \"\")","v":""},{"$f":"IFERROR(INDEX('MEMORIAL DESCRITIVO-BRI'!P:P,SMALL(IF('MEMORIAL DESCRITIVO-BRI'!$E$2:$E$4000=\"Sim\",ROW('MEMORIAL DESCRITIVO-BRI'!$P$2:$P$4000)),ROW(B55))), \"\")","v":""},{"$f":"IFERROR(INDEX('MEMORIAL DESCRITIVO-BRI'!Q:Q,SMALL(IF('MEMORIAL DESCRITIVO-BRI'!$E$2:$E$4000=\"Sim\",ROW('MEMORIAL DESCRITIVO-BRI'!$Q$2:$Q$4000)),ROW(B55))), \"\")","v":""}]
[null,{"$f":"IFERROR(INDEX('MEMORIAL DESCRITIVO-BRI'!B:B,SMALL(IF('MEMORIAL DESCRITIVO-BRI'!$E$2:$E$4000=\"Sim\",ROW('MEMORIAL DESCRITIVO-BRI'!$B$2:$B$4000)),ROW(B56))), \"\")","v":""},{"$f":"IFERROR(INDEX('MEMORIAL DESCRITIVO-BRI'!I:I,SMALL(IF('MEMORIAL DESCRITIVO-BRI'!$E$2:$E$4000=\"Sim\",ROW('MEMORIAL DESCRITIVO-BRI'!$I$2:$I$4000)),ROW(B56))), \"\")","v":""},{"$f":"IFERROR(INDEX('MEMORIAL DESCRITIVO-BRI'!F:F,SMALL(IF('MEMORIAL DESCRITIVO-BRI'!$E$2:$E$4000=\"Sim\",ROW('MEMORIAL DESCRITIVO-BRI'!$F$2:$F$4000)),ROW(B56))) & \" - \" & INDEX('MEMORIAL DESCRITIVO-BRI'!H:H,SMALL(IF('MEMORIAL DESCRITIVO-BRI'!$E$2:$E$4000=\"Sim\",ROW('MEMORIAL DESCRITIVO-BRI'!$H$2:$H$4000)),ROW(B56))), \"\")","v":""},null,{"$f":"IFERROR(INDEX('MEMORIAL DESCRITIVO-BRI'!S:S,SMALL(IF('MEMORIAL DESCRITIVO-BRI'!$E$2:$E$4000=\"Sim\",ROW('MEMORIAL DESCRITIVO-BRI'!$S$2:$S$4000)),ROW(B56))), \"\")","v":""},{"$f":"IFERROR(INDEX('MEMORIAL DESCRITIVO-BRI'!Z:Z,SMALL(IF('MEMORIAL DESCRITIVO-BRI'!$E$2:$E$4000=\"Sim\",ROW('MEMORIAL DESCRITIVO-BRI'!$Z$2:$Z$4000)),ROW(B56))), \"\")","v":""},{"$f":"IFERROR(INDEX('MEMORIAL DESCRITIVO-BRI'!W:W,SMALL(IF('MEMORIAL DESCRITIVO-BRI'!$E$2:$E$4000=\"Sim\",ROW('MEMORIAL DESCRITIVO-BRI'!$W$2:$W$4000)),ROW(B56))), \"\")","v":""},{"$f":"IFERROR(INDEX('MEMORIAL DESCRITIVO-BRI'!G:G,SMALL(IF('MEMORIAL DESCRITIVO-BRI'!$E$2:$E$4000=\"Sim\",ROW('MEMORIAL DESCRITIVO-BRI'!$G$2:$G$4000)),ROW(B56))), \"\")","v":""},{"$f":"IFERROR(INDEX('MEMORIAL DESCRITIVO-BRI'!P:P,SMALL(IF('MEMORIAL DESCRITIVO-BRI'!$E$2:$E$4000=\"Sim\",ROW('MEMORIAL DESCRITIVO-BRI'!$P$2:$P$4000)),ROW(B56))), \"\")","v":""},{"$f":"IFERROR(INDEX('MEMORIAL DESCRITIVO-BRI'!Q:Q,SMALL(IF('MEMORIAL DESCRITIVO-BRI'!$E$2:$E$4000=\"Sim\",ROW('MEMORIAL DESCRITIVO-BRI'!$Q$2:$Q$4000)),ROW(B56))), \"\")","v":""}]
[null,{"$f":"IFERROR(INDEX('MEMORIAL DESCRITIVO-BRI'!B:B,SMALL(IF('MEMORIAL DESCRITIVO-BRI'!$E$2:$E$4000=\"Sim\",ROW('MEMORIAL DESCRITIVO-BRI'!$B$2:$B$4000)),ROW(B57))), \"\")","v":""},{"$f":"IFERROR(INDEX('MEMORIAL DESCRITIVO-BRI'!I:I,SMALL(IF('MEMORIAL DESCRITIVO-BRI'!$E$2:$E$4000=\"Sim\",ROW('MEMORIAL DESCRITIVO-BRI'!$I$2:$I$4000)),ROW(B57))), \"\")","v":""},{"$f":"IFERROR(INDEX('MEMORIAL DESCRITIVO-BRI'!F:F,SMALL(IF('MEMORIAL DESCRITIVO-BRI'!$E$2:$E$4000=\"Sim\",ROW('MEMORIAL DESCRITIVO-BRI'!$F$2:$F$4000)),ROW(B57))) & \" - \" & INDEX('MEMORIAL DESCRITIVO-BRI'!H:H,SMALL(IF('MEMORIAL DESCRITIVO-BRI'!$E$2:$E$4000=\"Sim\",ROW('MEMORIAL DESCRITIVO-BRI'!$H$2:$H$4000)),ROW(B57))), \"\")","v":""},null,{"$f":"IFERROR(INDEX('MEMORIAL DESCRITIVO-BRI'!S:S,SMALL(IF('MEMORIAL DESCRITIVO-BRI'!$E$2:$E$4000=\"Sim\",ROW('MEMORIAL DESCRITIVO-BRI'!$S$2:$S$4000)),ROW(B57))), \"\")","v":""},{"$f":"IFERROR(INDEX('MEMORIAL DESCRITIVO-BRI'!Z:Z,SMALL(IF('MEMORIAL DESCRITIVO-BRI'!$E$2:$E$4000=\"Sim\",ROW('MEMORIAL DESCRITIVO-BRI'!$Z$2:$Z$4000)),ROW(B57))), \"\")","v":""},{"$f":"IFERROR(INDEX('MEMORIAL DESCRITIVO-BRI'!W:W,SMALL(IF('MEMORIAL DESCRITIVO-BRI'!$E$2:$E$4000=\"Sim\",ROW('MEMORIAL DESCRITIVO-BRI'!$W$2:$W$4000)),ROW(B57))), \"\")","v":""},{"$f":"IFERROR(INDEX('MEMORIAL DESCRITIVO-BRI'!G:G,SMALL(IF('MEMORIAL DESCRITIVO-BRI'!$E$2:$E$4000=\"Sim\",ROW('MEMORIAL DESCRITIVO-BRI'!$G$2:$G$4000)),ROW(B57))), \"\")","v":""},{"$f":"IFERROR(INDEX('MEMORIAL DESCRITIVO-BRI'!P:P,SMALL(IF('MEMORIAL DESCRITIVO-BRI'!$E$2:$E$4000=\"Sim\",ROW('MEMORIAL DESCRITIVO-BRI'!$P$2:$P$4000)),ROW(B57))), \"\")","v":""},{"$f":"IFERROR(INDEX('MEMORIAL DESCRITIVO-BRI'!Q:Q,SMALL(IF('MEMORIAL DESCRITIVO-BRI'!$E$2:$E$4000=\"Sim\",ROW('MEMORIAL DESCRITIVO-BRI'!$Q$2:$Q$4000)),ROW(B57))), \"\")","v":""}]
[null,{"$f":"IFERROR(INDEX('MEMORIAL DESCRITIVO-BRI'!B:B,SMALL(IF('MEMORIAL DESCRITIVO-BRI'!$E$2:$E$4000=\"Sim\",ROW('MEMORIAL DESCRITIVO-BRI'!$B$2:$B$4000)),ROW(B58))), \"\")","v":""},{"$f":"IFERROR(INDEX('MEMORIAL DESCRITIVO-BRI'!I:I,SMALL(IF('MEMORIAL DESCRITIVO-BRI'!$E$2:$E$4000=\"Sim\",ROW('MEMORIAL DESCRITIVO-BRI'!$I$2:$I$4000)),ROW(B58))), \"\")","v":""},{"$f":"IFERROR(INDEX('MEMORIAL DESCRITIVO-BRI'!F:F,SMALL(IF('MEMORIAL DESCRITIVO-BRI'!$E$2:$E$4000=\"Sim\",ROW('MEMORIAL DESCRITIVO-BRI'!$F$2:$F$4000)),ROW(B58))) & \" - \" & INDEX('MEMORIAL DESCRITIVO-BRI'!H:H,SMALL(IF('MEMORIAL DESCRITIVO-BRI'!$E$2:$E$4000=\"Sim\",ROW('MEMORIAL DESCRITIVO-BRI'!$H$2:$H$4000)),ROW(B58))), \"\")","v":""},null,{"$f":"IFERROR(INDEX('MEMORIAL DESCRITIVO-BRI'!S:S,SMALL(IF('MEMORIAL DESCRITIVO-BRI'!$E$2:$E$4000=\"Sim\",ROW('MEMORIAL DESCRITIVO-BRI'!$S$2:$S$4000)),ROW(B58))), \"\")","v":""},{"$f":"IFERROR(INDEX('MEMORIAL DESCRITIVO-BRI'!Z:Z,SMALL(IF('MEMORIAL DESCRITIVO-BRI'!$E$2:$E$4000=\"Sim\",ROW('MEMORIAL DESCRITIVO-BRI'!$Z$2:$Z$4000)),ROW(B58))), \"\")","v":""},{"$f":"IFERROR(INDEX('MEMORIAL DESCRITIVO-BRI'!W:W,SMALL(IF('MEMORIAL DESCRITIVO-BRI'!$E$2:$E$4000=\"Sim\",ROW('MEMORIAL DESCRITIVO-BRI'!$W$2:$W$4000)),ROW(B58))), \"\")","v":""},{"$f":"IFERROR(INDEX('MEMORIAL DESCRITIVO-BRI'!G:G,SMALL(IF('MEMORIAL DESCRITIVO-BRI'!$E$2:$E$4000=\"Sim\",ROW('MEMORIAL DESCRITIVO-BRI'!$G$2:$G$4000)),ROW(B58))), \"\")","v":""},{"$f":"IFERROR(INDEX('MEMORIAL DESCRITIVO-BRI'!P:P,SMALL(IF('MEMORIAL DESCRITIVO-BRI'!$E$2:$E$4000=\"Sim\",ROW('MEMORIAL DESCRITIVO-BRI'!$P$2:$P$4000)),ROW(B58))), \"\")","v":""},{"$f":"IFERROR(INDEX('MEMORIAL DESCRITIVO-BRI'!Q:Q,SMALL(IF('MEMORIAL DESCRITIVO-BRI'!$E$2:$E$4000=\"Sim\",ROW('MEMORIAL DESCRITIVO-BRI'!$Q$2:$Q$4000)),ROW(B58))), \"\")","v":""}]
[null,{"$f":"IFERROR(INDEX('MEMORIAL DESCRITIVO-BRI'!B:B,SMALL(IF('MEMORIAL DESCRITIVO-BRI'!$E$2:$E$4000=\"Sim\",ROW('MEMORIAL DESCRITIVO-BRI'!$B$2:$B$4000)),ROW(B59))), \"\")","v":""},{"$f":"IFERROR(INDEX('MEMORIAL DESCRITIVO-BRI'!I:I,SMALL(IF('MEMORIAL DESCRITIVO-BRI'!$E$2:$E$4000=\"Sim\",ROW('MEMORIAL DESCRITIVO-BRI'!$I$2:$I$4000)),ROW(B59))), \"\")","v":""},{"$f":"IFERROR(INDEX('MEMORIAL DESCRITIVO-BRI'!F:F,SMALL(IF('MEMORIAL DESCRITIVO-BRI'!$E$2:$E$4000=\"Sim\",ROW('MEMORIAL DESCRITIVO-BRI'!$F$2:$F$4000)),ROW(B59))) & \" - \" & INDEX('MEMORIAL DESCRITIVO-BRI'!H:H,SMALL(IF('MEMORIAL DESCRITIVO-BRI'!$E$2:$E$4000=\"Sim\",ROW('MEMORIAL DESCRITIVO-BRI'!$H$2:$H$4000)),ROW(B59))), \"\")","v":""},null,{"$f":"IFERROR(INDEX('MEMORIAL DESCRITIVO-BRI'!S:S,SMALL(IF('MEMORIAL DESCRITIVO-BRI'!$E$2:$E$4000=\"Sim\",ROW('MEMORIAL DESCRITIVO-BRI'!$S$2:$S$4000)),ROW(B59))), \"\")","v":""},{"$f":"IFERROR(INDEX('MEMORIAL DESCRITIVO-BRI'!Z:Z,SMALL(IF('MEMORIAL DESCRITIVO-BRI'!$E$2:$E$4000=\"Sim\",ROW('MEMORIAL DESCRITIVO-BRI'!$Z$2:$Z$4000)),ROW(B59))), \"\")","v":""},{"$f":"IFERROR(INDEX('MEMORIAL DESCRITIVO-BRI'!W:W,SMALL(IF('MEMORIAL DESCRITIVO-BRI'!$E$2:$E$4000=\"Sim\",ROW('MEMORIAL DESCRITIVO-BRI'!$W$2:$W$4000)),ROW(B59))), \"\")","v":""},{"$f":"IFERROR(INDEX('MEMORIAL DESCRITIVO-BRI'!G:G,SMALL(IF('MEMORIAL DESCRITIVO-BRI'!$E$2:$E$4000=\"Sim\",ROW('MEMORIAL DESCRITIVO-BRI'!$G$2:$G$4000)),ROW(B59))), \"\")","v":""},{"$f":"IFERROR(INDEX('MEMORIAL DESCRITIVO-BRI'!P:P,SMALL(IF('MEMORIAL DESCRITIVO-BRI'!$E$2:$E$4000=\"Sim\",ROW('MEMORIAL DESCRITIVO-BRI'!$P$2:$P$4000)),ROW(B59))), \"\")","v":""},{"$f":"IFERROR(INDEX('MEMORIAL DESCRITIVO-BRI'!Q:Q,SMALL(IF('MEMORIAL DESCRITIVO-BRI'!$E$2:$E$4000=\"Sim\",ROW('MEMORIAL DESCRITIVO-BRI'!$Q$2:$Q$4000)),ROW(B59))), \"\")","v":""}]
[null,{"$f":"IFERROR(INDEX('MEMORIAL DESCRITIVO-BRI'!B:B,SMALL(IF('MEMORIAL DESCRITIVO-BRI'!$E$2:$E$4000=\"Sim\",ROW('MEMORIAL DESCRITIVO-BRI'!$B$2:$B$4000)),ROW(B60))), \"\")","v":""},{"$f":"IFERROR(INDEX('MEMORIAL DESCRITIVO-BRI'!I:I,SMALL(IF('MEMORIAL DESCRITIVO-BRI'!$E$2:$E$4000=\"Sim\",ROW('MEMORIAL DESCRITIVO-BRI'!$I$2:$I$4000)),ROW(B60))), \"\")","v":""},{"$f":"IFERROR(INDEX('MEMORIAL DESCRITIVO-BRI'!F:F,SMALL(IF('MEMORIAL DESCRITIVO-BRI'!$E$2:$E$4000=\"Sim\",ROW('MEMORIAL DESCRITIVO-BRI'!$F$2:$F$4000)),ROW(B60))) & \" - \" & INDEX('MEMORIAL DESCRITIVO-BRI'!H:H,SMALL(IF('MEMORIAL DESCRITIVO-BRI'!$E$2:$E$4000=\"Sim\",ROW('MEMORIAL DESCRITIVO-BRI'!$H$2:$H$4000)),ROW(B60))), \"\")","v":""},null,{"$f":"IFERROR(INDEX('MEMORIAL DESCRITIVO-BRI'!S:S,SMALL(IF('MEMORIAL DESCRITIVO-BRI'!$E$2:$E$4000=\"Sim\",ROW('MEMORIAL DESCRITIVO-BRI'!$S$2:$S$4000)),ROW(B60))), \"\")","v":""},{"$f":"IFERROR(INDEX('MEMORIAL DESCRITIVO-BRI'!Z:Z,SMALL(IF('MEMORIAL DESCRITIVO-BRI'!$E$2:$E$4000=\"Sim\",ROW('MEMORIAL DESCRITIVO-BRI'!$Z$2:$Z$4000)),ROW(B60))), \"\")","v":""},{"$f":"IFERROR(INDEX('MEMORIAL DESCRITIVO-BRI'!W:W,SMALL(IF('MEMORIAL DESCRITIVO-BRI'!$E$2:$E$4000=\"Sim\",ROW('MEMORIAL DESCRITIVO-BRI'!$W$2:$W$4000)),ROW(B60))), \"\")","v":""},{"$f":"IFERROR(INDEX('MEMORIAL DESCRITIVO-BRI'!G:G,SMALL(IF('MEMORIAL DESCRITIVO-BRI'!$E$2:$E$4000=\"Sim\",ROW('MEMORIAL DESCRITIVO-BRI'!$G$2:$G$4000)),ROW(B60))), \"\")","v":""},{"$f":"IFERROR(INDEX('MEMORIAL DESCRITIVO-BRI'!P:P,SMALL(IF('MEMORIAL DESCRITIVO-BRI'!$E$2:$E$4000=\"Sim\",ROW('MEMORIAL DESCRITIVO-BRI'!$P$2:$P$4000)),ROW(B60))), \"\")","v":""},{"$f":"IFERROR(INDEX('MEMORIAL DESCRITIVO-BRI'!Q:Q,SMALL(IF('MEMORIAL DESCRITIVO-BRI'!$E$2:$E$4000=\"Sim\",ROW('MEMORIAL DESCRITIVO-BRI'!$Q$2:$Q$4000)),ROW(B60))), \"\")","v":""}]
[null,{"$f":"IFERROR(INDEX('MEMORIAL DESCRITIVO-BRI'!B:B,SMALL(IF('MEMORIAL DESCRITIVO-BRI'!$E$2:$E$4000=\"Sim\",ROW('MEMORIAL DESCRITIVO-BRI'!$B$2:$B$4000)),ROW(B61))), \"\")","v":""},{"$f":"IFERROR(INDEX('MEMORIAL DESCRITIVO-BRI'!I:I,SMALL(IF('MEMORIAL DESCRITIVO-BRI'!$E$2:$E$4000=\"Sim\",ROW('MEMORIAL DESCRITIVO-BRI'!$I$2:$I$4000)),ROW(B61))), \"\")","v":""},{"$f":"IFERROR(INDEX('MEMORIAL DESCRITIVO-BRI'!F:F,SMALL(IF('MEMORIAL DESCRITIVO-BRI'!$E$2:$E$4000=\"Sim\",ROW('MEMORIAL DESCRITIVO-BRI'!$F$2:$F$4000)),ROW(B61))) & \" - \" & INDEX('MEMORIAL DESCRITIVO-BRI'!H:H,SMALL(IF('MEMORIAL DESCRITIVO-BRI'!$E$2:$E$4000=\"Sim\",ROW('MEMORIAL DESCRITIVO-BRI'!$H$2:$H$4000)),ROW(B61))), \"\")","v":""},null,{"$f":"IFERROR(INDEX('MEMORIAL DESCRITIVO-BRI'!S:S,SMALL(IF('MEMORIAL DESCRITIVO-BRI'!$E$2:$E$4000=\"Sim\",ROW('MEMORIAL DESCRITIVO-BRI'!$S$2:$S$4000)),ROW(B61))), \"\")","v":""},{"$f":"IFERROR(INDEX('MEMORIAL DESCRITIVO-BRI'!Z:Z,SMALL(IF('MEMORIAL DESCRITIVO-BRI'!$E$2:$E$4000=\"Sim\",ROW('MEMORIAL DESCRITIVO-BRI'!$Z$2:$Z$4000)),ROW(B61))), \"\")","v":""},{"$f":"IFERROR(INDEX('MEMORIAL DESCRITIVO-BRI'!W:W,SMALL(IF('MEMORIAL DESCRITIVO-BRI'!$E$2:$E$4000=\"Sim\",ROW('MEMORIAL DESCRITIVO-BRI'!$W$2:$W$4000)),ROW(B61))), \"\")","v":""},{"$f":"IFERROR(INDEX('MEMORIAL DESCRITIVO-BRI'!G:G,SMALL(IF('MEMORIAL DESCRITIVO-BRI'!$E$2:$E$4000=\"Sim\",ROW('MEMORIAL DESCRITIVO-BRI'!$G$2:$G$4000)),ROW(B61))), \"\")","v":""},{"$f":"IFERROR(INDEX('MEMORIAL DESCRITIVO-BRI'!P:P,SMALL(IF('MEMORIAL DESCRITIVO-BRI'!$E$2:$E$4000=\"Sim\",ROW('MEMORIAL DESCRITIVO-BRI'!$P$2:$P$4000)),ROW(B61))), \"\")","v":""},{"$f":"IFERROR(INDEX('MEMORIAL DESCRITIVO-BRI'!Q:Q,SMALL(IF('MEMORIAL DESCRITIVO-BRI'!$E$2:$E$4000=\"Sim\",ROW('MEMORIAL DESCRITIVO-BRI'!$Q$2:$Q$4000)),ROW(B61))), \"\")","v":""}]
[null,{"$f":"IFERROR(INDEX('MEMORIAL DESCRITIVO-BRI'!B:B,SMALL(IF('MEMORIAL DESCRITIVO-BRI'!$E$2:$E$4000=\"Sim\",ROW('MEMORIAL DESCRITIVO-BRI'!$B$2:$B$4000)),ROW(B62))), \"\")","v":""},{"$f":"IFERROR(INDEX('MEMORIAL DESCRITIVO-BRI'!I:I,SMALL(IF('MEMORIAL DESCRITIVO-BRI'!$E$2:$E$4000=\"Sim\",ROW('MEMORIAL DESCRITIVO-BRI'!$I$2:$I$4000)),ROW(B62))), \"\")","v":""},{"$f":"IFERROR(INDEX('MEMORIAL DESCRITIVO-BRI'!F:F,SMALL(IF('MEMORIAL DESCRITIVO-BRI'!$E$2:$E$4000=\"Sim\",ROW('MEMORIAL DESCRITIVO-BRI'!$F$2:$F$4000)),ROW(B62))) & \" - \" & INDEX('MEMORIAL DESCRITIVO-BRI'!H:H,SMALL(IF('MEMORIAL DESCRITIVO-BRI'!$E$2:$E$4000=\"Sim\",ROW('MEMORIAL DESCRITIVO-BRI'!$H$2:$H$4000)),ROW(B62))), \"\")","v":""},null,{"$f":"IFERROR(INDEX('MEMORIAL DESCRITIVO-BRI'!S:S,SMALL(IF('MEMORIAL DESCRITIVO-BRI'!$E$2:$E$4000=\"Sim\",ROW('MEMORIAL DESCRITIVO-BRI'!$S$2:$S$4000)),ROW(B62))), \"\")","v":""},{"$f":"IFERROR(INDEX('MEMORIAL DESCRITIVO-BRI'!Z:Z,SMALL(IF('MEMORIAL DESCRITIVO-BRI'!$E$2:$E$4000=\"Sim\",ROW('MEMORIAL DESCRITIVO-BRI'!$Z$2:$Z$4000)),ROW(B62))), \"\")","v":""},{"$f":"IFERROR(INDEX('MEMORIAL DESCRITIVO-BRI'!W:W,SMALL(IF('MEMORIAL DESCRITIVO-BRI'!$E$2:$E$4000=\"Sim\",ROW('MEMORIAL DESCRITIVO-BRI'!$W$2:$W$4000)),ROW(B62))), \"\")","v":""},{"$f":"IFERROR(INDEX('MEMORIAL DESCRITIVO-BRI'!G:G,SMALL(IF('MEMORIAL DESCRITIVO-BRI'!$E$2:$E$4000=\"Sim\",ROW('MEMORIAL DESCRITIVO-BRI'!$G$2:$G$4000)),ROW(B62))), \"\")","v":""},{"$f":"IFERROR(INDEX('MEMORIAL DESCRITIVO-BRI'!P:P,SMALL(IF('MEMORIAL DESCRITIVO-BRI'!$E$2:$E$4000=\"Sim\",ROW('MEMORIAL DESCRITIVO-BRI'!$P$2:$P$4000)),ROW(B62))), \"\")","v":""},{"$f":"IFERROR(INDEX('MEMORIAL DESCRITIVO-BRI'!Q:Q,SMALL(IF('MEMORIAL DESCRITIVO-BRI'!$E$2:$E$4000=\"Sim\",ROW('MEMORIAL DESCRITIVO-BRI'!$Q$2:$Q$4000)),ROW(B62))), \"\")","v":""}]
[null,{"$f":"IFERROR(INDEX('MEMORIAL DESCRITIVO-BRI'!B:B,SMALL(IF('MEMORIAL DESCRITIVO-BRI'!$E$2:$E$4000=\"Sim\",ROW('MEMORIAL DESCRITIVO-BRI'!$B$2:$B$4000)),ROW(B63))), \"\")","v":""},{"$f":"IFERROR(INDEX('MEMORIAL DESCRITIVO-BRI'!I:I,SMALL(IF('MEMORIAL DESCRITIVO-BRI'!$E$2:$E$4000=\"Sim\",ROW('MEMORIAL DESCRITIVO-BRI'!$I$2:$I$4000)),ROW(B63))), \"\")","v":""},{"$f":"IFERROR(INDEX('MEMORIAL DESCRITIVO-BRI'!F:F,SMALL(IF('MEMORIAL DESCRITIVO-BRI'!$E$2:$E$4000=\"Sim\",ROW('MEMORIAL DESCRITIVO-BRI'!$F$2:$F$4000)),ROW(B63))) & \" - \" & INDEX('MEMORIAL DESCRITIVO-BRI'!H:H,SMALL(IF('MEMORIAL DESCRITIVO-BRI'!$E$2:$E$4000=\"Sim\",ROW('MEMORIAL DESCRITIVO-BRI'!$H$2:$H$4000)),ROW(B63))), \"\")","v":""},null,{"$f":"IFERROR(INDEX('MEMORIAL DESCRITIVO-BRI'!S:S,SMALL(IF('MEMORIAL DESCRITIVO-BRI'!$E$2:$E$4000=\"Sim\",ROW('MEMORIAL DESCRITIVO-BRI'!$S$2:$S$4000)),ROW(B63))), \"\")","v":""},{"$f":"IFERROR(INDEX('MEMORIAL DESCRITIVO-BRI'!Z:Z,SMALL(IF('MEMORIAL DESCRITIVO-BRI'!$E$2:$E$4000=\"Sim\",ROW('MEMORIAL DESCRITIVO-BRI'!$Z$2:$Z$4000)),ROW(B63))), \"\")","v":""},{"$f":"IFERROR(INDEX('MEMORIAL DESCRITIVO-BRI'!W:W,SMALL(IF('MEMORIAL DESCRITIVO-BRI'!$E$2:$E$4000=\"Sim\",ROW('MEMORIAL DESCRITIVO-BRI'!$W$2:$W$4000)),ROW(B63))), \"\")","v":""},{"$f":"IFERROR(INDEX('MEMORIAL DESCRITIVO-BRI'!G:G,SMALL(IF('MEMORIAL DESCRITIVO-BRI'!$E$2:$E$4000=\"Sim\",ROW('MEMORIAL DESCRITIVO-BRI'!$G$2:$G$4000)),ROW(B63))), \"\")","v":""},{"$f":"IFERROR(INDEX('MEMORIAL DESCRITIVO-BRI'!P:P,SMALL(IF('MEMORIAL DESCRITIVO-BRI'!$E$2:$E$4000=\"Sim\",ROW('MEMORIAL DESCRITIVO-BRI'!$P$2:$P$4000)),ROW(B63))), \"\")","v":""},{"$f":"IFERROR(INDEX('MEMORIAL DESCRITIVO-BRI'!Q:Q,SMALL(IF('MEMORIAL DESCRITIVO-BRI'!$E$2:$E$4000=\"Sim\",ROW('MEMORIAL DESCRITIVO-BRI'!$Q$2:$Q$4000)),ROW(B63))), \"\")","v":""}]
[null,{"$f":"IFERROR(INDEX('MEMORIAL DESCRITIVO-BRI'!B:B,SMALL(IF('MEMORIAL DESCRITIVO-BRI'!$E$2:$E$4000=\"Sim\",ROW('MEMORIAL DESCRITIVO-BRI'!$B$2:$B$4000)),ROW(B64))), \"\")","v":""},{"$f":"IFERROR(INDEX('MEMORIAL DESCRITIVO-BRI'!I:I,SMALL(IF('MEMORIAL DESCRITIVO-BRI'!$E$2:$E$4000=\"Sim\",ROW('MEMORIAL DESCRITIVO-BRI'!$I$2:$I$4000)),ROW(B64))), \"\")","v":""},{"$f":"IFERROR(INDEX('MEMORIAL DESCRITIVO-BRI'!F:F,SMALL(IF('MEMORIAL DESCRITIVO-BRI'!$E$2:$E$4000=\"Sim\",ROW('MEMORIAL DESCRITIVO-BRI'!$F$2:$F$4000)),ROW(B64))) & \" - \" & INDEX('MEMORIAL DESCRITIVO-BRI'!H:H,SMALL(IF('MEMORIAL DESCRITIVO-BRI'!$E$2:$E$4000=\"Sim\",ROW('MEMORIAL DESCRITIVO-BRI'!$H$2:$H$4000)),ROW(B64))), \"\")","v":""},null,{"$f":"IFERROR(INDEX('MEMORIAL DESCRITIVO-BRI'!S:S,SMALL(IF('MEMORIAL DESCRITIVO-BRI'!$E$2:$E$4000=\"Sim\",ROW('MEMORIAL DESCRITIVO-BRI'!$S$2:$S$4000)),ROW(B64))), \"\")","v":""},{"$f":"IFERROR(INDEX('MEMORIAL DESCRITIVO-BRI'!Z:Z,SMALL(IF('MEMORIAL DESCRITIVO-BRI'!$E$2:$E$4000=\"Sim\",ROW('MEMORIAL DESCRITIVO-BRI'!$Z$2:$Z$4000)),ROW(B64))), \"\")","v":""},{"$f":"IFERROR(INDEX('MEMORIAL DESCRITIVO-BRI'!W:W,SMALL(IF('MEMORIAL DESCRITIVO-BRI'!$E$2:$E$4000=\"Sim\",ROW('MEMORIAL DESCRITIVO-BRI'!$W$2:$W$4000)),ROW(B64))), \"\")","v":""},{"$f":"IFERROR(INDEX('MEMORIAL DESCRITIVO-BRI'!G:G,SMALL(IF('MEMORIAL DESCRITIVO-BRI'!$E$2:$E$4000=\"Sim\",ROW('MEMORIAL DESCRITIVO-BRI'!$G$2:$G$4000)),ROW(B64))), \"\")","v":""},{"$f":"IFERROR(INDEX('MEMORIAL DESCRITIVO-BRI'!P:P,SMALL(IF('MEMORIAL DESCRITIVO-BRI'!$E$2:$E$4000=\"Sim\",ROW('MEMORIAL DESCRITIVO-BRI'!$P$2:$P$4000)),ROW(B64))), \"\")","v":""},{"$f":"IFERROR(INDEX('MEMORIAL DESCRITIVO-BRI'!Q:Q,SMALL(IF('MEMORIAL DESCRITIVO-BRI'!$E$2:$E$4000=\"Sim\",ROW('MEMORIAL DESCRITIVO-BRI'!$Q$2:$Q$4000)),ROW(B64))), \"\")","v":""}]
[null,{"$f":"IFERROR(INDEX('MEMORIAL DESCRITIVO-BRI'!B:B,SMALL(IF('MEMORIAL DESCRITIVO-BRI'!$E$2:$E$4000=\"Sim\",ROW('MEMORIAL DESCRITIVO-BRI'!$B$2:$B$4000)),ROW(B65))), \"\")","v":""},{"$f":"IFERROR(INDEX('MEMORIAL DESCRITIVO-BRI'!I:I,SMALL(IF('MEMORIAL DESCRITIVO-BRI'!$E$2:$E$4000=\"Sim\",ROW('MEMORIAL DESCRITIVO-BRI'!$I$2:$I$4000)),ROW(B65))), \"\")","v":""},{"$f":"IFERROR(INDEX('MEMORIAL DESCRITIVO-BRI'!F:F,SMALL(IF('MEMORIAL DESCRITIVO-BRI'!$E$2:$E$4000=\"Sim\",ROW('MEMORIAL DESCRITIVO-BRI'!$F$2:$F$4000)),ROW(B65))) & \" - \" & INDEX('MEMORIAL DESCRITIVO-BRI'!H:H,SMALL(IF('MEMORIAL DESCRITIVO-BRI'!$E$2:$E$4000=\"Sim\",ROW('MEMORIAL DESCRITIVO-BRI'!$H$2:$H$4000)),ROW(B65))), \"\")","v":""},null,{"$f":"IFERROR(INDEX('MEMORIAL DESCRITIVO-BRI'!S:S,SMALL(IF('MEMORIAL DESCRITIVO-BRI'!$E$2:$E$4000=\"Sim\",ROW('MEMORIAL DESCRITIVO-BRI'!$S$2:$S$4000)),ROW(B65))), \"\")","v":""},{"$f":"IFERROR(INDEX('MEMORIAL DESCRITIVO-BRI'!Z:Z,SMALL(IF('MEMORIAL DESCRITIVO-BRI'!$E$2:$E$4000=\"Sim\",ROW('MEMORIAL DESCRITIVO-BRI'!$Z$2:$Z$4000)),ROW(B65))), \"\")","v":""},{"$f":"IFERROR(INDEX('MEMORIAL DESCRITIVO-BRI'!W:W,SMALL(IF('MEMORIAL DESCRITIVO-BRI'!$E$2:$E$4000=\"Sim\",ROW('MEMORIAL DESCRITIVO-BRI'!$W$2:$W$4000)),ROW(B65))), \"\")","v":""},{"$f":"IFERROR(INDEX('MEMORIAL DESCRITIVO-BRI'!G:G,SMALL(IF('MEMORIAL DESCRITIVO-BRI'!$E$2:$E$4000=\"Sim\",ROW('MEMORIAL DESCRITIVO-BRI'!$G$2:$G$4000)),ROW(B65))), \"\")","v":""},{"$f":"IFERROR(INDEX('MEMORIAL DESCRITIVO-BRI'!P:P,SMALL(IF('MEMORIAL DESCRITIVO-BRI'!$E$2:$E$4000=\"Sim\",ROW('MEMORIAL DESCRITIVO-BRI'!$P$2:$P$4000)),ROW(B65))), \"\")","v":""},{"$f":"IFERROR(INDEX('MEMORIAL DESCRITIVO-BRI'!Q:Q,SMALL(IF('MEMORIAL DESCRITIVO-BRI'!$E$2:$E$4000=\"Sim\",ROW('MEMORIAL DESCRITIVO-BRI'!$Q$2:$Q$4000)),ROW(B65))), \"\")","v":""}]
[null,{"$f":"IFERROR(INDEX('MEMORIAL DESCRITIVO-BRI'!B:B,SMALL(IF('MEMORIAL DESCRITIVO-BRI'!$E$2:$E$4000=\"Sim\",ROW('MEMORIAL DESCRITIVO-BRI'!$B$2:$B$4000)),ROW(B66))), \"\")","v":""},{"$f":"IFERROR(INDEX('MEMORIAL DESCRITIVO-BRI'!I:I,SMALL(IF('MEMORIAL DESCRITIVO-BRI'!$E$2:$E$4000=\"Sim\",ROW('MEMORIAL DESCRITIVO-BRI'!$I$2:$I$4000)),ROW(B66))), \"\")","v":""},{"$f":"IFERROR(INDEX('MEMORIAL DESCRITIVO-BRI'!F:F,SMALL(IF('MEMORIAL DESCRITIVO-BRI'!$E$2:$E$4000=\"Sim\",ROW('MEMORIAL DESCRITIVO-BRI'!$F$2:$F$4000)),ROW(B66))) & \" - \" & INDEX('MEMORIAL DESCRITIVO-BRI'!H:H,SMALL(IF('MEMORIAL DESCRITIVO-BRI'!$E$2:$E$4000=\"Sim\",ROW('MEMORIAL DESCRITIVO-BRI'!$H$2:$H$4000)),ROW(B66))), \"\")","v":""},null,{"$f":"IFERROR(INDEX('MEMORIAL DESCRITIVO-BRI'!S:S,SMALL(IF('MEMORIAL DESCRITIVO-BRI'!$E$2:$E$4000=\"Sim\",ROW('MEMORIAL DESCRITIVO-BRI'!$S$2:$S$4000)),ROW(B66))), \"\")","v":""},{"$f":"IFERROR(INDEX('MEMORIAL DESCRITIVO-BRI'!Z:Z,SMALL(IF('MEMORIAL DESCRITIVO-BRI'!$E$2:$E$4000=\"Sim\",ROW('MEMORIAL DESCRITIVO-BRI'!$Z$2:$Z$4000)),ROW(B66))), \"\")","v":""},{"$f":"IFERROR(INDEX('MEMORIAL DESCRITIVO-BRI'!W:W,SMALL(IF('MEMORIAL DESCRITIVO-BRI'!$E$2:$E$4000=\"Sim\",ROW('MEMORIAL DESCRITIVO-BRI'!$W$2:$W$4000)),ROW(B66))), \"\")","v":""},{"$f":"IFERROR(INDEX('MEMORIAL DESCRITIVO-BRI'!G:G,SMALL(IF('MEMORIAL DESCRITIVO-BRI'!$E$2:$E$4000=\"Sim\",ROW('MEMORIAL DESCRITIVO-BRI'!$G$2:$G$4000)),ROW(B66))), \"\")","v":""},{"$f":"IFERROR(INDEX('MEMORIAL DESCRITIVO-BRI'!P:P,SMALL(IF('MEMORIAL DESCRITIVO-BRI'!$E$2:$E$4000=\"Sim\",ROW('MEMORIAL DESCRITIVO-BRI'!$P$2:$P$4000)),ROW(B66))), \"\")","v":""},{"$f":"IFERROR(INDEX('MEMORIAL DESCRITIVO-BRI'!Q:Q,SMALL(IF('MEMORIAL DESCRITIVO-BRI'!$E$2:$E$4000=\"Sim\",ROW('MEMORIAL DESCRITIVO-BRI'!$Q$2:$Q$4000)),ROW(B66))), \"\")","v":""}]
[null,{"$f":"IFERROR(INDEX('MEMORIAL DESCRITIVO-BRI'!B:B,SMALL(IF('MEMORIAL DESCRITIVO-BRI'!$E$2:$E$4000=\"Sim\",ROW('MEMORIAL DESCRITIVO-BRI'!$B$2:$B$4000)),ROW(B67))), \"\")","v":""},{"$f":"IFERROR(INDEX('MEMORIAL DESCRITIVO-BRI'!I:I,SMALL(IF('MEMORIAL DESCRITIVO-BRI'!$E$2:$E$4000=\"Sim\",ROW('MEMORIAL DESCRITIVO-BRI'!$I$2:$I$4000)),ROW(B67))), \"\")","v":""},{"$f":"IFERROR(INDEX('MEMORIAL DESCRITIVO-BRI'!F:F,SMALL(IF('MEMORIAL DESCRITIVO-BRI'!$E$2:$E$4000=\"Sim\",ROW('MEMORIAL DESCRITIVO-BRI'!$F$2:$F$4000)),ROW(B67))) & \" - \" & INDEX('MEMORIAL DESCRITIVO-BRI'!H:H,SMALL(IF('MEMORIAL DESCRITIVO-BRI'!$E$2:$E$4000=\"Sim\",ROW('MEMORIAL DESCRITIVO-BRI'!$H$2:$H$4000)),ROW(B67))), \"\")","v":""},null,{"$f":"IFERROR(INDEX('MEMORIAL DESCRITIVO-BRI'!S:S,SMALL(IF('MEMORIAL DESCRITIVO-BRI'!$E$2:$E$4000=\"Sim\",ROW('MEMORIAL DESCRITIVO-BRI'!$S$2:$S$4000)),ROW(B67))), \"\")","v":""},{"$f":"IFERROR(INDEX('MEMORIAL DESCRITIVO-BRI'!Z:Z,SMALL(IF('MEMORIAL DESCRITIVO-BRI'!$E$2:$E$4000=\"Sim\",ROW('MEMORIAL DESCRITIVO-BRI'!$Z$2:$Z$4000)),ROW(B67))), \"\")","v":""},{"$f":"IFERROR(INDEX('MEMORIAL DESCRITIVO-BRI'!W:W,SMALL(IF('MEMORIAL DESCRITIVO-BRI'!$E$2:$E$4000=\"Sim\",ROW('MEMORIAL DESCRITIVO-BRI'!$W$2:$W$4000)),ROW(B67))), \"\")","v":""},{"$f":"IFERROR(INDEX('MEMORIAL DESCRITIVO-BRI'!G:G,SMALL(IF('MEMORIAL DESCRITIVO-BRI'!$E$2:$E$4000=\"Sim\",ROW('MEMORIAL DESCRITIVO-BRI'!$G$2:$G$4000)),ROW(B67))), \"\")","v":""},{"$f":"IFERROR(INDEX('MEMORIAL DESCRITIVO-BRI'!P:P,SMALL(IF('MEMORIAL DESCRITIVO-BRI'!$E$2:$E$4000=\"Sim\",ROW('MEMORIAL DESCRITIVO-BRI'!$P$2:$P$4000)),ROW(B67))), \"\")","v":""},{"$f":"IFERROR(INDEX('MEMORIAL DESCRITIVO-BRI'!Q:Q,SMALL(IF('MEMORIAL DESCRITIVO-BRI'!$E$2:$E$4000=\"Sim\",ROW('MEMORIAL DESCRITIVO-BRI'!$Q$2:$Q$4000)),ROW(B67))), \"\")","v":""}]
[null,{"$f":"IFERROR(INDEX('MEMORIAL DESCRITIVO-BRI'!B:B,SMALL(IF('MEMORIAL DESCRITIVO-BRI'!$E$2:$E$4000=\"Sim\",ROW('MEMORIAL DESCRITIVO-BRI'!$B$2:$B$4000)),ROW(B68))), \"\")","v":""},{"$f":"IFERROR(INDEX('MEMORIAL DESCRITIVO-BRI'!I:I,SMALL(IF('MEMORIAL DESCRITIVO-BRI'!$E$2:$E$4000=\"Sim\",ROW('MEMORIAL DESCRITIVO-BRI'!$I$2:$I$4000)),ROW(B68))), \"\")","v":""},{"$f":"IFERROR(INDEX('MEMORIAL DESCRITIVO-BRI'!F:F,SMALL(IF('MEMORIAL DESCRITIVO-BRI'!$E$2:$E$4000=\"Sim\",ROW('MEMORIAL DESCRITIVO-BRI'!$F$2:$F$4000)),ROW(B68))) & \" - \" & INDEX('MEMORIAL DESCRITIVO-BRI'!H:H,SMALL(IF('MEMORIAL DESCRITIVO-BRI'!$E$2:$E$4000=\"Sim\",ROW('MEMORIAL DESCRITIVO-BRI'!$H$2:$H$4000)),ROW(B68))), \"\")","v":""},null,{"$f":"IFERROR(INDEX('MEMORIAL DESCRITIVO-BRI'!S:S,SMALL(IF('MEMORIAL DESCRITIVO-BRI'!$E$2:$E$4000=\"Sim\",ROW('MEMORIAL DESCRITIVO-BRI'!$S$2:$S$4000)),ROW(B68))), \"\")","v":""},{"$f":"IFERROR(INDEX('MEMORIAL DESCRITIVO-BRI'!Z:Z,SMALL(IF('MEMORIAL DESCRITIVO-BRI'!$E$2:$E$4000=\"Sim\",ROW('MEMORIAL DESCRITIVO-BRI'!$Z$2:$Z$4000)),ROW(B68))), \"\")","v":""},{"$f":"IFERROR(INDEX('MEMORIAL DESCRITIVO-BRI'!W:W,SMALL(IF('MEMORIAL DESCRITIVO-BRI'!$E$2:$E$4000=\"Sim\",ROW('MEMORIAL DESCRITIVO-BRI'!$W$2:$W$4000)),ROW(B68))), \"\")","v":""},{"$f":"IFERROR(INDEX('MEMORIAL DESCRITIVO-BRI'!G:G,SMALL(IF('MEMORIAL DESCRITIVO-BRI'!$E$2:$E$4000=\"Sim\",ROW('MEMORIAL DESCRITIVO-BRI'!$G$2:$G$4000)),ROW(B68))), \"\")","v":""},{"$f":"IFERROR(INDEX('MEMORIAL DESCRITIVO-BRI'!P:P,SMALL(IF('MEMORIAL DESCRITIVO-BRI'!$E$2:$E$4000=\"Sim\",ROW('MEMORIAL DESCRITIVO-BRI'!$P$2:$P$4000)),ROW(B68))), \"\")","v":""},{"$f":"IFERROR(INDEX('MEMORIAL DESCRITIVO-BRI'!Q:Q,SMALL(IF('MEMORIAL DESCRITIVO-BRI'!$E$2:$E$4000=\"Sim\",ROW('MEMORIAL DESCRITIVO-BRI'!$Q$2:$Q$4000)),ROW(B68))), \"\")","v":""}]
[null,{"$f":"IFERROR(INDEX('MEMORIAL DESCRITIVO-BRI'!B:B,SMALL(IF('MEMORIAL DESCRITIVO-BRI'!$E$2:$E$4000=\"Sim\",ROW('MEMORIAL DESCRITIVO-BRI'!$B$2:$B$4000)),ROW(B69))), \"\")","v":""},{"$f":"IFERROR(INDEX('MEMORIAL DESCRITIVO-BRI'!I:I,SMALL(IF('MEMORIAL DESCRITIVO-BRI'!$E$2:$E$4000=\"Sim\",ROW('MEMORIAL DESCRITIVO-BRI'!$I$2:$I$4000)),ROW(B69))), \"\")","v":""},{"$f":"IFERROR(INDEX('MEMORIAL DESCRITIVO-BRI'!F:F,SMALL(IF('MEMORIAL DESCRITIVO-BRI'!$E$2:$E$4000=\"Sim\",ROW('MEMORIAL DESCRITIVO-BRI'!$F$2:$F$4000)),ROW(B69))) & \" - \" & INDEX('MEMORIAL DESCRITIVO-BRI'!H:H,SMALL(IF('MEMORIAL DESCRITIVO-BRI'!$E$2:$E$4000=\"Sim\",ROW('MEMORIAL DESCRITIVO-BRI'!$H$2:$H$4000)),ROW(B69))), \"\")","v":""},null,{"$f":"IFERROR(INDEX('MEMORIAL DESCRITIVO-BRI'!S:S,SMALL(IF('MEMORIAL DESCRITIVO-BRI'!$E$2:$E$4000=\"Sim\",ROW('MEMORIAL DESCRITIVO-BRI'!$S$2:$S$4000)),ROW(B69))), \"\")","v":""},{"$f":"IFERROR(INDEX('MEMORIAL DESCRITIVO-BRI'!Z:Z,SMALL(IF('MEMORIAL DESCRITIVO-BRI'!$E$2:$E$4000=\"Sim\",ROW('MEMORIAL DESCRITIVO-BRI'!$Z$2:$Z$4000)),ROW(B69))), \"\")","v":""},{"$f":"IFERROR(INDEX('MEMORIAL DESCRITIVO-BRI'!W:W,SMALL(IF('MEMORIAL DESCRITIVO-BRI'!$E$2:$E$4000=\"Sim\",ROW('MEMORIAL DESCRITIVO-BRI'!$W$2:$W$4000)),ROW(B69))), \"\")","v":""},{"$f":"IFERROR(INDEX('MEMORIAL DESCRITIVO-BRI'!G:G,SMALL(IF('MEMORIAL DESCRITIVO-BRI'!$E$2:$E$4000=\"Sim\",ROW('MEMORIAL DESCRITIVO-BRI'!$G$2:$G$4000)),ROW(B69))), \"\")","v":""},{"$f":"IFERROR(INDEX('MEMORIAL DESCRITIVO-BRI'!P:P,SMALL(IF('MEMORIAL DESCRITIVO-BRI'!$E$2:$E$4000=\"Sim\",ROW('MEMORIAL DESCRITIVO-BRI'!$P$2:$P$4000)),ROW(B69))), \"\")","v":""},{"$f":"IFERROR(INDEX('MEMORIAL DESCRITIVO-BRI'!Q:Q,SMALL(IF('MEMORIAL DESCRITIVO-BRI'!$E$2:$E$4000=\"Sim\",ROW('MEMORIAL DESCRITIVO-BRI'!$Q$2:$Q$4000)),ROW(B69))), \"\")","v":""}]
[null,{"$f":"IFERROR(INDEX('MEMORIAL DESCRITIVO-BRI'!B:B,SMALL(IF('MEMORIAL DESCRITIVO-BRI'!$E$2:$E$4000=\"Sim\",ROW('MEMORIAL DESCRITIVO-BRI'!$B$2:$B$4000)),ROW(B70))), \"\")","v":""},{"$f":"IFERROR(INDEX('MEMORIAL DESCRITIVO-BRI'!I:I,SMALL(IF('MEMORIAL DESCRITIVO-BRI'!$E$2:$E$4000=\"Sim\",ROW('MEMORIAL DESCRITIVO-BRI'!$I$2:$I$4000)),ROW(B70))), \"\")","v":""},{"$f":"IFERROR(INDEX('MEMORIAL DESCRITIVO-BRI'!F:F,SMALL(IF('MEMORIAL DESCRITIVO-BRI'!$E$2:$E$4000=\"Sim\",ROW('MEMORIAL DESCRITIVO-BRI'!$F$2:$F$4000)),ROW(B70))) & \" - \" & INDEX('MEMORIAL DESCRITIVO-BRI'!H:H,SMALL(IF('MEMORIAL DESCRITIVO-BRI'!$E$2:$E$4000=\"Sim\",ROW('MEMORIAL DESCRITIVO-BRI'!$H$2:$H$4000)),ROW(B70))), \"\")","v":""},null,{"$f":"IFERROR(INDEX('MEMORIAL DESCRITIVO-BRI'!S:S,SMALL(IF('MEMORIAL DESCRITIVO-BRI'!$E$2:$E$4000=\"Sim\",ROW('MEMORIAL DESCRITIVO-BRI'!$S$2:$S$4000)),ROW(B70))), \"\")","v":""},{"$f":"IFERROR(INDEX('MEMORIAL DESCRITIVO-BRI'!Z:Z,SMALL(IF('MEMORIAL DESCRITIVO-BRI'!$E$2:$E$4000=\"Sim\",ROW('MEMORIAL DESCRITIVO-BRI'!$Z$2:$Z$4000)),ROW(B70))), \"\")","v":""},{"$f":"IFERROR(INDEX('MEMORIAL DESCRITIVO-BRI'!W:W,SMALL(IF('MEMORIAL DESCRITIVO-BRI'!$E$2:$E$4000=\"Sim\",ROW('MEMORIAL DESCRITIVO-BRI'!$W$2:$W$4000)),ROW(B70))), \"\")","v":""},{"$f":"IFERROR(INDEX('MEMORIAL DESCRITIVO-BRI'!G:G,SMALL(IF('MEMORIAL DESCRITIVO-BRI'!$E$2:$E$4000=\"Sim\",ROW('MEMORIAL DESCRITIVO-BRI'!$G$2:$G$4000)),ROW(B70))), \"\")","v":""},{"$f":"IFERROR(INDEX('MEMORIAL DESCRITIVO-BRI'!P:P,SMALL(IF('MEMORIAL DESCRITIVO-BRI'!$E$2:$E$4000=\"Sim\",ROW('MEMORIAL DESCRITIVO-BRI'!$P$2:$P$4000)),ROW(B70))), \"\")","v":""},{"$f":"IFERROR(INDEX('MEMORIAL DESCRITIVO-BRI'!Q:Q,SMALL(IF('MEMORIAL DESCRITIVO-BRI'!$E$2:$E$4000=\"Sim\",ROW('MEMORIAL DESCRITIVO-BRI'!$Q$2:$Q$4000)),ROW(B70))), \"\")","v":""}]
[null,{"$f":"IFERROR(INDEX('MEMORIAL DESCRITIVO-BRI'!B:B,SMALL(IF('MEMORIAL DESCRITIVO-BRI'!$E$2:$E$4000=\"Sim\",ROW('MEMORIAL DESCRITIVO-BRI'!$B$2:$B$4000)),ROW(B71))), \"\")","v":""},{"$f":"IFERROR(INDEX('MEMORIAL DESCRITIVO-BRI'!I:I,SMALL(IF('MEMORIAL DESCRITIVO-BRI'!$E$2:$E$4000=\"Sim\",ROW('MEMORIAL DESCRITIVO-BRI'!$I$2:$I$4000)),ROW(B71))), \"\")","v":""},{"$f":"IFERROR(INDEX('MEMORIAL DESCRITIVO-BRI'!F:F,SMALL(IF('MEMORIAL DESCRITIVO-BRI'!$E$2:$E$4000=\"Sim\",ROW('MEMORIAL DESCRITIVO-BRI'!$F$2:$F$4000)),ROW(B71))) & \" - \" & INDEX('MEMORIAL DESCRITIVO-BRI'!H:H,SMALL(IF('MEMORIAL DESCRITIVO-BRI'!$E$2:$E$4000=\"Sim\",ROW('MEMORIAL DESCRITIVO-BRI'!$H$2:$H$4000)),ROW(B71))), \"\")","v":""},null,{"$f":"IFERROR(INDEX('MEMORIAL DESCRITIVO-BRI'!S:S,SMALL(IF('MEMORIAL DESCRITIVO-BRI'!$E$2:$E$4000=\"Sim\",ROW('MEMORIAL DESCRITIVO-BRI'!$S$2:$S$4000)),ROW(B71))), \"\")","v":""},{"$f":"IFERROR(INDEX('MEMORIAL DESCRITIVO-BRI'!Z:Z,SMALL(IF('MEMORIAL DESCRITIVO-BRI'!$E$2:$E$4000=\"Sim\",ROW('MEMORIAL DESCRITIVO-BRI'!$Z$2:$Z$4000)),ROW(B71))), \"\")","v":""},{"$f":"IFERROR(INDEX('MEMORIAL DESCRITIVO-BRI'!W:W,SMALL(IF('MEMORIAL DESCRITIVO-BRI'!$E$2:$E$4000=\"Sim\",ROW('MEMORIAL DESCRITIVO-BRI'!$W$2:$W$4000)),ROW(B71))), \"\")","v":""},{"$f":"IFERROR(INDEX('MEMORIAL DESCRITIVO-BRI'!G:G,SMALL(IF('MEMORIAL DESCRITIVO-BRI'!$E$2:$E$4000=\"Sim\",ROW('MEMORIAL DESCRITIVO-BRI'!$G$2:$G$4000)),ROW(B71))), \"\")","v":""},{"$f":"IFERROR(INDEX('MEMORIAL DESCRITIVO-BRI'!P:P,SMALL(IF('MEMORIAL DESCRITIVO-BRI'!$E$2:$E$4000=\"Sim\",ROW('MEMORIAL DESCRITIVO-BRI'!$P$2:$P$4000)),ROW(B71))), \"\")","v":""},{"$f":"IFERROR(INDEX('MEMORIAL DESCRITIVO-BRI'!Q:Q,SMALL(IF('MEMORIAL DESCRITIVO-BRI'!$E$2:$E$4000=\"Sim\",ROW('MEMORIAL DESCRITIVO-BRI'!$Q$2:$Q$4000)),ROW(B71))), \"\")","v":""}]
[null,{"$f":"IFERROR(INDEX('MEMORIAL DESCRITIVO-BRI'!B:B,SMALL(IF('MEMORIAL DESCRITIVO-BRI'!$E$2:$E$4000=\"Sim\",ROW('MEMORIAL DESCRITIVO-BRI'!$B$2:$B$4000)),ROW(B72))), \"\")","v":""},{"$f":"IFERROR(INDEX('MEMORIAL DESCRITIVO-BRI'!I:I,SMALL(IF('MEMORIAL DESCRITIVO-BRI'!$E$2:$E$4000=\"Sim\",ROW('MEMORIAL DESCRITIVO-BRI'!$I$2:$I$4000)),ROW(B72))), \"\")","v":""},{"$f":"IFERROR(INDEX('MEMORIAL DESCRITIVO-BRI'!F:F,SMALL(IF('MEMORIAL DESCRITIVO-BRI'!$E$2:$E$4000=\"Sim\",ROW('MEMORIAL DESCRITIVO-BRI'!$F$2:$F$4000)),ROW(B72))) & \" - \" & INDEX('MEMORIAL DESCRITIVO-BRI'!H:H,SMALL(IF('MEMORIAL DESCRITIVO-BRI'!$E$2:$E$4000=\"Sim\",ROW('MEMORIAL DESCRITIVO-BRI'!$H$2:$H$4000)),ROW(B72))), \"\")","v":""},null,{"$f":"IFERROR(INDEX('MEMORIAL DESCRITIVO-BRI'!S:S,SMALL(IF('MEMORIAL DESCRITIVO-BRI'!$E$2:$E$4000=\"Sim\",ROW('MEMORIAL DESCRITIVO-BRI'!$S$2:$S$4000)),ROW(B72))), \"\")","v":""},{"$f":"IFERROR(INDEX('MEMORIAL DESCRITIVO-BRI'!Z:Z,SMALL(IF('MEMORIAL DESCRITIVO-BRI'!$E$2:$E$4000=\"Sim\",ROW('MEMORIAL DESCRITIVO-BRI'!$Z$2:$Z$4000)),ROW(B72))), \"\")","v":""},{"$f":"IFERROR(INDEX('MEMORIAL DESCRITIVO-BRI'!W:W,SMALL(IF('MEMORIAL DESCRITIVO-BRI'!$E$2:$E$4000=\"Sim\",ROW('MEMORIAL DESCRITIVO-BRI'!$W$2:$W$4000)),ROW(B72))), \"\")","v":""},{"$f":"IFERROR(INDEX('MEMORIAL DESCRITIVO-BRI'!G:G,SMALL(IF('MEMORIAL DESCRITIVO-BRI'!$E$2:$E$4000=\"Sim\",ROW('MEMORIAL DESCRITIVO-BRI'!$G$2:$G$4000)),ROW(B72))), \"\")","v":""},{"$f":"IFERROR(INDEX('MEMORIAL DESCRITIVO-BRI'!P:P,SMALL(IF('MEMORIAL DESCRITIVO-BRI'!$E$2:$E$4000=\"Sim\",ROW('MEMORIAL DESCRITIVO-BRI'!$P$2:$P$4000)),ROW(B72))), \"\")","v":""},{"$f":"IFERROR(INDEX('MEMORIAL DESCRITIVO-BRI'!Q:Q,SMALL(IF('MEMORIAL DESCRITIVO-BRI'!$E$2:$E$4000=\"Sim\",ROW('MEMORIAL DESCRITIVO-BRI'!$Q$2:$Q$4000)),ROW(B72))), \"\")","v":""}]
[null,{"$f":"IFERROR(INDEX('MEMORIAL DESCRITIVO-BRI'!B:B,SMALL(IF('MEMORIAL DESCRITIVO-BRI'!$E$2:$E$4000=\"Sim\",ROW('MEMORIAL DESCRITIVO-BRI'!$B$2:$B$4000)),ROW(B73))), \"\")","v":""},{"$f":"IFERROR(INDEX('MEMORIAL DESCRITIVO-BRI'!I:I,SMALL(IF('MEMORIAL DESCRITIVO-BRI'!$E$2:$E$4000=\"Sim\",ROW('MEMORIAL DESCRITIVO-BRI'!$I$2:$I$4000)),ROW(B73))), \"\")","v":""},{"$f":"IFERROR(INDEX('MEMORIAL DESCRITIVO-BRI'!F:F,SMALL(IF('MEMORIAL DESCRITIVO-BRI'!$E$2:$E$4000=\"Sim\",ROW('MEMORIAL DESCRITIVO-BRI'!$F$2:$F$4000)),ROW(B73))) & \" - \" & INDEX('MEMORIAL DESCRITIVO-BRI'!H:H,SMALL(IF('MEMORIAL DESCRITIVO-BRI'!$E$2:$E$4000=\"Sim\",ROW('MEMORIAL DESCRITIVO-BRI'!$H$2:$H$4000)),ROW(B73))), \"\")","v":""},null,{"$f":"IFERROR(INDEX('MEMORIAL DESCRITIVO-BRI'!S:S,SMALL(IF('MEMORIAL DESCRITIVO-BRI'!$E$2:$E$4000=\"Sim\",ROW('MEMORIAL DESCRITIVO-BRI'!$S$2:$S$4000)),ROW(B73))), \"\")","v":""},{"$f":"IFERROR(INDEX('MEMORIAL DESCRITIVO-BRI'!Z:Z,SMALL(IF('MEMORIAL DESCRITIVO-BRI'!$E$2:$E$4000=\"Sim\",ROW('MEMORIAL DESCRITIVO-BRI'!$Z$2:$Z$4000)),ROW(B73))), \"\")","v":""},{"$f":"IFERROR(INDEX('MEMORIAL DESCRITIVO-BRI'!W:W,SMALL(IF('MEMORIAL DESCRITIVO-BRI'!$E$2:$E$4000=\"Sim\",ROW('MEMORIAL DESCRITIVO-BRI'!$W$2:$W$4000)),ROW(B73))), \"\")","v":""},{"$f":"IFERROR(INDEX('MEMORIAL DESCRITIVO-BRI'!G:G,SMALL(IF('MEMORIAL DESCRITIVO-BRI'!$E$2:$E$4000=\"Sim\",ROW('MEMORIAL DESCRITIVO-BRI'!$G$2:$G$4000)),ROW(B73))), \"\")","v":""},{"$f":"IFERROR(INDEX('MEMORIAL DESCRITIVO-BRI'!P:P,SMALL(IF('MEMORIAL DESCRITIVO-BRI'!$E$2:$E$4000=\"Sim\",ROW('MEMORIAL DESCRITIVO-BRI'!$P$2:$P$4000)),ROW(B73))), \"\")","v":""},{"$f":"IFERROR(INDEX('MEMORIAL DESCRITIVO-BRI'!Q:Q,SMALL(IF('MEMORIAL DESCRITIVO-BRI'!$E$2:$E$4000=\"Sim\",ROW('MEMORIAL DESCRITIVO-BRI'!$Q$2:$Q$4000)),ROW(B73))), \"\")","v":""}]
[null,{"$f":"IFERROR(INDEX('MEMORIAL DESCRITIVO-BRI'!B:B,SMALL(IF('MEMORIAL DESCRITIVO-BRI'!$E$2:$E$4000=\"Sim\",ROW('MEMORIAL DESCRITIVO-BRI'!$B$2:$B$4000)),ROW(B74))), \"\")","v":""},{"$f":"IFERROR(INDEX('MEMORIAL DESCRITIVO-BRI'!I:I,SMALL(IF('MEMORIAL DESCRITIVO-BRI'!$E$2:$E$4000=\"Sim\",ROW('MEMORIAL DESCRITIVO-BRI'!$I$2:$I$4000)),ROW(B74))), \"\")","v":""},{"$f":"IFERROR(INDEX('MEMORIAL DESCRITIVO-BRI'!F:F,SMALL(IF('MEMORIAL DESCRITIVO-BRI'!$E$2:$E$4000=\"Sim\",ROW('MEMORIAL DESCRITIVO-BRI'!$F$2:$F$4000)),ROW(B74))) & \" - \" & INDEX('MEMORIAL DESCRITIVO-BRI'!H:H,SMALL(IF('MEMORIAL DESCRITIVO-BRI'!$E$2:$E$4000=\"Sim\",ROW('MEMORIAL DESCRITIVO-BRI'!$H$2:$H$4000)),ROW(B74))), \"\")","v":""},null,{"$f":"IFERROR(INDEX('MEMORIAL DESCRITIVO-BRI'!S:S,SMALL(IF('MEMORIAL DESCRITIVO-BRI'!$E$2:$E$4000=\"Sim\",ROW('MEMORIAL DESCRITIVO-BRI'!$S$2:$S$4000)),ROW(B74))), \"\")","v":""},{"$f":"IFERROR(INDEX('MEMORIAL DESCRITIVO-BRI'!Z:Z,SMALL(IF('MEMORIAL DESCRITIVO-BRI'!$E$2:$E$4000=\"Sim\",ROW('MEMORIAL DESCRITIVO-BRI'!$Z$2:$Z$4000)),ROW(B74))), \"\")","v":""},{"$f":"IFERROR(INDEX('MEMORIAL DESCRITIVO-BRI'!W:W,SMALL(IF('MEMORIAL DESCRITIVO-BRI'!$E$2:$E$4000=\"Sim\",ROW('MEMORIAL DESCRITIVO-BRI'!$W$2:$W$4000)),ROW(B74))), \"\")","v":""},{"$f":"IFERROR(INDEX('MEMORIAL DESCRITIVO-BRI'!G:G,SMALL(IF('MEMORIAL DESCRITIVO-BRI'!$E$2:$E$4000=\"Sim\",ROW('MEMORIAL DESCRITIVO-BRI'!$G$2:$G$4000)),ROW(B74))), \"\")","v":""},{"$f":"IFERROR(INDEX('MEMORIAL DESCRITIVO-BRI'!P:P,SMALL(IF('MEMORIAL DESCRITIVO-BRI'!$E$2:$E$4000=\"Sim\",ROW('MEMORIAL DESCRITIVO-BRI'!$P$2:$P$4000)),ROW(B74))), \"\")","v":""},{"$f":"IFERROR(INDEX('MEMORIAL DESCRITIVO-BRI'!Q:Q,SMALL(IF('MEMORIAL DESCRITIVO-BRI'!$E$2:$E$4000=\"Sim\",ROW('MEMORIAL DESCRITIVO-BRI'!$Q$2:$Q$4000)),ROW(B74))), \"\")","v":""}]
[null,{"$f":"IFERROR(INDEX('MEMORIAL DESCRITIVO-BRI'!B:B,SMALL(IF('MEMORIAL DESCRITIVO-BRI'!$E$2:$E$4000=\"Sim\",ROW('MEMORIAL DESCRITIVO-BRI'!$B$2:$B$4000)),ROW(B75))), \"\")","v":""},{"$f":"IFERROR(INDEX('MEMORIAL DESCRITIVO-BRI'!I:I,SMALL(IF('MEMORIAL DESCRITIVO-BRI'!$E$2:$E$4000=\"Sim\",ROW('MEMORIAL DESCRITIVO-BRI'!$I$2:$I$4000)),ROW(B75))), \"\")","v":""},{"$f":"IFERROR(INDEX('MEMORIAL DESCRITIVO-BRI'!F:F,SMALL(IF('MEMORIAL DESCRITIVO-BRI'!$E$2:$E$4000=\"Sim\",ROW('MEMORIAL DESCRITIVO-BRI'!$F$2:$F$4000)),ROW(B75))) & \" - \" & INDEX('MEMORIAL DESCRITIVO-BRI'!H:H,SMALL(IF('MEMORIAL DESCRITIVO-BRI'!$E$2:$E$4000=\"Sim\",ROW('MEMORIAL DESCRITIVO-BRI'!$H$2:$H$4000)),ROW(B75))), \"\")","v":""},null,{"$f":"IFERROR(INDEX('MEMORIAL DESCRITIVO-BRI'!S:S,SMALL(IF('MEMORIAL DESCRITIVO-BRI'!$E$2:$E$4000=\"Sim\",ROW('MEMORIAL DESCRITIVO-BRI'!$S$2:$S$4000)),ROW(B75))), \"\")","v":""},{"$f":"IFERROR(INDEX('MEMORIAL DESCRITIVO-BRI'!Z:Z,SMALL(IF('MEMORIAL DESCRITIVO-BRI'!$E$2:$E$4000=\"Sim\",ROW('MEMORIAL DESCRITIVO-BRI'!$Z$2:$Z$4000)),ROW(B75))), \"\")","v":""},{"$f":"IFERROR(INDEX('MEMORIAL DESCRITIVO-BRI'!W:W,SMALL(IF('MEMORIAL DESCRITIVO-BRI'!$E$2:$E$4000=\"Sim\",ROW('MEMORIAL DESCRITIVO-BRI'!$W$2:$W$4000)),ROW(B75))), \"\")","v":""},{"$f":"IFERROR(INDEX('MEMORIAL DESCRITIVO-BRI'!G:G,SMALL(IF('MEMORIAL DESCRITIVO-BRI'!$E$2:$E$4000=\"Sim\",ROW('MEMORIAL DESCRITIVO-BRI'!$G$2:$G$4000)),ROW(B75))), \"\")","v":""},{"$f":"IFERROR(INDEX('MEMORIAL DESCRITIVO-BRI'!P:P,SMALL(IF('MEMORIAL DESCRITIVO-BRI'!$E$2:$E$4000=\"Sim\",ROW('MEMORIAL DESCRITIVO-BRI'!$P$2:$P$4000)),ROW(B75))), \"\")","v":""},{"$f":"IFERROR(INDEX('MEMORIAL DESCRITIVO-BRI'!Q:Q,SMALL(IF('MEMORIAL DESCRITIVO-BRI'!$E$2:$E$4000=\"Sim\",ROW('MEMORIAL DESCRITIVO-BRI'!$Q$2:$Q$4000)),ROW(B75))), \"\")","v":""}]
[null,{"$f":"IFERROR(INDEX('MEMORIAL DESCRITIVO-BRI'!B:B,SMALL(IF('MEMORIAL DESCRITIVO-BRI'!$E$2:$E$4000=\"Sim\",ROW('MEMORIAL DESCRITIVO-BRI'!$B$2:$B$4000)),ROW(B76))), \"\")","v":""},{"$f":"IFERROR(INDEX('MEMORIAL DESCRITIVO-BRI'!I:I,SMALL(IF('MEMORIAL DESCRITIVO-BRI'!$E$2:$E$4000=\"Sim\",ROW('MEMORIAL DESCRITIVO-BRI'!$I$2:$I$4000)),ROW(B76))), \"\")","v":""},{"$f":"IFERROR(INDEX('MEMORIAL DESCRITIVO-BRI'!F:F,SMALL(IF('MEMORIAL DESCRITIVO-BRI'!$E$2:$E$4000=\"Sim\",ROW('MEMORIAL DESCRITIVO-BRI'!$F$2:$F$4000)),ROW(B76))) & \" - \" & INDEX('MEMORIAL DESCRITIVO-BRI'!H:H,SMALL(IF('MEMORIAL DESCRITIVO-BRI'!$E$2:$E$4000=\"Sim\",ROW('MEMORIAL DESCRITIVO-BRI'!$H$2:$H$4000)),ROW(B76))), \"\")","v":""},null,{"$f":"IFERROR(INDEX('MEMORIAL DESCRITIVO-BRI'!S:S,SMALL(IF('MEMORIAL DESCRITIVO-BRI'!$E$2:$E$4000=\"Sim\",ROW('MEMORIAL DESCRITIVO-BRI'!$S$2:$S$4000)),ROW(B76))), \"\")","v":""},{"$f":"IFERROR(INDEX('MEMORIAL DESCRITIVO-BRI'!Z:Z,SMALL(IF('MEMORIAL DESCRITIVO-BRI'!$E$2:$E$4000=\"Sim\",ROW('MEMORIAL DESCRITIVO-BRI'!$Z$2:$Z$4000)),ROW(B76))), \"\")","v":""},{"$f":"IFERROR(INDEX('MEMORIAL DESCRITIVO-BRI'!W:W,SMALL(IF('MEMORIAL DESCRITIVO-BRI'!$E$2:$E$4000=\"Sim\",ROW('MEMORIAL DESCRITIVO-BRI'!$W$2:$W$4000)),ROW(B76))), \"\")","v":""},{"$f":"IFERROR(INDEX('MEMORIAL DESCRITIVO-BRI'!G:G,SMALL(IF('MEMORIAL DESCRITIVO-BRI'!$E$2:$E$4000=\"Sim\",ROW('MEMORIAL DESCRITIVO-BRI'!$G$2:$G$4000)),ROW(B76))), \"\")","v":""},{"$f":"IFERROR(INDEX('MEMORIAL DESCRITIVO-BRI'!P:P,SMALL(IF('MEMORIAL DESCRITIVO-BRI'!$E$2:$E$4000=\"Sim\",ROW('MEMORIAL DESCRITIVO-BRI'!$P$2:$P$4000)),ROW(B76))), \"\")","v":""},{"$f":"IFERROR(INDEX('MEMORIAL DESCRITIVO-BRI'!Q:Q,SMALL(IF('MEMORIAL DESCRITIVO-BRI'!$E$2:$E$4000=\"Sim\",ROW('MEMORIAL DESCRITIVO-BRI'!$Q$2:$Q$4000)),ROW(B76))), \"\")","v":""}]
[null,{"$f":"IFERROR(INDEX('MEMORIAL DESCRITIVO-BRI'!B:B,SMALL(IF('MEMORIAL DESCRITIVO-BRI'!$E$2:$E$4000=\"Sim\",ROW('MEMORIAL DESCRITIVO-BRI'!$B$2:$B$4000)),ROW(B77))), \"\")","v":""},{"$f":"IFERROR(INDEX('MEMORIAL DESCRITIVO-BRI'!I:I,SMALL(IF('MEMORIAL DESCRITIVO-BRI'!$E$2:$E$4000=\"Sim\",ROW('MEMORIAL DESCRITIVO-BRI'!$I$2:$I$4000)),ROW(B77))), \"\")","v":""},{"$f":"IFERROR(INDEX('MEMORIAL DESCRITIVO-BRI'!F:F,SMALL(IF('MEMORIAL DESCRITIVO-BRI'!$E$2:$E$4000=\"Sim\",ROW('MEMORIAL DESCRITIVO-BRI'!$F$2:$F$4000)),ROW(B77))) & \" - \" & INDEX('MEMORIAL DESCRITIVO-BRI'!H:H,SMALL(IF('MEMORIAL DESCRITIVO-BRI'!$E$2:$E$4000=\"Sim\",ROW('MEMORIAL DESCRITIVO-BRI'!$H$2:$H$4000)),ROW(B77))), \"\")","v":""},null,{"$f":"IFERROR(INDEX('MEMORIAL DESCRITIVO-BRI'!S:S,SMALL(IF('MEMORIAL DESCRITIVO-BRI'!$E$2:$E$4000=\"Sim\",ROW('MEMORIAL DESCRITIVO-BRI'!$S$2:$S$4000)),ROW(B77))), \"\")","v":""},{"$f":"IFERROR(INDEX('MEMORIAL DESCRITIVO-BRI'!Z:Z,SMALL(IF('MEMORIAL DESCRITIVO-BRI'!$E$2:$E$4000=\"Sim\",ROW('MEMORIAL DESCRITIVO-BRI'!$Z$2:$Z$4000)),ROW(B77))), \"\")","v":""},{"$f":"IFERROR(INDEX('MEMORIAL DESCRITIVO-BRI'!W:W,SMALL(IF('MEMORIAL DESCRITIVO-BRI'!$E$2:$E$4000=\"Sim\",ROW('MEMORIAL DESCRITIVO-BRI'!$W$2:$W$4000)),ROW(B77))), \"\")","v":""},{"$f":"IFERROR(INDEX('MEMORIAL DESCRITIVO-BRI'!G:G,SMALL(IF('MEMORIAL DESCRITIVO-BRI'!$E$2:$E$4000=\"Sim\",ROW('MEMORIAL DESCRITIVO-BRI'!$G$2:$G$4000)),ROW(B77))), \"\")","v":""},{"$f":"IFERROR(INDEX('MEMORIAL DESCRITIVO-BRI'!P:P,SMALL(IF('MEMORIAL DESCRITIVO-BRI'!$E$2:$E$4000=\"Sim\",ROW('MEMORIAL DESCRITIVO-BRI'!$P$2:$P$4000)),ROW(B77))), \"\")","v":""},{"$f":"IFERROR(INDEX('MEMORIAL DESCRITIVO-BRI'!Q:Q,SMALL(IF('MEMORIAL DESCRITIVO-BRI'!$E$2:$E$4000=\"Sim\",ROW('MEMORIAL DESCRITIVO-BRI'!$Q$2:$Q$4000)),ROW(B77))), \"\")","v":""}]
[null,{"$f":"IFERROR(INDEX('MEMORIAL DESCRITIVO-BRI'!B:B,SMALL(IF('MEMORIAL DESCRITIVO-BRI'!$E$2:$E$4000=\"Sim\",ROW('MEMORIAL DESCRITIVO-BRI'!$B$2:$B$4000)),ROW(B78))), \"\")","v":""},{"$f":"IFERROR(INDEX('MEMORIAL DESCRITIVO-BRI'!I:I,SMALL(IF('MEMORIAL DESCRITIVO-BRI'!$E$2:$E$4000=\"Sim\",ROW('MEMORIAL DESCRITIVO-BRI'!$I$2:$I$4000)),ROW(B78))), \"\")","v":""},{"$f":"IFERROR(INDEX('MEMORIAL DESCRITIVO-BRI'!F:F,SMALL(IF('MEMORIAL DESCRITIVO-BRI'!$E$2:$E$4000=\"Sim\",ROW('MEMORIAL DESCRITIVO-BRI'!$F$2:$F$4000)),ROW(B78))) & \" - \" & INDEX('MEMORIAL DESCRITIVO-BRI'!H:H,SMALL(IF('MEMORIAL DESCRITIVO-BRI'!$E$2:$E$4000=\"Sim\",ROW('MEMORIAL DESCRITIVO-BRI'!$H$2:$H$4000)),ROW(B78))), \"\")","v":""},null,{"$f":"IFERROR(INDEX('MEMORIAL DESCRITIVO-BRI'!S:S,SMALL(IF('MEMORIAL DESCRITIVO-BRI'!$E$2:$E$4000=\"Sim\",ROW('MEMORIAL DESCRITIVO-BRI'!$S$2:$S$4000)),ROW(B78))), \"\")","v":""},{"$f":"IFERROR(INDEX('MEMORIAL DESCRITIVO-BRI'!Z:Z,SMALL(IF('MEMORIAL DESCRITIVO-BRI'!$E$2:$E$4000=\"Sim\",ROW('MEMORIAL DESCRITIVO-BRI'!$Z$2:$Z$4000)),ROW(B78))), \"\")","v":""},{"$f":"IFERROR(INDEX('MEMORIAL DESCRITIVO-BRI'!W:W,SMALL(IF('MEMORIAL DESCRITIVO-BRI'!$E$2:$E$4000=\"Sim\",ROW('MEMORIAL DESCRITIVO-BRI'!$W$2:$W$4000)),ROW(B78))), \"\")","v":""},{"$f":"IFERROR(INDEX('MEMORIAL DESCRITIVO-BRI'!G:G,SMALL(IF('MEMORIAL DESCRITIVO-BRI'!$E$2:$E$4000=\"Sim\",ROW('MEMORIAL DESCRITIVO-BRI'!$G$2:$G$4000)),ROW(B78))), \"\")","v":""},{"$f":"IFERROR(INDEX('MEMORIAL DESCRITIVO-BRI'!P:P,SMALL(IF('MEMORIAL DESCRITIVO-BRI'!$E$2:$E$4000=\"Sim\",ROW('MEMORIAL DESCRITIVO-BRI'!$P$2:$P$4000)),ROW(B78))), \"\")","v":""},{"$f":"IFERROR(INDEX('MEMORIAL DESCRITIVO-BRI'!Q:Q,SMALL(IF('MEMORIAL DESCRITIVO-BRI'!$E$2:$E$4000=\"Sim\",ROW('MEMORIAL DESCRITIVO-BRI'!$Q$2:$Q$4000)),ROW(B78))), \"\")","v":""}]
[null,{"$f":"IFERROR(INDEX('MEMORIAL DESCRITIVO-BRI'!B:B,SMALL(IF('MEMORIAL DESCRITIVO-BRI'!$E$2:$E$4000=\"Sim\",ROW('MEMORIAL DESCRITIVO-BRI'!$B$2:$B$4000)),ROW(B79))), \"\")","v":""},{"$f":"IFERROR(INDEX('MEMORIAL DESCRITIVO-BRI'!I:I,SMALL(IF('MEMORIAL DESCRITIVO-BRI'!$E$2:$E$4000=\"Sim\",ROW('MEMORIAL DESCRITIVO-BRI'!$I$2:$I$4000)),ROW(B79))), \"\")","v":""},{"$f":"IFERROR(INDEX('MEMORIAL DESCRITIVO-BRI'!F:F,SMALL(IF('MEMORIAL DESCRITIVO-BRI'!$E$2:$E$4000=\"Sim\",ROW('MEMORIAL DESCRITIVO-BRI'!$F$2:$F$4000)),ROW(B79))) & \" - \" & INDEX('MEMORIAL DESCRITIVO-BRI'!H:H,SMALL(IF('MEMORIAL DESCRITIVO-BRI'!$E$2:$E$4000=\"Sim\",ROW('MEMORIAL DESCRITIVO-BRI'!$H$2:$H$4000)),ROW(B79))), \"\")","v":""},null,{"$f":"IFERROR(INDEX('MEMORIAL DESCRITIVO-BRI'!S:S,SMALL(IF('MEMORIAL DESCRITIVO-BRI'!$E$2:$E$4000=\"Sim\",ROW('MEMORIAL DESCRITIVO-BRI'!$S$2:$S$4000)),ROW(B79))), \"\")","v":""},{"$f":"IFERROR(INDEX('MEMORIAL DESCRITIVO-BRI'!Z:Z,SMALL(IF('MEMORIAL DESCRITIVO-BRI'!$E$2:$E$4000=\"Sim\",ROW('MEMORIAL DESCRITIVO-BRI'!$Z$2:$Z$4000)),ROW(B79))), \"\")","v":""},{"$f":"IFERROR(INDEX('MEMORIAL DESCRITIVO-BRI'!W:W,SMALL(IF('MEMORIAL DESCRITIVO-BRI'!$E$2:$E$4000=\"Sim\",ROW('MEMORIAL DESCRITIVO-BRI'!$W$2:$W$4000)),ROW(B79))), \"\")","v":""},{"$f":"IFERROR(INDEX('MEMORIAL DESCRITIVO-BRI'!G:G,SMALL(IF('MEMORIAL DESCRITIVO-BRI'!$E$2:$E$4000=\"Sim\",ROW('MEMORIAL DESCRITIVO-BRI'!$G$2:$G$4000)),ROW(B79))), \"\")","v":""},{"$f":"IFERROR(INDEX('MEMORIAL DESCRITIVO-BRI'!P:P,SMALL(IF('MEMORIAL DESCRITIVO-BRI'!$E$2:$E$4000=\"Sim\",ROW('MEMORIAL DESCRITIVO-BRI'!$P$2:$P$4000)),ROW(B79))), \"\")","v":""},{"$f":"IFERROR(INDEX('MEMORIAL DESCRITIVO-BRI'!Q:Q,SMALL(IF('MEMORIAL DESCRITIVO-BRI'!$E$2:$E$4000=\"Sim\",ROW('MEMORIAL DESCRITIVO-BRI'!$Q$2:$Q$4000)),ROW(B79))), \"\")","v":""}]
[null,{"$f":"IFERROR(INDEX('MEMORIAL DESCRITIVO-BRI'!B:B,SMALL(IF('MEMORIAL DESCRITIVO-BRI'!$E$2:$E$4000=\"Sim\",ROW('MEMORIAL DESCRITIVO-BRI'!$B$2:$B$4000)),ROW(B80))), \"\")","v":""},{"$f":"IFERROR(INDEX('MEMORIAL DESCRITIVO-BRI'!I:I,SMALL(IF('MEMORIAL DESCRITIVO-BRI'!$E$2:$E$4000=\"Sim\",ROW('MEMORIAL DESCRITIVO-BRI'!$I$2:$I$4000)),ROW(B80))), \"\")","v":""},{"$f":"IFERROR(INDEX('MEMORIAL DESCRITIVO-BRI'!F:F,SMALL(IF('MEMORIAL DESCRITIVO-BRI'!$E$2:$E$4000=\"Sim\",ROW('MEMORIAL DESCRITIVO-BRI'!$F$2:$F$4000)),ROW(B80))) & \" - \" & INDEX('MEMORIAL DESCRITIVO-BRI'!H:H,SMALL(IF('MEMORIAL DESCRITIVO-BRI'!$E$2:$E$4000=\"Sim\",ROW('MEMORIAL DESCRITIVO-BRI'!$H$2:$H$4000)),ROW(B80))), \"\")","v":""},null,{"$f":"IFERROR(INDEX('MEMORIAL DESCRITIVO-BRI'!S:S,SMALL(IF('MEMORIAL DESCRITIVO-BRI'!$E$2:$E$4000=\"Sim\",ROW('MEMORIAL DESCRITIVO-BRI'!$S$2:$S$4000)),ROW(B80))), \"\")","v":""},{"$f":"IFERROR(INDEX('MEMORIAL DESCRITIVO-BRI'!Z:Z,SMALL(IF('MEMORIAL DESCRITIVO-BRI'!$E$2:$E$4000=\"Sim\",ROW('MEMORIAL DESCRITIVO-BRI'!$Z$2:$Z$4000)),ROW(B80))), \"\")","v":""},{"$f":"IFERROR(INDEX('MEMORIAL DESCRITIVO-BRI'!W:W,SMALL(IF('MEMORIAL DESCRITIVO-BRI'!$E$2:$E$4000=\"Sim\",ROW('MEMORIAL DESCRITIVO-BRI'!$W$2:$W$4000)),ROW(B80))), \"\")","v":""},{"$f":"IFERROR(INDEX('MEMORIAL DESCRITIVO-BRI'!G:G,SMALL(IF('MEMORIAL DESCRITIVO-BRI'!$E$2:$E$4000=\"Sim\",ROW('MEMORIAL DESCRITIVO-BRI'!$G$2:$G$4000)),ROW(B80))), \"\")","v":""},{"$f":"IFERROR(INDEX('MEMORIAL DESCRITIVO-BRI'!P:P,SMALL(IF('MEMORIAL DESCRITIVO-BRI'!$E$2:$E$4000=\"Sim\",ROW('MEMORIAL DESCRITIVO-BRI'!$P$2:$P$4000)),ROW(B80))), \"\")","v":""},{"$f":"IFERROR(INDEX('MEMORIAL DESCRITIVO-BRI'!Q:Q,SMALL(IF('MEMORIAL DESCRITIVO-BRI'!$E$2:$E$4000=\"Sim\",ROW('MEMORIAL DESCRITIVO-BRI'!$Q$2:$Q$4000)),ROW(B80))), \"\")","v":""}]
[null,{"$f":"IFERROR(INDEX('MEMORIAL DESCRITIVO-BRI'!B:B,SMALL(IF('MEMORIAL DESCRITIVO-BRI'!$E$2:$E$4000=\"Sim\",ROW('MEMORIAL DESCRITIVO-BRI'!$B$2:$B$4000)),ROW(B81))), \"\")","v":""},{"$f":"IFERROR(INDEX('MEMORIAL DESCRITIVO-BRI'!I:I,SMALL(IF('MEMORIAL DESCRITIVO-BRI'!$E$2:$E$4000=\"Sim\",ROW('MEMORIAL DESCRITIVO-BRI'!$I$2:$I$4000)),ROW(B81))), \"\")","v":""},{"$f":"IFERROR(INDEX('MEMORIAL DESCRITIVO-BRI'!F:F,SMALL(IF('MEMORIAL DESCRITIVO-BRI'!$E$2:$E$4000=\"Sim\",ROW('MEMORIAL DESCRITIVO-BRI'!$F$2:$F$4000)),ROW(B81))) & \" - \" & INDEX('MEMORIAL DESCRITIVO-BRI'!H:H,SMALL(IF('MEMORIAL DESCRITIVO-BRI'!$E$2:$E$4000=\"Sim\",ROW('MEMORIAL DESCRITIVO-BRI'!$H$2:$H$4000)),ROW(B81))), \"\")","v":""},null,{"$f":"IFERROR(INDEX('MEMORIAL DESCRITIVO-BRI'!S:S,SMALL(IF('MEMORIAL DESCRITIVO-BRI'!$E$2:$E$4000=\"Sim\",ROW('MEMORIAL DESCRITIVO-BRI'!$S$2:$S$4000)),ROW(B81))), \"\")","v":""},{"$f":"IFERROR(INDEX('MEMORIAL DESCRITIVO-BRI'!Z:Z,SMALL(IF('MEMORIAL DESCRITIVO-BRI'!$E$2:$E$4000=\"Sim\",ROW('MEMORIAL DESCRITIVO-BRI'!$Z$2:$Z$4000)),ROW(B81))), \"\")","v":""},{"$f":"IFERROR(INDEX('MEMORIAL DESCRITIVO-BRI'!W:W,SMALL(IF('MEMORIAL DESCRITIVO-BRI'!$E$2:$E$4000=\"Sim\",ROW('MEMORIAL DESCRITIVO-BRI'!$W$2:$W$4000)),ROW(B81))), \"\")","v":""},{"$f":"IFERROR(INDEX('MEMORIAL DESCRITIVO-BRI'!G:G,SMALL(IF('MEMORIAL DESCRITIVO-BRI'!$E$2:$E$4000=\"Sim\",ROW('MEMORIAL DESCRITIVO-BRI'!$G$2:$G$4000)),ROW(B81))), \"\")","v":""},{"$f":"IFERROR(INDEX('MEMORIAL DESCRITIVO-BRI'!P:P,SMALL(IF('MEMORIAL DESCRITIVO-BRI'!$E$2:$E$4000=\"Sim\",ROW('MEMORIAL DESCRITIVO-BRI'!$P$2:$P$4000)),ROW(B81))), \"\")","v":""},{"$f":"IFERROR(INDEX('MEMORIAL DESCRITIVO-BRI'!Q:Q,SMALL(IF('MEMORIAL DESCRITIVO-BRI'!$E$2:$E$4000=\"Sim\",ROW('MEMORIAL DESCRITIVO-BRI'!$Q$2:$Q$4000)),ROW(B81))), \"\")","v":""}]
[null,{"$f":"IFERROR(INDEX('MEMORIAL DESCRITIVO-BRI'!B:B,SMALL(IF('MEMORIAL DESCRITIVO-BRI'!$E$2:$E$4000=\"Sim\",ROW('MEMORIAL DESCRITIVO-BRI'!$B$2:$B$4000)),ROW(B82))), \"\")","v":""},{"$f":"IFERROR(INDEX('MEMORIAL DESCRITIVO-BRI'!I:I,SMALL(IF('MEMORIAL DESCRITIVO-BRI'!$E$2:$E$4000=\"Sim\",ROW('MEMORIAL DESCRITIVO-BRI'!$I$2:$I$4000)),ROW(B82))), \"\")","v":""},{"$f":"IFERROR(INDEX('MEMORIAL DESCRITIVO-BRI'!F:F,SMALL(IF('MEMORIAL DESCRITIVO-BRI'!$E$2:$E$4000=\"Sim\",ROW('MEMORIAL DESCRITIVO-BRI'!$F$2:$F$4000)),ROW(B82))) & \" - \" & INDEX('MEMORIAL DESCRITIVO-BRI'!H:H,SMALL(IF('MEMORIAL DESCRITIVO-BRI'!$E$2:$E$4000=\"Sim\",ROW('MEMORIAL DESCRITIVO-BRI'!$H$2:$H$4000)),ROW(B82))), \"\")","v":""},null,{"$f":"IFERROR(INDEX('MEMORIAL DESCRITIVO-BRI'!S:S,SMALL(IF('MEMORIAL DESCRITIVO-BRI'!$E$2:$E$4000=\"Sim\",ROW('MEMORIAL DESCRITIVO-BRI'!$S$2:$S$4000)),ROW(B82))), \"\")","v":""},{"$f":"IFERROR(INDEX('MEMORIAL DESCRITIVO-BRI'!Z:Z,SMALL(IF('MEMORIAL DESCRITIVO-BRI'!$E$2:$E$4000=\"Sim\",ROW('MEMORIAL DESCRITIVO-BRI'!$Z$2:$Z$4000)),ROW(B82))), \"\")","v":""},{"$f":"IFERROR(INDEX('MEMORIAL DESCRITIVO-BRI'!W:W,SMALL(IF('MEMORIAL DESCRITIVO-BRI'!$E$2:$E$4000=\"Sim\",ROW('MEMORIAL DESCRITIVO-BRI'!$W$2:$W$4000)),ROW(B82))), \"\")","v":""},{"$f":"IFERROR(INDEX('MEMORIAL DESCRITIVO-BRI'!G:G,SMALL(IF('MEMORIAL DESCRITIVO-BRI'!$E$2:$E$4000=\"Sim\",ROW('MEMORIAL DESCRITIVO-BRI'!$G$2:$G$4000)),ROW(B82))), \"\")","v":""},{"$f":"IFERROR(INDEX('MEMORIAL DESCRITIVO-BRI'!P:P,SMALL(IF('MEMORIAL DESCRITIVO-BRI'!$E$2:$E$4000=\"Sim\",ROW('MEMORIAL DESCRITIVO-BRI'!$P$2:$P$4000)),ROW(B82))), \"\")","v":""},{"$f":"IFERROR(INDEX('MEMORIAL DESCRITIVO-BRI'!Q:Q,SMALL(IF('MEMORIAL DESCRITIVO-BRI'!$E$2:$E$4000=\"Sim\",ROW('MEMORIAL DESCRITIVO-BRI'!$Q$2:$Q$4000)),ROW(B82))), \"\")","v":""}]
[null,{"$f":"IFERROR(INDEX('MEMORIAL DESCRITIVO-BRI'!B:B,SMALL(IF('MEMORIAL DESCRITIVO-BRI'!$E$2:$E$4000=\"Sim\",ROW('MEMORIAL DESCRITIVO-BRI'!$B$2:$B$4000)),ROW(B83))), \"\")","v":""},{"$f":"IFERROR(INDEX('MEMORIAL DESCRITIVO-BRI'!I:I,SMALL(IF('MEMORIAL DESCRITIVO-BRI'!$E$2:$E$4000=\"Sim\",ROW('MEMORIAL DESCRITIVO-BRI'!$I$2:$I$4000)),ROW(B83))), \"\")","v":""},{"$f":"IFERROR(INDEX('MEMORIAL DESCRITIVO-BRI'!F:F,SMALL(IF('MEMORIAL DESCRITIVO-BRI'!$E$2:$E$4000=\"Sim\",ROW('MEMORIAL DESCRITIVO-BRI'!$F$2:$F$4000)),ROW(B83))) & \" - \" & INDEX('MEMORIAL DESCRITIVO-BRI'!H:H,SMALL(IF('MEMORIAL DESCRITIVO-BRI'!$E$2:$E$4000=\"Sim\",ROW('MEMORIAL DESCRITIVO-BRI'!$H$2:$H$4000)),ROW(B83))), \"\")","v":""},null,{"$f":"IFERROR(INDEX('MEMORIAL DESCRITIVO-BRI'!S:S,SMALL(IF('MEMORIAL DESCRITIVO-BRI'!$E$2:$E$4000=\"Sim\",ROW('MEMORIAL DESCRITIVO-BRI'!$S$2:$S$4000)),ROW(B83))), \"\")","v":""},{"$f":"IFERROR(INDEX('MEMORIAL DESCRITIVO-BRI'!Z:Z,SMALL(IF('MEMORIAL DESCRITIVO-BRI'!$E$2:$E$4000=\"Sim\",ROW('MEMORIAL DESCRITIVO-BRI'!$Z$2:$Z$4000)),ROW(B83))), \"\")","v":""},{"$f":"IFERROR(INDEX('MEMORIAL DESCRITIVO-BRI'!W:W,SMALL(IF('MEMORIAL DESCRITIVO-BRI'!$E$2:$E$4000=\"Sim\",ROW('MEMORIAL DESCRITIVO-BRI'!$W$2:$W$4000)),ROW(B83))), \"\")","v":""},{"$f":"IFERROR(INDEX('MEMORIAL DESCRITIVO-BRI'!G:G,SMALL(IF('MEMORIAL DESCRITIVO-BRI'!$E$2:$E$4000=\"Sim\",ROW('MEMORIAL DESCRITIVO-BRI'!$G$2:$G$4000)),ROW(B83))), \"\")","v":""},{"$f":"IFERROR(INDEX('MEMORIAL DESCRITIVO-BRI'!P:P,SMALL(IF('MEMORIAL DESCRITIVO-BRI'!$E$2:$E$4000=\"Sim\",ROW('MEMORIAL DESCRITIVO-BRI'!$P$2:$P$4000)),ROW(B83))), \"\")","v":""},{"$f":"IFERROR(INDEX('MEMORIAL DESCRITIVO-BRI'!Q:Q,SMALL(IF('MEMORIAL DESCRITIVO-BRI'!$E$2:$E$4000=\"Sim\",ROW('MEMORIAL DESCRITIVO-BRI'!$Q$2:$Q$4000)),ROW(B83))), \"\")","v":""}]
[null,{"$f":"IFERROR(INDEX('MEMORIAL DESCRITIVO-BRI'!B:B,SMALL(IF('MEMORIAL DESCRITIVO-BRI'!$E$2:$E$4000=\"Sim\",ROW('MEMORIAL DESCRITIVO-BRI'!$B$2:$B$4000)),ROW(B84))), \"\")","v":""},{"$f":"IFERROR(INDEX('MEMORIAL DESCRITIVO-BRI'!I:I,SMALL(IF('MEMORIAL DESCRITIVO-BRI'!$E$2:$E$4000=\"Sim\",ROW('MEMORIAL DESCRITIVO-BRI'!$I$2:$I$4000)),ROW(B84))), \"\")","v":""},{"$f":"IFERROR(INDEX('MEMORIAL DESCRITIVO-BRI'!F:F,SMALL(IF('MEMORIAL DESCRITIVO-BRI'!$E$2:$E$4000=\"Sim\",ROW('MEMORIAL DESCRITIVO-BRI'!$F$2:$F$4000)),ROW(B84))) & \" - \" & INDEX('MEMORIAL DESCRITIVO-BRI'!H:H,SMALL(IF('MEMORIAL DESCRITIVO-BRI'!$E$2:$E$4000=\"Sim\",ROW('MEMORIAL DESCRITIVO-BRI'!$H$2:$H$4000)),ROW(B84))), \"\")","v":""},null,{"$f":"IFERROR(INDEX('MEMORIAL DESCRITIVO-BRI'!S:S,SMALL(IF('MEMORIAL DESCRITIVO-BRI'!$E$2:$E$4000=\"Sim\",ROW('MEMORIAL DESCRITIVO-BRI'!$S$2:$S$4000)),ROW(B84))), \"\")","v":""},{"$f":"IFERROR(INDEX('MEMORIAL DESCRITIVO-BRI'!Z:Z,SMALL(IF('MEMORIAL DESCRITIVO-BRI'!$E$2:$E$4000=\"Sim\",ROW('MEMORIAL DESCRITIVO-BRI'!$Z$2:$Z$4000)),ROW(B84))), \"\")","v":""},{"$f":"IFERROR(INDEX('MEMORIAL DESCRITIVO-BRI'!W:W,SMALL(IF('MEMORIAL DESCRITIVO-BRI'!$E$2:$E$4000=\"Sim\",ROW('MEMORIAL DESCRITIVO-BRI'!$W$2:$W$4000)),ROW(B84))), \"\")","v":""},{"$f":"IFERROR(INDEX('MEMORIAL DESCRITIVO-BRI'!G:G,SMALL(IF('MEMORIAL DESCRITIVO-BRI'!$E$2:$E$4000=\"Sim\",ROW('MEMORIAL DESCRITIVO-BRI'!$G$2:$G$4000)),ROW(B84))), \"\")","v":""},{"$f":"IFERROR(INDEX('MEMORIAL DESCRITIVO-BRI'!P:P,SMALL(IF('MEMORIAL DESCRITIVO-BRI'!$E$2:$E$4000=\"Sim\",ROW('MEMORIAL DESCRITIVO-BRI'!$P$2:$P$4000)),ROW(B84))), \"\")","v":""},{"$f":"IFERROR(INDEX('MEMORIAL DESCRITIVO-BRI'!Q:Q,SMALL(IF('MEMORIAL DESCRITIVO-BRI'!$E$2:$E$4000=\"Sim\",ROW('MEMORIAL DESCRITIVO-BRI'!$Q$2:$Q$4000)),ROW(B84))), \"\")","v":""}]
[null,{"$f":"IFERROR(INDEX('MEMORIAL DESCRITIVO-BRI'!B:B,SMALL(IF('MEMORIAL DESCRITIVO-BRI'!$E$2:$E$4000=\"Sim\",ROW('MEMORIAL DESCRITIVO-BRI'!$B$2:$B$4000)),ROW(B85))), \"\")","v":""},{"$f":"IFERROR(INDEX('MEMORIAL DESCRITIVO-BRI'!I:I,SMALL(IF('MEMORIAL DESCRITIVO-BRI'!$E$2:$E$4000=\"Sim\",ROW('MEMORIAL DESCRITIVO-BRI'!$I$2:$I$4000)),ROW(B85))), \"\")","v":""},{"$f":"IFERROR(INDEX('MEMORIAL DESCRITIVO-BRI'!F:F,SMALL(IF('MEMORIAL DESCRITIVO-BRI'!$E$2:$E$4000=\"Sim\",ROW('MEMORIAL DESCRITIVO-BRI'!$F$2:$F$4000)),ROW(B85))) & \" - \" & INDEX('MEMORIAL DESCRITIVO-BRI'!H:H,SMALL(IF('MEMORIAL DESCRITIVO-BRI'!$E$2:$E$4000=\"Sim\",ROW('MEMORIAL DESCRITIVO-BRI'!$H$2:$H$4000)),ROW(B85))), \"\")","v":""},null,{"$f":"IFERROR(INDEX('MEMORIAL DESCRITIVO-BRI'!S:S,SMALL(IF('MEMORIAL DESCRITIVO-BRI'!$E$2:$E$4000=\"Sim\",ROW('MEMORIAL DESCRITIVO-BRI'!$S$2:$S$4000)),ROW(B85))), \"\")","v":""},{"$f":"IFERROR(INDEX('MEMORIAL DESCRITIVO-BRI'!Z:Z,SMALL(IF('MEMORIAL DESCRITIVO-BRI'!$E$2:$E$4000=\"Sim\",ROW('MEMORIAL DESCRITIVO-BRI'!$Z$2:$Z$4000)),ROW(B85))), \"\")","v":""},{"$f":"IFERROR(INDEX('MEMORIAL DESCRITIVO-BRI'!W:W,SMALL(IF('MEMORIAL DESCRITIVO-BRI'!$E$2:$E$4000=\"Sim\",ROW('MEMORIAL DESCRITIVO-BRI'!$W$2:$W$4000)),ROW(B85))), \"\")","v":""},{"$f":"IFERROR(INDEX('MEMORIAL DESCRITIVO-BRI'!G:G,SMALL(IF('MEMORIAL DESCRITIVO-BRI'!$E$2:$E$4000=\"Sim\",ROW('MEMORIAL DESCRITIVO-BRI'!$G$2:$G$4000)),ROW(B85))), \"\")","v":""},{"$f":"IFERROR(INDEX('MEMORIAL DESCRITIVO-BRI'!P:P,SMALL(IF('MEMORIAL DESCRITIVO-BRI'!$E$2:$E$4000=\"Sim\",ROW('MEMORIAL DESCRITIVO-BRI'!$P$2:$P$4000)),ROW(B85))), \"\")","v":""},{"$f":"IFERROR(INDEX('MEMORIAL DESCRITIVO-BRI'!Q:Q,SMALL(IF('MEMORIAL DESCRITIVO-BRI'!$E$2:$E$4000=\"Sim\",ROW('MEMORIAL DESCRITIVO-BRI'!$Q$2:$Q$4000)),ROW(B85))), \"\")","v":""}]
[null,{"$f":"IFERROR(INDEX('MEMORIAL DESCRITIVO-BRI'!B:B,SMALL(IF('MEMORIAL DESCRITIVO-BRI'!$E$2:$E$4000=\"Sim\",ROW('MEMORIAL DESCRITIVO-BRI'!$B$2:$B$4000)),ROW(B86))), \"\")","v":""},{"$f":"IFERROR(INDEX('MEMORIAL DESCRITIVO-BRI'!I:I,SMALL(IF('MEMORIAL DESCRITIVO-BRI'!$E$2:$E$4000=\"Sim\",ROW('MEMORIAL DESCRITIVO-BRI'!$I$2:$I$4000)),ROW(B86))), \"\")","v":""},{"$f":"IFERROR(INDEX('MEMORIAL DESCRITIVO-BRI'!F:F,SMALL(IF('MEMORIAL DESCRITIVO-BRI'!$E$2:$E$4000=\"Sim\",ROW('MEMORIAL DESCRITIVO-BRI'!$F$2:$F$4000)),ROW(B86))) & \" - \" & INDEX('MEMORIAL DESCRITIVO-BRI'!H:H,SMALL(IF('MEMORIAL DESCRITIVO-BRI'!$E$2:$E$4000=\"Sim\",ROW('MEMORIAL DESCRITIVO-BRI'!$H$2:$H$4000)),ROW(B86))), \"\")","v":""},null,{"$f":"IFERROR(INDEX('MEMORIAL DESCRITIVO-BRI'!S:S,SMALL(IF('MEMORIAL DESCRITIVO-BRI'!$E$2:$E$4000=\"Sim\",ROW('MEMORIAL DESCRITIVO-BRI'!$S$2:$S$4000)),ROW(B86))), \"\")","v":""},{"$f":"IFERROR(INDEX('MEMORIAL DESCRITIVO-BRI'!Z:Z,SMALL(IF('MEMORIAL DESCRITIVO-BRI'!$E$2:$E$4000=\"Sim\",ROW('MEMORIAL DESCRITIVO-BRI'!$Z$2:$Z$4000)),ROW(B86))), \"\")","v":""},{"$f":"IFERROR(INDEX('MEMORIAL DESCRITIVO-BRI'!W:W,SMALL(IF('MEMORIAL DESCRITIVO-BRI'!$E$2:$E$4000=\"Sim\",ROW('MEMORIAL DESCRITIVO-BRI'!$W$2:$W$4000)),ROW(B86))), \"\")","v":""},{"$f":"IFERROR(INDEX('MEMORIAL DESCRITIVO-BRI'!G:G,SMALL(IF('MEMORIAL DESCRITIVO-BRI'!$E$2:$E$4000=\"Sim\",ROW('MEMORIAL DESCRITIVO-BRI'!$G$2:$G$4000)),ROW(B86))), \"\")","v":""},{"$f":"IFERROR(INDEX('MEMORIAL DESCRITIVO-BRI'!P:P,SMALL(IF('MEMORIAL DESCRITIVO-BRI'!$E$2:$E$4000=\"Sim\",ROW('MEMORIAL DESCRITIVO-BRI'!$P$2:$P$4000)),ROW(B86))), \"\")","v":""},{"$f":"IFERROR(INDEX('MEMORIAL DESCRITIVO-BRI'!Q:Q,SMALL(IF('MEMORIAL DESCRITIVO-BRI'!$E$2:$E$4000=\"Sim\",ROW('MEMORIAL DESCRITIVO-BRI'!$Q$2:$Q$4000)),ROW(B86))), \"\")","v":""}]
[null,{"$f":"IFERROR(INDEX('MEMORIAL DESCRITIVO-BRI'!B:B,SMALL(IF('MEMORIAL DESCRITIVO-BRI'!$E$2:$E$4000=\"Sim\",ROW('MEMORIAL DESCRITIVO-BRI'!$B$2:$B$4000)),ROW(B87))), \"\")","v":""},{"$f":"IFERROR(INDEX('MEMORIAL DESCRITIVO-BRI'!I:I,SMALL(IF('MEMORIAL DESCRITIVO-BRI'!$E$2:$E$4000=\"Sim\",ROW('MEMORIAL DESCRITIVO-BRI'!$I$2:$I$4000)),ROW(B87))), \"\")","v":""},{"$f":"IFERROR(INDEX('MEMORIAL DESCRITIVO-BRI'!F:F,SMALL(IF('MEMORIAL DESCRITIVO-BRI'!$E$2:$E$4000=\"Sim\",ROW('MEMORIAL DESCRITIVO-BRI'!$F$2:$F$4000)),ROW(B87))) & \" - \" & INDEX('MEMORIAL DESCRITIVO-BRI'!H:H,SMALL(IF('MEMORIAL DESCRITIVO-BRI'!$E$2:$E$4000=\"Sim\",ROW('MEMORIAL DESCRITIVO-BRI'!$H$2:$H$4000)),ROW(B87))), \"\")","v":""},null,{"$f":"IFERROR(INDEX('MEMORIAL DESCRITIVO-BRI'!S:S,SMALL(IF('MEMORIAL DESCRITIVO-BRI'!$E$2:$E$4000=\"Sim\",ROW('MEMORIAL DESCRITIVO-BRI'!$S$2:$S$4000)),ROW(B87))), \"\")","v":""},{"$f":"IFERROR(INDEX('MEMORIAL DESCRITIVO-BRI'!Z:Z,SMALL(IF('MEMORIAL DESCRITIVO-BRI'!$E$2:$E$4000=\"Sim\",ROW('MEMORIAL DESCRITIVO-BRI'!$Z$2:$Z$4000)),ROW(B87))), \"\")","v":""},{"$f":"IFERROR(INDEX('MEMORIAL DESCRITIVO-BRI'!W:W,SMALL(IF('MEMORIAL DESCRITIVO-BRI'!$E$2:$E$4000=\"Sim\",ROW('MEMORIAL DESCRITIVO-BRI'!$W$2:$W$4000)),ROW(B87))), \"\")","v":""},{"$f":"IFERROR(INDEX('MEMORIAL DESCRITIVO-BRI'!G:G,SMALL(IF('MEMORIAL DESCRITIVO-BRI'!$E$2:$E$4000=\"Sim\",ROW('MEMORIAL DESCRITIVO-BRI'!$G$2:$G$4000)),ROW(B87))), \"\")","v":""},{"$f":"IFERROR(INDEX('MEMORIAL DESCRITIVO-BRI'!P:P,SMALL(IF('MEMORIAL DESCRITIVO-BRI'!$E$2:$E$4000=\"Sim\",ROW('MEMORIAL DESCRITIVO-BRI'!$P$2:$P$4000)),ROW(B87))), \"\")","v":""},{"$f":"IFERROR(INDEX('MEMORIAL DESCRITIVO-BRI'!Q:Q,SMALL(IF('MEMORIAL DESCRITIVO-BRI'!$E$2:$E$4000=\"Sim\",ROW('MEMORIAL DESCRITIVO-BRI'!$Q$2:$Q$4000)),ROW(B87))), \"\")","v":""}]
[null,{"$f":"IFERROR(INDEX('MEMORIAL DESCRITIVO-BRI'!B:B,SMALL(IF('MEMORIAL DESCRITIVO-BRI'!$E$2:$E$4000=\"Sim\",ROW('MEMORIAL DESCRITIVO-BRI'!$B$2:$B$4000)),ROW(B88))), \"\")","v":""},{"$f":"IFERROR(INDEX('MEMORIAL DESCRITIVO-BRI'!I:I,SMALL(IF('MEMORIAL DESCRITIVO-BRI'!$E$2:$E$4000=\"Sim\",ROW('MEMORIAL DESCRITIVO-BRI'!$I$2:$I$4000)),ROW(B88))), \"\")","v":""},{"$f":"IFERROR(INDEX('MEMORIAL DESCRITIVO-BRI'!F:F,SMALL(IF('MEMORIAL DESCRITIVO-BRI'!$E$2:$E$4000=\"Sim\",ROW('MEMORIAL DESCRITIVO-BRI'!$F$2:$F$4000)),ROW(B88))) & \" - \" & INDEX('MEMORIAL DESCRITIVO-BRI'!H:H,SMALL(IF('MEMORIAL DESCRITIVO-BRI'!$E$2:$E$4000=\"Sim\",ROW('MEMORIAL DESCRITIVO-BRI'!$H$2:$H$4000)),ROW(B88))), \"\")","v":""},null,{"$f":"IFERROR(INDEX('MEMORIAL DESCRITIVO-BRI'!S:S,SMALL(IF('MEMORIAL DESCRITIVO-BRI'!$E$2:$E$4000=\"Sim\",ROW('MEMORIAL DESCRITIVO-BRI'!$S$2:$S$4000)),ROW(B88))), \"\")","v":""},{"$f":"IFERROR(INDEX('MEMORIAL DESCRITIVO-BRI'!Z:Z,SMALL(IF('MEMORIAL DESCRITIVO-BRI'!$E$2:$E$4000=\"Sim\",ROW('MEMORIAL DESCRITIVO-BRI'!$Z$2:$Z$4000)),ROW(B88))), \"\")","v":""},{"$f":"IFERROR(INDEX('MEMORIAL DESCRITIVO-BRI'!W:W,SMALL(IF('MEMORIAL DESCRITIVO-BRI'!$E$2:$E$4000=\"Sim\",ROW('MEMORIAL DESCRITIVO-BRI'!$W$2:$W$4000)),ROW(B88))), \"\")","v":""},{"$f":"IFERROR(INDEX('MEMORIAL DESCRITIVO-BRI'!G:G,SMALL(IF('MEMORIAL DESCRITIVO-BRI'!$E$2:$E$4000=\"Sim\",ROW('MEMORIAL DESCRITIVO-BRI'!$G$2:$G$4000)),ROW(B88))), \"\")","v":""},{"$f":"IFERROR(INDEX('MEMORIAL DESCRITIVO-BRI'!P:P,SMALL(IF('MEMORIAL DESCRITIVO-BRI'!$E$2:$E$4000=\"Sim\",ROW('MEMORIAL DESCRITIVO-BRI'!$P$2:$P$4000)),ROW(B88))), \"\")","v":""},{"$f":"IFERROR(INDEX('MEMORIAL DESCRITIVO-BRI'!Q:Q,SMALL(IF('MEMORIAL DESCRITIVO-BRI'!$E$2:$E$4000=\"Sim\",ROW('MEMORIAL DESCRITIVO-BRI'!$Q$2:$Q$4000)),ROW(B88))), \"\")","v":""}]
[null,{"$f":"IFERROR(INDEX('MEMORIAL DESCRITIVO-BRI'!B:B,SMALL(IF('MEMORIAL DESCRITIVO-BRI'!$E$2:$E$4000=\"Sim\",ROW('MEMORIAL DESCRITIVO-BRI'!$B$2:$B$4000)),ROW(B89))), \"\")","v":""},{"$f":"IFERROR(INDEX('MEMORIAL DESCRITIVO-BRI'!I:I,SMALL(IF('MEMORIAL DESCRITIVO-BRI'!$E$2:$E$4000=\"Sim\",ROW('MEMORIAL DESCRITIVO-BRI'!$I$2:$I$4000)),ROW(B89))), \"\")","v":""},{"$f":"IFERROR(INDEX('MEMORIAL DESCRITIVO-BRI'!F:F,SMALL(IF('MEMORIAL DESCRITIVO-BRI'!$E$2:$E$4000=\"Sim\",ROW('MEMORIAL DESCRITIVO-BRI'!$F$2:$F$4000)),ROW(B89))) & \" - \" & INDEX('MEMORIAL DESCRITIVO-BRI'!H:H,SMALL(IF('MEMORIAL DESCRITIVO-BRI'!$E$2:$E$4000=\"Sim\",ROW('MEMORIAL DESCRITIVO-BRI'!$H$2:$H$4000)),ROW(B89))), \"\")","v":""},null,{"$f":"IFERROR(INDEX('MEMORIAL DESCRITIVO-BRI'!S:S,SMALL(IF('MEMORIAL DESCRITIVO-BRI'!$E$2:$E$4000=\"Sim\",ROW('MEMORIAL DESCRITIVO-BRI'!$S$2:$S$4000)),ROW(B89))), \"\")","v":""},{"$f":"IFERROR(INDEX('MEMORIAL DESCRITIVO-BRI'!Z:Z,SMALL(IF('MEMORIAL DESCRITIVO-BRI'!$E$2:$E$4000=\"Sim\",ROW('MEMORIAL DESCRITIVO-BRI'!$Z$2:$Z$4000)),ROW(B89))), \"\")","v":""},{"$f":"IFERROR(INDEX('MEMORIAL DESCRITIVO-BRI'!W:W,SMALL(IF('MEMORIAL DESCRITIVO-BRI'!$E$2:$E$4000=\"Sim\",ROW('MEMORIAL DESCRITIVO-BRI'!$W$2:$W$4000)),ROW(B89))), \"\")","v":""},{"$f":"IFERROR(INDEX('MEMORIAL DESCRITIVO-BRI'!G:G,SMALL(IF('MEMORIAL DESCRITIVO-BRI'!$E$2:$E$4000=\"Sim\",ROW('MEMORIAL DESCRITIVO-BRI'!$G$2:$G$4000)),ROW(B89))), \"\")","v":""},{"$f":"IFERROR(INDEX('MEMORIAL DESCRITIVO-BRI'!P:P,SMALL(IF('MEMORIAL DESCRITIVO-BRI'!$E$2:$E$4000=\"Sim\",ROW('MEMORIAL DESCRITIVO-BRI'!$P$2:$P$4000)),ROW(B89))), \"\")","v":""},{"$f":"IFERROR(INDEX('MEMORIAL DESCRITIVO-BRI'!Q:Q,SMALL(IF('MEMORIAL DESCRITIVO-BRI'!$E$2:$E$4000=\"Sim\",ROW('MEMORIAL DESCRITIVO-BRI'!$Q$2:$Q$4000)),ROW(B89))), \"\")","v":""}]
[null,{"$f":"IFERROR(INDEX('MEMORIAL DESCRITIVO-BRI'!B:B,SMALL(IF('MEMORIAL DESCRITIVO-BRI'!$E$2:$E$4000=\"Sim\",ROW('MEMORIAL DESCRITIVO-BRI'!$B$2:$B$4000)),ROW(B90))), \"\")","v":""},{"$f":"IFERROR(INDEX('MEMORIAL DESCRITIVO-BRI'!I:I,SMALL(IF('MEMORIAL DESCRITIVO-BRI'!$E$2:$E$4000=\"Sim\",ROW('MEMORIAL DESCRITIVO-BRI'!$I$2:$I$4000)),ROW(B90))), \"\")","v":""},{"$f":"IFERROR(INDEX('MEMORIAL DESCRITIVO-BRI'!F:F,SMALL(IF('MEMORIAL DESCRITIVO-BRI'!$E$2:$E$4000=\"Sim\",ROW('MEMORIAL DESCRITIVO-BRI'!$F$2:$F$4000)),ROW(B90))) & \" - \" & INDEX('MEMORIAL DESCRITIVO-BRI'!H:H,SMALL(IF('MEMORIAL DESCRITIVO-BRI'!$E$2:$E$4000=\"Sim\",ROW('MEMORIAL DESCRITIVO-BRI'!$H$2:$H$4000)),ROW(B90))), \"\")","v":""},null,{"$f":"IFERROR(INDEX('MEMORIAL DESCRITIVO-BRI'!S:S,SMALL(IF('MEMORIAL DESCRITIVO-BRI'!$E$2:$E$4000=\"Sim\",ROW('MEMORIAL DESCRITIVO-BRI'!$S$2:$S$4000)),ROW(B90))), \"\")","v":""},{"$f":"IFERROR(INDEX('MEMORIAL DESCRITIVO-BRI'!Z:Z,SMALL(IF('MEMORIAL DESCRITIVO-BRI'!$E$2:$E$4000=\"Sim\",ROW('MEMORIAL DESCRITIVO-BRI'!$Z$2:$Z$4000)),ROW(B90))), \"\")","v":""},{"$f":"IFERROR(INDEX('MEMORIAL DESCRITIVO-BRI'!W:W,SMALL(IF('MEMORIAL DESCRITIVO-BRI'!$E$2:$E$4000=\"Sim\",ROW('MEMORIAL DESCRITIVO-BRI'!$W$2:$W$4000)),ROW(B90))), \"\")","v":""},{"$f":"IFERROR(INDEX('MEMORIAL DESCRITIVO-BRI'!G:G,SMALL(IF('MEMORIAL DESCRITIVO-BRI'!$E$2:$E$4000=\"Sim\",ROW('MEMORIAL DESCRITIVO-BRI'!$G$2:$G$4000)),ROW(B90))), \"\")","v":""},{"$f":"IFERROR(INDEX('MEMORIAL DESCRITIVO-BRI'!P:P,SMALL(IF('MEMORIAL DESCRITIVO-BRI'!$E$2:$E$4000=\"Sim\",ROW('MEMORIAL DESCRITIVO-BRI'!$P$2:$P$4000)),ROW(B90))), \"\")","v":""},{"$f":"IFERROR(INDEX('MEMORIAL DESCRITIVO-BRI'!Q:Q,SMALL(IF('MEMORIAL DESCRITIVO-BRI'!$E$2:$E$4000=\"Sim\",ROW('MEMORIAL DESCRITIVO-BRI'!$Q$2:$Q$4000)),ROW(B90))), \"\")","v":""}]
[null,{"$f":"IFERROR(INDEX('MEMORIAL DESCRITIVO-BRI'!B:B,SMALL(IF('MEMORIAL DESCRITIVO-BRI'!$E$2:$E$4000=\"Sim\",ROW('MEMORIAL DESCRITIVO-BRI'!$B$2:$B$4000)),ROW(B91))), \"\")","v":""},{"$f":"IFERROR(INDEX('MEMORIAL DESCRITIVO-BRI'!I:I,SMALL(IF('MEMORIAL DESCRITIVO-BRI'!$E$2:$E$4000=\"Sim\",ROW('MEMORIAL DESCRITIVO-BRI'!$I$2:$I$4000)),ROW(B91))), \"\")","v":""},{"$f":"IFERROR(INDEX('MEMORIAL DESCRITIVO-BRI'!F:F,SMALL(IF('MEMORIAL DESCRITIVO-BRI'!$E$2:$E$4000=\"Sim\",ROW('MEMORIAL DESCRITIVO-BRI'!$F$2:$F$4000)),ROW(B91))) & \" - \" & INDEX('MEMORIAL DESCRITIVO-BRI'!H:H,SMALL(IF('MEMORIAL DESCRITIVO-BRI'!$E$2:$E$4000=\"Sim\",ROW('MEMORIAL DESCRITIVO-BRI'!$H$2:$H$4000)),ROW(B91))), \"\")","v":""},null,{"$f":"IFERROR(INDEX('MEMORIAL DESCRITIVO-BRI'!S:S,SMALL(IF('MEMORIAL DESCRITIVO-BRI'!$E$2:$E$4000=\"Sim\",ROW('MEMORIAL DESCRITIVO-BRI'!$S$2:$S$4000)),ROW(B91))), \"\")","v":""},{"$f":"IFERROR(INDEX('MEMORIAL DESCRITIVO-BRI'!Z:Z,SMALL(IF('MEMORIAL DESCRITIVO-BRI'!$E$2:$E$4000=\"Sim\",ROW('MEMORIAL DESCRITIVO-BRI'!$Z$2:$Z$4000)),ROW(B91))), \"\")","v":""},{"$f":"IFERROR(INDEX('MEMORIAL DESCRITIVO-BRI'!W:W,SMALL(IF('MEMORIAL DESCRITIVO-BRI'!$E$2:$E$4000=\"Sim\",ROW('MEMORIAL DESCRITIVO-BRI'!$W$2:$W$4000)),ROW(B91))), \"\")","v":""},{"$f":"IFERROR(INDEX('MEMORIAL DESCRITIVO-BRI'!G:G,SMALL(IF('MEMORIAL DESCRITIVO-BRI'!$E$2:$E$4000=\"Sim\",ROW('MEMORIAL DESCRITIVO-BRI'!$G$2:$G$4000)),ROW(B91))), \"\")","v":""},{"$f":"IFERROR(INDEX('MEMORIAL DESCRITIVO-BRI'!P:P,SMALL(IF('MEMORIAL DESCRITIVO-BRI'!$E$2:$E$4000=\"Sim\",ROW('MEMORIAL DESCRITIVO-BRI'!$P$2:$P$4000)),ROW(B91))), \"\")","v":""},{"$f":"IFERROR(INDEX('MEMORIAL DESCRITIVO-BRI'!Q:Q,SMALL(IF('MEMORIAL DESCRITIVO-BRI'!$E$2:$E$4000=\"Sim\",ROW('MEMORIAL DESCRITIVO-BRI'!$Q$2:$Q$4000)),ROW(B91))), \"\")","v":""}]
[null,{"$f":"IFERROR(INDEX('MEMORIAL DESCRITIVO-BRI'!B:B,SMALL(IF('MEMORIAL DESCRITIVO-BRI'!$E$2:$E$4000=\"Sim\",ROW('MEMORIAL DESCRITIVO-BRI'!$B$2:$B$4000)),ROW(B92))), \"\")","v":""},{"$f":"IFERROR(INDEX('MEMORIAL DESCRITIVO-BRI'!I:I,SMALL(IF('MEMORIAL DESCRITIVO-BRI'!$E$2:$E$4000=\"Sim\",ROW('MEMORIAL DESCRITIVO-BRI'!$I$2:$I$4000)),ROW(B92))), \"\")","v":""},{"$f":"IFERROR(INDEX('MEMORIAL DESCRITIVO-BRI'!F:F,SMALL(IF('MEMORIAL DESCRITIVO-BRI'!$E$2:$E$4000=\"Sim\",ROW('MEMORIAL DESCRITIVO-BRI'!$F$2:$F$4000)),ROW(B92))) & \" - \" & INDEX('MEMORIAL DESCRITIVO-BRI'!H:H,SMALL(IF('MEMORIAL DESCRITIVO-BRI'!$E$2:$E$4000=\"Sim\",ROW('MEMORIAL DESCRITIVO-BRI'!$H$2:$H$4000)),ROW(B92))), \"\")","v":""},null,{"$f":"IFERROR(INDEX('MEMORIAL DESCRITIVO-BRI'!S:S,SMALL(IF('MEMORIAL DESCRITIVO-BRI'!$E$2:$E$4000=\"Sim\",ROW('MEMORIAL DESCRITIVO-BRI'!$S$2:$S$4000)),ROW(B92))), \"\")","v":""},{"$f":"IFERROR(INDEX('MEMORIAL DESCRITIVO-BRI'!Z:Z,SMALL(IF('MEMORIAL DESCRITIVO-BRI'!$E$2:$E$4000=\"Sim\",ROW('MEMORIAL DESCRITIVO-BRI'!$Z$2:$Z$4000)),ROW(B92))), \"\")","v":""},{"$f":"IFERROR(INDEX('MEMORIAL DESCRITIVO-BRI'!W:W,SMALL(IF('MEMORIAL DESCRITIVO-BRI'!$E$2:$E$4000=\"Sim\",ROW('MEMORIAL DESCRITIVO-BRI'!$W$2:$W$4000)),ROW(B92))), \"\")","v":""},{"$f":"IFERROR(INDEX('MEMORIAL DESCRITIVO-BRI'!G:G,SMALL(IF('MEMORIAL DESCRITIVO-BRI'!$E$2:$E$4000=\"Sim\",ROW('MEMORIAL DESCRITIVO-BRI'!$G$2:$G$4000)),ROW(B92))), \"\")","v":""},{"$f":"IFERROR(INDEX('MEMORIAL DESCRITIVO-BRI'!P:P,SMALL(IF('MEMORIAL DESCRITIVO-BRI'!$E$2:$E$4000=\"Sim\",ROW('MEMORIAL DESCRITIVO-BRI'!$P$2:$P$4000)),ROW(B92))), \"\")","v":""},{"$f":"IFERROR(INDEX('MEMORIAL DESCRITIVO-BRI'!Q:Q,SMALL(IF('MEMORIAL DESCRITIVO-BRI'!$E$2:$E$4000=\"Sim\",ROW('MEMORIAL DESCRITIVO-BRI'!$Q$2:$Q$4000)),ROW(B92))), \"\")","v":""}]
[null,{"$f":"IFERROR(INDEX('MEMORIAL DESCRITIVO-BRI'!B:B,SMALL(IF('MEMORIAL DESCRITIVO-BRI'!$E$2:$E$4000=\"Sim\",ROW('MEMORIAL DESCRITIVO-BRI'!$B$2:$B$4000)),ROW(B93))), \"\")","v":""},{"$f":"IFERROR(INDEX('MEMORIAL DESCRITIVO-BRI'!I:I,SMALL(IF('MEMORIAL DESCRITIVO-BRI'!$E$2:$E$4000=\"Sim\",ROW('MEMORIAL DESCRITIVO-BRI'!$I$2:$I$4000)),ROW(B93))), \"\")","v":""},{"$f":"IFERROR(INDEX('MEMORIAL DESCRITIVO-BRI'!F:F,SMALL(IF('MEMORIAL DESCRITIVO-BRI'!$E$2:$E$4000=\"Sim\",ROW('MEMORIAL DESCRITIVO-BRI'!$F$2:$F$4000)),ROW(B93))) & \" - \" & INDEX('MEMORIAL DESCRITIVO-BRI'!H:H,SMALL(IF('MEMORIAL DESCRITIVO-BRI'!$E$2:$E$4000=\"Sim\",ROW('MEMORIAL DESCRITIVO-BRI'!$H$2:$H$4000)),ROW(B93))), \"\")","v":""},null,{"$f":"IFERROR(INDEX('MEMORIAL DESCRITIVO-BRI'!S:S,SMALL(IF('MEMORIAL DESCRITIVO-BRI'!$E$2:$E$4000=\"Sim\",ROW('MEMORIAL DESCRITIVO-BRI'!$S$2:$S$4000)),ROW(B93))), \"\")","v":""},{"$f":"IFERROR(INDEX('MEMORIAL DESCRITIVO-BRI'!Z:Z,SMALL(IF('MEMORIAL DESCRITIVO-BRI'!$E$2:$E$4000=\"Sim\",ROW('MEMORIAL DESCRITIVO-BRI'!$Z$2:$Z$4000)),ROW(B93))), \"\")","v":""},{"$f":"IFERROR(INDEX('MEMORIAL DESCRITIVO-BRI'!W:W,SMALL(IF('MEMORIAL DESCRITIVO-BRI'!$E$2:$E$4000=\"Sim\",ROW('MEMORIAL DESCRITIVO-BRI'!$W$2:$W$4000)),ROW(B93))), \"\")","v":""},{"$f":"IFERROR(INDEX('MEMORIAL DESCRITIVO-BRI'!G:G,SMALL(IF('MEMORIAL DESCRITIVO-BRI'!$E$2:$E$4000=\"Sim\",ROW('MEMORIAL DESCRITIVO-BRI'!$G$2:$G$4000)),ROW(B93))), \"\")","v":""},{"$f":"IFERROR(INDEX('MEMORIAL DESCRITIVO-BRI'!P:P,SMALL(IF('MEMORIAL DESCRITIVO-BRI'!$E$2:$E$4000=\"Sim\",ROW('MEMORIAL DESCRITIVO-BRI'!$P$2:$P$4000)),ROW(B93))), \"\")","v":""},{"$f":"IFERROR(INDEX('MEMORIAL DESCRITIVO-BRI'!Q:Q,SMALL(IF('MEMORIAL DESCRITIVO-BRI'!$E$2:$E$4000=\"Sim\",ROW('MEMORIAL DESCRITIVO-BRI'!$Q$2:$Q$4000)),ROW(B93))), \"\")","v":""}]
[null,{"$f":"IFERROR(INDEX('MEMORIAL DESCRITIVO-BRI'!B:B,SMALL(IF('MEMORIAL DESCRITIVO-BRI'!$E$2:$E$4000=\"Sim\",ROW('MEMORIAL DESCRITIVO-BRI'!$B$2:$B$4000)),ROW(B94))), \"\")","v":""},{"$f":"IFERROR(INDEX('MEMORIAL DESCRITIVO-BRI'!I:I,SMALL(IF('MEMORIAL DESCRITIVO-BRI'!$E$2:$E$4000=\"Sim\",ROW('MEMORIAL DESCRITIVO-BRI'!$I$2:$I$4000)),ROW(B94))), \"\")","v":""},{"$f":"IFERROR(INDEX('MEMORIAL DESCRITIVO-BRI'!F:F,SMALL(IF('MEMORIAL DESCRITIVO-BRI'!$E$2:$E$4000=\"Sim\",ROW('MEMORIAL DESCRITIVO-BRI'!$F$2:$F$4000)),ROW(B94))) & \" - \" & INDEX('MEMORIAL DESCRITIVO-BRI'!H:H,SMALL(IF('MEMORIAL DESCRITIVO-BRI'!$E$2:$E$4000=\"Sim\",ROW('MEMORIAL DESCRITIVO-BRI'!$H$2:$H$4000)),ROW(B94))), \"\")","v":""},null,{"$f":"IFERROR(INDEX('MEMORIAL DESCRITIVO-BRI'!S:S,SMALL(IF('MEMORIAL DESCRITIVO-BRI'!$E$2:$E$4000=\"Sim\",ROW('MEMORIAL DESCRITIVO-BRI'!$S$2:$S$4000)),ROW(B94))), \"\")","v":""},{"$f":"IFERROR(INDEX('MEMORIAL DESCRITIVO-BRI'!Z:Z,SMALL(IF('MEMORIAL DESCRITIVO-BRI'!$E$2:$E$4000=\"Sim\",ROW('MEMORIAL DESCRITIVO-BRI'!$Z$2:$Z$4000)),ROW(B94))), \"\")","v":""},{"$f":"IFERROR(INDEX('MEMORIAL DESCRITIVO-BRI'!W:W,SMALL(IF('MEMORIAL DESCRITIVO-BRI'!$E$2:$E$4000=\"Sim\",ROW('MEMORIAL DESCRITIVO-BRI'!$W$2:$W$4000)),ROW(B94))), \"\")","v":""},{"$f":"IFERROR(INDEX('MEMORIAL DESCRITIVO-BRI'!G:G,SMALL(IF('MEMORIAL DESCRITIVO-BRI'!$E$2:$E$4000=\"Sim\",ROW('MEMORIAL DESCRITIVO-BRI'!$G$2:$G$4000)),ROW(B94))), \"\")","v":""},{"$f":"IFERROR(INDEX('MEMORIAL DESCRITIVO-BRI'!P:P,SMALL(IF('MEMORIAL DESCRITIVO-BRI'!$E$2:$E$4000=\"Sim\",ROW('MEMORIAL DESCRITIVO-BRI'!$P$2:$P$4000)),ROW(B94))), \"\")","v":""},{"$f":"IFERROR(INDEX('MEMORIAL DESCRITIVO-BRI'!Q:Q,SMALL(IF('MEMORIAL DESCRITIVO-BRI'!$E$2:$E$4000=\"Sim\",ROW('MEMORIAL DESCRITIVO-BRI'!$Q$2:$Q$4000)),ROW(B94))), \"\")","v":""}]
[null,{"$f":"IFERROR(INDEX('MEMORIAL DESCRITIVO-BRI'!B:B,SMALL(IF('MEMORIAL DESCRITIVO-BRI'!$E$2:$E$4000=\"Sim\",ROW('MEMORIAL DESCRITIVO-BRI'!$B$2:$B$4000)),ROW(B95))), \"\")","v":""},{"$f":"IFERROR(INDEX('MEMORIAL DESCRITIVO-BRI'!I:I,SMALL(IF('MEMORIAL DESCRITIVO-BRI'!$E$2:$E$4000=\"Sim\",ROW('MEMORIAL DESCRITIVO-BRI'!$I$2:$I$4000)),ROW(B95))), \"\")","v":""},{"$f":"IFERROR(INDEX('MEMORIAL DESCRITIVO-BRI'!F:F,SMALL(IF('MEMORIAL DESCRITIVO-BRI'!$E$2:$E$4000=\"Sim\",ROW('MEMORIAL DESCRITIVO-BRI'!$F$2:$F$4000)),ROW(B95))) & \" - \" & INDEX('MEMORIAL DESCRITIVO-BRI'!H:H,SMALL(IF('MEMORIAL DESCRITIVO-BRI'!$E$2:$E$4000=\"Sim\",ROW('MEMORIAL DESCRITIVO-BRI'!$H$2:$H$4000)),ROW(B95))), \"\")","v":""},null,{"$f":"IFERROR(INDEX('MEMORIAL DESCRITIVO-BRI'!S:S,SMALL(IF('MEMORIAL DESCRITIVO-BRI'!$E$2:$E$4000=\"Sim\",ROW('MEMORIAL DESCRITIVO-BRI'!$S$2:$S$4000)),ROW(B95))), \"\")","v":""},{"$f":"IFERROR(INDEX('MEMORIAL DESCRITIVO-BRI'!Z:Z,SMALL(IF('MEMORIAL DESCRITIVO-BRI'!$E$2:$E$4000=\"Sim\",ROW('MEMORIAL DESCRITIVO-BRI'!$Z$2:$Z$4000)),ROW(B95))), \"\")","v":""},{"$f":"IFERROR(INDEX('MEMORIAL DESCRITIVO-BRI'!W:W,SMALL(IF('MEMORIAL DESCRITIVO-BRI'!$E$2:$E$4000=\"Sim\",ROW('MEMORIAL DESCRITIVO-BRI'!$W$2:$W$4000)),ROW(B95))), \"\")","v":""},{"$f":"IFERROR(INDEX('MEMORIAL DESCRITIVO-BRI'!G:G,SMALL(IF('MEMORIAL DESCRITIVO-BRI'!$E$2:$E$4000=\"Sim\",ROW('MEMORIAL DESCRITIVO-BRI'!$G$2:$G$4000)),ROW(B95))), \"\")","v":""},{"$f":"IFERROR(INDEX('MEMORIAL DESCRITIVO-BRI'!P:P,SMALL(IF('MEMORIAL DESCRITIVO-BRI'!$E$2:$E$4000=\"Sim\",ROW('MEMORIAL DESCRITIVO-BRI'!$P$2:$P$4000)),ROW(B95))), \"\")","v":""},{"$f":"IFERROR(INDEX('MEMORIAL DESCRITIVO-BRI'!Q:Q,SMALL(IF('MEMORIAL DESCRITIVO-BRI'!$E$2:$E$4000=\"Sim\",ROW('MEMORIAL DESCRITIVO-BRI'!$Q$2:$Q$4000)),ROW(B95))), \"\")","v":""}]
[null,{"$f":"IFERROR(INDEX('MEMORIAL DESCRITIVO-BRI'!B:B,SMALL(IF('MEMORIAL DESCRITIVO-BRI'!$E$2:$E$4000=\"Sim\",ROW('MEMORIAL DESCRITIVO-BRI'!$B$2:$B$4000)),ROW(B96))), \"\")","v":""},{"$f":"IFERROR(INDEX('MEMORIAL DESCRITIVO-BRI'!I:I,SMALL(IF('MEMORIAL DESCRITIVO-BRI'!$E$2:$E$4000=\"Sim\",ROW('MEMORIAL DESCRITIVO-BRI'!$I$2:$I$4000)),ROW(B96))), \"\")","v":""},{"$f":"IFERROR(INDEX('MEMORIAL DESCRITIVO-BRI'!F:F,SMALL(IF('MEMORIAL DESCRITIVO-BRI'!$E$2:$E$4000=\"Sim\",ROW('MEMORIAL DESCRITIVO-BRI'!$F$2:$F$4000)),ROW(B96))) & \" - \" & INDEX('MEMORIAL DESCRITIVO-BRI'!H:H,SMALL(IF('MEMORIAL DESCRITIVO-BRI'!$E$2:$E$4000=\"Sim\",ROW('MEMORIAL DESCRITIVO-BRI'!$H$2:$H$4000)),ROW(B96))), \"\")","v":""},null,{"$f":"IFERROR(INDEX('MEMORIAL DESCRITIVO-BRI'!S:S,SMALL(IF('MEMORIAL DESCRITIVO-BRI'!$E$2:$E$4000=\"Sim\",ROW('MEMORIAL DESCRITIVO-BRI'!$S$2:$S$4000)),ROW(B96))), \"\")","v":""},{"$f":"IFERROR(INDEX('MEMORIAL DESCRITIVO-BRI'!Z:Z,SMALL(IF('MEMORIAL DESCRITIVO-BRI'!$E$2:$E$4000=\"Sim\",ROW('MEMORIAL DESCRITIVO-BRI'!$Z$2:$Z$4000)),ROW(B96))), \"\")","v":""},{"$f":"IFERROR(INDEX('MEMORIAL DESCRITIVO-BRI'!W:W,SMALL(IF('MEMORIAL DESCRITIVO-BRI'!$E$2:$E$4000=\"Sim\",ROW('MEMORIAL DESCRITIVO-BRI'!$W$2:$W$4000)),ROW(B96))), \"\")","v":""},{"$f":"IFERROR(INDEX('MEMORIAL DESCRITIVO-BRI'!G:G,SMALL(IF('MEMORIAL DESCRITIVO-BRI'!$E$2:$E$4000=\"Sim\",ROW('MEMORIAL DESCRITIVO-BRI'!$G$2:$G$4000)),ROW(B96))), \"\")","v":""},{"$f":"IFERROR(INDEX('MEMORIAL DESCRITIVO-BRI'!P:P,SMALL(IF('MEMORIAL DESCRITIVO-BRI'!$E$2:$E$4000=\"Sim\",ROW('MEMORIAL DESCRITIVO-BRI'!$P$2:$P$4000)),ROW(B96))), \"\")","v":""},{"$f":"IFERROR(INDEX('MEMORIAL DESCRITIVO-BRI'!Q:Q,SMALL(IF('MEMORIAL DESCRITIVO-BRI'!$E$2:$E$4000=\"Sim\",ROW('MEMORIAL DESCRITIVO-BRI'!$Q$2:$Q$4000)),ROW(B96))), \"\")","v":""}]
[null,{"$f":"IFERROR(INDEX('MEMORIAL DESCRITIVO-BRI'!B:B,SMALL(IF('MEMORIAL DESCRITIVO-BRI'!$E$2:$E$4000=\"Sim\",ROW('MEMORIAL DESCRITIVO-BRI'!$B$2:$B$4000)),ROW(B97))), \"\")","v":""},{"$f":"IFERROR(INDEX('MEMORIAL DESCRITIVO-BRI'!I:I,SMALL(IF('MEMORIAL DESCRITIVO-BRI'!$E$2:$E$4000=\"Sim\",ROW('MEMORIAL DESCRITIVO-BRI'!$I$2:$I$4000)),ROW(B97))), \"\")","v":""},{"$f":"IFERROR(INDEX('MEMORIAL DESCRITIVO-BRI'!F:F,SMALL(IF('MEMORIAL DESCRITIVO-BRI'!$E$2:$E$4000=\"Sim\",ROW('MEMORIAL DESCRITIVO-BRI'!$F$2:$F$4000)),ROW(B97))) & \" - \" & INDEX('MEMORIAL DESCRITIVO-BRI'!H:H,SMALL(IF('MEMORIAL DESCRITIVO-BRI'!$E$2:$E$4000=\"Sim\",ROW('MEMORIAL DESCRITIVO-BRI'!$H$2:$H$4000)),ROW(B97))), \"\")","v":""},null,{"$f":"IFERROR(INDEX('MEMORIAL DESCRITIVO-BRI'!S:S,SMALL(IF('MEMORIAL DESCRITIVO-BRI'!$E$2:$E$4000=\"Sim\",ROW('MEMORIAL DESCRITIVO-BRI'!$S$2:$S$4000)),ROW(B97))), \"\")","v":""},{"$f":"IFERROR(INDEX('MEMORIAL DESCRITIVO-BRI'!Z:Z,SMALL(IF('MEMORIAL DESCRITIVO-BRI'!$E$2:$E$4000=\"Sim\",ROW('MEMORIAL DESCRITIVO-BRI'!$Z$2:$Z$4000)),ROW(B97))), \"\")","v":""},{"$f":"IFERROR(INDEX('MEMORIAL DESCRITIVO-BRI'!W:W,SMALL(IF('MEMORIAL DESCRITIVO-BRI'!$E$2:$E$4000=\"Sim\",ROW('MEMORIAL DESCRITIVO-BRI'!$W$2:$W$4000)),ROW(B97))), \"\")","v":""},{"$f":"IFERROR(INDEX('MEMORIAL DESCRITIVO-BRI'!G:G,SMALL(IF('MEMORIAL DESCRITIVO-BRI'!$E$2:$E$4000=\"Sim\",ROW('MEMORIAL DESCRITIVO-BRI'!$G$2:$G$4000)),ROW(B97))), \"\")","v":""},{"$f":"IFERROR(INDEX('MEMORIAL DESCRITIVO-BRI'!P:P,SMALL(IF('MEMORIAL DESCRITIVO-BRI'!$E$2:$E$4000=\"Sim\",ROW('MEMORIAL DESCRITIVO-BRI'!$P$2:$P$4000)),ROW(B97))), \"\")","v":""},{"$f":"IFERROR(INDEX('MEMORIAL DESCRITIVO-BRI'!Q:Q,SMALL(IF('MEMORIAL DESCRITIVO-BRI'!$E$2:$E$4000=\"Sim\",ROW('MEMORIAL DESCRITIVO-BRI'!$Q$2:$Q$4000)),ROW(B97))), \"\")","v":""}]
[null,{"$f":"IFERROR(INDEX('MEMORIAL DESCRITIVO-BRI'!B:B,SMALL(IF('MEMORIAL DESCRITIVO-BRI'!$E$2:$E$4000=\"Sim\",ROW('MEMORIAL DESCRITIVO-BRI'!$B$2:$B$4000)),ROW(B98))), \"\")","v":""},{"$f":"IFERROR(INDEX('MEMORIAL DESCRITIVO-BRI'!I:I,SMALL(IF('MEMORIAL DESCRITIVO-BRI'!$E$2:$E$4000=\"Sim\",ROW('MEMORIAL DESCRITIVO-BRI'!$I$2:$I$4000)),ROW(B98))), \"\")","v":""},{"$f":"IFERROR(INDEX('MEMORIAL DESCRITIVO-BRI'!F:F,SMALL(IF('MEMORIAL DESCRITIVO-BRI'!$E$2:$E$4000=\"Sim\",ROW('MEMORIAL DESCRITIVO-BRI'!$F$2:$F$4000)),ROW(B98))) & \" - \" & INDEX('MEMORIAL DESCRITIVO-BRI'!H:H,SMALL(IF('MEMORIAL DESCRITIVO-BRI'!$E$2:$E$4000=\"Sim\",ROW('MEMORIAL DESCRITIVO-BRI'!$H$2:$H$4000)),ROW(B98))), \"\")","v":""},null,{"$f":"IFERROR(INDEX('MEMORIAL DESCRITIVO-BRI'!S:S,SMALL(IF('MEMORIAL DESCRITIVO-BRI'!$E$2:$E$4000=\"Sim\",ROW('MEMORIAL DESCRITIVO-BRI'!$S$2:$S$4000)),ROW(B98))), \"\")","v":""},{"$f":"IFERROR(INDEX('MEMORIAL DESCRITIVO-BRI'!Z:Z,SMALL(IF('MEMORIAL DESCRITIVO-BRI'!$E$2:$E$4000=\"Sim\",ROW('MEMORIAL DESCRITIVO-BRI'!$Z$2:$Z$4000)),ROW(B98))), \"\")","v":""},{"$f":"IFERROR(INDEX('MEMORIAL DESCRITIVO-BRI'!W:W,SMALL(IF('MEMORIAL DESCRITIVO-BRI'!$E$2:$E$4000=\"Sim\",ROW('MEMORIAL DESCRITIVO-BRI'!$W$2:$W$4000)),ROW(B98))), \"\")","v":""},{"$f":"IFERROR(INDEX('MEMORIAL DESCRITIVO-BRI'!G:G,SMALL(IF('MEMORIAL DESCRITIVO-BRI'!$E$2:$E$4000=\"Sim\",ROW('MEMORIAL DESCRITIVO-BRI'!$G$2:$G$4000)),ROW(B98))), \"\")","v":""},{"$f":"IFERROR(INDEX('MEMORIAL DESCRITIVO-BRI'!P:P,SMALL(IF('MEMORIAL DESCRITIVO-BRI'!$E$2:$E$4000=\"Sim\",ROW('MEMORIAL DESCRITIVO-BRI'!$P$2:$P$4000)),ROW(B98))), \"\")","v":""},{"$f":"IFERROR(INDEX('MEMORIAL DESCRITIVO-BRI'!Q:Q,SMALL(IF('MEMORIAL DESCRITIVO-BRI'!$E$2:$E$4000=\"Sim\",ROW('MEMORIAL DESCRITIVO-BRI'!$Q$2:$Q$4000)),ROW(B98))), \"\")","v":""}]
[null,{"$f":"IFERROR(INDEX('MEMORIAL DESCRITIVO-BRI'!B:B,SMALL(IF('MEMORIAL DESCRITIVO-BRI'!$E$2:$E$4000=\"Sim\",ROW('MEMORIAL DESCRITIVO-BRI'!$B$2:$B$4000)),ROW(B99))), \"\")","v":""},{"$f":"IFERROR(INDEX('MEMORIAL DESCRITIVO-BRI'!I:I,SMALL(IF('MEMORIAL DESCRITIVO-BRI'!$E$2:$E$4000=\"Sim\",ROW('MEMORIAL DESCRITIVO-BRI'!$I$2:$I$4000)),ROW(B99))), \"\")","v":""},{"$f":"IFERROR(INDEX('MEMORIAL DESCRITIVO-BRI'!F:F,SMALL(IF('MEMORIAL DESCRITIVO-BRI'!$E$2:$E$4000=\"Sim\",ROW('MEMORIAL DESCRITIVO-BRI'!$F$2:$F$4000)),ROW(B99))) & \" - \" & INDEX('MEMORIAL DESCRITIVO-BRI'!H:H,SMALL(IF('MEMORIAL DESCRITIVO-BRI'!$E$2:$E$4000=\"Sim\",ROW('MEMORIAL DESCRITIVO-BRI'!$H$2:$H$4000)),ROW(B99))), \"\")","v":""},null,{"$f":"IFERROR(INDEX('MEMORIAL DESCRITIVO-BRI'!S:S,SMALL(IF('MEMORIAL DESCRITIVO-BRI'!$E$2:$E$4000=\"Sim\",ROW('MEMORIAL DESCRITIVO-BRI'!$S$2:$S$4000)),ROW(B99))), \"\")","v":""},{"$f":"IFERROR(INDEX('MEMORIAL DESCRITIVO-BRI'!Z:Z,SMALL(IF('MEMORIAL DESCRITIVO-BRI'!$E$2:$E$4000=\"Sim\",ROW('MEMORIAL DESCRITIVO-BRI'!$Z$2:$Z$4000)),ROW(B99))), \"\")","v":""},{"$f":"IFERROR(INDEX('MEMORIAL DESCRITIVO-BRI'!W:W,SMALL(IF('MEMORIAL DESCRITIVO-BRI'!$E$2:$E$4000=\"Sim\",ROW('MEMORIAL DESCRITIVO-BRI'!$W$2:$W$4000)),ROW(B99))), \"\")","v":""},{"$f":"IFERROR(INDEX('MEMORIAL DESCRITIVO-BRI'!G:G,SMALL(IF('MEMORIAL DESCRITIVO-BRI'!$E$2:$E$4000=\"Sim\",ROW('MEMORIAL DESCRITIVO-BRI'!$G$2:$G$4000)),ROW(B99))), \"\")","v":""},{"$f":"IFERROR(INDEX('MEMORIAL DESCRITIVO-BRI'!P:P,SMALL(IF('MEMORIAL DESCRITIVO-BRI'!$E$2:$E$4000=\"Sim\",ROW('MEMORIAL DESCRITIVO-BRI'!$P$2:$P$4000)),ROW(B99))), \"\")","v":""},{"$f":"IFERROR(INDEX('MEMORIAL DESCRITIVO-BRI'!Q:Q,SMALL(IF('MEMORIAL DESCRITIVO-BRI'!$E$2:$E$4000=\"Sim\",ROW('MEMORIAL DESCRITIVO-BRI'!$Q$2:$Q$4000)),ROW(B99))), \"\")","v":""}]
[null,{"$f":"IFERROR(INDEX('MEMORIAL DESCRITIVO-BRI'!B:B,SMALL(IF('MEMORIAL DESCRITIVO-BRI'!$E$2:$E$4000=\"Sim\",ROW('MEMORIAL DESCRITIVO-BRI'!$B$2:$B$4000)),ROW(B100))), \"\")","v":""},{"$f":"IFERROR(INDEX('MEMORIAL DESCRITIVO-BRI'!I:I,SMALL(IF('MEMORIAL DESCRITIVO-BRI'!$E$2:$E$4000=\"Sim\",ROW('MEMORIAL DESCRITIVO-BRI'!$I$2:$I$4000)),ROW(B100))), \"\")","v":""},{"$f":"IFERROR(INDEX('MEMORIAL DESCRITIVO-BRI'!F:F,SMALL(IF('MEMORIAL DESCRITIVO-BRI'!$E$2:$E$4000=\"Sim\",ROW('MEMORIAL DESCRITIVO-BRI'!$F$2:$F$4000)),ROW(B100))) & \" - \" & INDEX('MEMORIAL DESCRITIVO-BRI'!H:H,SMALL(IF('MEMORIAL DESCRITIVO-BRI'!$E$2:$E$4000=\"Sim\",ROW('MEMORIAL DESCRITIVO-BRI'!$H$2:$H$4000)),ROW(B100))), \"\")","v":""},null,{"$f":"IFERROR(INDEX('MEMORIAL DESCRITIVO-BRI'!S:S,SMALL(IF('MEMORIAL DESCRITIVO-BRI'!$E$2:$E$4000=\"Sim\",ROW('MEMORIAL DESCRITIVO-BRI'!$S$2:$S$4000)),ROW(B100))), \"\")","v":""},{"$f":"IFERROR(INDEX('MEMORIAL DESCRITIVO-BRI'!Z:Z,SMALL(IF('MEMORIAL DESCRITIVO-BRI'!$E$2:$E$4000=\"Sim\",ROW('MEMORIAL DESCRITIVO-BRI'!$Z$2:$Z$4000)),ROW(B100))), \"\")","v":""},{"$f":"IFERROR(INDEX('MEMORIAL DESCRITIVO-BRI'!W:W,SMALL(IF('MEMORIAL DESCRITIVO-BRI'!$E$2:$E$4000=\"Sim\",ROW('MEMORIAL DESCRITIVO-BRI'!$W$2:$W$4000)),ROW(B100))), \"\")","v":""},{"$f":"IFERROR(INDEX('MEMORIAL DESCRITIVO-BRI'!G:G,SMALL(IF('MEMORIAL DESCRITIVO-BRI'!$E$2:$E$4000=\"Sim\",ROW('MEMORIAL DESCRITIVO-BRI'!$G$2:$G$4000)),ROW(B100))), \"\")","v":""},{"$f":"IFERROR(INDEX('MEMORIAL DESCRITIVO-BRI'!P:P,SMALL(IF('MEMORIAL DESCRITIVO-BRI'!$E$2:$E$4000=\"Sim\",ROW('MEMORIAL DESCRITIVO-BRI'!$P$2:$P$4000)),ROW(B100))), \"\")","v":""},{"$f":"IFERROR(INDEX('MEMORIAL DESCRITIVO-BRI'!Q:Q,SMALL(IF('MEMORIAL DESCRITIVO-BRI'!$E$2:$E$4000=\"Sim\",ROW('MEMORIAL DESCRITIVO-BRI'!$Q$2:$Q$4000)),ROW(B100))), \"\")","v":""}]
[null,{"$f":"IFERROR(INDEX('MEMORIAL DESCRITIVO-BRI'!B:B,SMALL(IF('MEMORIAL DESCRITIVO-BRI'!$E$2:$E$4000=\"Sim\",ROW('MEMORIAL DESCRITIVO-BRI'!$B$2:$B$4000)),ROW(B101))), \"\")","v":""},{"$f":"IFERROR(INDEX('MEMORIAL DESCRITIVO-BRI'!I:I,SMALL(IF('MEMORIAL DESCRITIVO-BRI'!$E$2:$E$4000=\"Sim\",ROW('MEMORIAL DESCRITIVO-BRI'!$I$2:$I$4000)),ROW(B101))), \"\")","v":""},{"$f":"IFERROR(INDEX('MEMORIAL DESCRITIVO-BRI'!F:F,SMALL(IF('MEMORIAL DESCRITIVO-BRI'!$E$2:$E$4000=\"Sim\",ROW('MEMORIAL DESCRITIVO-BRI'!$F$2:$F$4000)),ROW(B101))) & \" - \" & INDEX('MEMORIAL DESCRITIVO-BRI'!H:H,SMALL(IF('MEMORIAL DESCRITIVO-BRI'!$E$2:$E$4000=\"Sim\",ROW('MEMORIAL DESCRITIVO-BRI'!$H$2:$H$4000)),ROW(B101))), \"\")","v":""},null,{"$f":"IFERROR(INDEX('MEMORIAL DESCRITIVO-BRI'!S:S,SMALL(IF('MEMORIAL DESCRITIVO-BRI'!$E$2:$E$4000=\"Sim\",ROW('MEMORIAL DESCRITIVO-BRI'!$S$2:$S$4000)),ROW(B101))), \"\")","v":""},{"$f":"IFERROR(INDEX('MEMORIAL DESCRITIVO-BRI'!Z:Z,SMALL(IF('MEMORIAL DESCRITIVO-BRI'!$E$2:$E$4000=\"Sim\",ROW('MEMORIAL DESCRITIVO-BRI'!$Z$2:$Z$4000)),ROW(B101))), \"\")","v":""},{"$f":"IFERROR(INDEX('MEMORIAL DESCRITIVO-BRI'!W:W,SMALL(IF('MEMORIAL DESCRITIVO-BRI'!$E$2:$E$4000=\"Sim\",ROW('MEMORIAL DESCRITIVO-BRI'!$W$2:$W$4000)),ROW(B101))), \"\")","v":""},{"$f":"IFERROR(INDEX('MEMORIAL DESCRITIVO-BRI'!G:G,SMALL(IF('MEMORIAL DESCRITIVO-BRI'!$E$2:$E$4000=\"Sim\",ROW('MEMORIAL DESCRITIVO-BRI'!$G$2:$G$4000)),ROW(B101))), \"\")","v":""},{"$f":"IFERROR(INDEX('MEMORIAL DESCRITIVO-BRI'!P:P,SMALL(IF('MEMORIAL DESCRITIVO-BRI'!$E$2:$E$4000=\"Sim\",ROW('MEMORIAL DESCRITIVO-BRI'!$P$2:$P$4000)),ROW(B101))), \"\")","v":""},{"$f":"IFERROR(INDEX('MEMORIAL DESCRITIVO-BRI'!Q:Q,SMALL(IF('MEMORIAL DESCRITIVO-BRI'!$E$2:$E$4000=\"Sim\",ROW('MEMORIAL DESCRITIVO-BRI'!$Q$2:$Q$4000)),ROW(B101))), \"\")","v":""}]
[null,{"$f":"IFERROR(INDEX('MEMORIAL DESCRITIVO-BRI'!B:B,SMALL(IF('MEMORIAL DESCRITIVO-BRI'!$E$2:$E$4000=\"Sim\",ROW('MEMORIAL DESCRITIVO-BRI'!$B$2:$B$4000)),ROW(B102))), \"\")","v":""},{"$f":"IFERROR(INDEX('MEMORIAL DESCRITIVO-BRI'!I:I,SMALL(IF('MEMORIAL DESCRITIVO-BRI'!$E$2:$E$4000=\"Sim\",ROW('MEMORIAL DESCRITIVO-BRI'!$I$2:$I$4000)),ROW(B102))), \"\")","v":""},{"$f":"IFERROR(INDEX('MEMORIAL DESCRITIVO-BRI'!F:F,SMALL(IF('MEMORIAL DESCRITIVO-BRI'!$E$2:$E$4000=\"Sim\",ROW('MEMORIAL DESCRITIVO-BRI'!$F$2:$F$4000)),ROW(B102))) & \" - \" & INDEX('MEMORIAL DESCRITIVO-BRI'!H:H,SMALL(IF('MEMORIAL DESCRITIVO-BRI'!$E$2:$E$4000=\"Sim\",ROW('MEMORIAL DESCRITIVO-BRI'!$H$2:$H$4000)),ROW(B102))), \"\")","v":""},null,{"$f":"IFERROR(INDEX('MEMORIAL DESCRITIVO-BRI'!S:S,SMALL(IF('MEMORIAL DESCRITIVO-BRI'!$E$2:$E$4000=\"Sim\",ROW('MEMORIAL DESCRITIVO-BRI'!$S$2:$S$4000)),ROW(B102))), \"\")","v":""},{"$f":"IFERROR(INDEX('MEMORIAL DESCRITIVO-BRI'!Z:Z,SMALL(IF('MEMORIAL DESCRITIVO-BRI'!$E$2:$E$4000=\"Sim\",ROW('MEMORIAL DESCRITIVO-BRI'!$Z$2:$Z$4000)),ROW(B102))), \"\")","v":""},{"$f":"IFERROR(INDEX('MEMORIAL DESCRITIVO-BRI'!W:W,SMALL(IF('MEMORIAL DESCRITIVO-BRI'!$E$2:$E$4000=\"Sim\",ROW('MEMORIAL DESCRITIVO-BRI'!$W$2:$W$4000)),ROW(B102))), \"\")","v":""},{"$f":"IFERROR(INDEX('MEMORIAL DESCRITIVO-BRI'!G:G,SMALL(IF('MEMORIAL DESCRITIVO-BRI'!$E$2:$E$4000=\"Sim\",ROW('MEMORIAL DESCRITIVO-BRI'!$G$2:$G$4000)),ROW(B102))), \"\")","v":""},{"$f":"IFERROR(INDEX('MEMORIAL DESCRITIVO-BRI'!P:P,SMALL(IF('MEMORIAL DESCRITIVO-BRI'!$E$2:$E$4000=\"Sim\",ROW('MEMORIAL DESCRITIVO-BRI'!$P$2:$P$4000)),ROW(B102))), \"\")","v":""},{"$f":"IFERROR(INDEX('MEMORIAL DESCRITIVO-BRI'!Q:Q,SMALL(IF('MEMORIAL DESCRITIVO-BRI'!$E$2:$E$4000=\"Sim\",ROW('MEMORIAL DESCRITIVO-BRI'!$Q$2:$Q$4000)),ROW(B102))), \"\")","v":""}]
[null,{"$f":"IFERROR(INDEX('MEMORIAL DESCRITIVO-BRI'!B:B,SMALL(IF('MEMORIAL DESCRITIVO-BRI'!$E$2:$E$4000=\"Sim\",ROW('MEMORIAL DESCRITIVO-BRI'!$B$2:$B$4000)),ROW(B103))), \"\")","v":""},{"$f":"IFERROR(INDEX('MEMORIAL DESCRITIVO-BRI'!I:I,SMALL(IF('MEMORIAL DESCRITIVO-BRI'!$E$2:$E$4000=\"Sim\",ROW('MEMORIAL DESCRITIVO-BRI'!$I$2:$I$4000)),ROW(B103))), \"\")","v":""},{"$f":"IFERROR(INDEX('MEMORIAL DESCRITIVO-BRI'!F:F,SMALL(IF('MEMORIAL DESCRITIVO-BRI'!$E$2:$E$4000=\"Sim\",ROW('MEMORIAL DESCRITIVO-BRI'!$F$2:$F$4000)),ROW(B103))) & \" - \" & INDEX('MEMORIAL DESCRITIVO-BRI'!H:H,SMALL(IF('MEMORIAL DESCRITIVO-BRI'!$E$2:$E$4000=\"Sim\",ROW('MEMORIAL DESCRITIVO-BRI'!$H$2:$H$4000)),ROW(B103))), \"\")","v":""},null,{"$f":"IFERROR(INDEX('MEMORIAL DESCRITIVO-BRI'!S:S,SMALL(IF('MEMORIAL DESCRITIVO-BRI'!$E$2:$E$4000=\"Sim\",ROW('MEMORIAL DESCRITIVO-BRI'!$S$2:$S$4000)),ROW(B103))), \"\")","v":""},{"$f":"IFERROR(INDEX('MEMORIAL DESCRITIVO-BRI'!Z:Z,SMALL(IF('MEMORIAL DESCRITIVO-BRI'!$E$2:$E$4000=\"Sim\",ROW('MEMORIAL DESCRITIVO-BRI'!$Z$2:$Z$4000)),ROW(B103))), \"\")","v":""},{"$f":"IFERROR(INDEX('MEMORIAL DESCRITIVO-BRI'!W:W,SMALL(IF('MEMORIAL DESCRITIVO-BRI'!$E$2:$E$4000=\"Sim\",ROW('MEMORIAL DESCRITIVO-BRI'!$W$2:$W$4000)),ROW(B103))), \"\")","v":""},{"$f":"IFERROR(INDEX('MEMORIAL DESCRITIVO-BRI'!G:G,SMALL(IF('MEMORIAL DESCRITIVO-BRI'!$E$2:$E$4000=\"Sim\",ROW('MEMORIAL DESCRITIVO-BRI'!$G$2:$G$4000)),ROW(B103))), \"\")","v":""},{"$f":"IFERROR(INDEX('MEMORIAL DESCRITIVO-BRI'!P:P,SMALL(IF('MEMORIAL DESCRITIVO-BRI'!$E$2:$E$4000=\"Sim\",ROW('MEMORIAL DESCRITIVO-BRI'!$P$2:$P$4000)),ROW(B103))), \"\")","v":""},{"$f":"IFERROR(INDEX('MEMORIAL DESCRITIVO-BRI'!Q:Q,SMALL(IF('MEMORIAL DESCRITIVO-BRI'!$E$2:$E$4000=\"Sim\",ROW('MEMORIAL DESCRITIVO-BRI'!$Q$2:$Q$4000)),ROW(B103))), \"\")","v":""}]
[null,{"$f":"IFERROR(INDEX('MEMORIAL DESCRITIVO-BRI'!B:B,SMALL(IF('MEMORIAL DESCRITIVO-BRI'!$E$2:$E$4000=\"Sim\",ROW('MEMORIAL DESCRITIVO-BRI'!$B$2:$B$4000)),ROW(B104))), \"\")","v":""},{"$f":"IFERROR(INDEX('MEMORIAL DESCRITIVO-BRI'!I:I,SMALL(IF('MEMORIAL DESCRITIVO-BRI'!$E$2:$E$4000=\"Sim\",ROW('MEMORIAL DESCRITIVO-BRI'!$I$2:$I$4000)),ROW(B104))), \"\")","v":""},{"$f":"IFERROR(INDEX('MEMORIAL DESCRITIVO-BRI'!F:F,SMALL(IF('MEMORIAL DESCRITIVO-BRI'!$E$2:$E$4000=\"Sim\",ROW('MEMORIAL DESCRITIVO-BRI'!$F$2:$F$4000)),ROW(B104))) & \" - \" & INDEX('MEMORIAL DESCRITIVO-BRI'!H:H,SMALL(IF('MEMORIAL DESCRITIVO-BRI'!$E$2:$E$4000=\"Sim\",ROW('MEMORIAL DESCRITIVO-BRI'!$H$2:$H$4000)),ROW(B104))), \"\")","v":""},null,{"$f":"IFERROR(INDEX('MEMORIAL DESCRITIVO-BRI'!S:S,SMALL(IF('MEMORIAL DESCRITIVO-BRI'!$E$2:$E$4000=\"Sim\",ROW('MEMORIAL DESCRITIVO-BRI'!$S$2:$S$4000)),ROW(B104))), \"\")","v":""},{"$f":"IFERROR(INDEX('MEMORIAL DESCRITIVO-BRI'!Z:Z,SMALL(IF('MEMORIAL DESCRITIVO-BRI'!$E$2:$E$4000=\"Sim\",ROW('MEMORIAL DESCRITIVO-BRI'!$Z$2:$Z$4000)),ROW(B104))), \"\")","v":""},{"$f":"IFERROR(INDEX('MEMORIAL DESCRITIVO-BRI'!W:W,SMALL(IF('MEMORIAL DESCRITIVO-BRI'!$E$2:$E$4000=\"Sim\",ROW('MEMORIAL DESCRITIVO-BRI'!$W$2:$W$4000)),ROW(B104))), \"\")","v":""},{"$f":"IFERROR(INDEX('MEMORIAL DESCRITIVO-BRI'!G:G,SMALL(IF('MEMORIAL DESCRITIVO-BRI'!$E$2:$E$4000=\"Sim\",ROW('MEMORIAL DESCRITIVO-BRI'!$G$2:$G$4000)),ROW(B104))), \"\")","v":""},{"$f":"IFERROR(INDEX('MEMORIAL DESCRITIVO-BRI'!P:P,SMALL(IF('MEMORIAL DESCRITIVO-BRI'!$E$2:$E$4000=\"Sim\",ROW('MEMORIAL DESCRITIVO-BRI'!$P$2:$P$4000)),ROW(B104))), \"\")","v":""},{"$f":"IFERROR(INDEX('MEMORIAL DESCRITIVO-BRI'!Q:Q,SMALL(IF('MEMORIAL DESCRITIVO-BRI'!$E$2:$E$4000=\"Sim\",ROW('MEMORIAL DESCRITIVO-BRI'!$Q$2:$Q$4000)),ROW(B104))), \"\")","v":""}]
[null,{"$f":"IFERROR(INDEX('MEMORIAL DESCRITIVO-BRI'!B:B,SMALL(IF('MEMORIAL DESCRITIVO-BRI'!$E$2:$E$4000=\"Sim\",ROW('MEMORIAL DESCRITIVO-BRI'!$B$2:$B$4000)),ROW(B105))), \"\")","v":""},{"$f":"IFERROR(INDEX('MEMORIAL DESCRITIVO-BRI'!I:I,SMALL(IF('MEMORIAL DESCRITIVO-BRI'!$E$2:$E$4000=\"Sim\",ROW('MEMORIAL DESCRITIVO-BRI'!$I$2:$I$4000)),ROW(B105))), \"\")","v":""},{"$f":"IFERROR(INDEX('MEMORIAL DESCRITIVO-BRI'!F:F,SMALL(IF('MEMORIAL DESCRITIVO-BRI'!$E$2:$E$4000=\"Sim\",ROW('MEMORIAL DESCRITIVO-BRI'!$F$2:$F$4000)),ROW(B105))) & \" - \" & INDEX('MEMORIAL DESCRITIVO-BRI'!H:H,SMALL(IF('MEMORIAL DESCRITIVO-BRI'!$E$2:$E$4000=\"Sim\",ROW('MEMORIAL DESCRITIVO-BRI'!$H$2:$H$4000)),ROW(B105))), \"\")","v":""},null,{"$f":"IFERROR(INDEX('MEMORIAL DESCRITIVO-BRI'!S:S,SMALL(IF('MEMORIAL DESCRITIVO-BRI'!$E$2:$E$4000=\"Sim\",ROW('MEMORIAL DESCRITIVO-BRI'!$S$2:$S$4000)),ROW(B105))), \"\")","v":""},{"$f":"IFERROR(INDEX('MEMORIAL DESCRITIVO-BRI'!Z:Z,SMALL(IF('MEMORIAL DESCRITIVO-BRI'!$E$2:$E$4000=\"Sim\",ROW('MEMORIAL DESCRITIVO-BRI'!$Z$2:$Z$4000)),ROW(B105))), \"\")","v":""},{"$f":"IFERROR(INDEX('MEMORIAL DESCRITIVO-BRI'!W:W,SMALL(IF('MEMORIAL DESCRITIVO-BRI'!$E$2:$E$4000=\"Sim\",ROW('MEMORIAL DESCRITIVO-BRI'!$W$2:$W$4000)),ROW(B105))), \"\")","v":""},{"$f":"IFERROR(INDEX('MEMORIAL DESCRITIVO-BRI'!G:G,SMALL(IF('MEMORIAL DESCRITIVO-BRI'!$E$2:$E$4000=\"Sim\",ROW('MEMORIAL DESCRITIVO-BRI'!$G$2:$G$4000)),ROW(B105))), \"\")","v":""},{"$f":"IFERROR(INDEX('MEMORIAL DESCRITIVO-BRI'!P:P,SMALL(IF('MEMORIAL DESCRITIVO-BRI'!$E$2:$E$4000=\"Sim\",ROW('MEMORIAL DESCRITIVO-BRI'!$P$2:$P$4000)),ROW(B105))), \"\")","v":""},{"$f":"IFERROR(INDEX('MEMORIAL DESCRITIVO-BRI'!Q:Q,SMALL(IF('MEMORIAL DESCRITIVO-BRI'!$E$2:$E$4000=\"Sim\",ROW('MEMORIAL DESCRITIVO-BRI'!$Q$2:$Q$4000)),ROW(B105))), \"\")","v":""}]
[null,{"$f":"IFERROR(INDEX('MEMORIAL DESCRITIVO-BRI'!B:B,SMALL(IF('MEMORIAL DESCRITIVO-BRI'!$E$2:$E$4000=\"Sim\",ROW('MEMORIAL DESCRITIVO-BRI'!$B$2:$B$4000)),ROW(B106))), \"\")","v":""},{"$f":"IFERROR(INDEX('MEMORIAL DESCRITIVO-BRI'!I:I,SMALL(IF('MEMORIAL DESCRITIVO-BRI'!$E$2:$E$4000=\"Sim\",ROW('MEMORIAL DESCRITIVO-BRI'!$I$2:$I$4000)),ROW(B106))), \"\")","v":""},{"$f":"IFERROR(INDEX('MEMORIAL DESCRITIVO-BRI'!F:F,SMALL(IF('MEMORIAL DESCRITIVO-BRI'!$E$2:$E$4000=\"Sim\",ROW('MEMORIAL DESCRITIVO-BRI'!$F$2:$F$4000)),ROW(B106))) & \" - \" & INDEX('MEMORIAL DESCRITIVO-BRI'!H:H,SMALL(IF('MEMORIAL DESCRITIVO-BRI'!$E$2:$E$4000=\"Sim\",ROW('MEMORIAL DESCRITIVO-BRI'!$H$2:$H$4000)),ROW(B106))), \"\")","v":""},null,{"$f":"IFERROR(INDEX('MEMORIAL DESCRITIVO-BRI'!S:S,SMALL(IF('MEMORIAL DESCRITIVO-BRI'!$E$2:$E$4000=\"Sim\",ROW('MEMORIAL DESCRITIVO-BRI'!$S$2:$S$4000)),ROW(B106))), \"\")","v":""},{"$f":"IFERROR(INDEX('MEMORIAL DESCRITIVO-BRI'!Z:Z,SMALL(IF('MEMORIAL DESCRITIVO-BRI'!$E$2:$E$4000=\"Sim\",ROW('MEMORIAL DESCRITIVO-BRI'!$Z$2:$Z$4000)),ROW(B106))), \"\")","v":""},{"$f":"IFERROR(INDEX('MEMORIAL DESCRITIVO-BRI'!W:W,SMALL(IF('MEMORIAL DESCRITIVO-BRI'!$E$2:$E$4000=\"Sim\",ROW('MEMORIAL DESCRITIVO-BRI'!$W$2:$W$4000)),ROW(B106))), \"\")","v":""},{"$f":"IFERROR(INDEX('MEMORIAL DESCRITIVO-BRI'!G:G,SMALL(IF('MEMORIAL DESCRITIVO-BRI'!$E$2:$E$4000=\"Sim\",ROW('MEMORIAL DESCRITIVO-BRI'!$G$2:$G$4000)),ROW(B106))), \"\")","v":""},{"$f":"IFERROR(INDEX('MEMORIAL DESCRITIVO-BRI'!P:P,SMALL(IF('MEMORIAL DESCRITIVO-BRI'!$E$2:$E$4000=\"Sim\",ROW('MEMORIAL DESCRITIVO-BRI'!$P$2:$P$4000)),ROW(B106))), \"\")","v":""},{"$f":"IFERROR(INDEX('MEMORIAL DESCRITIVO-BRI'!Q:Q,SMALL(IF('MEMORIAL DESCRITIVO-BRI'!$E$2:$E$4000=\"Sim\",ROW('MEMORIAL DESCRITIVO-BRI'!$Q$2:$Q$4000)),ROW(B106))), \"\")","v":""}]
[null,{"$f":"IFERROR(INDEX('MEMORIAL DESCRITIVO-BRI'!B:B,SMALL(IF('MEMORIAL DESCRITIVO-BRI'!$E$2:$E$4000=\"Sim\",ROW('MEMORIAL DESCRITIVO-BRI'!$B$2:$B$4000)),ROW(B107))), \"\")","v":""},{"$f":"IFERROR(INDEX('MEMORIAL DESCRITIVO-BRI'!I:I,SMALL(IF('MEMORIAL DESCRITIVO-BRI'!$E$2:$E$4000=\"Sim\",ROW('MEMORIAL DESCRITIVO-BRI'!$I$2:$I$4000)),ROW(B107))), \"\")","v":""},{"$f":"IFERROR(INDEX('MEMORIAL DESCRITIVO-BRI'!F:F,SMALL(IF('MEMORIAL DESCRITIVO-BRI'!$E$2:$E$4000=\"Sim\",ROW('MEMORIAL DESCRITIVO-BRI'!$F$2:$F$4000)),ROW(B107))) & \" - \" & INDEX('MEMORIAL DESCRITIVO-BRI'!H:H,SMALL(IF('MEMORIAL DESCRITIVO-BRI'!$E$2:$E$4000=\"Sim\",ROW('MEMORIAL DESCRITIVO-BRI'!$H$2:$H$4000)),ROW(B107))), \"\")","v":""},null,{"$f":"IFERROR(INDEX('MEMORIAL DESCRITIVO-BRI'!S:S,SMALL(IF('MEMORIAL DESCRITIVO-BRI'!$E$2:$E$4000=\"Sim\",ROW('MEMORIAL DESCRITIVO-BRI'!$S$2:$S$4000)),ROW(B107))), \"\")","v":""},{"$f":"IFERROR(INDEX('MEMORIAL DESCRITIVO-BRI'!Z:Z,SMALL(IF('MEMORIAL DESCRITIVO-BRI'!$E$2:$E$4000=\"Sim\",ROW('MEMORIAL DESCRITIVO-BRI'!$Z$2:$Z$4000)),ROW(B107))), \"\")","v":""},{"$f":"IFERROR(INDEX('MEMORIAL DESCRITIVO-BRI'!W:W,SMALL(IF('MEMORIAL DESCRITIVO-BRI'!$E$2:$E$4000=\"Sim\",ROW('MEMORIAL DESCRITIVO-BRI'!$W$2:$W$4000)),ROW(B107))), \"\")","v":""},{"$f":"IFERROR(INDEX('MEMORIAL DESCRITIVO-BRI'!G:G,SMALL(IF('MEMORIAL DESCRITIVO-BRI'!$E$2:$E$4000=\"Sim\",ROW('MEMORIAL DESCRITIVO-BRI'!$G$2:$G$4000)),ROW(B107))), \"\")","v":""},{"$f":"IFERROR(INDEX('MEMORIAL DESCRITIVO-BRI'!P:P,SMALL(IF('MEMORIAL DESCRITIVO-BRI'!$E$2:$E$4000=\"Sim\",ROW('MEMORIAL DESCRITIVO-BRI'!$P$2:$P$4000)),ROW(B107))), \"\")","v":""},{"$f":"IFERROR(INDEX('MEMORIAL DESCRITIVO-BRI'!Q:Q,SMALL(IF('MEMORIAL DESCRITIVO-BRI'!$E$2:$E$4000=\"Sim\",ROW('MEMORIAL DESCRITIVO-BRI'!$Q$2:$Q$4000)),ROW(B107))), \"\")","v":""}]
[null,{"$f":"IFERROR(INDEX('MEMORIAL DESCRITIVO-BRI'!B:B,SMALL(IF('MEMORIAL DESCRITIVO-BRI'!$E$2:$E$4000=\"Sim\",ROW('MEMORIAL DESCRITIVO-BRI'!$B$2:$B$4000)),ROW(B108))), \"\")","v":""},{"$f":"IFERROR(INDEX('MEMORIAL DESCRITIVO-BRI'!I:I,SMALL(IF('MEMORIAL DESCRITIVO-BRI'!$E$2:$E$4000=\"Sim\",ROW('MEMORIAL DESCRITIVO-BRI'!$I$2:$I$4000)),ROW(B108))), \"\")","v":""},{"$f":"IFERROR(INDEX('MEMORIAL DESCRITIVO-BRI'!F:F,SMALL(IF('MEMORIAL DESCRITIVO-BRI'!$E$2:$E$4000=\"Sim\",ROW('MEMORIAL DESCRITIVO-BRI'!$F$2:$F$4000)),ROW(B108))) & \" - \" & INDEX('MEMORIAL DESCRITIVO-BRI'!H:H,SMALL(IF('MEMORIAL DESCRITIVO-BRI'!$E$2:$E$4000=\"Sim\",ROW('MEMORIAL DESCRITIVO-BRI'!$H$2:$H$4000)),ROW(B108))), \"\")","v":""},null,{"$f":"IFERROR(INDEX('MEMORIAL DESCRITIVO-BRI'!S:S,SMALL(IF('MEMORIAL DESCRITIVO-BRI'!$E$2:$E$4000=\"Sim\",ROW('MEMORIAL DESCRITIVO-BRI'!$S$2:$S$4000)),ROW(B108))), \"\")","v":""},{"$f":"IFERROR(INDEX('MEMORIAL DESCRITIVO-BRI'!Z:Z,SMALL(IF('MEMORIAL DESCRITIVO-BRI'!$E$2:$E$4000=\"Sim\",ROW('MEMORIAL DESCRITIVO-BRI'!$Z$2:$Z$4000)),ROW(B108))), \"\")","v":""},{"$f":"IFERROR(INDEX('MEMORIAL DESCRITIVO-BRI'!W:W,SMALL(IF('MEMORIAL DESCRITIVO-BRI'!$E$2:$E$4000=\"Sim\",ROW('MEMORIAL DESCRITIVO-BRI'!$W$2:$W$4000)),ROW(B108))), \"\")","v":""},{"$f":"IFERROR(INDEX('MEMORIAL DESCRITIVO-BRI'!G:G,SMALL(IF('MEMORIAL DESCRITIVO-BRI'!$E$2:$E$4000=\"Sim\",ROW('MEMORIAL DESCRITIVO-BRI'!$G$2:$G$4000)),ROW(B108))), \"\")","v":""},{"$f":"IFERROR(INDEX('MEMORIAL DESCRITIVO-BRI'!P:P,SMALL(IF('MEMORIAL DESCRITIVO-BRI'!$E$2:$E$4000=\"Sim\",ROW('MEMORIAL DESCRITIVO-BRI'!$P$2:$P$4000)),ROW(B108))), \"\")","v":""},{"$f":"IFERROR(INDEX('MEMORIAL DESCRITIVO-BRI'!Q:Q,SMALL(IF('MEMORIAL DESCRITIVO-BRI'!$E$2:$E$4000=\"Sim\",ROW('MEMORIAL DESCRITIVO-BRI'!$Q$2:$Q$4000)),ROW(B108))), \"\")","v":""}]
[null,{"$f":"IFERROR(INDEX('MEMORIAL DESCRITIVO-BRI'!B:B,SMALL(IF('MEMORIAL DESCRITIVO-BRI'!$E$2:$E$4000=\"Sim\",ROW('MEMORIAL DESCRITIVO-BRI'!$B$2:$B$4000)),ROW(B109))), \"\")","v":""},{"$f":"IFERROR(INDEX('MEMORIAL DESCRITIVO-BRI'!I:I,SMALL(IF('MEMORIAL DESCRITIVO-BRI'!$E$2:$E$4000=\"Sim\",ROW('MEMORIAL DESCRITIVO-BRI'!$I$2:$I$4000)),ROW(B109))), \"\")","v":""},{"$f":"IFERROR(INDEX('MEMORIAL DESCRITIVO-BRI'!F:F,SMALL(IF('MEMORIAL DESCRITIVO-BRI'!$E$2:$E$4000=\"Sim\",ROW('MEMORIAL DESCRITIVO-BRI'!$F$2:$F$4000)),ROW(B109))) & \" - \" & INDEX('MEMORIAL DESCRITIVO-BRI'!H:H,SMALL(IF('MEMORIAL DESCRITIVO-BRI'!$E$2:$E$4000=\"Sim\",ROW('MEMORIAL DESCRITIVO-BRI'!$H$2:$H$4000)),ROW(B109))), \"\")","v":""},null,{"$f":"IFERROR(INDEX('MEMORIAL DESCRITIVO-BRI'!S:S,SMALL(IF('MEMORIAL DESCRITIVO-BRI'!$E$2:$E$4000=\"Sim\",ROW('MEMORIAL DESCRITIVO-BRI'!$S$2:$S$4000)),ROW(B109))), \"\")","v":""},{"$f":"IFERROR(INDEX('MEMORIAL DESCRITIVO-BRI'!Z:Z,SMALL(IF('MEMORIAL DESCRITIVO-BRI'!$E$2:$E$4000=\"Sim\",ROW('MEMORIAL DESCRITIVO-BRI'!$Z$2:$Z$4000)),ROW(B109))), \"\")","v":""},{"$f":"IFERROR(INDEX('MEMORIAL DESCRITIVO-BRI'!W:W,SMALL(IF('MEMORIAL DESCRITIVO-BRI'!$E$2:$E$4000=\"Sim\",ROW('MEMORIAL DESCRITIVO-BRI'!$W$2:$W$4000)),ROW(B109))), \"\")","v":""},{"$f":"IFERROR(INDEX('MEMORIAL DESCRITIVO-BRI'!G:G,SMALL(IF('MEMORIAL DESCRITIVO-BRI'!$E$2:$E$4000=\"Sim\",ROW('MEMORIAL DESCRITIVO-BRI'!$G$2:$G$4000)),ROW(B109))), \"\")","v":""},{"$f":"IFERROR(INDEX('MEMORIAL DESCRITIVO-BRI'!P:P,SMALL(IF('MEMORIAL DESCRITIVO-BRI'!$E$2:$E$4000=\"Sim\",ROW('MEMORIAL DESCRITIVO-BRI'!$P$2:$P$4000)),ROW(B109))), \"\")","v":""},{"$f":"IFERROR(INDEX('MEMORIAL DESCRITIVO-BRI'!Q:Q,SMALL(IF('MEMORIAL DESCRITIVO-BRI'!$E$2:$E$4000=\"Sim\",ROW('MEMORIAL DESCRITIVO-BRI'!$Q$2:$Q$4000)),ROW(B109))), \"\")","v":""}]
[null,{"$f":"IFERROR(INDEX('MEMORIAL DESCRITIVO-BRI'!B:B,SMALL(IF('MEMORIAL DESCRITIVO-BRI'!$E$2:$E$4000=\"Sim\",ROW('MEMORIAL DESCRITIVO-BRI'!$B$2:$B$4000)),ROW(B110))), \"\")","v":""},{"$f":"IFERROR(INDEX('MEMORIAL DESCRITIVO-BRI'!I:I,SMALL(IF('MEMORIAL DESCRITIVO-BRI'!$E$2:$E$4000=\"Sim\",ROW('MEMORIAL DESCRITIVO-BRI'!$I$2:$I$4000)),ROW(B110))), \"\")","v":""},{"$f":"IFERROR(INDEX('MEMORIAL DESCRITIVO-BRI'!F:F,SMALL(IF('MEMORIAL DESCRITIVO-BRI'!$E$2:$E$4000=\"Sim\",ROW('MEMORIAL DESCRITIVO-BRI'!$F$2:$F$4000)),ROW(B110))) & \" - \" & INDEX('MEMORIAL DESCRITIVO-BRI'!H:H,SMALL(IF('MEMORIAL DESCRITIVO-BRI'!$E$2:$E$4000=\"Sim\",ROW('MEMORIAL DESCRITIVO-BRI'!$H$2:$H$4000)),ROW(B110))), \"\")","v":""},null,{"$f":"IFERROR(INDEX('MEMORIAL DESCRITIVO-BRI'!S:S,SMALL(IF('MEMORIAL DESCRITIVO-BRI'!$E$2:$E$4000=\"Sim\",ROW('MEMORIAL DESCRITIVO-BRI'!$S$2:$S$4000)),ROW(B110))), \"\")","v":""},{"$f":"IFERROR(INDEX('MEMORIAL DESCRITIVO-BRI'!Z:Z,SMALL(IF('MEMORIAL DESCRITIVO-BRI'!$E$2:$E$4000=\"Sim\",ROW('MEMORIAL DESCRITIVO-BRI'!$Z$2:$Z$4000)),ROW(B110))), \"\")","v":""},{"$f":"IFERROR(INDEX('MEMORIAL DESCRITIVO-BRI'!W:W,SMALL(IF('MEMORIAL DESCRITIVO-BRI'!$E$2:$E$4000=\"Sim\",ROW('MEMORIAL DESCRITIVO-BRI'!$W$2:$W$4000)),ROW(B110))), \"\")","v":""},{"$f":"IFERROR(INDEX('MEMORIAL DESCRITIVO-BRI'!G:G,SMALL(IF('MEMORIAL DESCRITIVO-BRI'!$E$2:$E$4000=\"Sim\",ROW('MEMORIAL DESCRITIVO-BRI'!$G$2:$G$4000)),ROW(B110))), \"\")","v":""},{"$f":"IFERROR(INDEX('MEMORIAL DESCRITIVO-BRI'!P:P,SMALL(IF('MEMORIAL DESCRITIVO-BRI'!$E$2:$E$4000=\"Sim\",ROW('MEMORIAL DESCRITIVO-BRI'!$P$2:$P$4000)),ROW(B110))), \"\")","v":""},{"$f":"IFERROR(INDEX('MEMORIAL DESCRITIVO-BRI'!Q:Q,SMALL(IF('MEMORIAL DESCRITIVO-BRI'!$E$2:$E$4000=\"Sim\",ROW('MEMORIAL DESCRITIVO-BRI'!$Q$2:$Q$4000)),ROW(B110))), \"\")","v":""}]
[null,{"$f":"IFERROR(INDEX('MEMORIAL DESCRITIVO-BRI'!B:B,SMALL(IF('MEMORIAL DESCRITIVO-BRI'!$E$2:$E$4000=\"Sim\",ROW('MEMORIAL DESCRITIVO-BRI'!$B$2:$B$4000)),ROW(B111))), \"\")","v":""},{"$f":"IFERROR(INDEX('MEMORIAL DESCRITIVO-BRI'!I:I,SMALL(IF('MEMORIAL DESCRITIVO-BRI'!$E$2:$E$4000=\"Sim\",ROW('MEMORIAL DESCRITIVO-BRI'!$I$2:$I$4000)),ROW(B111))), \"\")","v":""},{"$f":"IFERROR(INDEX('MEMORIAL DESCRITIVO-BRI'!F:F,SMALL(IF('MEMORIAL DESCRITIVO-BRI'!$E$2:$E$4000=\"Sim\",ROW('MEMORIAL DESCRITIVO-BRI'!$F$2:$F$4000)),ROW(B111))) & \" - \" & INDEX('MEMORIAL DESCRITIVO-BRI'!H:H,SMALL(IF('MEMORIAL DESCRITIVO-BRI'!$E$2:$E$4000=\"Sim\",ROW('MEMORIAL DESCRITIVO-BRI'!$H$2:$H$4000)),ROW(B111))), \"\")","v":""},null,{"$f":"IFERROR(INDEX('MEMORIAL DESCRITIVO-BRI'!S:S,SMALL(IF('MEMORIAL DESCRITIVO-BRI'!$E$2:$E$4000=\"Sim\",ROW('MEMORIAL DESCRITIVO-BRI'!$S$2:$S$4000)),ROW(B111))), \"\")","v":""},{"$f":"IFERROR(INDEX('MEMORIAL DESCRITIVO-BRI'!Z:Z,SMALL(IF('MEMORIAL DESCRITIVO-BRI'!$E$2:$E$4000=\"Sim\",ROW('MEMORIAL DESCRITIVO-BRI'!$Z$2:$Z$4000)),ROW(B111))), \"\")","v":""},{"$f":"IFERROR(INDEX('MEMORIAL DESCRITIVO-BRI'!W:W,SMALL(IF('MEMORIAL DESCRITIVO-BRI'!$E$2:$E$4000=\"Sim\",ROW('MEMORIAL DESCRITIVO-BRI'!$W$2:$W$4000)),ROW(B111))), \"\")","v":""},{"$f":"IFERROR(INDEX('MEMORIAL DESCRITIVO-BRI'!G:G,SMALL(IF('MEMORIAL DESCRITIVO-BRI'!$E$2:$E$4000=\"Sim\",ROW('MEMORIAL DESCRITIVO-BRI'!$G$2:$G$4000)),ROW(B111))), \"\")","v":""},{"$f":"IFERROR(INDEX('MEMORIAL DESCRITIVO-BRI'!P:P,SMALL(IF('MEMORIAL DESCRITIVO-BRI'!$E$2:$E$4000=\"Sim\",ROW('MEMORIAL DESCRITIVO-BRI'!$P$2:$P$4000)),ROW(B111))), \"\")","v":""},{"$f":"IFERROR(INDEX('MEMORIAL DESCRITIVO-BRI'!Q:Q,SMALL(IF('MEMORIAL DESCRITIVO-BRI'!$E$2:$E$4000=\"Sim\",ROW('MEMORIAL DESCRITIVO-BRI'!$Q$2:$Q$4000)),ROW(B111))), \"\")","v":""}]
[null,{"$f":"IFERROR(INDEX('MEMORIAL DESCRITIVO-BRI'!B:B,SMALL(IF('MEMORIAL DESCRITIVO-BRI'!$E$2:$E$4000=\"Sim\",ROW('MEMORIAL DESCRITIVO-BRI'!$B$2:$B$4000)),ROW(B112))), \"\")","v":""},{"$f":"IFERROR(INDEX('MEMORIAL DESCRITIVO-BRI'!I:I,SMALL(IF('MEMORIAL DESCRITIVO-BRI'!$E$2:$E$4000=\"Sim\",ROW('MEMORIAL DESCRITIVO-BRI'!$I$2:$I$4000)),ROW(B112))), \"\")","v":""},{"$f":"IFERROR(INDEX('MEMORIAL DESCRITIVO-BRI'!F:F,SMALL(IF('MEMORIAL DESCRITIVO-BRI'!$E$2:$E$4000=\"Sim\",ROW('MEMORIAL DESCRITIVO-BRI'!$F$2:$F$4000)),ROW(B112))) & \" - \" & INDEX('MEMORIAL DESCRITIVO-BRI'!H:H,SMALL(IF('MEMORIAL DESCRITIVO-BRI'!$E$2:$E$4000=\"Sim\",ROW('MEMORIAL DESCRITIVO-BRI'!$H$2:$H$4000)),ROW(B112))), \"\")","v":""},null,{"$f":"IFERROR(INDEX('MEMORIAL DESCRITIVO-BRI'!S:S,SMALL(IF('MEMORIAL DESCRITIVO-BRI'!$E$2:$E$4000=\"Sim\",ROW('MEMORIAL DESCRITIVO-BRI'!$S$2:$S$4000)),ROW(B112))), \"\")","v":""},{"$f":"IFERROR(INDEX('MEMORIAL DESCRITIVO-BRI'!Z:Z,SMALL(IF('MEMORIAL DESCRITIVO-BRI'!$E$2:$E$4000=\"Sim\",ROW('MEMORIAL DESCRITIVO-BRI'!$Z$2:$Z$4000)),ROW(B112))), \"\")","v":""},{"$f":"IFERROR(INDEX('MEMORIAL DESCRITIVO-BRI'!W:W,SMALL(IF('MEMORIAL DESCRITIVO-BRI'!$E$2:$E$4000=\"Sim\",ROW('MEMORIAL DESCRITIVO-BRI'!$W$2:$W$4000)),ROW(B112))), \"\")","v":""},{"$f":"IFERROR(INDEX('MEMORIAL DESCRITIVO-BRI'!G:G,SMALL(IF('MEMORIAL DESCRITIVO-BRI'!$E$2:$E$4000=\"Sim\",ROW('MEMORIAL DESCRITIVO-BRI'!$G$2:$G$4000)),ROW(B112))), \"\")","v":""},{"$f":"IFERROR(INDEX('MEMORIAL DESCRITIVO-BRI'!P:P,SMALL(IF('MEMORIAL DESCRITIVO-BRI'!$E$2:$E$4000=\"Sim\",ROW('MEMORIAL DESCRITIVO-BRI'!$P$2:$P$4000)),ROW(B112))), \"\")","v":""},{"$f":"IFERROR(INDEX('MEMORIAL DESCRITIVO-BRI'!Q:Q,SMALL(IF('MEMORIAL DESCRITIVO-BRI'!$E$2:$E$4000=\"Sim\",ROW('MEMORIAL DESCRITIVO-BRI'!$Q$2:$Q$4000)),ROW(B112))), \"\")","v":""}]
[null,{"$f":"IFERROR(INDEX('MEMORIAL DESCRITIVO-BRI'!B:B,SMALL(IF('MEMORIAL DESCRITIVO-BRI'!$E$2:$E$4000=\"Sim\",ROW('MEMORIAL DESCRITIVO-BRI'!$B$2:$B$4000)),ROW(B113))), \"\")","v":""},{"$f":"IFERROR(INDEX('MEMORIAL DESCRITIVO-BRI'!I:I,SMALL(IF('MEMORIAL DESCRITIVO-BRI'!$E$2:$E$4000=\"Sim\",ROW('MEMORIAL DESCRITIVO-BRI'!$I$2:$I$4000)),ROW(B113))), \"\")","v":""},{"$f":"IFERROR(INDEX('MEMORIAL DESCRITIVO-BRI'!F:F,SMALL(IF('MEMORIAL DESCRITIVO-BRI'!$E$2:$E$4000=\"Sim\",ROW('MEMORIAL DESCRITIVO-BRI'!$F$2:$F$4000)),ROW(B113))) & \" - \" & INDEX('MEMORIAL DESCRITIVO-BRI'!H:H,SMALL(IF('MEMORIAL DESCRITIVO-BRI'!$E$2:$E$4000=\"Sim\",ROW('MEMORIAL DESCRITIVO-BRI'!$H$2:$H$4000)),ROW(B113))), \"\")","v":""},null,{"$f":"IFERROR(INDEX('MEMORIAL DESCRITIVO-BRI'!S:S,SMALL(IF('MEMORIAL DESCRITIVO-BRI'!$E$2:$E$4000=\"Sim\",ROW('MEMORIAL DESCRITIVO-BRI'!$S$2:$S$4000)),ROW(B113))), \"\")","v":""},{"$f":"IFERROR(INDEX('MEMORIAL DESCRITIVO-BRI'!Z:Z,SMALL(IF('MEMORIAL DESCRITIVO-BRI'!$E$2:$E$4000=\"Sim\",ROW('MEMORIAL DESCRITIVO-BRI'!$Z$2:$Z$4000)),ROW(B113))), \"\")","v":""},{"$f":"IFERROR(INDEX('MEMORIAL DESCRITIVO-BRI'!W:W,SMALL(IF('MEMORIAL DESCRITIVO-BRI'!$E$2:$E$4000=\"Sim\",ROW('MEMORIAL DESCRITIVO-BRI'!$W$2:$W$4000)),ROW(B113))), \"\")","v":""},{"$f":"IFERROR(INDEX('MEMORIAL DESCRITIVO-BRI'!G:G,SMALL(IF('MEMORIAL DESCRITIVO-BRI'!$E$2:$E$4000=\"Sim\",ROW('MEMORIAL DESCRITIVO-BRI'!$G$2:$G$4000)),ROW(B113))), \"\")","v":""},{"$f":"IFERROR(INDEX('MEMORIAL DESCRITIVO-BRI'!P:P,SMALL(IF('MEMORIAL DESCRITIVO-BRI'!$E$2:$E$4000=\"Sim\",ROW('MEMORIAL DESCRITIVO-BRI'!$P$2:$P$4000)),ROW(B113))), \"\")","v":""},{"$f":"IFERROR(INDEX('MEMORIAL DESCRITIVO-BRI'!Q:Q,SMALL(IF('MEMORIAL DESCRITIVO-BRI'!$E$2:$E$4000=\"Sim\",ROW('MEMORIAL DESCRITIVO-BRI'!$Q$2:$Q$4000)),ROW(B113))), \"\")","v":""}]
[null,{"$f":"IFERROR(INDEX('MEMORIAL DESCRITIVO-BRI'!B:B,SMALL(IF('MEMORIAL DESCRITIVO-BRI'!$E$2:$E$4000=\"Sim\",ROW('MEMORIAL DESCRITIVO-BRI'!$B$2:$B$4000)),ROW(B114))), \"\")","v":""},{"$f":"IFERROR(INDEX('MEMORIAL DESCRITIVO-BRI'!I:I,SMALL(IF('MEMORIAL DESCRITIVO-BRI'!$E$2:$E$4000=\"Sim\",ROW('MEMORIAL DESCRITIVO-BRI'!$I$2:$I$4000)),ROW(B114))), \"\")","v":""},{"$f":"IFERROR(INDEX('MEMORIAL DESCRITIVO-BRI'!F:F,SMALL(IF('MEMORIAL DESCRITIVO-BRI'!$E$2:$E$4000=\"Sim\",ROW('MEMORIAL DESCRITIVO-BRI'!$F$2:$F$4000)),ROW(B114))) & \" - \" & INDEX('MEMORIAL DESCRITIVO-BRI'!H:H,SMALL(IF('MEMORIAL DESCRITIVO-BRI'!$E$2:$E$4000=\"Sim\",ROW('MEMORIAL DESCRITIVO-BRI'!$H$2:$H$4000)),ROW(B114))), \"\")","v":""},null,{"$f":"IFERROR(INDEX('MEMORIAL DESCRITIVO-BRI'!S:S,SMALL(IF('MEMORIAL DESCRITIVO-BRI'!$E$2:$E$4000=\"Sim\",ROW('MEMORIAL DESCRITIVO-BRI'!$S$2:$S$4000)),ROW(B114))), \"\")","v":""},{"$f":"IFERROR(INDEX('MEMORIAL DESCRITIVO-BRI'!Z:Z,SMALL(IF('MEMORIAL DESCRITIVO-BRI'!$E$2:$E$4000=\"Sim\",ROW('MEMORIAL DESCRITIVO-BRI'!$Z$2:$Z$4000)),ROW(B114))), \"\")","v":""},{"$f":"IFERROR(INDEX('MEMORIAL DESCRITIVO-BRI'!W:W,SMALL(IF('MEMORIAL DESCRITIVO-BRI'!$E$2:$E$4000=\"Sim\",ROW('MEMORIAL DESCRITIVO-BRI'!$W$2:$W$4000)),ROW(B114))), \"\")","v":""},{"$f":"IFERROR(INDEX('MEMORIAL DESCRITIVO-BRI'!G:G,SMALL(IF('MEMORIAL DESCRITIVO-BRI'!$E$2:$E$4000=\"Sim\",ROW('MEMORIAL DESCRITIVO-BRI'!$G$2:$G$4000)),ROW(B114))), \"\")","v":""},{"$f":"IFERROR(INDEX('MEMORIAL DESCRITIVO-BRI'!P:P,SMALL(IF('MEMORIAL DESCRITIVO-BRI'!$E$2:$E$4000=\"Sim\",ROW('MEMORIAL DESCRITIVO-BRI'!$P$2:$P$4000)),ROW(B114))), \"\")","v":""},{"$f":"IFERROR(INDEX('MEMORIAL DESCRITIVO-BRI'!Q:Q,SMALL(IF('MEMORIAL DESCRITIVO-BRI'!$E$2:$E$4000=\"Sim\",ROW('MEMORIAL DESCRITIVO-BRI'!$Q$2:$Q$4000)),ROW(B114))), \"\")","v":""}]
[null,{"$f":"IFERROR(INDEX('MEMORIAL DESCRITIVO-BRI'!B:B,SMALL(IF('MEMORIAL DESCRITIVO-BRI'!$E$2:$E$4000=\"Sim\",ROW('MEMORIAL DESCRITIVO-BRI'!$B$2:$B$4000)),ROW(B115))), \"\")","v":""},{"$f":"IFERROR(INDEX('MEMORIAL DESCRITIVO-BRI'!I:I,SMALL(IF('MEMORIAL DESCRITIVO-BRI'!$E$2:$E$4000=\"Sim\",ROW('MEMORIAL DESCRITIVO-BRI'!$I$2:$I$4000)),ROW(B115))), \"\")","v":""},{"$f":"IFERROR(INDEX('MEMORIAL DESCRITIVO-BRI'!F:F,SMALL(IF('MEMORIAL DESCRITIVO-BRI'!$E$2:$E$4000=\"Sim\",ROW('MEMORIAL DESCRITIVO-BRI'!$F$2:$F$4000)),ROW(B115))) & \" - \" & INDEX('MEMORIAL DESCRITIVO-BRI'!H:H,SMALL(IF('MEMORIAL DESCRITIVO-BRI'!$E$2:$E$4000=\"Sim\",ROW('MEMORIAL DESCRITIVO-BRI'!$H$2:$H$4000)),ROW(B115))), \"\")","v":""},null,{"$f":"IFERROR(INDEX('MEMORIAL DESCRITIVO-BRI'!S:S,SMALL(IF('MEMORIAL DESCRITIVO-BRI'!$E$2:$E$4000=\"Sim\",ROW('MEMORIAL DESCRITIVO-BRI'!$S$2:$S$4000)),ROW(B115))), \"\")","v":""},{"$f":"IFERROR(INDEX('MEMORIAL DESCRITIVO-BRI'!Z:Z,SMALL(IF('MEMORIAL DESCRITIVO-BRI'!$E$2:$E$4000=\"Sim\",ROW('MEMORIAL DESCRITIVO-BRI'!$Z$2:$Z$4000)),ROW(B115))), \"\")","v":""},{"$f":"IFERROR(INDEX('MEMORIAL DESCRITIVO-BRI'!W:W,SMALL(IF('MEMORIAL DESCRITIVO-BRI'!$E$2:$E$4000=\"Sim\",ROW('MEMORIAL DESCRITIVO-BRI'!$W$2:$W$4000)),ROW(B115))), \"\")","v":""},{"$f":"IFERROR(INDEX('MEMORIAL DESCRITIVO-BRI'!G:G,SMALL(IF('MEMORIAL DESCRITIVO-BRI'!$E$2:$E$4000=\"Sim\",ROW('MEMORIAL DESCRITIVO-BRI'!$G$2:$G$4000)),ROW(B115))), \"\")","v":""},{"$f":"IFERROR(INDEX('MEMORIAL DESCRITIVO-BRI'!P:P,SMALL(IF('MEMORIAL DESCRITIVO-BRI'!$E$2:$E$4000=\"Sim\",ROW('MEMORIAL DESCRITIVO-BRI'!$P$2:$P$4000)),ROW(B115))), \"\")","v":""},{"$f":"IFERROR(INDEX('MEMORIAL DESCRITIVO-BRI'!Q:Q,SMALL(IF('MEMORIAL DESCRITIVO-BRI'!$E$2:$E$4000=\"Sim\",ROW('MEMORIAL DESCRITIVO-BRI'!$Q$2:$Q$4000)),ROW(B115))), \"\")","v":""}]
[null,{"$f":"IFERROR(INDEX('MEMORIAL DESCRITIVO-BRI'!B:B,SMALL(IF('MEMORIAL DESCRITIVO-BRI'!$E$2:$E$4000=\"Sim\",ROW('MEMORIAL DESCRITIVO-BRI'!$B$2:$B$4000)),ROW(B116))), \"\")","v":""},{"$f":"IFERROR(INDEX('MEMORIAL DESCRITIVO-BRI'!I:I,SMALL(IF('MEMORIAL DESCRITIVO-BRI'!$E$2:$E$4000=\"Sim\",ROW('MEMORIAL DESCRITIVO-BRI'!$I$2:$I$4000)),ROW(B116))), \"\")","v":""},{"$f":"IFERROR(INDEX('MEMORIAL DESCRITIVO-BRI'!F:F,SMALL(IF('MEMORIAL DESCRITIVO-BRI'!$E$2:$E$4000=\"Sim\",ROW('MEMORIAL DESCRITIVO-BRI'!$F$2:$F$4000)),ROW(B116))) & \" - \" & INDEX('MEMORIAL DESCRITIVO-BRI'!H:H,SMALL(IF('MEMORIAL DESCRITIVO-BRI'!$E$2:$E$4000=\"Sim\",ROW('MEMORIAL DESCRITIVO-BRI'!$H$2:$H$4000)),ROW(B116))), \"\")","v":""},null,{"$f":"IFERROR(INDEX('MEMORIAL DESCRITIVO-BRI'!S:S,SMALL(IF('MEMORIAL DESCRITIVO-BRI'!$E$2:$E$4000=\"Sim\",ROW('MEMORIAL DESCRITIVO-BRI'!$S$2:$S$4000)),ROW(B116))), \"\")","v":""},{"$f":"IFERROR(INDEX('MEMORIAL DESCRITIVO-BRI'!Z:Z,SMALL(IF('MEMORIAL DESCRITIVO-BRI'!$E$2:$E$4000=\"Sim\",ROW('MEMORIAL DESCRITIVO-BRI'!$Z$2:$Z$4000)),ROW(B116))), \"\")","v":""},{"$f":"IFERROR(INDEX('MEMORIAL DESCRITIVO-BRI'!W:W,SMALL(IF('MEMORIAL DESCRITIVO-BRI'!$E$2:$E$4000=\"Sim\",ROW('MEMORIAL DESCRITIVO-BRI'!$W$2:$W$4000)),ROW(B116))), \"\")","v":""},{"$f":"IFERROR(INDEX('MEMORIAL DESCRITIVO-BRI'!G:G,SMALL(IF('MEMORIAL DESCRITIVO-BRI'!$E$2:$E$4000=\"Sim\",ROW('MEMORIAL DESCRITIVO-BRI'!$G$2:$G$4000)),ROW(B116))), \"\")","v":""},{"$f":"IFERROR(INDEX('MEMORIAL DESCRITIVO-BRI'!P:P,SMALL(IF('MEMORIAL DESCRITIVO-BRI'!$E$2:$E$4000=\"Sim\",ROW('MEMORIAL DESCRITIVO-BRI'!$P$2:$P$4000)),ROW(B116))), \"\")","v":""},{"$f":"IFERROR(INDEX('MEMORIAL DESCRITIVO-BRI'!Q:Q,SMALL(IF('MEMORIAL DESCRITIVO-BRI'!$E$2:$E$4000=\"Sim\",ROW('MEMORIAL DESCRITIVO-BRI'!$Q$2:$Q$4000)),ROW(B116))), \"\")","v":""}]
[null,{"$f":"IFERROR(INDEX('MEMORIAL DESCRITIVO-BRI'!B:B,SMALL(IF('MEMORIAL DESCRITIVO-BRI'!$E$2:$E$4000=\"Sim\",ROW('MEMORIAL DESCRITIVO-BRI'!$B$2:$B$4000)),ROW(B117))), \"\")","v":""},{"$f":"IFERROR(INDEX('MEMORIAL DESCRITIVO-BRI'!I:I,SMALL(IF('MEMORIAL DESCRITIVO-BRI'!$E$2:$E$4000=\"Sim\",ROW('MEMORIAL DESCRITIVO-BRI'!$I$2:$I$4000)),ROW(B117))), \"\")","v":""},{"$f":"IFERROR(INDEX('MEMORIAL DESCRITIVO-BRI'!F:F,SMALL(IF('MEMORIAL DESCRITIVO-BRI'!$E$2:$E$4000=\"Sim\",ROW('MEMORIAL DESCRITIVO-BRI'!$F$2:$F$4000)),ROW(B117))) & \" - \" & INDEX('MEMORIAL DESCRITIVO-BRI'!H:H,SMALL(IF('MEMORIAL DESCRITIVO-BRI'!$E$2:$E$4000=\"Sim\",ROW('MEMORIAL DESCRITIVO-BRI'!$H$2:$H$4000)),ROW(B117))), \"\")","v":""},null,{"$f":"IFERROR(INDEX('MEMORIAL DESCRITIVO-BRI'!S:S,SMALL(IF('MEMORIAL DESCRITIVO-BRI'!$E$2:$E$4000=\"Sim\",ROW('MEMORIAL DESCRITIVO-BRI'!$S$2:$S$4000)),ROW(B117))), \"\")","v":""},{"$f":"IFERROR(INDEX('MEMORIAL DESCRITIVO-BRI'!Z:Z,SMALL(IF('MEMORIAL DESCRITIVO-BRI'!$E$2:$E$4000=\"Sim\",ROW('MEMORIAL DESCRITIVO-BRI'!$Z$2:$Z$4000)),ROW(B117))), \"\")","v":""},{"$f":"IFERROR(INDEX('MEMORIAL DESCRITIVO-BRI'!W:W,SMALL(IF('MEMORIAL DESCRITIVO-BRI'!$E$2:$E$4000=\"Sim\",ROW('MEMORIAL DESCRITIVO-BRI'!$W$2:$W$4000)),ROW(B117))), \"\")","v":""},{"$f":"IFERROR(INDEX('MEMORIAL DESCRITIVO-BRI'!G:G,SMALL(IF('MEMORIAL DESCRITIVO-BRI'!$E$2:$E$4000=\"Sim\",ROW('MEMORIAL DESCRITIVO-BRI'!$G$2:$G$4000)),ROW(B117))), \"\")","v":""},{"$f":"IFERROR(INDEX('MEMORIAL DESCRITIVO-BRI'!P:P,SMALL(IF('MEMORIAL DESCRITIVO-BRI'!$E$2:$E$4000=\"Sim\",ROW('MEMORIAL DESCRITIVO-BRI'!$P$2:$P$4000)),ROW(B117))), \"\")","v":""},{"$f":"IFERROR(INDEX('MEMORIAL DESCRITIVO-BRI'!Q:Q,SMALL(IF('MEMORIAL DESCRITIVO-BRI'!$E$2:$E$4000=\"Sim\",ROW('MEMORIAL DESCRITIVO-BRI'!$Q$2:$Q$4000)),ROW(B117))), \"\")","v":""}]
[null,{"$f":"IFERROR(INDEX('MEMORIAL DESCRITIVO-BRI'!B:B,SMALL(IF('MEMORIAL DESCRITIVO-BRI'!$E$2:$E$4000=\"Sim\",ROW('MEMORIAL DESCRITIVO-BRI'!$B$2:$B$4000)),ROW(B118))), \"\")","v":""},{"$f":"IFERROR(INDEX('MEMORIAL DESCRITIVO-BRI'!I:I,SMALL(IF('MEMORIAL DESCRITIVO-BRI'!$E$2:$E$4000=\"Sim\",ROW('MEMORIAL DESCRITIVO-BRI'!$I$2:$I$4000)),ROW(B118))), \"\")","v":""},{"$f":"IFERROR(INDEX('MEMORIAL DESCRITIVO-BRI'!F:F,SMALL(IF('MEMORIAL DESCRITIVO-BRI'!$E$2:$E$4000=\"Sim\",ROW('MEMORIAL DESCRITIVO-BRI'!$F$2:$F$4000)),ROW(B118))) & \" - \" & INDEX('MEMORIAL DESCRITIVO-BRI'!H:H,SMALL(IF('MEMORIAL DESCRITIVO-BRI'!$E$2:$E$4000=\"Sim\",ROW('MEMORIAL DESCRITIVO-BRI'!$H$2:$H$4000)),ROW(B118))), \"\")","v":""},null,{"$f":"IFERROR(INDEX('MEMORIAL DESCRITIVO-BRI'!S:S,SMALL(IF('MEMORIAL DESCRITIVO-BRI'!$E$2:$E$4000=\"Sim\",ROW('MEMORIAL DESCRITIVO-BRI'!$S$2:$S$4000)),ROW(B118))), \"\")","v":""},{"$f":"IFERROR(INDEX('MEMORIAL DESCRITIVO-BRI'!Z:Z,SMALL(IF('MEMORIAL DESCRITIVO-BRI'!$E$2:$E$4000=\"Sim\",ROW('MEMORIAL DESCRITIVO-BRI'!$Z$2:$Z$4000)),ROW(B118))), \"\")","v":""},{"$f":"IFERROR(INDEX('MEMORIAL DESCRITIVO-BRI'!W:W,SMALL(IF('MEMORIAL DESCRITIVO-BRI'!$E$2:$E$4000=\"Sim\",ROW('MEMORIAL DESCRITIVO-BRI'!$W$2:$W$4000)),ROW(B118))), \"\")","v":""},{"$f":"IFERROR(INDEX('MEMORIAL DESCRITIVO-BRI'!G:G,SMALL(IF('MEMORIAL DESCRITIVO-BRI'!$E$2:$E$4000=\"Sim\",ROW('MEMORIAL DESCRITIVO-BRI'!$G$2:$G$4000)),ROW(B118))), \"\")","v":""},{"$f":"IFERROR(INDEX('MEMORIAL DESCRITIVO-BRI'!P:P,SMALL(IF('MEMORIAL DESCRITIVO-BRI'!$E$2:$E$4000=\"Sim\",ROW('MEMORIAL DESCRITIVO-BRI'!$P$2:$P$4000)),ROW(B118))), \"\")","v":""},{"$f":"IFERROR(INDEX('MEMORIAL DESCRITIVO-BRI'!Q:Q,SMALL(IF('MEMORIAL DESCRITIVO-BRI'!$E$2:$E$4000=\"Sim\",ROW('MEMORIAL DESCRITIVO-BRI'!$Q$2:$Q$4000)),ROW(B118))), \"\")","v":""}]
[null,{"$f":"IFERROR(INDEX('MEMORIAL DESCRITIVO-BRI'!B:B,SMALL(IF('MEMORIAL DESCRITIVO-BRI'!$E$2:$E$4000=\"Sim\",ROW('MEMORIAL DESCRITIVO-BRI'!$B$2:$B$4000)),ROW(B119))), \"\")","v":""},{"$f":"IFERROR(INDEX('MEMORIAL DESCRITIVO-BRI'!I:I,SMALL(IF('MEMORIAL DESCRITIVO-BRI'!$E$2:$E$4000=\"Sim\",ROW('MEMORIAL DESCRITIVO-BRI'!$I$2:$I$4000)),ROW(B119))), \"\")","v":""},{"$f":"IFERROR(INDEX('MEMORIAL DESCRITIVO-BRI'!F:F,SMALL(IF('MEMORIAL DESCRITIVO-BRI'!$E$2:$E$4000=\"Sim\",ROW('MEMORIAL DESCRITIVO-BRI'!$F$2:$F$4000)),ROW(B119))) & \" - \" & INDEX('MEMORIAL DESCRITIVO-BRI'!H:H,SMALL(IF('MEMORIAL DESCRITIVO-BRI'!$E$2:$E$4000=\"Sim\",ROW('MEMORIAL DESCRITIVO-BRI'!$H$2:$H$4000)),ROW(B119))), \"\")","v":""},null,{"$f":"IFERROR(INDEX('MEMORIAL DESCRITIVO-BRI'!S:S,SMALL(IF('MEMORIAL DESCRITIVO-BRI'!$E$2:$E$4000=\"Sim\",ROW('MEMORIAL DESCRITIVO-BRI'!$S$2:$S$4000)),ROW(B119))), \"\")","v":""},{"$f":"IFERROR(INDEX('MEMORIAL DESCRITIVO-BRI'!Z:Z,SMALL(IF('MEMORIAL DESCRITIVO-BRI'!$E$2:$E$4000=\"Sim\",ROW('MEMORIAL DESCRITIVO-BRI'!$Z$2:$Z$4000)),ROW(B119))), \"\")","v":""},{"$f":"IFERROR(INDEX('MEMORIAL DESCRITIVO-BRI'!W:W,SMALL(IF('MEMORIAL DESCRITIVO-BRI'!$E$2:$E$4000=\"Sim\",ROW('MEMORIAL DESCRITIVO-BRI'!$W$2:$W$4000)),ROW(B119))), \"\")","v":""},{"$f":"IFERROR(INDEX('MEMORIAL DESCRITIVO-BRI'!G:G,SMALL(IF('MEMORIAL DESCRITIVO-BRI'!$E$2:$E$4000=\"Sim\",ROW('MEMORIAL DESCRITIVO-BRI'!$G$2:$G$4000)),ROW(B119))), \"\")","v":""},{"$f":"IFERROR(INDEX('MEMORIAL DESCRITIVO-BRI'!P:P,SMALL(IF('MEMORIAL DESCRITIVO-BRI'!$E$2:$E$4000=\"Sim\",ROW('MEMORIAL DESCRITIVO-BRI'!$P$2:$P$4000)),ROW(B119))), \"\")","v":""},{"$f":"IFERROR(INDEX('MEMORIAL DESCRITIVO-BRI'!Q:Q,SMALL(IF('MEMORIAL DESCRITIVO-BRI'!$E$2:$E$4000=\"Sim\",ROW('MEMORIAL DESCRITIVO-BRI'!$Q$2:$Q$4000)),ROW(B119))), \"\")","v":""}]
[null,{"$f":"IFERROR(INDEX('MEMORIAL DESCRITIVO-BRI'!B:B,SMALL(IF('MEMORIAL DESCRITIVO-BRI'!$E$2:$E$4000=\"Sim\",ROW('MEMORIAL DESCRITIVO-BRI'!$B$2:$B$4000)),ROW(B120))), \"\")","v":""},{"$f":"IFERROR(INDEX('MEMORIAL DESCRITIVO-BRI'!I:I,SMALL(IF('MEMORIAL DESCRITIVO-BRI'!$E$2:$E$4000=\"Sim\",ROW('MEMORIAL DESCRITIVO-BRI'!$I$2:$I$4000)),ROW(B120))), \"\")","v":""},{"$f":"IFERROR(INDEX('MEMORIAL DESCRITIVO-BRI'!F:F,SMALL(IF('MEMORIAL DESCRITIVO-BRI'!$E$2:$E$4000=\"Sim\",ROW('MEMORIAL DESCRITIVO-BRI'!$F$2:$F$4000)),ROW(B120))) & \" - \" & INDEX('MEMORIAL DESCRITIVO-BRI'!H:H,SMALL(IF('MEMORIAL DESCRITIVO-BRI'!$E$2:$E$4000=\"Sim\",ROW('MEMORIAL DESCRITIVO-BRI'!$H$2:$H$4000)),ROW(B120))), \"\")","v":""},null,{"$f":"IFERROR(INDEX('MEMORIAL DESCRITIVO-BRI'!S:S,SMALL(IF('MEMORIAL DESCRITIVO-BRI'!$E$2:$E$4000=\"Sim\",ROW('MEMORIAL DESCRITIVO-BRI'!$S$2:$S$4000)),ROW(B120))), \"\")","v":""},{"$f":"IFERROR(INDEX('MEMORIAL DESCRITIVO-BRI'!Z:Z,SMALL(IF('MEMORIAL DESCRITIVO-BRI'!$E$2:$E$4000=\"Sim\",ROW('MEMORIAL DESCRITIVO-BRI'!$Z$2:$Z$4000)),ROW(B120))), \"\")","v":""},{"$f":"IFERROR(INDEX('MEMORIAL DESCRITIVO-BRI'!W:W,SMALL(IF('MEMORIAL DESCRITIVO-BRI'!$E$2:$E$4000=\"Sim\",ROW('MEMORIAL DESCRITIVO-BRI'!$W$2:$W$4000)),ROW(B120))), \"\")","v":""},{"$f":"IFERROR(INDEX('MEMORIAL DESCRITIVO-BRI'!G:G,SMALL(IF('MEMORIAL DESCRITIVO-BRI'!$E$2:$E$4000=\"Sim\",ROW('MEMORIAL DESCRITIVO-BRI'!$G$2:$G$4000)),ROW(B120))), \"\")","v":""},{"$f":"IFERROR(INDEX('MEMORIAL DESCRITIVO-BRI'!P:P,SMALL(IF('MEMORIAL DESCRITIVO-BRI'!$E$2:$E$4000=\"Sim\",ROW('MEMORIAL DESCRITIVO-BRI'!$P$2:$P$4000)),ROW(B120))), \"\")","v":""},{"$f":"IFERROR(INDEX('MEMORIAL DESCRITIVO-BRI'!Q:Q,SMALL(IF('MEMORIAL DESCRITIVO-BRI'!$E$2:$E$4000=\"Sim\",ROW('MEMORIAL DESCRITIVO-BRI'!$Q$2:$Q$4000)),ROW(B120))), \"\")","v":""}]
[null,{"$f":"IFERROR(INDEX('MEMORIAL DESCRITIVO-BRI'!B:B,SMALL(IF('MEMORIAL DESCRITIVO-BRI'!$E$2:$E$4000=\"Sim\",ROW('MEMORIAL DESCRITIVO-BRI'!$B$2:$B$4000)),ROW(B121))), \"\")","v":""},{"$f":"IFERROR(INDEX('MEMORIAL DESCRITIVO-BRI'!I:I,SMALL(IF('MEMORIAL DESCRITIVO-BRI'!$E$2:$E$4000=\"Sim\",ROW('MEMORIAL DESCRITIVO-BRI'!$I$2:$I$4000)),ROW(B121))), \"\")","v":""},{"$f":"IFERROR(INDEX('MEMORIAL DESCRITIVO-BRI'!F:F,SMALL(IF('MEMORIAL DESCRITIVO-BRI'!$E$2:$E$4000=\"Sim\",ROW('MEMORIAL DESCRITIVO-BRI'!$F$2:$F$4000)),ROW(B121))) & \" - \" & INDEX('MEMORIAL DESCRITIVO-BRI'!H:H,SMALL(IF('MEMORIAL DESCRITIVO-BRI'!$E$2:$E$4000=\"Sim\",ROW('MEMORIAL DESCRITIVO-BRI'!$H$2:$H$4000)),ROW(B121))), \"\")","v":""},null,{"$f":"IFERROR(INDEX('MEMORIAL DESCRITIVO-BRI'!S:S,SMALL(IF('MEMORIAL DESCRITIVO-BRI'!$E$2:$E$4000=\"Sim\",ROW('MEMORIAL DESCRITIVO-BRI'!$S$2:$S$4000)),ROW(B121))), \"\")","v":""},{"$f":"IFERROR(INDEX('MEMORIAL DESCRITIVO-BRI'!Z:Z,SMALL(IF('MEMORIAL DESCRITIVO-BRI'!$E$2:$E$4000=\"Sim\",ROW('MEMORIAL DESCRITIVO-BRI'!$Z$2:$Z$4000)),ROW(B121))), \"\")","v":""},{"$f":"IFERROR(INDEX('MEMORIAL DESCRITIVO-BRI'!W:W,SMALL(IF('MEMORIAL DESCRITIVO-BRI'!$E$2:$E$4000=\"Sim\",ROW('MEMORIAL DESCRITIVO-BRI'!$W$2:$W$4000)),ROW(B121))), \"\")","v":""},{"$f":"IFERROR(INDEX('MEMORIAL DESCRITIVO-BRI'!G:G,SMALL(IF('MEMORIAL DESCRITIVO-BRI'!$E$2:$E$4000=\"Sim\",ROW('MEMORIAL DESCRITIVO-BRI'!$G$2:$G$4000)),ROW(B121))), \"\")","v":""},{"$f":"IFERROR(INDEX('MEMORIAL DESCRITIVO-BRI'!P:P,SMALL(IF('MEMORIAL DESCRITIVO-BRI'!$E$2:$E$4000=\"Sim\",ROW('MEMORIAL DESCRITIVO-BRI'!$P$2:$P$4000)),ROW(B121))), \"\")","v":""},{"$f":"IFERROR(INDEX('MEMORIAL DESCRITIVO-BRI'!Q:Q,SMALL(IF('MEMORIAL DESCRITIVO-BRI'!$E$2:$E$4000=\"Sim\",ROW('MEMORIAL DESCRITIVO-BRI'!$Q$2:$Q$4000)),ROW(B121))), \"\")","v":""}]
[null,{"$f":"IFERROR(INDEX('MEMORIAL DESCRITIVO-BRI'!B:B,SMALL(IF('MEMORIAL DESCRITIVO-BRI'!$E$2:$E$4000=\"Sim\",ROW('MEMORIAL DESCRITIVO-BRI'!$B$2:$B$4000)),ROW(B122))), \"\")","v":""},{"$f":"IFERROR(INDEX('MEMORIAL DESCRITIVO-BRI'!I:I,SMALL(IF('MEMORIAL DESCRITIVO-BRI'!$E$2:$E$4000=\"Sim\",ROW('MEMORIAL DESCRITIVO-BRI'!$I$2:$I$4000)),ROW(B122))), \"\")","v":""},{"$f":"IFERROR(INDEX('MEMORIAL DESCRITIVO-BRI'!F:F,SMALL(IF('MEMORIAL DESCRITIVO-BRI'!$E$2:$E$4000=\"Sim\",ROW('MEMORIAL DESCRITIVO-BRI'!$F$2:$F$4000)),ROW(B122))) & \" - \" & INDEX('MEMORIAL DESCRITIVO-BRI'!H:H,SMALL(IF('MEMORIAL DESCRITIVO-BRI'!$E$2:$E$4000=\"Sim\",ROW('MEMORIAL DESCRITIVO-BRI'!$H$2:$H$4000)),ROW(B122))), \"\")","v":""},null,{"$f":"IFERROR(INDEX('MEMORIAL DESCRITIVO-BRI'!S:S,SMALL(IF('MEMORIAL DESCRITIVO-BRI'!$E$2:$E$4000=\"Sim\",ROW('MEMORIAL DESCRITIVO-BRI'!$S$2:$S$4000)),ROW(B122))), \"\")","v":""},{"$f":"IFERROR(INDEX('MEMORIAL DESCRITIVO-BRI'!Z:Z,SMALL(IF('MEMORIAL DESCRITIVO-BRI'!$E$2:$E$4000=\"Sim\",ROW('MEMORIAL DESCRITIVO-BRI'!$Z$2:$Z$4000)),ROW(B122))), \"\")","v":""},{"$f":"IFERROR(INDEX('MEMORIAL DESCRITIVO-BRI'!W:W,SMALL(IF('MEMORIAL DESCRITIVO-BRI'!$E$2:$E$4000=\"Sim\",ROW('MEMORIAL DESCRITIVO-BRI'!$W$2:$W$4000)),ROW(B122))), \"\")","v":""},{"$f":"IFERROR(INDEX('MEMORIAL DESCRITIVO-BRI'!G:G,SMALL(IF('MEMORIAL DESCRITIVO-BRI'!$E$2:$E$4000=\"Sim\",ROW('MEMORIAL DESCRITIVO-BRI'!$G$2:$G$4000)),ROW(B122))), \"\")","v":""},{"$f":"IFERROR(INDEX('MEMORIAL DESCRITIVO-BRI'!P:P,SMALL(IF('MEMORIAL DESCRITIVO-BRI'!$E$2:$E$4000=\"Sim\",ROW('MEMORIAL DESCRITIVO-BRI'!$P$2:$P$4000)),ROW(B122))), \"\")","v":""},{"$f":"IFERROR(INDEX('MEMORIAL DESCRITIVO-BRI'!Q:Q,SMALL(IF('MEMORIAL DESCRITIVO-BRI'!$E$2:$E$4000=\"Sim\",ROW('MEMORIAL DESCRITIVO-BRI'!$Q$2:$Q$4000)),ROW(B122))), \"\")","v":""}]
[null,{"$f":"IFERROR(INDEX('MEMORIAL DESCRITIVO-BRI'!B:B,SMALL(IF('MEMORIAL DESCRITIVO-BRI'!$E$2:$E$4000=\"Sim\",ROW('MEMORIAL DESCRITIVO-BRI'!$B$2:$B$4000)),ROW(B123))), \"\")","v":""},{"$f":"IFERROR(INDEX('MEMORIAL DESCRITIVO-BRI'!I:I,SMALL(IF('MEMORIAL DESCRITIVO-BRI'!$E$2:$E$4000=\"Sim\",ROW('MEMORIAL DESCRITIVO-BRI'!$I$2:$I$4000)),ROW(B123))), \"\")","v":""},{"$f":"IFERROR(INDEX('MEMORIAL DESCRITIVO-BRI'!F:F,SMALL(IF('MEMORIAL DESCRITIVO-BRI'!$E$2:$E$4000=\"Sim\",ROW('MEMORIAL DESCRITIVO-BRI'!$F$2:$F$4000)),ROW(B123))) & \" - \" & INDEX('MEMORIAL DESCRITIVO-BRI'!H:H,SMALL(IF('MEMORIAL DESCRITIVO-BRI'!$E$2:$E$4000=\"Sim\",ROW('MEMORIAL DESCRITIVO-BRI'!$H$2:$H$4000)),ROW(B123))), \"\")","v":""},null,{"$f":"IFERROR(INDEX('MEMORIAL DESCRITIVO-BRI'!S:S,SMALL(IF('MEMORIAL DESCRITIVO-BRI'!$E$2:$E$4000=\"Sim\",ROW('MEMORIAL DESCRITIVO-BRI'!$S$2:$S$4000)),ROW(B123))), \"\")","v":""},{"$f":"IFERROR(INDEX('MEMORIAL DESCRITIVO-BRI'!Z:Z,SMALL(IF('MEMORIAL DESCRITIVO-BRI'!$E$2:$E$4000=\"Sim\",ROW('MEMORIAL DESCRITIVO-BRI'!$Z$2:$Z$4000)),ROW(B123))), \"\")","v":""},{"$f":"IFERROR(INDEX('MEMORIAL DESCRITIVO-BRI'!W:W,SMALL(IF('MEMORIAL DESCRITIVO-BRI'!$E$2:$E$4000=\"Sim\",ROW('MEMORIAL DESCRITIVO-BRI'!$W$2:$W$4000)),ROW(B123))), \"\")","v":""},{"$f":"IFERROR(INDEX('MEMORIAL DESCRITIVO-BRI'!G:G,SMALL(IF('MEMORIAL DESCRITIVO-BRI'!$E$2:$E$4000=\"Sim\",ROW('MEMORIAL DESCRITIVO-BRI'!$G$2:$G$4000)),ROW(B123))), \"\")","v":""},{"$f":"IFERROR(INDEX('MEMORIAL DESCRITIVO-BRI'!P:P,SMALL(IF('MEMORIAL DESCRITIVO-BRI'!$E$2:$E$4000=\"Sim\",ROW('MEMORIAL DESCRITIVO-BRI'!$P$2:$P$4000)),ROW(B123))), \"\")","v":""},{"$f":"IFERROR(INDEX('MEMORIAL DESCRITIVO-BRI'!Q:Q,SMALL(IF('MEMORIAL DESCRITIVO-BRI'!$E$2:$E$4000=\"Sim\",ROW('MEMORIAL DESCRITIVO-BRI'!$Q$2:$Q$4000)),ROW(B123))), \"\")","v":""}]
[null,{"$f":"IFERROR(INDEX('MEMORIAL DESCRITIVO-BRI'!B:B,SMALL(IF('MEMORIAL DESCRITIVO-BRI'!$E$2:$E$4000=\"Sim\",ROW('MEMORIAL DESCRITIVO-BRI'!$B$2:$B$4000)),ROW(B124))), \"\")","v":""},{"$f":"IFERROR(INDEX('MEMORIAL DESCRITIVO-BRI'!I:I,SMALL(IF('MEMORIAL DESCRITIVO-BRI'!$E$2:$E$4000=\"Sim\",ROW('MEMORIAL DESCRITIVO-BRI'!$I$2:$I$4000)),ROW(B124))), \"\")","v":""},{"$f":"IFERROR(INDEX('MEMORIAL DESCRITIVO-BRI'!F:F,SMALL(IF('MEMORIAL DESCRITIVO-BRI'!$E$2:$E$4000=\"Sim\",ROW('MEMORIAL DESCRITIVO-BRI'!$F$2:$F$4000)),ROW(B124))) & \" - \" & INDEX('MEMORIAL DESCRITIVO-BRI'!H:H,SMALL(IF('MEMORIAL DESCRITIVO-BRI'!$E$2:$E$4000=\"Sim\",ROW('MEMORIAL DESCRITIVO-BRI'!$H$2:$H$4000)),ROW(B124))), \"\")","v":""},null,{"$f":"IFERROR(INDEX('MEMORIAL DESCRITIVO-BRI'!S:S,SMALL(IF('MEMORIAL DESCRITIVO-BRI'!$E$2:$E$4000=\"Sim\",ROW('MEMORIAL DESCRITIVO-BRI'!$S$2:$S$4000)),ROW(B124))), \"\")","v":""},{"$f":"IFERROR(INDEX('MEMORIAL DESCRITIVO-BRI'!Z:Z,SMALL(IF('MEMORIAL DESCRITIVO-BRI'!$E$2:$E$4000=\"Sim\",ROW('MEMORIAL DESCRITIVO-BRI'!$Z$2:$Z$4000)),ROW(B124))), \"\")","v":""},{"$f":"IFERROR(INDEX('MEMORIAL DESCRITIVO-BRI'!W:W,SMALL(IF('MEMORIAL DESCRITIVO-BRI'!$E$2:$E$4000=\"Sim\",ROW('MEMORIAL DESCRITIVO-BRI'!$W$2:$W$4000)),ROW(B124))), \"\")","v":""},{"$f":"IFERROR(INDEX('MEMORIAL DESCRITIVO-BRI'!G:G,SMALL(IF('MEMORIAL DESCRITIVO-BRI'!$E$2:$E$4000=\"Sim\",ROW('MEMORIAL DESCRITIVO-BRI'!$G$2:$G$4000)),ROW(B124))), \"\")","v":""},{"$f":"IFERROR(INDEX('MEMORIAL DESCRITIVO-BRI'!P:P,SMALL(IF('MEMORIAL DESCRITIVO-BRI'!$E$2:$E$4000=\"Sim\",ROW('MEMORIAL DESCRITIVO-BRI'!$P$2:$P$4000)),ROW(B124))), \"\")","v":""},{"$f":"IFERROR(INDEX('MEMORIAL DESCRITIVO-BRI'!Q:Q,SMALL(IF('MEMORIAL DESCRITIVO-BRI'!$E$2:$E$4000=\"Sim\",ROW('MEMORIAL DESCRITIVO-BRI'!$Q$2:$Q$4000)),ROW(B124))), \"\")","v":""}]
[null,{"$f":"IFERROR(INDEX('MEMORIAL DESCRITIVO-BRI'!B:B,SMALL(IF('MEMORIAL DESCRITIVO-BRI'!$E$2:$E$4000=\"Sim\",ROW('MEMORIAL DESCRITIVO-BRI'!$B$2:$B$4000)),ROW(B125))), \"\")","v":""},{"$f":"IFERROR(INDEX('MEMORIAL DESCRITIVO-BRI'!I:I,SMALL(IF('MEMORIAL DESCRITIVO-BRI'!$E$2:$E$4000=\"Sim\",ROW('MEMORIAL DESCRITIVO-BRI'!$I$2:$I$4000)),ROW(B125))), \"\")","v":""},{"$f":"IFERROR(INDEX('MEMORIAL DESCRITIVO-BRI'!F:F,SMALL(IF('MEMORIAL DESCRITIVO-BRI'!$E$2:$E$4000=\"Sim\",ROW('MEMORIAL DESCRITIVO-BRI'!$F$2:$F$4000)),ROW(B125))) & \" - \" & INDEX('MEMORIAL DESCRITIVO-BRI'!H:H,SMALL(IF('MEMORIAL DESCRITIVO-BRI'!$E$2:$E$4000=\"Sim\",ROW('MEMORIAL DESCRITIVO-BRI'!$H$2:$H$4000)),ROW(B125))), \"\")","v":""},null,{"$f":"IFERROR(INDEX('MEMORIAL DESCRITIVO-BRI'!S:S,SMALL(IF('MEMORIAL DESCRITIVO-BRI'!$E$2:$E$4000=\"Sim\",ROW('MEMORIAL DESCRITIVO-BRI'!$S$2:$S$4000)),ROW(B125))), \"\")","v":""},{"$f":"IFERROR(INDEX('MEMORIAL DESCRITIVO-BRI'!Z:Z,SMALL(IF('MEMORIAL DESCRITIVO-BRI'!$E$2:$E$4000=\"Sim\",ROW('MEMORIAL DESCRITIVO-BRI'!$Z$2:$Z$4000)),ROW(B125))), \"\")","v":""},{"$f":"IFERROR(INDEX('MEMORIAL DESCRITIVO-BRI'!W:W,SMALL(IF('MEMORIAL DESCRITIVO-BRI'!$E$2:$E$4000=\"Sim\",ROW('MEMORIAL DESCRITIVO-BRI'!$W$2:$W$4000)),ROW(B125))), \"\")","v":""},{"$f":"IFERROR(INDEX('MEMORIAL DESCRITIVO-BRI'!G:G,SMALL(IF('MEMORIAL DESCRITIVO-BRI'!$E$2:$E$4000=\"Sim\",ROW('MEMORIAL DESCRITIVO-BRI'!$G$2:$G$4000)),ROW(B125))), \"\")","v":""},{"$f":"IFERROR(INDEX('MEMORIAL DESCRITIVO-BRI'!P:P,SMALL(IF('MEMORIAL DESCRITIVO-BRI'!$E$2:$E$4000=\"Sim\",ROW('MEMORIAL DESCRITIVO-BRI'!$P$2:$P$4000)),ROW(B125))), \"\")","v":""},{"$f":"IFERROR(INDEX('MEMORIAL DESCRITIVO-BRI'!Q:Q,SMALL(IF('MEMORIAL DESCRITIVO-BRI'!$E$2:$E$4000=\"Sim\",ROW('MEMORIAL DESCRITIVO-BRI'!$Q$2:$Q$4000)),ROW(B125))), \"\")","v":""}]
[null,{"$f":"IFERROR(INDEX('MEMORIAL DESCRITIVO-BRI'!B:B,SMALL(IF('MEMORIAL DESCRITIVO-BRI'!$E$2:$E$4000=\"Sim\",ROW('MEMORIAL DESCRITIVO-BRI'!$B$2:$B$4000)),ROW(B126))), \"\")","v":""},{"$f":"IFERROR(INDEX('MEMORIAL DESCRITIVO-BRI'!I:I,SMALL(IF('MEMORIAL DESCRITIVO-BRI'!$E$2:$E$4000=\"Sim\",ROW('MEMORIAL DESCRITIVO-BRI'!$I$2:$I$4000)),ROW(B126))), \"\")","v":""},{"$f":"IFERROR(INDEX('MEMORIAL DESCRITIVO-BRI'!F:F,SMALL(IF('MEMORIAL DESCRITIVO-BRI'!$E$2:$E$4000=\"Sim\",ROW('MEMORIAL DESCRITIVO-BRI'!$F$2:$F$4000)),ROW(B126))) & \" - \" & INDEX('MEMORIAL DESCRITIVO-BRI'!H:H,SMALL(IF('MEMORIAL DESCRITIVO-BRI'!$E$2:$E$4000=\"Sim\",ROW('MEMORIAL DESCRITIVO-BRI'!$H$2:$H$4000)),ROW(B126))), \"\")","v":""},null,{"$f":"IFERROR(INDEX('MEMORIAL DESCRITIVO-BRI'!S:S,SMALL(IF('MEMORIAL DESCRITIVO-BRI'!$E$2:$E$4000=\"Sim\",ROW('MEMORIAL DESCRITIVO-BRI'!$S$2:$S$4000)),ROW(B126))), \"\")","v":""},{"$f":"IFERROR(INDEX('MEMORIAL DESCRITIVO-BRI'!Z:Z,SMALL(IF('MEMORIAL DESCRITIVO-BRI'!$E$2:$E$4000=\"Sim\",ROW('MEMORIAL DESCRITIVO-BRI'!$Z$2:$Z$4000)),ROW(B126))), \"\")","v":""},{"$f":"IFERROR(INDEX('MEMORIAL DESCRITIVO-BRI'!W:W,SMALL(IF('MEMORIAL DESCRITIVO-BRI'!$E$2:$E$4000=\"Sim\",ROW('MEMORIAL DESCRITIVO-BRI'!$W$2:$W$4000)),ROW(B126))), \"\")","v":""},{"$f":"IFERROR(INDEX('MEMORIAL DESCRITIVO-BRI'!G:G,SMALL(IF('MEMORIAL DESCRITIVO-BRI'!$E$2:$E$4000=\"Sim\",ROW('MEMORIAL DESCRITIVO-BRI'!$G$2:$G$4000)),ROW(B126))), \"\")","v":""},{"$f":"IFERROR(INDEX('MEMORIAL DESCRITIVO-BRI'!P:P,SMALL(IF('MEMORIAL DESCRITIVO-BRI'!$E$2:$E$4000=\"Sim\",ROW('MEMORIAL DESCRITIVO-BRI'!$P$2:$P$4000)),ROW(B126))), \"\")","v":""},{"$f":"IFERROR(INDEX('MEMORIAL DESCRITIVO-BRI'!Q:Q,SMALL(IF('MEMORIAL DESCRITIVO-BRI'!$E$2:$E$4000=\"Sim\",ROW('MEMORIAL DESCRITIVO-BRI'!$Q$2:$Q$4000)),ROW(B126))), \"\")","v":""}]
[null,{"$f":"IFERROR(INDEX('MEMORIAL DESCRITIVO-BRI'!B:B,SMALL(IF('MEMORIAL DESCRITIVO-BRI'!$E$2:$E$4000=\"Sim\",ROW('MEMORIAL DESCRITIVO-BRI'!$B$2:$B$4000)),ROW(B127))), \"\")","v":""},{"$f":"IFERROR(INDEX('MEMORIAL DESCRITIVO-BRI'!I:I,SMALL(IF('MEMORIAL DESCRITIVO-BRI'!$E$2:$E$4000=\"Sim\",ROW('MEMORIAL DESCRITIVO-BRI'!$I$2:$I$4000)),ROW(B127))), \"\")","v":""},{"$f":"IFERROR(INDEX('MEMORIAL DESCRITIVO-BRI'!F:F,SMALL(IF('MEMORIAL DESCRITIVO-BRI'!$E$2:$E$4000=\"Sim\",ROW('MEMORIAL DESCRITIVO-BRI'!$F$2:$F$4000)),ROW(B127))) & \" - \" & INDEX('MEMORIAL DESCRITIVO-BRI'!H:H,SMALL(IF('MEMORIAL DESCRITIVO-BRI'!$E$2:$E$4000=\"Sim\",ROW('MEMORIAL DESCRITIVO-BRI'!$H$2:$H$4000)),ROW(B127))), \"\")","v":""},null,{"$f":"IFERROR(INDEX('MEMORIAL DESCRITIVO-BRI'!S:S,SMALL(IF('MEMORIAL DESCRITIVO-BRI'!$E$2:$E$4000=\"Sim\",ROW('MEMORIAL DESCRITIVO-BRI'!$S$2:$S$4000)),ROW(B127))), \"\")","v":""},{"$f":"IFERROR(INDEX('MEMORIAL DESCRITIVO-BRI'!Z:Z,SMALL(IF('MEMORIAL DESCRITIVO-BRI'!$E$2:$E$4000=\"Sim\",ROW('MEMORIAL DESCRITIVO-BRI'!$Z$2:$Z$4000)),ROW(B127))), \"\")","v":""},{"$f":"IFERROR(INDEX('MEMORIAL DESCRITIVO-BRI'!W:W,SMALL(IF('MEMORIAL DESCRITIVO-BRI'!$E$2:$E$4000=\"Sim\",ROW('MEMORIAL DESCRITIVO-BRI'!$W$2:$W$4000)),ROW(B127))), \"\")","v":""},{"$f":"IFERROR(INDEX('MEMORIAL DESCRITIVO-BRI'!G:G,SMALL(IF('MEMORIAL DESCRITIVO-BRI'!$E$2:$E$4000=\"Sim\",ROW('MEMORIAL DESCRITIVO-BRI'!$G$2:$G$4000)),ROW(B127))), \"\")","v":""},{"$f":"IFERROR(INDEX('MEMORIAL DESCRITIVO-BRI'!P:P,SMALL(IF('MEMORIAL DESCRITIVO-BRI'!$E$2:$E$4000=\"Sim\",ROW('MEMORIAL DESCRITIVO-BRI'!$P$2:$P$4000)),ROW(B127))), \"\")","v":""},{"$f":"IFERROR(INDEX('MEMORIAL DESCRITIVO-BRI'!Q:Q,SMALL(IF('MEMORIAL DESCRITIVO-BRI'!$E$2:$E$4000=\"Sim\",ROW('MEMORIAL DESCRITIVO-BRI'!$Q$2:$Q$4000)),ROW(B127))), \"\")","v":""}]
[null,{"$f":"IFERROR(INDEX('MEMORIAL DESCRITIVO-BRI'!B:B,SMALL(IF('MEMORIAL DESCRITIVO-BRI'!$E$2:$E$4000=\"Sim\",ROW('MEMORIAL DESCRITIVO-BRI'!$B$2:$B$4000)),ROW(B128))), \"\")","v":""},{"$f":"IFERROR(INDEX('MEMORIAL DESCRITIVO-BRI'!I:I,SMALL(IF('MEMORIAL DESCRITIVO-BRI'!$E$2:$E$4000=\"Sim\",ROW('MEMORIAL DESCRITIVO-BRI'!$I$2:$I$4000)),ROW(B128))), \"\")","v":""},{"$f":"IFERROR(INDEX('MEMORIAL DESCRITIVO-BRI'!F:F,SMALL(IF('MEMORIAL DESCRITIVO-BRI'!$E$2:$E$4000=\"Sim\",ROW('MEMORIAL DESCRITIVO-BRI'!$F$2:$F$4000)),ROW(B128))) & \" - \" & INDEX('MEMORIAL DESCRITIVO-BRI'!H:H,SMALL(IF('MEMORIAL DESCRITIVO-BRI'!$E$2:$E$4000=\"Sim\",ROW('MEMORIAL DESCRITIVO-BRI'!$H$2:$H$4000)),ROW(B128))), \"\")","v":""},null,{"$f":"IFERROR(INDEX('MEMORIAL DESCRITIVO-BRI'!S:S,SMALL(IF('MEMORIAL DESCRITIVO-BRI'!$E$2:$E$4000=\"Sim\",ROW('MEMORIAL DESCRITIVO-BRI'!$S$2:$S$4000)),ROW(B128))), \"\")","v":""},{"$f":"IFERROR(INDEX('MEMORIAL DESCRITIVO-BRI'!Z:Z,SMALL(IF('MEMORIAL DESCRITIVO-BRI'!$E$2:$E$4000=\"Sim\",ROW('MEMORIAL DESCRITIVO-BRI'!$Z$2:$Z$4000)),ROW(B128))), \"\")","v":""},{"$f":"IFERROR(INDEX('MEMORIAL DESCRITIVO-BRI'!W:W,SMALL(IF('MEMORIAL DESCRITIVO-BRI'!$E$2:$E$4000=\"Sim\",ROW('MEMORIAL DESCRITIVO-BRI'!$W$2:$W$4000)),ROW(B128))), \"\")","v":""},{"$f":"IFERROR(INDEX('MEMORIAL DESCRITIVO-BRI'!G:G,SMALL(IF('MEMORIAL DESCRITIVO-BRI'!$E$2:$E$4000=\"Sim\",ROW('MEMORIAL DESCRITIVO-BRI'!$G$2:$G$4000)),ROW(B128))), \"\")","v":""},{"$f":"IFERROR(INDEX('MEMORIAL DESCRITIVO-BRI'!P:P,SMALL(IF('MEMORIAL DESCRITIVO-BRI'!$E$2:$E$4000=\"Sim\",ROW('MEMORIAL DESCRITIVO-BRI'!$P$2:$P$4000)),ROW(B128))), \"\")","v":""},{"$f":"IFERROR(INDEX('MEMORIAL DESCRITIVO-BRI'!Q:Q,SMALL(IF('MEMORIAL DESCRITIVO-BRI'!$E$2:$E$4000=\"Sim\",ROW('MEMORIAL DESCRITIVO-BRI'!$Q$2:$Q$4000)),ROW(B128))), \"\")","v":""}]
[null,{"$f":"IFERROR(INDEX('MEMORIAL DESCRITIVO-BRI'!B:B,SMALL(IF('MEMORIAL DESCRITIVO-BRI'!$E$2:$E$4000=\"Sim\",ROW('MEMORIAL DESCRITIVO-BRI'!$B$2:$B$4000)),ROW(B129))), \"\")","v":""},{"$f":"IFERROR(INDEX('MEMORIAL DESCRITIVO-BRI'!I:I,SMALL(IF('MEMORIAL DESCRITIVO-BRI'!$E$2:$E$4000=\"Sim\",ROW('MEMORIAL DESCRITIVO-BRI'!$I$2:$I$4000)),ROW(B129))), \"\")","v":""},{"$f":"IFERROR(INDEX('MEMORIAL DESCRITIVO-BRI'!F:F,SMALL(IF('MEMORIAL DESCRITIVO-BRI'!$E$2:$E$4000=\"Sim\",ROW('MEMORIAL DESCRITIVO-BRI'!$F$2:$F$4000)),ROW(B129))) & \" - \" & INDEX('MEMORIAL DESCRITIVO-BRI'!H:H,SMALL(IF('MEMORIAL DESCRITIVO-BRI'!$E$2:$E$4000=\"Sim\",ROW('MEMORIAL DESCRITIVO-BRI'!$H$2:$H$4000)),ROW(B129))), \"\")","v":""},null,{"$f":"IFERROR(INDEX('MEMORIAL DESCRITIVO-BRI'!S:S,SMALL(IF('MEMORIAL DESCRITIVO-BRI'!$E$2:$E$4000=\"Sim\",ROW('MEMORIAL DESCRITIVO-BRI'!$S$2:$S$4000)),ROW(B129))), \"\")","v":""},{"$f":"IFERROR(INDEX('MEMORIAL DESCRITIVO-BRI'!Z:Z,SMALL(IF('MEMORIAL DESCRITIVO-BRI'!$E$2:$E$4000=\"Sim\",ROW('MEMORIAL DESCRITIVO-BRI'!$Z$2:$Z$4000)),ROW(B129))), \"\")","v":""},{"$f":"IFERROR(INDEX('MEMORIAL DESCRITIVO-BRI'!W:W,SMALL(IF('MEMORIAL DESCRITIVO-BRI'!$E$2:$E$4000=\"Sim\",ROW('MEMORIAL DESCRITIVO-BRI'!$W$2:$W$4000)),ROW(B129))), \"\")","v":""},{"$f":"IFERROR(INDEX('MEMORIAL DESCRITIVO-BRI'!G:G,SMALL(IF('MEMORIAL DESCRITIVO-BRI'!$E$2:$E$4000=\"Sim\",ROW('MEMORIAL DESCRITIVO-BRI'!$G$2:$G$4000)),ROW(B129))), \"\")","v":""},{"$f":"IFERROR(INDEX('MEMORIAL DESCRITIVO-BRI'!P:P,SMALL(IF('MEMORIAL DESCRITIVO-BRI'!$E$2:$E$4000=\"Sim\",ROW('MEMORIAL DESCRITIVO-BRI'!$P$2:$P$4000)),ROW(B129))), \"\")","v":""},{"$f":"IFERROR(INDEX('MEMORIAL DESCRITIVO-BRI'!Q:Q,SMALL(IF('MEMORIAL DESCRITIVO-BRI'!$E$2:$E$4000=\"Sim\",ROW('MEMORIAL DESCRITIVO-BRI'!$Q$2:$Q$4000)),ROW(B129))), \"\")","v":""}]
[null,{"$f":"IFERROR(INDEX('MEMORIAL DESCRITIVO-BRI'!B:B,SMALL(IF('MEMORIAL DESCRITIVO-BRI'!$E$2:$E$4000=\"Sim\",ROW('MEMORIAL DESCRITIVO-BRI'!$B$2:$B$4000)),ROW(B130))), \"\")","v":""},{"$f":"IFERROR(INDEX('MEMORIAL DESCRITIVO-BRI'!I:I,SMALL(IF('MEMORIAL DESCRITIVO-BRI'!$E$2:$E$4000=\"Sim\",ROW('MEMORIAL DESCRITIVO-BRI'!$I$2:$I$4000)),ROW(B130))), \"\")","v":""},{"$f":"IFERROR(INDEX('MEMORIAL DESCRITIVO-BRI'!F:F,SMALL(IF('MEMORIAL DESCRITIVO-BRI'!$E$2:$E$4000=\"Sim\",ROW('MEMORIAL DESCRITIVO-BRI'!$F$2:$F$4000)),ROW(B130))) & \" - \" & INDEX('MEMORIAL DESCRITIVO-BRI'!H:H,SMALL(IF('MEMORIAL DESCRITIVO-BRI'!$E$2:$E$4000=\"Sim\",ROW('MEMORIAL DESCRITIVO-BRI'!$H$2:$H$4000)),ROW(B130))), \"\")","v":""},null,{"$f":"IFERROR(INDEX('MEMORIAL DESCRITIVO-BRI'!S:S,SMALL(IF('MEMORIAL DESCRITIVO-BRI'!$E$2:$E$4000=\"Sim\",ROW('MEMORIAL DESCRITIVO-BRI'!$S$2:$S$4000)),ROW(B130))), \"\")","v":""},{"$f":"IFERROR(INDEX('MEMORIAL DESCRITIVO-BRI'!Z:Z,SMALL(IF('MEMORIAL DESCRITIVO-BRI'!$E$2:$E$4000=\"Sim\",ROW('MEMORIAL DESCRITIVO-BRI'!$Z$2:$Z$4000)),ROW(B130))), \"\")","v":""},{"$f":"IFERROR(INDEX('MEMORIAL DESCRITIVO-BRI'!W:W,SMALL(IF('MEMORIAL DESCRITIVO-BRI'!$E$2:$E$4000=\"Sim\",ROW('MEMORIAL DESCRITIVO-BRI'!$W$2:$W$4000)),ROW(B130))), \"\")","v":""},{"$f":"IFERROR(INDEX('MEMORIAL DESCRITIVO-BRI'!G:G,SMALL(IF('MEMORIAL DESCRITIVO-BRI'!$E$2:$E$4000=\"Sim\",ROW('MEMORIAL DESCRITIVO-BRI'!$G$2:$G$4000)),ROW(B130))), \"\")","v":""},{"$f":"IFERROR(INDEX('MEMORIAL DESCRITIVO-BRI'!P:P,SMALL(IF('MEMORIAL DESCRITIVO-BRI'!$E$2:$E$4000=\"Sim\",ROW('MEMORIAL DESCRITIVO-BRI'!$P$2:$P$4000)),ROW(B130))), \"\")","v":""},{"$f":"IFERROR(INDEX('MEMORIAL DESCRITIVO-BRI'!Q:Q,SMALL(IF('MEMORIAL DESCRITIVO-BRI'!$E$2:$E$4000=\"Sim\",ROW('MEMORIAL DESCRITIVO-BRI'!$Q$2:$Q$4000)),ROW(B130))), \"\")","v":""}]
[null,{"$f":"IFERROR(INDEX('MEMORIAL DESCRITIVO-BRI'!B:B,SMALL(IF('MEMORIAL DESCRITIVO-BRI'!$E$2:$E$4000=\"Sim\",ROW('MEMORIAL DESCRITIVO-BRI'!$B$2:$B$4000)),ROW(B131))), \"\")","v":""},{"$f":"IFERROR(INDEX('MEMORIAL DESCRITIVO-BRI'!I:I,SMALL(IF('MEMORIAL DESCRITIVO-BRI'!$E$2:$E$4000=\"Sim\",ROW('MEMORIAL DESCRITIVO-BRI'!$I$2:$I$4000)),ROW(B131))), \"\")","v":""},{"$f":"IFERROR(INDEX('MEMORIAL DESCRITIVO-BRI'!F:F,SMALL(IF('MEMORIAL DESCRITIVO-BRI'!$E$2:$E$4000=\"Sim\",ROW('MEMORIAL DESCRITIVO-BRI'!$F$2:$F$4000)),ROW(B131))) & \" - \" & INDEX('MEMORIAL DESCRITIVO-BRI'!H:H,SMALL(IF('MEMORIAL DESCRITIVO-BRI'!$E$2:$E$4000=\"Sim\",ROW('MEMORIAL DESCRITIVO-BRI'!$H$2:$H$4000)),ROW(B131))), \"\")","v":""},null,{"$f":"IFERROR(INDEX('MEMORIAL DESCRITIVO-BRI'!S:S,SMALL(IF('MEMORIAL DESCRITIVO-BRI'!$E$2:$E$4000=\"Sim\",ROW('MEMORIAL DESCRITIVO-BRI'!$S$2:$S$4000)),ROW(B131))), \"\")","v":""},{"$f":"IFERROR(INDEX('MEMORIAL DESCRITIVO-BRI'!Z:Z,SMALL(IF('MEMORIAL DESCRITIVO-BRI'!$E$2:$E$4000=\"Sim\",ROW('MEMORIAL DESCRITIVO-BRI'!$Z$2:$Z$4000)),ROW(B131))), \"\")","v":""},{"$f":"IFERROR(INDEX('MEMORIAL DESCRITIVO-BRI'!W:W,SMALL(IF('MEMORIAL DESCRITIVO-BRI'!$E$2:$E$4000=\"Sim\",ROW('MEMORIAL DESCRITIVO-BRI'!$W$2:$W$4000)),ROW(B131))), \"\")","v":""},{"$f":"IFERROR(INDEX('MEMORIAL DESCRITIVO-BRI'!G:G,SMALL(IF('MEMORIAL DESCRITIVO-BRI'!$E$2:$E$4000=\"Sim\",ROW('MEMORIAL DESCRITIVO-BRI'!$G$2:$G$4000)),ROW(B131))), \"\")","v":""},{"$f":"IFERROR(INDEX('MEMORIAL DESCRITIVO-BRI'!P:P,SMALL(IF('MEMORIAL DESCRITIVO-BRI'!$E$2:$E$4000=\"Sim\",ROW('MEMORIAL DESCRITIVO-BRI'!$P$2:$P$4000)),ROW(B131))), \"\")","v":""},{"$f":"IFERROR(INDEX('MEMORIAL DESCRITIVO-BRI'!Q:Q,SMALL(IF('MEMORIAL DESCRITIVO-BRI'!$E$2:$E$4000=\"Sim\",ROW('MEMORIAL DESCRITIVO-BRI'!$Q$2:$Q$4000)),ROW(B131))), \"\")","v":""}]
[null,{"$f":"IFERROR(INDEX('MEMORIAL DESCRITIVO-BRI'!B:B,SMALL(IF('MEMORIAL DESCRITIVO-BRI'!$E$2:$E$4000=\"Sim\",ROW('MEMORIAL DESCRITIVO-BRI'!$B$2:$B$4000)),ROW(B132))), \"\")","v":""},{"$f":"IFERROR(INDEX('MEMORIAL DESCRITIVO-BRI'!I:I,SMALL(IF('MEMORIAL DESCRITIVO-BRI'!$E$2:$E$4000=\"Sim\",ROW('MEMORIAL DESCRITIVO-BRI'!$I$2:$I$4000)),ROW(B132))), \"\")","v":""},{"$f":"IFERROR(INDEX('MEMORIAL DESCRITIVO-BRI'!F:F,SMALL(IF('MEMORIAL DESCRITIVO-BRI'!$E$2:$E$4000=\"Sim\",ROW('MEMORIAL DESCRITIVO-BRI'!$F$2:$F$4000)),ROW(B132))) & \" - \" & INDEX('MEMORIAL DESCRITIVO-BRI'!H:H,SMALL(IF('MEMORIAL DESCRITIVO-BRI'!$E$2:$E$4000=\"Sim\",ROW('MEMORIAL DESCRITIVO-BRI'!$H$2:$H$4000)),ROW(B132))), \"\")","v":""},null,{"$f":"IFERROR(INDEX('MEMORIAL DESCRITIVO-BRI'!S:S,SMALL(IF('MEMORIAL DESCRITIVO-BRI'!$E$2:$E$4000=\"Sim\",ROW('MEMORIAL DESCRITIVO-BRI'!$S$2:$S$4000)),ROW(B132))), \"\")","v":""},{"$f":"IFERROR(INDEX('MEMORIAL DESCRITIVO-BRI'!Z:Z,SMALL(IF('MEMORIAL DESCRITIVO-BRI'!$E$2:$E$4000=\"Sim\",ROW('MEMORIAL DESCRITIVO-BRI'!$Z$2:$Z$4000)),ROW(B132))), \"\")","v":""},{"$f":"IFERROR(INDEX('MEMORIAL DESCRITIVO-BRI'!W:W,SMALL(IF('MEMORIAL DESCRITIVO-BRI'!$E$2:$E$4000=\"Sim\",ROW('MEMORIAL DESCRITIVO-BRI'!$W$2:$W$4000)),ROW(B132))), \"\")","v":""},{"$f":"IFERROR(INDEX('MEMORIAL DESCRITIVO-BRI'!G:G,SMALL(IF('MEMORIAL DESCRITIVO-BRI'!$E$2:$E$4000=\"Sim\",ROW('MEMORIAL DESCRITIVO-BRI'!$G$2:$G$4000)),ROW(B132))), \"\")","v":""},{"$f":"IFERROR(INDEX('MEMORIAL DESCRITIVO-BRI'!P:P,SMALL(IF('MEMORIAL DESCRITIVO-BRI'!$E$2:$E$4000=\"Sim\",ROW('MEMORIAL DESCRITIVO-BRI'!$P$2:$P$4000)),ROW(B132))), \"\")","v":""},{"$f":"IFERROR(INDEX('MEMORIAL DESCRITIVO-BRI'!Q:Q,SMALL(IF('MEMORIAL DESCRITIVO-BRI'!$E$2:$E$4000=\"Sim\",ROW('MEMORIAL DESCRITIVO-BRI'!$Q$2:$Q$4000)),ROW(B132))), \"\")","v":""}]
[null,{"$f":"IFERROR(INDEX('MEMORIAL DESCRITIVO-BRI'!B:B,SMALL(IF('MEMORIAL DESCRITIVO-BRI'!$E$2:$E$4000=\"Sim\",ROW('MEMORIAL DESCRITIVO-BRI'!$B$2:$B$4000)),ROW(B133))), \"\")","v":""},{"$f":"IFERROR(INDEX('MEMORIAL DESCRITIVO-BRI'!I:I,SMALL(IF('MEMORIAL DESCRITIVO-BRI'!$E$2:$E$4000=\"Sim\",ROW('MEMORIAL DESCRITIVO-BRI'!$I$2:$I$4000)),ROW(B133))), \"\")","v":""},{"$f":"IFERROR(INDEX('MEMORIAL DESCRITIVO-BRI'!F:F,SMALL(IF('MEMORIAL DESCRITIVO-BRI'!$E$2:$E$4000=\"Sim\",ROW('MEMORIAL DESCRITIVO-BRI'!$F$2:$F$4000)),ROW(B133))) & \" - \" & INDEX('MEMORIAL DESCRITIVO-BRI'!H:H,SMALL(IF('MEMORIAL DESCRITIVO-BRI'!$E$2:$E$4000=\"Sim\",ROW('MEMORIAL DESCRITIVO-BRI'!$H$2:$H$4000)),ROW(B133))), \"\")","v":""},null,{"$f":"IFERROR(INDEX('MEMORIAL DESCRITIVO-BRI'!S:S,SMALL(IF('MEMORIAL DESCRITIVO-BRI'!$E$2:$E$4000=\"Sim\",ROW('MEMORIAL DESCRITIVO-BRI'!$S$2:$S$4000)),ROW(B133))), \"\")","v":""},{"$f":"IFERROR(INDEX('MEMORIAL DESCRITIVO-BRI'!Z:Z,SMALL(IF('MEMORIAL DESCRITIVO-BRI'!$E$2:$E$4000=\"Sim\",ROW('MEMORIAL DESCRITIVO-BRI'!$Z$2:$Z$4000)),ROW(B133))), \"\")","v":""},{"$f":"IFERROR(INDEX('MEMORIAL DESCRITIVO-BRI'!W:W,SMALL(IF('MEMORIAL DESCRITIVO-BRI'!$E$2:$E$4000=\"Sim\",ROW('MEMORIAL DESCRITIVO-BRI'!$W$2:$W$4000)),ROW(B133))), \"\")","v":""},{"$f":"IFERROR(INDEX('MEMORIAL DESCRITIVO-BRI'!G:G,SMALL(IF('MEMORIAL DESCRITIVO-BRI'!$E$2:$E$4000=\"Sim\",ROW('MEMORIAL DESCRITIVO-BRI'!$G$2:$G$4000)),ROW(B133))), \"\")","v":""},{"$f":"IFERROR(INDEX('MEMORIAL DESCRITIVO-BRI'!P:P,SMALL(IF('MEMORIAL DESCRITIVO-BRI'!$E$2:$E$4000=\"Sim\",ROW('MEMORIAL DESCRITIVO-BRI'!$P$2:$P$4000)),ROW(B133))), \"\")","v":""},{"$f":"IFERROR(INDEX('MEMORIAL DESCRITIVO-BRI'!Q:Q,SMALL(IF('MEMORIAL DESCRITIVO-BRI'!$E$2:$E$4000=\"Sim\",ROW('MEMORIAL DESCRITIVO-BRI'!$Q$2:$Q$4000)),ROW(B133))), \"\")","v":""}]
[null,{"$f":"IFERROR(INDEX('MEMORIAL DESCRITIVO-BRI'!B:B,SMALL(IF('MEMORIAL DESCRITIVO-BRI'!$E$2:$E$4000=\"Sim\",ROW('MEMORIAL DESCRITIVO-BRI'!$B$2:$B$4000)),ROW(B134))), \"\")","v":""},{"$f":"IFERROR(INDEX('MEMORIAL DESCRITIVO-BRI'!I:I,SMALL(IF('MEMORIAL DESCRITIVO-BRI'!$E$2:$E$4000=\"Sim\",ROW('MEMORIAL DESCRITIVO-BRI'!$I$2:$I$4000)),ROW(B134))), \"\")","v":""},{"$f":"IFERROR(INDEX('MEMORIAL DESCRITIVO-BRI'!F:F,SMALL(IF('MEMORIAL DESCRITIVO-BRI'!$E$2:$E$4000=\"Sim\",ROW('MEMORIAL DESCRITIVO-BRI'!$F$2:$F$4000)),ROW(B134))) & \" - \" & INDEX('MEMORIAL DESCRITIVO-BRI'!H:H,SMALL(IF('MEMORIAL DESCRITIVO-BRI'!$E$2:$E$4000=\"Sim\",ROW('MEMORIAL DESCRITIVO-BRI'!$H$2:$H$4000)),ROW(B134))), \"\")","v":""},null,{"$f":"IFERROR(INDEX('MEMORIAL DESCRITIVO-BRI'!S:S,SMALL(IF('MEMORIAL DESCRITIVO-BRI'!$E$2:$E$4000=\"Sim\",ROW('MEMORIAL DESCRITIVO-BRI'!$S$2:$S$4000)),ROW(B134))), \"\")","v":""},{"$f":"IFERROR(INDEX('MEMORIAL DESCRITIVO-BRI'!Z:Z,SMALL(IF('MEMORIAL DESCRITIVO-BRI'!$E$2:$E$4000=\"Sim\",ROW('MEMORIAL DESCRITIVO-BRI'!$Z$2:$Z$4000)),ROW(B134))), \"\")","v":""},{"$f":"IFERROR(INDEX('MEMORIAL DESCRITIVO-BRI'!W:W,SMALL(IF('MEMORIAL DESCRITIVO-BRI'!$E$2:$E$4000=\"Sim\",ROW('MEMORIAL DESCRITIVO-BRI'!$W$2:$W$4000)),ROW(B134))), \"\")","v":""},{"$f":"IFERROR(INDEX('MEMORIAL DESCRITIVO-BRI'!G:G,SMALL(IF('MEMORIAL DESCRITIVO-BRI'!$E$2:$E$4000=\"Sim\",ROW('MEMORIAL DESCRITIVO-BRI'!$G$2:$G$4000)),ROW(B134))), \"\")","v":""},{"$f":"IFERROR(INDEX('MEMORIAL DESCRITIVO-BRI'!P:P,SMALL(IF('MEMORIAL DESCRITIVO-BRI'!$E$2:$E$4000=\"Sim\",ROW('MEMORIAL DESCRITIVO-BRI'!$P$2:$P$4000)),ROW(B134))), \"\")","v":""},{"$f":"IFERROR(INDEX('MEMORIAL DESCRITIVO-BRI'!Q:Q,SMALL(IF('MEMORIAL DESCRITIVO-BRI'!$E$2:$E$4000=\"Sim\",ROW('MEMORIAL DESCRITIVO-BRI'!$Q$2:$Q$4000)),ROW(B134))), \"\")","v":""}]
[null,{"$f":"IFERROR(INDEX('MEMORIAL DESCRITIVO-BRI'!B:B,SMALL(IF('MEMORIAL DESCRITIVO-BRI'!$E$2:$E$4000=\"Sim\",ROW('MEMORIAL DESCRITIVO-BRI'!$B$2:$B$4000)),ROW(B135))), \"\")","v":""},{"$f":"IFERROR(INDEX('MEMORIAL DESCRITIVO-BRI'!I:I,SMALL(IF('MEMORIAL DESCRITIVO-BRI'!$E$2:$E$4000=\"Sim\",ROW('MEMORIAL DESCRITIVO-BRI'!$I$2:$I$4000)),ROW(B135))), \"\")","v":""},{"$f":"IFERROR(INDEX('MEMORIAL DESCRITIVO-BRI'!F:F,SMALL(IF('MEMORIAL DESCRITIVO-BRI'!$E$2:$E$4000=\"Sim\",ROW('MEMORIAL DESCRITIVO-BRI'!$F$2:$F$4000)),ROW(B135))) & \" - \" & INDEX('MEMORIAL DESCRITIVO-BRI'!H:H,SMALL(IF('MEMORIAL DESCRITIVO-BRI'!$E$2:$E$4000=\"Sim\",ROW('MEMORIAL DESCRITIVO-BRI'!$H$2:$H$4000)),ROW(B135))), \"\")","v":""},null,{"$f":"IFERROR(INDEX('MEMORIAL DESCRITIVO-BRI'!S:S,SMALL(IF('MEMORIAL DESCRITIVO-BRI'!$E$2:$E$4000=\"Sim\",ROW('MEMORIAL DESCRITIVO-BRI'!$S$2:$S$4000)),ROW(B135))), \"\")","v":""},{"$f":"IFERROR(INDEX('MEMORIAL DESCRITIVO-BRI'!Z:Z,SMALL(IF('MEMORIAL DESCRITIVO-BRI'!$E$2:$E$4000=\"Sim\",ROW('MEMORIAL DESCRITIVO-BRI'!$Z$2:$Z$4000)),ROW(B135))), \"\")","v":""},{"$f":"IFERROR(INDEX('MEMORIAL DESCRITIVO-BRI'!W:W,SMALL(IF('MEMORIAL DESCRITIVO-BRI'!$E$2:$E$4000=\"Sim\",ROW('MEMORIAL DESCRITIVO-BRI'!$W$2:$W$4000)),ROW(B135))), \"\")","v":""},{"$f":"IFERROR(INDEX('MEMORIAL DESCRITIVO-BRI'!G:G,SMALL(IF('MEMORIAL DESCRITIVO-BRI'!$E$2:$E$4000=\"Sim\",ROW('MEMORIAL DESCRITIVO-BRI'!$G$2:$G$4000)),ROW(B135))), \"\")","v":""},{"$f":"IFERROR(INDEX('MEMORIAL DESCRITIVO-BRI'!P:P,SMALL(IF('MEMORIAL DESCRITIVO-BRI'!$E$2:$E$4000=\"Sim\",ROW('MEMORIAL DESCRITIVO-BRI'!$P$2:$P$4000)),ROW(B135))), \"\")","v":""},{"$f":"IFERROR(INDEX('MEMORIAL DESCRITIVO-BRI'!Q:Q,SMALL(IF('MEMORIAL DESCRITIVO-BRI'!$E$2:$E$4000=\"Sim\",ROW('MEMORIAL DESCRITIVO-BRI'!$Q$2:$Q$4000)),ROW(B135))), \"\")","v":""}]
[null,{"$f":"IFERROR(INDEX('MEMORIAL DESCRITIVO-BRI'!B:B,SMALL(IF('MEMORIAL DESCRITIVO-BRI'!$E$2:$E$4000=\"Sim\",ROW('MEMORIAL DESCRITIVO-BRI'!$B$2:$B$4000)),ROW(B136))), \"\")","v":""},{"$f":"IFERROR(INDEX('MEMORIAL DESCRITIVO-BRI'!I:I,SMALL(IF('MEMORIAL DESCRITIVO-BRI'!$E$2:$E$4000=\"Sim\",ROW('MEMORIAL DESCRITIVO-BRI'!$I$2:$I$4000)),ROW(B136))), \"\")","v":""},{"$f":"IFERROR(INDEX('MEMORIAL DESCRITIVO-BRI'!F:F,SMALL(IF('MEMORIAL DESCRITIVO-BRI'!$E$2:$E$4000=\"Sim\",ROW('MEMORIAL DESCRITIVO-BRI'!$F$2:$F$4000)),ROW(B136))) & \" - \" & INDEX('MEMORIAL DESCRITIVO-BRI'!H:H,SMALL(IF('MEMORIAL DESCRITIVO-BRI'!$E$2:$E$4000=\"Sim\",ROW('MEMORIAL DESCRITIVO-BRI'!$H$2:$H$4000)),ROW(B136))), \"\")","v":""},null,{"$f":"IFERROR(INDEX('MEMORIAL DESCRITIVO-BRI'!S:S,SMALL(IF('MEMORIAL DESCRITIVO-BRI'!$E$2:$E$4000=\"Sim\",ROW('MEMORIAL DESCRITIVO-BRI'!$S$2:$S$4000)),ROW(B136))), \"\")","v":""},{"$f":"IFERROR(INDEX('MEMORIAL DESCRITIVO-BRI'!Z:Z,SMALL(IF('MEMORIAL DESCRITIVO-BRI'!$E$2:$E$4000=\"Sim\",ROW('MEMORIAL DESCRITIVO-BRI'!$Z$2:$Z$4000)),ROW(B136))), \"\")","v":""},{"$f":"IFERROR(INDEX('MEMORIAL DESCRITIVO-BRI'!W:W,SMALL(IF('MEMORIAL DESCRITIVO-BRI'!$E$2:$E$4000=\"Sim\",ROW('MEMORIAL DESCRITIVO-BRI'!$W$2:$W$4000)),ROW(B136))), \"\")","v":""},{"$f":"IFERROR(INDEX('MEMORIAL DESCRITIVO-BRI'!G:G,SMALL(IF('MEMORIAL DESCRITIVO-BRI'!$E$2:$E$4000=\"Sim\",ROW('MEMORIAL DESCRITIVO-BRI'!$G$2:$G$4000)),ROW(B136))), \"\")","v":""},{"$f":"IFERROR(INDEX('MEMORIAL DESCRITIVO-BRI'!P:P,SMALL(IF('MEMORIAL DESCRITIVO-BRI'!$E$2:$E$4000=\"Sim\",ROW('MEMORIAL DESCRITIVO-BRI'!$P$2:$P$4000)),ROW(B136))), \"\")","v":""},{"$f":"IFERROR(INDEX('MEMORIAL DESCRITIVO-BRI'!Q:Q,SMALL(IF('MEMORIAL DESCRITIVO-BRI'!$E$2:$E$4000=\"Sim\",ROW('MEMORIAL DESCRITIVO-BRI'!$Q$2:$Q$4000)),ROW(B136))), \"\")","v":""}]
[null,{"$f":"IFERROR(INDEX('MEMORIAL DESCRITIVO-BRI'!B:B,SMALL(IF('MEMORIAL DESCRITIVO-BRI'!$E$2:$E$4000=\"Sim\",ROW('MEMORIAL DESCRITIVO-BRI'!$B$2:$B$4000)),ROW(B137))), \"\")","v":""},{"$f":"IFERROR(INDEX('MEMORIAL DESCRITIVO-BRI'!I:I,SMALL(IF('MEMORIAL DESCRITIVO-BRI'!$E$2:$E$4000=\"Sim\",ROW('MEMORIAL DESCRITIVO-BRI'!$I$2:$I$4000)),ROW(B137))), \"\")","v":""},{"$f":"IFERROR(INDEX('MEMORIAL DESCRITIVO-BRI'!F:F,SMALL(IF('MEMORIAL DESCRITIVO-BRI'!$E$2:$E$4000=\"Sim\",ROW('MEMORIAL DESCRITIVO-BRI'!$F$2:$F$4000)),ROW(B137))) & \" - \" & INDEX('MEMORIAL DESCRITIVO-BRI'!H:H,SMALL(IF('MEMORIAL DESCRITIVO-BRI'!$E$2:$E$4000=\"Sim\",ROW('MEMORIAL DESCRITIVO-BRI'!$H$2:$H$4000)),ROW(B137))), \"\")","v":""},null,{"$f":"IFERROR(INDEX('MEMORIAL DESCRITIVO-BRI'!S:S,SMALL(IF('MEMORIAL DESCRITIVO-BRI'!$E$2:$E$4000=\"Sim\",ROW('MEMORIAL DESCRITIVO-BRI'!$S$2:$S$4000)),ROW(B137))), \"\")","v":""},{"$f":"IFERROR(INDEX('MEMORIAL DESCRITIVO-BRI'!Z:Z,SMALL(IF('MEMORIAL DESCRITIVO-BRI'!$E$2:$E$4000=\"Sim\",ROW('MEMORIAL DESCRITIVO-BRI'!$Z$2:$Z$4000)),ROW(B137))), \"\")","v":""},{"$f":"IFERROR(INDEX('MEMORIAL DESCRITIVO-BRI'!W:W,SMALL(IF('MEMORIAL DESCRITIVO-BRI'!$E$2:$E$4000=\"Sim\",ROW('MEMORIAL DESCRITIVO-BRI'!$W$2:$W$4000)),ROW(B137))), \"\")","v":""},{"$f":"IFERROR(INDEX('MEMORIAL DESCRITIVO-BRI'!G:G,SMALL(IF('MEMORIAL DESCRITIVO-BRI'!$E$2:$E$4000=\"Sim\",ROW('MEMORIAL DESCRITIVO-BRI'!$G$2:$G$4000)),ROW(B137))), \"\")","v":""},{"$f":"IFERROR(INDEX('MEMORIAL DESCRITIVO-BRI'!P:P,SMALL(IF('MEMORIAL DESCRITIVO-BRI'!$E$2:$E$4000=\"Sim\",ROW('MEMORIAL DESCRITIVO-BRI'!$P$2:$P$4000)),ROW(B137))), \"\")","v":""},{"$f":"IFERROR(INDEX('MEMORIAL DESCRITIVO-BRI'!Q:Q,SMALL(IF('MEMORIAL DESCRITIVO-BRI'!$E$2:$E$4000=\"Sim\",ROW('MEMORIAL DESCRITIVO-BRI'!$Q$2:$Q$4000)),ROW(B137))), \"\")","v":""}]
[null,{"$f":"IFERROR(INDEX('MEMORIAL DESCRITIVO-BRI'!B:B,SMALL(IF('MEMORIAL DESCRITIVO-BRI'!$E$2:$E$4000=\"Sim\",ROW('MEMORIAL DESCRITIVO-BRI'!$B$2:$B$4000)),ROW(B138))), \"\")","v":""},{"$f":"IFERROR(INDEX('MEMORIAL DESCRITIVO-BRI'!I:I,SMALL(IF('MEMORIAL DESCRITIVO-BRI'!$E$2:$E$4000=\"Sim\",ROW('MEMORIAL DESCRITIVO-BRI'!$I$2:$I$4000)),ROW(B138))), \"\")","v":""},{"$f":"IFERROR(INDEX('MEMORIAL DESCRITIVO-BRI'!F:F,SMALL(IF('MEMORIAL DESCRITIVO-BRI'!$E$2:$E$4000=\"Sim\",ROW('MEMORIAL DESCRITIVO-BRI'!$F$2:$F$4000)),ROW(B138))) & \" - \" & INDEX('MEMORIAL DESCRITIVO-BRI'!H:H,SMALL(IF('MEMORIAL DESCRITIVO-BRI'!$E$2:$E$4000=\"Sim\",ROW('MEMORIAL DESCRITIVO-BRI'!$H$2:$H$4000)),ROW(B138))), \"\")","v":""},null,{"$f":"IFERROR(INDEX('MEMORIAL DESCRITIVO-BRI'!S:S,SMALL(IF('MEMORIAL DESCRITIVO-BRI'!$E$2:$E$4000=\"Sim\",ROW('MEMORIAL DESCRITIVO-BRI'!$S$2:$S$4000)),ROW(B138))), \"\")","v":""},{"$f":"IFERROR(INDEX('MEMORIAL DESCRITIVO-BRI'!Z:Z,SMALL(IF('MEMORIAL DESCRITIVO-BRI'!$E$2:$E$4000=\"Sim\",ROW('MEMORIAL DESCRITIVO-BRI'!$Z$2:$Z$4000)),ROW(B138))), \"\")","v":""},{"$f":"IFERROR(INDEX('MEMORIAL DESCRITIVO-BRI'!W:W,SMALL(IF('MEMORIAL DESCRITIVO-BRI'!$E$2:$E$4000=\"Sim\",ROW('MEMORIAL DESCRITIVO-BRI'!$W$2:$W$4000)),ROW(B138))), \"\")","v":""},{"$f":"IFERROR(INDEX('MEMORIAL DESCRITIVO-BRI'!G:G,SMALL(IF('MEMORIAL DESCRITIVO-BRI'!$E$2:$E$4000=\"Sim\",ROW('MEMORIAL DESCRITIVO-BRI'!$G$2:$G$4000)),ROW(B138))), \"\")","v":""},{"$f":"IFERROR(INDEX('MEMORIAL DESCRITIVO-BRI'!P:P,SMALL(IF('MEMORIAL DESCRITIVO-BRI'!$E$2:$E$4000=\"Sim\",ROW('MEMORIAL DESCRITIVO-BRI'!$P$2:$P$4000)),ROW(B138))), \"\")","v":""},{"$f":"IFERROR(INDEX('MEMORIAL DESCRITIVO-BRI'!Q:Q,SMALL(IF('MEMORIAL DESCRITIVO-BRI'!$E$2:$E$4000=\"Sim\",ROW('MEMORIAL DESCRITIVO-BRI'!$Q$2:$Q$4000)),ROW(B138))), \"\")","v":""}]
[null,{"$f":"IFERROR(INDEX('MEMORIAL DESCRITIVO-BRI'!B:B,SMALL(IF('MEMORIAL DESCRITIVO-BRI'!$E$2:$E$4000=\"Sim\",ROW('MEMORIAL DESCRITIVO-BRI'!$B$2:$B$4000)),ROW(B139))), \"\")","v":""},{"$f":"IFERROR(INDEX('MEMORIAL DESCRITIVO-BRI'!I:I,SMALL(IF('MEMORIAL DESCRITIVO-BRI'!$E$2:$E$4000=\"Sim\",ROW('MEMORIAL DESCRITIVO-BRI'!$I$2:$I$4000)),ROW(B139))), \"\")","v":""},{"$f":"IFERROR(INDEX('MEMORIAL DESCRITIVO-BRI'!F:F,SMALL(IF('MEMORIAL DESCRITIVO-BRI'!$E$2:$E$4000=\"Sim\",ROW('MEMORIAL DESCRITIVO-BRI'!$F$2:$F$4000)),ROW(B139))) & \" - \" & INDEX('MEMORIAL DESCRITIVO-BRI'!H:H,SMALL(IF('MEMORIAL DESCRITIVO-BRI'!$E$2:$E$4000=\"Sim\",ROW('MEMORIAL DESCRITIVO-BRI'!$H$2:$H$4000)),ROW(B139))), \"\")","v":""},null,{"$f":"IFERROR(INDEX('MEMORIAL DESCRITIVO-BRI'!S:S,SMALL(IF('MEMORIAL DESCRITIVO-BRI'!$E$2:$E$4000=\"Sim\",ROW('MEMORIAL DESCRITIVO-BRI'!$S$2:$S$4000)),ROW(B139))), \"\")","v":""},{"$f":"IFERROR(INDEX('MEMORIAL DESCRITIVO-BRI'!Z:Z,SMALL(IF('MEMORIAL DESCRITIVO-BRI'!$E$2:$E$4000=\"Sim\",ROW('MEMORIAL DESCRITIVO-BRI'!$Z$2:$Z$4000)),ROW(B139))), \"\")","v":""},{"$f":"IFERROR(INDEX('MEMORIAL DESCRITIVO-BRI'!W:W,SMALL(IF('MEMORIAL DESCRITIVO-BRI'!$E$2:$E$4000=\"Sim\",ROW('MEMORIAL DESCRITIVO-BRI'!$W$2:$W$4000)),ROW(B139))), \"\")","v":""},{"$f":"IFERROR(INDEX('MEMORIAL DESCRITIVO-BRI'!G:G,SMALL(IF('MEMORIAL DESCRITIVO-BRI'!$E$2:$E$4000=\"Sim\",ROW('MEMORIAL DESCRITIVO-BRI'!$G$2:$G$4000)),ROW(B139))), \"\")","v":""},{"$f":"IFERROR(INDEX('MEMORIAL DESCRITIVO-BRI'!P:P,SMALL(IF('MEMORIAL DESCRITIVO-BRI'!$E$2:$E$4000=\"Sim\",ROW('MEMORIAL DESCRITIVO-BRI'!$P$2:$P$4000)),ROW(B139))), \"\")","v":""},{"$f":"IFERROR(INDEX('MEMORIAL DESCRITIVO-BRI'!Q:Q,SMALL(IF('MEMORIAL DESCRITIVO-BRI'!$E$2:$E$4000=\"Sim\",ROW('MEMORIAL DESCRITIVO-BRI'!$Q$2:$Q$4000)),ROW(B139))), \"\")","v":""}]
[null,{"$f":"IFERROR(INDEX('MEMORIAL DESCRITIVO-BRI'!B:B,SMALL(IF('MEMORIAL DESCRITIVO-BRI'!$E$2:$E$4000=\"Sim\",ROW('MEMORIAL DESCRITIVO-BRI'!$B$2:$B$4000)),ROW(B140))), \"\")","v":""},{"$f":"IFERROR(INDEX('MEMORIAL DESCRITIVO-BRI'!I:I,SMALL(IF('MEMORIAL DESCRITIVO-BRI'!$E$2:$E$4000=\"Sim\",ROW('MEMORIAL DESCRITIVO-BRI'!$I$2:$I$4000)),ROW(B140))), \"\")","v":""},{"$f":"IFERROR(INDEX('MEMORIAL DESCRITIVO-BRI'!F:F,SMALL(IF('MEMORIAL DESCRITIVO-BRI'!$E$2:$E$4000=\"Sim\",ROW('MEMORIAL DESCRITIVO-BRI'!$F$2:$F$4000)),ROW(B140))) & \" - \" & INDEX('MEMORIAL DESCRITIVO-BRI'!H:H,SMALL(IF('MEMORIAL DESCRITIVO-BRI'!$E$2:$E$4000=\"Sim\",ROW('MEMORIAL DESCRITIVO-BRI'!$H$2:$H$4000)),ROW(B140))), \"\")","v":""},null,{"$f":"IFERROR(INDEX('MEMORIAL DESCRITIVO-BRI'!S:S,SMALL(IF('MEMORIAL DESCRITIVO-BRI'!$E$2:$E$4000=\"Sim\",ROW('MEMORIAL DESCRITIVO-BRI'!$S$2:$S$4000)),ROW(B140))), \"\")","v":""},{"$f":"IFERROR(INDEX('MEMORIAL DESCRITIVO-BRI'!Z:Z,SMALL(IF('MEMORIAL DESCRITIVO-BRI'!$E$2:$E$4000=\"Sim\",ROW('MEMORIAL DESCRITIVO-BRI'!$Z$2:$Z$4000)),ROW(B140))), \"\")","v":""},{"$f":"IFERROR(INDEX('MEMORIAL DESCRITIVO-BRI'!W:W,SMALL(IF('MEMORIAL DESCRITIVO-BRI'!$E$2:$E$4000=\"Sim\",ROW('MEMORIAL DESCRITIVO-BRI'!$W$2:$W$4000)),ROW(B140))), \"\")","v":""},{"$f":"IFERROR(INDEX('MEMORIAL DESCRITIVO-BRI'!G:G,SMALL(IF('MEMORIAL DESCRITIVO-BRI'!$E$2:$E$4000=\"Sim\",ROW('MEMORIAL DESCRITIVO-BRI'!$G$2:$G$4000)),ROW(B140))), \"\")","v":""},{"$f":"IFERROR(INDEX('MEMORIAL DESCRITIVO-BRI'!P:P,SMALL(IF('MEMORIAL DESCRITIVO-BRI'!$E$2:$E$4000=\"Sim\",ROW('MEMORIAL DESCRITIVO-BRI'!$P$2:$P$4000)),ROW(B140))), \"\")","v":""},{"$f":"IFERROR(INDEX('MEMORIAL DESCRITIVO-BRI'!Q:Q,SMALL(IF('MEMORIAL DESCRITIVO-BRI'!$E$2:$E$4000=\"Sim\",ROW('MEMORIAL DESCRITIVO-BRI'!$Q$2:$Q$4000)),ROW(B140))), \"\")","v":""}]
[null,{"$f":"IFERROR(INDEX('MEMORIAL DESCRITIVO-BRI'!B:B,SMALL(IF('MEMORIAL DESCRITIVO-BRI'!$E$2:$E$4000=\"Sim\",ROW('MEMORIAL DESCRITIVO-BRI'!$B$2:$B$4000)),ROW(B141))), \"\")","v":""},{"$f":"IFERROR(INDEX('MEMORIAL DESCRITIVO-BRI'!I:I,SMALL(IF('MEMORIAL DESCRITIVO-BRI'!$E$2:$E$4000=\"Sim\",ROW('MEMORIAL DESCRITIVO-BRI'!$I$2:$I$4000)),ROW(B141))), \"\")","v":""},{"$f":"IFERROR(INDEX('MEMORIAL DESCRITIVO-BRI'!F:F,SMALL(IF('MEMORIAL DESCRITIVO-BRI'!$E$2:$E$4000=\"Sim\",ROW('MEMORIAL DESCRITIVO-BRI'!$F$2:$F$4000)),ROW(B141))) & \" - \" & INDEX('MEMORIAL DESCRITIVO-BRI'!H:H,SMALL(IF('MEMORIAL DESCRITIVO-BRI'!$E$2:$E$4000=\"Sim\",ROW('MEMORIAL DESCRITIVO-BRI'!$H$2:$H$4000)),ROW(B141))), \"\")","v":""},null,{"$f":"IFERROR(INDEX('MEMORIAL DESCRITIVO-BRI'!S:S,SMALL(IF('MEMORIAL DESCRITIVO-BRI'!$E$2:$E$4000=\"Sim\",ROW('MEMORIAL DESCRITIVO-BRI'!$S$2:$S$4000)),ROW(B141))), \"\")","v":""},{"$f":"IFERROR(INDEX('MEMORIAL DESCRITIVO-BRI'!Z:Z,SMALL(IF('MEMORIAL DESCRITIVO-BRI'!$E$2:$E$4000=\"Sim\",ROW('MEMORIAL DESCRITIVO-BRI'!$Z$2:$Z$4000)),ROW(B141))), \"\")","v":""},{"$f":"IFERROR(INDEX('MEMORIAL DESCRITIVO-BRI'!W:W,SMALL(IF('MEMORIAL DESCRITIVO-BRI'!$E$2:$E$4000=\"Sim\",ROW('MEMORIAL DESCRITIVO-BRI'!$W$2:$W$4000)),ROW(B141))), \"\")","v":""},{"$f":"IFERROR(INDEX('MEMORIAL DESCRITIVO-BRI'!G:G,SMALL(IF('MEMORIAL DESCRITIVO-BRI'!$E$2:$E$4000=\"Sim\",ROW('MEMORIAL DESCRITIVO-BRI'!$G$2:$G$4000)),ROW(B141))), \"\")","v":""},{"$f":"IFERROR(INDEX('MEMORIAL DESCRITIVO-BRI'!P:P,SMALL(IF('MEMORIAL DESCRITIVO-BRI'!$E$2:$E$4000=\"Sim\",ROW('MEMORIAL DESCRITIVO-BRI'!$P$2:$P$4000)),ROW(B141))), \"\")","v":""},{"$f":"IFERROR(INDEX('MEMORIAL DESCRITIVO-BRI'!Q:Q,SMALL(IF('MEMORIAL DESCRITIVO-BRI'!$E$2:$E$4000=\"Sim\",ROW('MEMORIAL DESCRITIVO-BRI'!$Q$2:$Q$4000)),ROW(B141))), \"\")","v":""}]
[null,{"$f":"IFERROR(INDEX('MEMORIAL DESCRITIVO-BRI'!B:B,SMALL(IF('MEMORIAL DESCRITIVO-BRI'!$E$2:$E$4000=\"Sim\",ROW('MEMORIAL DESCRITIVO-BRI'!$B$2:$B$4000)),ROW(B142))), \"\")","v":""},{"$f":"IFERROR(INDEX('MEMORIAL DESCRITIVO-BRI'!I:I,SMALL(IF('MEMORIAL DESCRITIVO-BRI'!$E$2:$E$4000=\"Sim\",ROW('MEMORIAL DESCRITIVO-BRI'!$I$2:$I$4000)),ROW(B142))), \"\")","v":""},{"$f":"IFERROR(INDEX('MEMORIAL DESCRITIVO-BRI'!F:F,SMALL(IF('MEMORIAL DESCRITIVO-BRI'!$E$2:$E$4000=\"Sim\",ROW('MEMORIAL DESCRITIVO-BRI'!$F$2:$F$4000)),ROW(B142))) & \" - \" & INDEX('MEMORIAL DESCRITIVO-BRI'!H:H,SMALL(IF('MEMORIAL DESCRITIVO-BRI'!$E$2:$E$4000=\"Sim\",ROW('MEMORIAL DESCRITIVO-BRI'!$H$2:$H$4000)),ROW(B142))), \"\")","v":""},null,{"$f":"IFERROR(INDEX('MEMORIAL DESCRITIVO-BRI'!S:S,SMALL(IF('MEMORIAL DESCRITIVO-BRI'!$E$2:$E$4000=\"Sim\",ROW('MEMORIAL DESCRITIVO-BRI'!$S$2:$S$4000)),ROW(B142))), \"\")","v":""},{"$f":"IFERROR(INDEX('MEMORIAL DESCRITIVO-BRI'!Z:Z,SMALL(IF('MEMORIAL DESCRITIVO-BRI'!$E$2:$E$4000=\"Sim\",ROW('MEMORIAL DESCRITIVO-BRI'!$Z$2:$Z$4000)),ROW(B142))), \"\")","v":""},{"$f":"IFERROR(INDEX('MEMORIAL DESCRITIVO-BRI'!W:W,SMALL(IF('MEMORIAL DESCRITIVO-BRI'!$E$2:$E$4000=\"Sim\",ROW('MEMORIAL DESCRITIVO-BRI'!$W$2:$W$4000)),ROW(B142))), \"\")","v":""},{"$f":"IFERROR(INDEX('MEMORIAL DESCRITIVO-BRI'!G:G,SMALL(IF('MEMORIAL DESCRITIVO-BRI'!$E$2:$E$4000=\"Sim\",ROW('MEMORIAL DESCRITIVO-BRI'!$G$2:$G$4000)),ROW(B142))), \"\")","v":""},{"$f":"IFERROR(INDEX('MEMORIAL DESCRITIVO-BRI'!P:P,SMALL(IF('MEMORIAL DESCRITIVO-BRI'!$E$2:$E$4000=\"Sim\",ROW('MEMORIAL DESCRITIVO-BRI'!$P$2:$P$4000)),ROW(B142))), \"\")","v":""},{"$f":"IFERROR(INDEX('MEMORIAL DESCRITIVO-BRI'!Q:Q,SMALL(IF('MEMORIAL DESCRITIVO-BRI'!$E$2:$E$4000=\"Sim\",ROW('MEMORIAL DESCRITIVO-BRI'!$Q$2:$Q$4000)),ROW(B142))), \"\")","v":""}]
[null,{"$f":"IFERROR(INDEX('MEMORIAL DESCRITIVO-BRI'!B:B,SMALL(IF('MEMORIAL DESCRITIVO-BRI'!$E$2:$E$4000=\"Sim\",ROW('MEMORIAL DESCRITIVO-BRI'!$B$2:$B$4000)),ROW(B143))), \"\")","v":""},{"$f":"IFERROR(INDEX('MEMORIAL DESCRITIVO-BRI'!I:I,SMALL(IF('MEMORIAL DESCRITIVO-BRI'!$E$2:$E$4000=\"Sim\",ROW('MEMORIAL DESCRITIVO-BRI'!$I$2:$I$4000)),ROW(B143))), \"\")","v":""},{"$f":"IFERROR(INDEX('MEMORIAL DESCRITIVO-BRI'!F:F,SMALL(IF('MEMORIAL DESCRITIVO-BRI'!$E$2:$E$4000=\"Sim\",ROW('MEMORIAL DESCRITIVO-BRI'!$F$2:$F$4000)),ROW(B143))) & \" - \" & INDEX('MEMORIAL DESCRITIVO-BRI'!H:H,SMALL(IF('MEMORIAL DESCRITIVO-BRI'!$E$2:$E$4000=\"Sim\",ROW('MEMORIAL DESCRITIVO-BRI'!$H$2:$H$4000)),ROW(B143))), \"\")","v":""},null,{"$f":"IFERROR(INDEX('MEMORIAL DESCRITIVO-BRI'!S:S,SMALL(IF('MEMORIAL DESCRITIVO-BRI'!$E$2:$E$4000=\"Sim\",ROW('MEMORIAL DESCRITIVO-BRI'!$S$2:$S$4000)),ROW(B143))), \"\")","v":""},{"$f":"IFERROR(INDEX('MEMORIAL DESCRITIVO-BRI'!Z:Z,SMALL(IF('MEMORIAL DESCRITIVO-BRI'!$E$2:$E$4000=\"Sim\",ROW('MEMORIAL DESCRITIVO-BRI'!$Z$2:$Z$4000)),ROW(B143))), \"\")","v":""},{"$f":"IFERROR(INDEX('MEMORIAL DESCRITIVO-BRI'!W:W,SMALL(IF('MEMORIAL DESCRITIVO-BRI'!$E$2:$E$4000=\"Sim\",ROW('MEMORIAL DESCRITIVO-BRI'!$W$2:$W$4000)),ROW(B143))), \"\")","v":""},{"$f":"IFERROR(INDEX('MEMORIAL DESCRITIVO-BRI'!G:G,SMALL(IF('MEMORIAL DESCRITIVO-BRI'!$E$2:$E$4000=\"Sim\",ROW('MEMORIAL DESCRITIVO-BRI'!$G$2:$G$4000)),ROW(B143))), \"\")","v":""},{"$f":"IFERROR(INDEX('MEMORIAL DESCRITIVO-BRI'!P:P,SMALL(IF('MEMORIAL DESCRITIVO-BRI'!$E$2:$E$4000=\"Sim\",ROW('MEMORIAL DESCRITIVO-BRI'!$P$2:$P$4000)),ROW(B143))), \"\")","v":""},{"$f":"IFERROR(INDEX('MEMORIAL DESCRITIVO-BRI'!Q:Q,SMALL(IF('MEMORIAL DESCRITIVO-BRI'!$E$2:$E$4000=\"Sim\",ROW('MEMORIAL DESCRITIVO-BRI'!$Q$2:$Q$4000)),ROW(B143))), \"\")","v":""}]
[null,{"$f":"IFERROR(INDEX('MEMORIAL DESCRITIVO-BRI'!B:B,SMALL(IF('MEMORIAL DESCRITIVO-BRI'!$E$2:$E$4000=\"Sim\",ROW('MEMORIAL DESCRITIVO-BRI'!$B$2:$B$4000)),ROW(B144))), \"\")","v":""},{"$f":"IFERROR(INDEX('MEMORIAL DESCRITIVO-BRI'!I:I,SMALL(IF('MEMORIAL DESCRITIVO-BRI'!$E$2:$E$4000=\"Sim\",ROW('MEMORIAL DESCRITIVO-BRI'!$I$2:$I$4000)),ROW(B144))), \"\")","v":""},{"$f":"IFERROR(INDEX('MEMORIAL DESCRITIVO-BRI'!F:F,SMALL(IF('MEMORIAL DESCRITIVO-BRI'!$E$2:$E$4000=\"Sim\",ROW('MEMORIAL DESCRITIVO-BRI'!$F$2:$F$4000)),ROW(B144))) & \" - \" & INDEX('MEMORIAL DESCRITIVO-BRI'!H:H,SMALL(IF('MEMORIAL DESCRITIVO-BRI'!$E$2:$E$4000=\"Sim\",ROW('MEMORIAL DESCRITIVO-BRI'!$H$2:$H$4000)),ROW(B144))), \"\")","v":""},null,{"$f":"IFERROR(INDEX('MEMORIAL DESCRITIVO-BRI'!S:S,SMALL(IF('MEMORIAL DESCRITIVO-BRI'!$E$2:$E$4000=\"Sim\",ROW('MEMORIAL DESCRITIVO-BRI'!$S$2:$S$4000)),ROW(B144))), \"\")","v":""},{"$f":"IFERROR(INDEX('MEMORIAL DESCRITIVO-BRI'!Z:Z,SMALL(IF('MEMORIAL DESCRITIVO-BRI'!$E$2:$E$4000=\"Sim\",ROW('MEMORIAL DESCRITIVO-BRI'!$Z$2:$Z$4000)),ROW(B144))), \"\")","v":""},{"$f":"IFERROR(INDEX('MEMORIAL DESCRITIVO-BRI'!W:W,SMALL(IF('MEMORIAL DESCRITIVO-BRI'!$E$2:$E$4000=\"Sim\",ROW('MEMORIAL DESCRITIVO-BRI'!$W$2:$W$4000)),ROW(B144))), \"\")","v":""},{"$f":"IFERROR(INDEX('MEMORIAL DESCRITIVO-BRI'!G:G,SMALL(IF('MEMORIAL DESCRITIVO-BRI'!$E$2:$E$4000=\"Sim\",ROW('MEMORIAL DESCRITIVO-BRI'!$G$2:$G$4000)),ROW(B144))), \"\")","v":""},{"$f":"IFERROR(INDEX('MEMORIAL DESCRITIVO-BRI'!P:P,SMALL(IF('MEMORIAL DESCRITIVO-BRI'!$E$2:$E$4000=\"Sim\",ROW('MEMORIAL DESCRITIVO-BRI'!$P$2:$P$4000)),ROW(B144))), \"\")","v":""},{"$f":"IFERROR(INDEX('MEMORIAL DESCRITIVO-BRI'!Q:Q,SMALL(IF('MEMORIAL DESCRITIVO-BRI'!$E$2:$E$4000=\"Sim\",ROW('MEMORIAL DESCRITIVO-BRI'!$Q$2:$Q$4000)),ROW(B144))), \"\")","v":""}]
[null,{"$f":"IFERROR(INDEX('MEMORIAL DESCRITIVO-BRI'!B:B,SMALL(IF('MEMORIAL DESCRITIVO-BRI'!$E$2:$E$4000=\"Sim\",ROW('MEMORIAL DESCRITIVO-BRI'!$B$2:$B$4000)),ROW(B145))), \"\")","v":""},{"$f":"IFERROR(INDEX('MEMORIAL DESCRITIVO-BRI'!I:I,SMALL(IF('MEMORIAL DESCRITIVO-BRI'!$E$2:$E$4000=\"Sim\",ROW('MEMORIAL DESCRITIVO-BRI'!$I$2:$I$4000)),ROW(B145))), \"\")","v":""},{"$f":"IFERROR(INDEX('MEMORIAL DESCRITIVO-BRI'!F:F,SMALL(IF('MEMORIAL DESCRITIVO-BRI'!$E$2:$E$4000=\"Sim\",ROW('MEMORIAL DESCRITIVO-BRI'!$F$2:$F$4000)),ROW(B145))) & \" - \" & INDEX('MEMORIAL DESCRITIVO-BRI'!H:H,SMALL(IF('MEMORIAL DESCRITIVO-BRI'!$E$2:$E$4000=\"Sim\",ROW('MEMORIAL DESCRITIVO-BRI'!$H$2:$H$4000)),ROW(B145))), \"\")","v":""},null,{"$f":"IFERROR(INDEX('MEMORIAL DESCRITIVO-BRI'!S:S,SMALL(IF('MEMORIAL DESCRITIVO-BRI'!$E$2:$E$4000=\"Sim\",ROW('MEMORIAL DESCRITIVO-BRI'!$S$2:$S$4000)),ROW(B145))), \"\")","v":""},{"$f":"IFERROR(INDEX('MEMORIAL DESCRITIVO-BRI'!Z:Z,SMALL(IF('MEMORIAL DESCRITIVO-BRI'!$E$2:$E$4000=\"Sim\",ROW('MEMORIAL DESCRITIVO-BRI'!$Z$2:$Z$4000)),ROW(B145))), \"\")","v":""},{"$f":"IFERROR(INDEX('MEMORIAL DESCRITIVO-BRI'!W:W,SMALL(IF('MEMORIAL DESCRITIVO-BRI'!$E$2:$E$4000=\"Sim\",ROW('MEMORIAL DESCRITIVO-BRI'!$W$2:$W$4000)),ROW(B145))), \"\")","v":""},{"$f":"IFERROR(INDEX('MEMORIAL DESCRITIVO-BRI'!G:G,SMALL(IF('MEMORIAL DESCRITIVO-BRI'!$E$2:$E$4000=\"Sim\",ROW('MEMORIAL DESCRITIVO-BRI'!$G$2:$G$4000)),ROW(B145))), \"\")","v":""},{"$f":"IFERROR(INDEX('MEMORIAL DESCRITIVO-BRI'!P:P,SMALL(IF('MEMORIAL DESCRITIVO-BRI'!$E$2:$E$4000=\"Sim\",ROW('MEMORIAL DESCRITIVO-BRI'!$P$2:$P$4000)),ROW(B145))), \"\")","v":""},{"$f":"IFERROR(INDEX('MEMORIAL DESCRITIVO-BRI'!Q:Q,SMALL(IF('MEMORIAL DESCRITIVO-BRI'!$E$2:$E$4000=\"Sim\",ROW('MEMORIAL DESCRITIVO-BRI'!$Q$2:$Q$4000)),ROW(B145))), \"\")","v":""}]
[null,{"$f":"IFERROR(INDEX('MEMORIAL DESCRITIVO-BRI'!B:B,SMALL(IF('MEMORIAL DESCRITIVO-BRI'!$E$2:$E$4000=\"Sim\",ROW('MEMORIAL DESCRITIVO-BRI'!$B$2:$B$4000)),ROW(B146))), \"\")","v":""},{"$f":"IFERROR(INDEX('MEMORIAL DESCRITIVO-BRI'!I:I,SMALL(IF('MEMORIAL DESCRITIVO-BRI'!$E$2:$E$4000=\"Sim\",ROW('MEMORIAL DESCRITIVO-BRI'!$I$2:$I$4000)),ROW(B146))), \"\")","v":""},{"$f":"IFERROR(INDEX('MEMORIAL DESCRITIVO-BRI'!F:F,SMALL(IF('MEMORIAL DESCRITIVO-BRI'!$E$2:$E$4000=\"Sim\",ROW('MEMORIAL DESCRITIVO-BRI'!$F$2:$F$4000)),ROW(B146))) & \" - \" & INDEX('MEMORIAL DESCRITIVO-BRI'!H:H,SMALL(IF('MEMORIAL DESCRITIVO-BRI'!$E$2:$E$4000=\"Sim\",ROW('MEMORIAL DESCRITIVO-BRI'!$H$2:$H$4000)),ROW(B146))), \"\")","v":""},null,{"$f":"IFERROR(INDEX('MEMORIAL DESCRITIVO-BRI'!S:S,SMALL(IF('MEMORIAL DESCRITIVO-BRI'!$E$2:$E$4000=\"Sim\",ROW('MEMORIAL DESCRITIVO-BRI'!$S$2:$S$4000)),ROW(B146))), \"\")","v":""},{"$f":"IFERROR(INDEX('MEMORIAL DESCRITIVO-BRI'!Z:Z,SMALL(IF('MEMORIAL DESCRITIVO-BRI'!$E$2:$E$4000=\"Sim\",ROW('MEMORIAL DESCRITIVO-BRI'!$Z$2:$Z$4000)),ROW(B146))), \"\")","v":""},{"$f":"IFERROR(INDEX('MEMORIAL DESCRITIVO-BRI'!W:W,SMALL(IF('MEMORIAL DESCRITIVO-BRI'!$E$2:$E$4000=\"Sim\",ROW('MEMORIAL DESCRITIVO-BRI'!$W$2:$W$4000)),ROW(B146))), \"\")","v":""},{"$f":"IFERROR(INDEX('MEMORIAL DESCRITIVO-BRI'!G:G,SMALL(IF('MEMORIAL DESCRITIVO-BRI'!$E$2:$E$4000=\"Sim\",ROW('MEMORIAL DESCRITIVO-BRI'!$G$2:$G$4000)),ROW(B146))), \"\")","v":""},{"$f":"IFERROR(INDEX('MEMORIAL DESCRITIVO-BRI'!P:P,SMALL(IF('MEMORIAL DESCRITIVO-BRI'!$E$2:$E$4000=\"Sim\",ROW('MEMORIAL DESCRITIVO-BRI'!$P$2:$P$4000)),ROW(B146))), \"\")","v":""},{"$f":"IFERROR(INDEX('MEMORIAL DESCRITIVO-BRI'!Q:Q,SMALL(IF('MEMORIAL DESCRITIVO-BRI'!$E$2:$E$4000=\"Sim\",ROW('MEMORIAL DESCRITIVO-BRI'!$Q$2:$Q$4000)),ROW(B146))), \"\")","v":""}]
[null,{"$f":"IFERROR(INDEX('MEMORIAL DESCRITIVO-BRI'!B:B,SMALL(IF('MEMORIAL DESCRITIVO-BRI'!$E$2:$E$4000=\"Sim\",ROW('MEMORIAL DESCRITIVO-BRI'!$B$2:$B$4000)),ROW(B147))), \"\")","v":""},{"$f":"IFERROR(INDEX('MEMORIAL DESCRITIVO-BRI'!I:I,SMALL(IF('MEMORIAL DESCRITIVO-BRI'!$E$2:$E$4000=\"Sim\",ROW('MEMORIAL DESCRITIVO-BRI'!$I$2:$I$4000)),ROW(B147))), \"\")","v":""},{"$f":"IFERROR(INDEX('MEMORIAL DESCRITIVO-BRI'!F:F,SMALL(IF('MEMORIAL DESCRITIVO-BRI'!$E$2:$E$4000=\"Sim\",ROW('MEMORIAL DESCRITIVO-BRI'!$F$2:$F$4000)),ROW(B147))) & \" - \" & INDEX('MEMORIAL DESCRITIVO-BRI'!H:H,SMALL(IF('MEMORIAL DESCRITIVO-BRI'!$E$2:$E$4000=\"Sim\",ROW('MEMORIAL DESCRITIVO-BRI'!$H$2:$H$4000)),ROW(B147))), \"\")","v":""},null,{"$f":"IFERROR(INDEX('MEMORIAL DESCRITIVO-BRI'!S:S,SMALL(IF('MEMORIAL DESCRITIVO-BRI'!$E$2:$E$4000=\"Sim\",ROW('MEMORIAL DESCRITIVO-BRI'!$S$2:$S$4000)),ROW(B147))), \"\")","v":""},{"$f":"IFERROR(INDEX('MEMORIAL DESCRITIVO-BRI'!Z:Z,SMALL(IF('MEMORIAL DESCRITIVO-BRI'!$E$2:$E$4000=\"Sim\",ROW('MEMORIAL DESCRITIVO-BRI'!$Z$2:$Z$4000)),ROW(B147))), \"\")","v":""},{"$f":"IFERROR(INDEX('MEMORIAL DESCRITIVO-BRI'!W:W,SMALL(IF('MEMORIAL DESCRITIVO-BRI'!$E$2:$E$4000=\"Sim\",ROW('MEMORIAL DESCRITIVO-BRI'!$W$2:$W$4000)),ROW(B147))), \"\")","v":""},{"$f":"IFERROR(INDEX('MEMORIAL DESCRITIVO-BRI'!G:G,SMALL(IF('MEMORIAL DESCRITIVO-BRI'!$E$2:$E$4000=\"Sim\",ROW('MEMORIAL DESCRITIVO-BRI'!$G$2:$G$4000)),ROW(B147))), \"\")","v":""},{"$f":"IFERROR(INDEX('MEMORIAL DESCRITIVO-BRI'!P:P,SMALL(IF('MEMORIAL DESCRITIVO-BRI'!$E$2:$E$4000=\"Sim\",ROW('MEMORIAL DESCRITIVO-BRI'!$P$2:$P$4000)),ROW(B147))), \"\")","v":""},{"$f":"IFERROR(INDEX('MEMORIAL DESCRITIVO-BRI'!Q:Q,SMALL(IF('MEMORIAL DESCRITIVO-BRI'!$E$2:$E$4000=\"Sim\",ROW('MEMORIAL DESCRITIVO-BRI'!$Q$2:$Q$4000)),ROW(B147))), \"\")","v":""}]
[null,{"$f":"IFERROR(INDEX('MEMORIAL DESCRITIVO-BRI'!B:B,SMALL(IF('MEMORIAL DESCRITIVO-BRI'!$E$2:$E$4000=\"Sim\",ROW('MEMORIAL DESCRITIVO-BRI'!$B$2:$B$4000)),ROW(B148))), \"\")","v":""},{"$f":"IFERROR(INDEX('MEMORIAL DESCRITIVO-BRI'!I:I,SMALL(IF('MEMORIAL DESCRITIVO-BRI'!$E$2:$E$4000=\"Sim\",ROW('MEMORIAL DESCRITIVO-BRI'!$I$2:$I$4000)),ROW(B148))), \"\")","v":""},{"$f":"IFERROR(INDEX('MEMORIAL DESCRITIVO-BRI'!F:F,SMALL(IF('MEMORIAL DESCRITIVO-BRI'!$E$2:$E$4000=\"Sim\",ROW('MEMORIAL DESCRITIVO-BRI'!$F$2:$F$4000)),ROW(B148))) & \" - \" & INDEX('MEMORIAL DESCRITIVO-BRI'!H:H,SMALL(IF('MEMORIAL DESCRITIVO-BRI'!$E$2:$E$4000=\"Sim\",ROW('MEMORIAL DESCRITIVO-BRI'!$H$2:$H$4000)),ROW(B148))), \"\")","v":""},null,{"$f":"IFERROR(INDEX('MEMORIAL DESCRITIVO-BRI'!S:S,SMALL(IF('MEMORIAL DESCRITIVO-BRI'!$E$2:$E$4000=\"Sim\",ROW('MEMORIAL DESCRITIVO-BRI'!$S$2:$S$4000)),ROW(B148))), \"\")","v":""},{"$f":"IFERROR(INDEX('MEMORIAL DESCRITIVO-BRI'!Z:Z,SMALL(IF('MEMORIAL DESCRITIVO-BRI'!$E$2:$E$4000=\"Sim\",ROW('MEMORIAL DESCRITIVO-BRI'!$Z$2:$Z$4000)),ROW(B148))), \"\")","v":""},{"$f":"IFERROR(INDEX('MEMORIAL DESCRITIVO-BRI'!W:W,SMALL(IF('MEMORIAL DESCRITIVO-BRI'!$E$2:$E$4000=\"Sim\",ROW('MEMORIAL DESCRITIVO-BRI'!$W$2:$W$4000)),ROW(B148))), \"\")","v":""},{"$f":"IFERROR(INDEX('MEMORIAL DESCRITIVO-BRI'!G:G,SMALL(IF('MEMORIAL DESCRITIVO-BRI'!$E$2:$E$4000=\"Sim\",ROW('MEMORIAL DESCRITIVO-BRI'!$G$2:$G$4000)),ROW(B148))), \"\")","v":""},{"$f":"IFERROR(INDEX('MEMORIAL DESCRITIVO-BRI'!P:P,SMALL(IF('MEMORIAL DESCRITIVO-BRI'!$E$2:$E$4000=\"Sim\",ROW('MEMORIAL DESCRITIVO-BRI'!$P$2:$P$4000)),ROW(B148))), \"\")","v":""},{"$f":"IFERROR(INDEX('MEMORIAL DESCRITIVO-BRI'!Q:Q,SMALL(IF('MEMORIAL DESCRITIVO-BRI'!$E$2:$E$4000=\"Sim\",ROW('MEMORIAL DESCRITIVO-BRI'!$Q$2:$Q$4000)),ROW(B148))), \"\")","v":""}]
[null,{"$f":"IFERROR(INDEX('MEMORIAL DESCRITIVO-BRI'!B:B,SMALL(IF('MEMORIAL DESCRITIVO-BRI'!$E$2:$E$4000=\"Sim\",ROW('MEMORIAL DESCRITIVO-BRI'!$B$2:$B$4000)),ROW(B149))), \"\")","v":""},{"$f":"IFERROR(INDEX('MEMORIAL DESCRITIVO-BRI'!I:I,SMALL(IF('MEMORIAL DESCRITIVO-BRI'!$E$2:$E$4000=\"Sim\",ROW('MEMORIAL DESCRITIVO-BRI'!$I$2:$I$4000)),ROW(B149))), \"\")","v":""},{"$f":"IFERROR(INDEX('MEMORIAL DESCRITIVO-BRI'!F:F,SMALL(IF('MEMORIAL DESCRITIVO-BRI'!$E$2:$E$4000=\"Sim\",ROW('MEMORIAL DESCRITIVO-BRI'!$F$2:$F$4000)),ROW(B149))) & \" - \" & INDEX('MEMORIAL DESCRITIVO-BRI'!H:H,SMALL(IF('MEMORIAL DESCRITIVO-BRI'!$E$2:$E$4000=\"Sim\",ROW('MEMORIAL DESCRITIVO-BRI'!$H$2:$H$4000)),ROW(B149))), \"\")","v":""},null,{"$f":"IFERROR(INDEX('MEMORIAL DESCRITIVO-BRI'!S:S,SMALL(IF('MEMORIAL DESCRITIVO-BRI'!$E$2:$E$4000=\"Sim\",ROW('MEMORIAL DESCRITIVO-BRI'!$S$2:$S$4000)),ROW(B149))), \"\")","v":""},{"$f":"IFERROR(INDEX('MEMORIAL DESCRITIVO-BRI'!Z:Z,SMALL(IF('MEMORIAL DESCRITIVO-BRI'!$E$2:$E$4000=\"Sim\",ROW('MEMORIAL DESCRITIVO-BRI'!$Z$2:$Z$4000)),ROW(B149))), \"\")","v":""},{"$f":"IFERROR(INDEX('MEMORIAL DESCRITIVO-BRI'!W:W,SMALL(IF('MEMORIAL DESCRITIVO-BRI'!$E$2:$E$4000=\"Sim\",ROW('MEMORIAL DESCRITIVO-BRI'!$W$2:$W$4000)),ROW(B149))), \"\")","v":""},{"$f":"IFERROR(INDEX('MEMORIAL DESCRITIVO-BRI'!G:G,SMALL(IF('MEMORIAL DESCRITIVO-BRI'!$E$2:$E$4000=\"Sim\",ROW('MEMORIAL DESCRITIVO-BRI'!$G$2:$G$4000)),ROW(B149))), \"\")","v":""},{"$f":"IFERROR(INDEX('MEMORIAL DESCRITIVO-BRI'!P:P,SMALL(IF('MEMORIAL DESCRITIVO-BRI'!$E$2:$E$4000=\"Sim\",ROW('MEMORIAL DESCRITIVO-BRI'!$P$2:$P$4000)),ROW(B149))), \"\")","v":""},{"$f":"IFERROR(INDEX('MEMORIAL DESCRITIVO-BRI'!Q:Q,SMALL(IF('MEMORIAL DESCRITIVO-BRI'!$E$2:$E$4000=\"Sim\",ROW('MEMORIAL DESCRITIVO-BRI'!$Q$2:$Q$4000)),ROW(B149))), \"\")","v":""}]
[null,{"$f":"IFERROR(INDEX('MEMORIAL DESCRITIVO-BRI'!B:B,SMALL(IF('MEMORIAL DESCRITIVO-BRI'!$E$2:$E$4000=\"Sim\",ROW('MEMORIAL DESCRITIVO-BRI'!$B$2:$B$4000)),ROW(B150))), \"\")","v":""},{"$f":"IFERROR(INDEX('MEMORIAL DESCRITIVO-BRI'!I:I,SMALL(IF('MEMORIAL DESCRITIVO-BRI'!$E$2:$E$4000=\"Sim\",ROW('MEMORIAL DESCRITIVO-BRI'!$I$2:$I$4000)),ROW(B150))), \"\")","v":""},{"$f":"IFERROR(INDEX('MEMORIAL DESCRITIVO-BRI'!F:F,SMALL(IF('MEMORIAL DESCRITIVO-BRI'!$E$2:$E$4000=\"Sim\",ROW('MEMORIAL DESCRITIVO-BRI'!$F$2:$F$4000)),ROW(B150))) & \" - \" & INDEX('MEMORIAL DESCRITIVO-BRI'!H:H,SMALL(IF('MEMORIAL DESCRITIVO-BRI'!$E$2:$E$4000=\"Sim\",ROW('MEMORIAL DESCRITIVO-BRI'!$H$2:$H$4000)),ROW(B150))), \"\")","v":""},null,{"$f":"IFERROR(INDEX('MEMORIAL DESCRITIVO-BRI'!S:S,SMALL(IF('MEMORIAL DESCRITIVO-BRI'!$E$2:$E$4000=\"Sim\",ROW('MEMORIAL DESCRITIVO-BRI'!$S$2:$S$4000)),ROW(B150))), \"\")","v":""},{"$f":"IFERROR(INDEX('MEMORIAL DESCRITIVO-BRI'!Z:Z,SMALL(IF('MEMORIAL DESCRITIVO-BRI'!$E$2:$E$4000=\"Sim\",ROW('MEMORIAL DESCRITIVO-BRI'!$Z$2:$Z$4000)),ROW(B150))), \"\")","v":""},{"$f":"IFERROR(INDEX('MEMORIAL DESCRITIVO-BRI'!W:W,SMALL(IF('MEMORIAL DESCRITIVO-BRI'!$E$2:$E$4000=\"Sim\",ROW('MEMORIAL DESCRITIVO-BRI'!$W$2:$W$4000)),ROW(B150))), \"\")","v":""},{"$f":"IFERROR(INDEX('MEMORIAL DESCRITIVO-BRI'!G:G,SMALL(IF('MEMORIAL DESCRITIVO-BRI'!$E$2:$E$4000=\"Sim\",ROW('MEMORIAL DESCRITIVO-BRI'!$G$2:$G$4000)),ROW(B150))), \"\")","v":""},{"$f":"IFERROR(INDEX('MEMORIAL DESCRITIVO-BRI'!P:P,SMALL(IF('MEMORIAL DESCRITIVO-BRI'!$E$2:$E$4000=\"Sim\",ROW('MEMORIAL DESCRITIVO-BRI'!$P$2:$P$4000)),ROW(B150))), \"\")","v":""},{"$f":"IFERROR(INDEX('MEMORIAL DESCRITIVO-BRI'!Q:Q,SMALL(IF('MEMORIAL DESCRITIVO-BRI'!$E$2:$E$4000=\"Sim\",ROW('MEMORIAL DESCRITIVO-BRI'!$Q$2:$Q$4000)),ROW(B150))), \"\")","v":""}]
[null,{"$f":"IFERROR(INDEX('MEMORIAL DESCRITIVO-BRI'!B:B,SMALL(IF('MEMORIAL DESCRITIVO-BRI'!$E$2:$E$4000=\"Sim\",ROW('MEMORIAL DESCRITIVO-BRI'!$B$2:$B$4000)),ROW(B151))), \"\")","v":""},{"$f":"IFERROR(INDEX('MEMORIAL DESCRITIVO-BRI'!I:I,SMALL(IF('MEMORIAL DESCRITIVO-BRI'!$E$2:$E$4000=\"Sim\",ROW('MEMORIAL DESCRITIVO-BRI'!$I$2:$I$4000)),ROW(B151))), \"\")","v":""},{"$f":"IFERROR(INDEX('MEMORIAL DESCRITIVO-BRI'!F:F,SMALL(IF('MEMORIAL DESCRITIVO-BRI'!$E$2:$E$4000=\"Sim\",ROW('MEMORIAL DESCRITIVO-BRI'!$F$2:$F$4000)),ROW(B151))) & \" - \" & INDEX('MEMORIAL DESCRITIVO-BRI'!H:H,SMALL(IF('MEMORIAL DESCRITIVO-BRI'!$E$2:$E$4000=\"Sim\",ROW('MEMORIAL DESCRITIVO-BRI'!$H$2:$H$4000)),ROW(B151))), \"\")","v":""},null,{"$f":"IFERROR(INDEX('MEMORIAL DESCRITIVO-BRI'!S:S,SMALL(IF('MEMORIAL DESCRITIVO-BRI'!$E$2:$E$4000=\"Sim\",ROW('MEMORIAL DESCRITIVO-BRI'!$S$2:$S$4000)),ROW(B151))), \"\")","v":""},{"$f":"IFERROR(INDEX('MEMORIAL DESCRITIVO-BRI'!Z:Z,SMALL(IF('MEMORIAL DESCRITIVO-BRI'!$E$2:$E$4000=\"Sim\",ROW('MEMORIAL DESCRITIVO-BRI'!$Z$2:$Z$4000)),ROW(B151))), \"\")","v":""},{"$f":"IFERROR(INDEX('MEMORIAL DESCRITIVO-BRI'!W:W,SMALL(IF('MEMORIAL DESCRITIVO-BRI'!$E$2:$E$4000=\"Sim\",ROW('MEMORIAL DESCRITIVO-BRI'!$W$2:$W$4000)),ROW(B151))), \"\")","v":""},{"$f":"IFERROR(INDEX('MEMORIAL DESCRITIVO-BRI'!G:G,SMALL(IF('MEMORIAL DESCRITIVO-BRI'!$E$2:$E$4000=\"Sim\",ROW('MEMORIAL DESCRITIVO-BRI'!$G$2:$G$4000)),ROW(B151))), \"\")","v":""},{"$f":"IFERROR(INDEX('MEMORIAL DESCRITIVO-BRI'!P:P,SMALL(IF('MEMORIAL DESCRITIVO-BRI'!$E$2:$E$4000=\"Sim\",ROW('MEMORIAL DESCRITIVO-BRI'!$P$2:$P$4000)),ROW(B151))), \"\")","v":""},{"$f":"IFERROR(INDEX('MEMORIAL DESCRITIVO-BRI'!Q:Q,SMALL(IF('MEMORIAL DESCRITIVO-BRI'!$E$2:$E$4000=\"Sim\",ROW('MEMORIAL DESCRITIVO-BRI'!$Q$2:$Q$4000)),ROW(B151))), \"\")","v":""}]
[null,{"$f":"IFERROR(INDEX('MEMORIAL DESCRITIVO-BRI'!B:B,SMALL(IF('MEMORIAL DESCRITIVO-BRI'!$E$2:$E$4000=\"Sim\",ROW('MEMORIAL DESCRITIVO-BRI'!$B$2:$B$4000)),ROW(B152))), \"\")","v":""},{"$f":"IFERROR(INDEX('MEMORIAL DESCRITIVO-BRI'!I:I,SMALL(IF('MEMORIAL DESCRITIVO-BRI'!$E$2:$E$4000=\"Sim\",ROW('MEMORIAL DESCRITIVO-BRI'!$I$2:$I$4000)),ROW(B152))), \"\")","v":""},{"$f":"IFERROR(INDEX('MEMORIAL DESCRITIVO-BRI'!F:F,SMALL(IF('MEMORIAL DESCRITIVO-BRI'!$E$2:$E$4000=\"Sim\",ROW('MEMORIAL DESCRITIVO-BRI'!$F$2:$F$4000)),ROW(B152))) & \" - \" & INDEX('MEMORIAL DESCRITIVO-BRI'!H:H,SMALL(IF('MEMORIAL DESCRITIVO-BRI'!$E$2:$E$4000=\"Sim\",ROW('MEMORIAL DESCRITIVO-BRI'!$H$2:$H$4000)),ROW(B152))), \"\")","v":""},null,{"$f":"IFERROR(INDEX('MEMORIAL DESCRITIVO-BRI'!S:S,SMALL(IF('MEMORIAL DESCRITIVO-BRI'!$E$2:$E$4000=\"Sim\",ROW('MEMORIAL DESCRITIVO-BRI'!$S$2:$S$4000)),ROW(B152))), \"\")","v":""},{"$f":"IFERROR(INDEX('MEMORIAL DESCRITIVO-BRI'!Z:Z,SMALL(IF('MEMORIAL DESCRITIVO-BRI'!$E$2:$E$4000=\"Sim\",ROW('MEMORIAL DESCRITIVO-BRI'!$Z$2:$Z$4000)),ROW(B152))), \"\")","v":""},{"$f":"IFERROR(INDEX('MEMORIAL DESCRITIVO-BRI'!W:W,SMALL(IF('MEMORIAL DESCRITIVO-BRI'!$E$2:$E$4000=\"Sim\",ROW('MEMORIAL DESCRITIVO-BRI'!$W$2:$W$4000)),ROW(B152))), \"\")","v":""},{"$f":"IFERROR(INDEX('MEMORIAL DESCRITIVO-BRI'!G:G,SMALL(IF('MEMORIAL DESCRITIVO-BRI'!$E$2:$E$4000=\"Sim\",ROW('MEMORIAL DESCRITIVO-BRI'!$G$2:$G$4000)),ROW(B152))), \"\")","v":""},{"$f":"IFERROR(INDEX('MEMORIAL DESCRITIVO-BRI'!P:P,SMALL(IF('MEMORIAL DESCRITIVO-BRI'!$E$2:$E$4000=\"Sim\",ROW('MEMORIAL DESCRITIVO-BRI'!$P$2:$P$4000)),ROW(B152))), \"\")","v":""},{"$f":"IFERROR(INDEX('MEMORIAL DESCRITIVO-BRI'!Q:Q,SMALL(IF('MEMORIAL DESCRITIVO-BRI'!$E$2:$E$4000=\"Sim\",ROW('MEMORIAL DESCRITIVO-BRI'!$Q$2:$Q$4000)),ROW(B152))), \"\")","v":""}]
[null,{"$f":"IFERROR(INDEX('MEMORIAL DESCRITIVO-BRI'!B:B,SMALL(IF('MEMORIAL DESCRITIVO-BRI'!$E$2:$E$4000=\"Sim\",ROW('MEMORIAL DESCRITIVO-BRI'!$B$2:$B$4000)),ROW(B153))), \"\")","v":""},{"$f":"IFERROR(INDEX('MEMORIAL DESCRITIVO-BRI'!I:I,SMALL(IF('MEMORIAL DESCRITIVO-BRI'!$E$2:$E$4000=\"Sim\",ROW('MEMORIAL DESCRITIVO-BRI'!$I$2:$I$4000)),ROW(B153))), \"\")","v":""},{"$f":"IFERROR(INDEX('MEMORIAL DESCRITIVO-BRI'!F:F,SMALL(IF('MEMORIAL DESCRITIVO-BRI'!$E$2:$E$4000=\"Sim\",ROW('MEMORIAL DESCRITIVO-BRI'!$F$2:$F$4000)),ROW(B153))) & \" - \" & INDEX('MEMORIAL DESCRITIVO-BRI'!H:H,SMALL(IF('MEMORIAL DESCRITIVO-BRI'!$E$2:$E$4000=\"Sim\",ROW('MEMORIAL DESCRITIVO-BRI'!$H$2:$H$4000)),ROW(B153))), \"\")","v":""},null,{"$f":"IFERROR(INDEX('MEMORIAL DESCRITIVO-BRI'!S:S,SMALL(IF('MEMORIAL DESCRITIVO-BRI'!$E$2:$E$4000=\"Sim\",ROW('MEMORIAL DESCRITIVO-BRI'!$S$2:$S$4000)),ROW(B153))), \"\")","v":""},{"$f":"IFERROR(INDEX('MEMORIAL DESCRITIVO-BRI'!Z:Z,SMALL(IF('MEMORIAL DESCRITIVO-BRI'!$E$2:$E$4000=\"Sim\",ROW('MEMORIAL DESCRITIVO-BRI'!$Z$2:$Z$4000)),ROW(B153))), \"\")","v":""},{"$f":"IFERROR(INDEX('MEMORIAL DESCRITIVO-BRI'!W:W,SMALL(IF('MEMORIAL DESCRITIVO-BRI'!$E$2:$E$4000=\"Sim\",ROW('MEMORIAL DESCRITIVO-BRI'!$W$2:$W$4000)),ROW(B153))), \"\")","v":""},{"$f":"IFERROR(INDEX('MEMORIAL DESCRITIVO-BRI'!G:G,SMALL(IF('MEMORIAL DESCRITIVO-BRI'!$E$2:$E$4000=\"Sim\",ROW('MEMORIAL DESCRITIVO-BRI'!$G$2:$G$4000)),ROW(B153))), \"\")","v":""},{"$f":"IFERROR(INDEX('MEMORIAL DESCRITIVO-BRI'!P:P,SMALL(IF('MEMORIAL DESCRITIVO-BRI'!$E$2:$E$4000=\"Sim\",ROW('MEMORIAL DESCRITIVO-BRI'!$P$2:$P$4000)),ROW(B153))), \"\")","v":""},{"$f":"IFERROR(INDEX('MEMORIAL DESCRITIVO-BRI'!Q:Q,SMALL(IF('MEMORIAL DESCRITIVO-BRI'!$E$2:$E$4000=\"Sim\",ROW('MEMORIAL DESCRITIVO-BRI'!$Q$2:$Q$4000)),ROW(B153))), \"\")","v":""}]
[null,{"$f":"IFERROR(INDEX('MEMORIAL DESCRITIVO-BRI'!B:B,SMALL(IF('MEMORIAL DESCRITIVO-BRI'!$E$2:$E$4000=\"Sim\",ROW('MEMORIAL DESCRITIVO-BRI'!$B$2:$B$4000)),ROW(B154))), \"\")","v":""},{"$f":"IFERROR(INDEX('MEMORIAL DESCRITIVO-BRI'!I:I,SMALL(IF('MEMORIAL DESCRITIVO-BRI'!$E$2:$E$4000=\"Sim\",ROW('MEMORIAL DESCRITIVO-BRI'!$I$2:$I$4000)),ROW(B154))), \"\")","v":""},{"$f":"IFERROR(INDEX('MEMORIAL DESCRITIVO-BRI'!F:F,SMALL(IF('MEMORIAL DESCRITIVO-BRI'!$E$2:$E$4000=\"Sim\",ROW('MEMORIAL DESCRITIVO-BRI'!$F$2:$F$4000)),ROW(B154))) & \" - \" & INDEX('MEMORIAL DESCRITIVO-BRI'!H:H,SMALL(IF('MEMORIAL DESCRITIVO-BRI'!$E$2:$E$4000=\"Sim\",ROW('MEMORIAL DESCRITIVO-BRI'!$H$2:$H$4000)),ROW(B154))), \"\")","v":""},null,{"$f":"IFERROR(INDEX('MEMORIAL DESCRITIVO-BRI'!S:S,SMALL(IF('MEMORIAL DESCRITIVO-BRI'!$E$2:$E$4000=\"Sim\",ROW('MEMORIAL DESCRITIVO-BRI'!$S$2:$S$4000)),ROW(B154))), \"\")","v":""},{"$f":"IFERROR(INDEX('MEMORIAL DESCRITIVO-BRI'!Z:Z,SMALL(IF('MEMORIAL DESCRITIVO-BRI'!$E$2:$E$4000=\"Sim\",ROW('MEMORIAL DESCRITIVO-BRI'!$Z$2:$Z$4000)),ROW(B154))), \"\")","v":""},{"$f":"IFERROR(INDEX('MEMORIAL DESCRITIVO-BRI'!W:W,SMALL(IF('MEMORIAL DESCRITIVO-BRI'!$E$2:$E$4000=\"Sim\",ROW('MEMORIAL DESCRITIVO-BRI'!$W$2:$W$4000)),ROW(B154))), \"\")","v":""},{"$f":"IFERROR(INDEX('MEMORIAL DESCRITIVO-BRI'!G:G,SMALL(IF('MEMORIAL DESCRITIVO-BRI'!$E$2:$E$4000=\"Sim\",ROW('MEMORIAL DESCRITIVO-BRI'!$G$2:$G$4000)),ROW(B154))), \"\")","v":""},{"$f":"IFERROR(INDEX('MEMORIAL DESCRITIVO-BRI'!P:P,SMALL(IF('MEMORIAL DESCRITIVO-BRI'!$E$2:$E$4000=\"Sim\",ROW('MEMORIAL DESCRITIVO-BRI'!$P$2:$P$4000)),ROW(B154))), \"\")","v":""},{"$f":"IFERROR(INDEX('MEMORIAL DESCRITIVO-BRI'!Q:Q,SMALL(IF('MEMORIAL DESCRITIVO-BRI'!$E$2:$E$4000=\"Sim\",ROW('MEMORIAL DESCRITIVO-BRI'!$Q$2:$Q$4000)),ROW(B154))), \"\")","v":""}]
[null,{"$f":"IFERROR(INDEX('MEMORIAL DESCRITIVO-BRI'!B:B,SMALL(IF('MEMORIAL DESCRITIVO-BRI'!$E$2:$E$4000=\"Sim\",ROW('MEMORIAL DESCRITIVO-BRI'!$B$2:$B$4000)),ROW(B155))), \"\")","v":""},{"$f":"IFERROR(INDEX('MEMORIAL DESCRITIVO-BRI'!I:I,SMALL(IF('MEMORIAL DESCRITIVO-BRI'!$E$2:$E$4000=\"Sim\",ROW('MEMORIAL DESCRITIVO-BRI'!$I$2:$I$4000)),ROW(B155))), \"\")","v":""},{"$f":"IFERROR(INDEX('MEMORIAL DESCRITIVO-BRI'!F:F,SMALL(IF('MEMORIAL DESCRITIVO-BRI'!$E$2:$E$4000=\"Sim\",ROW('MEMORIAL DESCRITIVO-BRI'!$F$2:$F$4000)),ROW(B155))) & \" - \" & INDEX('MEMORIAL DESCRITIVO-BRI'!H:H,SMALL(IF('MEMORIAL DESCRITIVO-BRI'!$E$2:$E$4000=\"Sim\",ROW('MEMORIAL DESCRITIVO-BRI'!$H$2:$H$4000)),ROW(B155))), \"\")","v":""},null,{"$f":"IFERROR(INDEX('MEMORIAL DESCRITIVO-BRI'!S:S,SMALL(IF('MEMORIAL DESCRITIVO-BRI'!$E$2:$E$4000=\"Sim\",ROW('MEMORIAL DESCRITIVO-BRI'!$S$2:$S$4000)),ROW(B155))), \"\")","v":""},{"$f":"IFERROR(INDEX('MEMORIAL DESCRITIVO-BRI'!Z:Z,SMALL(IF('MEMORIAL DESCRITIVO-BRI'!$E$2:$E$4000=\"Sim\",ROW('MEMORIAL DESCRITIVO-BRI'!$Z$2:$Z$4000)),ROW(B155))), \"\")","v":""},{"$f":"IFERROR(INDEX('MEMORIAL DESCRITIVO-BRI'!W:W,SMALL(IF('MEMORIAL DESCRITIVO-BRI'!$E$2:$E$4000=\"Sim\",ROW('MEMORIAL DESCRITIVO-BRI'!$W$2:$W$4000)),ROW(B155))), \"\")","v":""},{"$f":"IFERROR(INDEX('MEMORIAL DESCRITIVO-BRI'!G:G,SMALL(IF('MEMORIAL DESCRITIVO-BRI'!$E$2:$E$4000=\"Sim\",ROW('MEMORIAL DESCRITIVO-BRI'!$G$2:$G$4000)),ROW(B155))), \"\")","v":""},{"$f":"IFERROR(INDEX('MEMORIAL DESCRITIVO-BRI'!P:P,SMALL(IF('MEMORIAL DESCRITIVO-BRI'!$E$2:$E$4000=\"Sim\",ROW('MEMORIAL DESCRITIVO-BRI'!$P$2:$P$4000)),ROW(B155))), \"\")","v":""},{"$f":"IFERROR(INDEX('MEMORIAL DESCRITIVO-BRI'!Q:Q,SMALL(IF('MEMORIAL DESCRITIVO-BRI'!$E$2:$E$4000=\"Sim\",ROW('MEMORIAL DESCRITIVO-BRI'!$Q$2:$Q$4000)),ROW(B155))), \"\")","v":""}]
[null,{"$f":"IFERROR(INDEX('MEMORIAL DESCRITIVO-BRI'!B:B,SMALL(IF('MEMORIAL DESCRITIVO-BRI'!$E$2:$E$4000=\"Sim\",ROW('MEMORIAL DESCRITIVO-BRI'!$B$2:$B$4000)),ROW(B156))), \"\")","v":""},{"$f":"IFERROR(INDEX('MEMORIAL DESCRITIVO-BRI'!I:I,SMALL(IF('MEMORIAL DESCRITIVO-BRI'!$E$2:$E$4000=\"Sim\",ROW('MEMORIAL DESCRITIVO-BRI'!$I$2:$I$4000)),ROW(B156))), \"\")","v":""},{"$f":"IFERROR(INDEX('MEMORIAL DESCRITIVO-BRI'!F:F,SMALL(IF('MEMORIAL DESCRITIVO-BRI'!$E$2:$E$4000=\"Sim\",ROW('MEMORIAL DESCRITIVO-BRI'!$F$2:$F$4000)),ROW(B156))) & \" - \" & INDEX('MEMORIAL DESCRITIVO-BRI'!H:H,SMALL(IF('MEMORIAL DESCRITIVO-BRI'!$E$2:$E$4000=\"Sim\",ROW('MEMORIAL DESCRITIVO-BRI'!$H$2:$H$4000)),ROW(B156))), \"\")","v":""},null,{"$f":"IFERROR(INDEX('MEMORIAL DESCRITIVO-BRI'!S:S,SMALL(IF('MEMORIAL DESCRITIVO-BRI'!$E$2:$E$4000=\"Sim\",ROW('MEMORIAL DESCRITIVO-BRI'!$S$2:$S$4000)),ROW(B156))), \"\")","v":""},{"$f":"IFERROR(INDEX('MEMORIAL DESCRITIVO-BRI'!Z:Z,SMALL(IF('MEMORIAL DESCRITIVO-BRI'!$E$2:$E$4000=\"Sim\",ROW('MEMORIAL DESCRITIVO-BRI'!$Z$2:$Z$4000)),ROW(B156))), \"\")","v":""},{"$f":"IFERROR(INDEX('MEMORIAL DESCRITIVO-BRI'!W:W,SMALL(IF('MEMORIAL DESCRITIVO-BRI'!$E$2:$E$4000=\"Sim\",ROW('MEMORIAL DESCRITIVO-BRI'!$W$2:$W$4000)),ROW(B156))), \"\")","v":""},{"$f":"IFERROR(INDEX('MEMORIAL DESCRITIVO-BRI'!G:G,SMALL(IF('MEMORIAL DESCRITIVO-BRI'!$E$2:$E$4000=\"Sim\",ROW('MEMORIAL DESCRITIVO-BRI'!$G$2:$G$4000)),ROW(B156))), \"\")","v":""},{"$f":"IFERROR(INDEX('MEMORIAL DESCRITIVO-BRI'!P:P,SMALL(IF('MEMORIAL DESCRITIVO-BRI'!$E$2:$E$4000=\"Sim\",ROW('MEMORIAL DESCRITIVO-BRI'!$P$2:$P$4000)),ROW(B156))), \"\")","v":""},{"$f":"IFERROR(INDEX('MEMORIAL DESCRITIVO-BRI'!Q:Q,SMALL(IF('MEMORIAL DESCRITIVO-BRI'!$E$2:$E$4000=\"Sim\",ROW('MEMORIAL DESCRITIVO-BRI'!$Q$2:$Q$4000)),ROW(B156))), \"\")","v":""}]
[null,{"$f":"IFERROR(INDEX('MEMORIAL DESCRITIVO-BRI'!B:B,SMALL(IF('MEMORIAL DESCRITIVO-BRI'!$E$2:$E$4000=\"Sim\",ROW('MEMORIAL DESCRITIVO-BRI'!$B$2:$B$4000)),ROW(B157))), \"\")","v":""},{"$f":"IFERROR(INDEX('MEMORIAL DESCRITIVO-BRI'!I:I,SMALL(IF('MEMORIAL DESCRITIVO-BRI'!$E$2:$E$4000=\"Sim\",ROW('MEMORIAL DESCRITIVO-BRI'!$I$2:$I$4000)),ROW(B157))), \"\")","v":""},{"$f":"IFERROR(INDEX('MEMORIAL DESCRITIVO-BRI'!F:F,SMALL(IF('MEMORIAL DESCRITIVO-BRI'!$E$2:$E$4000=\"Sim\",ROW('MEMORIAL DESCRITIVO-BRI'!$F$2:$F$4000)),ROW(B157))) & \" - \" & INDEX('MEMORIAL DESCRITIVO-BRI'!H:H,SMALL(IF('MEMORIAL DESCRITIVO-BRI'!$E$2:$E$4000=\"Sim\",ROW('MEMORIAL DESCRITIVO-BRI'!$H$2:$H$4000)),ROW(B157))), \"\")","v":""},null,{"$f":"IFERROR(INDEX('MEMORIAL DESCRITIVO-BRI'!S:S,SMALL(IF('MEMORIAL DESCRITIVO-BRI'!$E$2:$E$4000=\"Sim\",ROW('MEMORIAL DESCRITIVO-BRI'!$S$2:$S$4000)),ROW(B157))), \"\")","v":""},{"$f":"IFERROR(INDEX('MEMORIAL DESCRITIVO-BRI'!Z:Z,SMALL(IF('MEMORIAL DESCRITIVO-BRI'!$E$2:$E$4000=\"Sim\",ROW('MEMORIAL DESCRITIVO-BRI'!$Z$2:$Z$4000)),ROW(B157))), \"\")","v":""},{"$f":"IFERROR(INDEX('MEMORIAL DESCRITIVO-BRI'!W:W,SMALL(IF('MEMORIAL DESCRITIVO-BRI'!$E$2:$E$4000=\"Sim\",ROW('MEMORIAL DESCRITIVO-BRI'!$W$2:$W$4000)),ROW(B157))), \"\")","v":""},{"$f":"IFERROR(INDEX('MEMORIAL DESCRITIVO-BRI'!G:G,SMALL(IF('MEMORIAL DESCRITIVO-BRI'!$E$2:$E$4000=\"Sim\",ROW('MEMORIAL DESCRITIVO-BRI'!$G$2:$G$4000)),ROW(B157))), \"\")","v":""},{"$f":"IFERROR(INDEX('MEMORIAL DESCRITIVO-BRI'!P:P,SMALL(IF('MEMORIAL DESCRITIVO-BRI'!$E$2:$E$4000=\"Sim\",ROW('MEMORIAL DESCRITIVO-BRI'!$P$2:$P$4000)),ROW(B157))), \"\")","v":""},{"$f":"IFERROR(INDEX('MEMORIAL DESCRITIVO-BRI'!Q:Q,SMALL(IF('MEMORIAL DESCRITIVO-BRI'!$E$2:$E$4000=\"Sim\",ROW('MEMORIAL DESCRITIVO-BRI'!$Q$2:$Q$4000)),ROW(B157))), \"\")","v":""}]
[null,{"$f":"IFERROR(INDEX('MEMORIAL DESCRITIVO-BRI'!B:B,SMALL(IF('MEMORIAL DESCRITIVO-BRI'!$E$2:$E$4000=\"Sim\",ROW('MEMORIAL DESCRITIVO-BRI'!$B$2:$B$4000)),ROW(B158))), \"\")","v":""},{"$f":"IFERROR(INDEX('MEMORIAL DESCRITIVO-BRI'!I:I,SMALL(IF('MEMORIAL DESCRITIVO-BRI'!$E$2:$E$4000=\"Sim\",ROW('MEMORIAL DESCRITIVO-BRI'!$I$2:$I$4000)),ROW(B158))), \"\")","v":""},{"$f":"IFERROR(INDEX('MEMORIAL DESCRITIVO-BRI'!F:F,SMALL(IF('MEMORIAL DESCRITIVO-BRI'!$E$2:$E$4000=\"Sim\",ROW('MEMORIAL DESCRITIVO-BRI'!$F$2:$F$4000)),ROW(B158))) & \" - \" & INDEX('MEMORIAL DESCRITIVO-BRI'!H:H,SMALL(IF('MEMORIAL DESCRITIVO-BRI'!$E$2:$E$4000=\"Sim\",ROW('MEMORIAL DESCRITIVO-BRI'!$H$2:$H$4000)),ROW(B158))), \"\")","v":""},null,{"$f":"IFERROR(INDEX('MEMORIAL DESCRITIVO-BRI'!S:S,SMALL(IF('MEMORIAL DESCRITIVO-BRI'!$E$2:$E$4000=\"Sim\",ROW('MEMORIAL DESCRITIVO-BRI'!$S$2:$S$4000)),ROW(B158))), \"\")","v":""},{"$f":"IFERROR(INDEX('MEMORIAL DESCRITIVO-BRI'!Z:Z,SMALL(IF('MEMORIAL DESCRITIVO-BRI'!$E$2:$E$4000=\"Sim\",ROW('MEMORIAL DESCRITIVO-BRI'!$Z$2:$Z$4000)),ROW(B158))), \"\")","v":""},{"$f":"IFERROR(INDEX('MEMORIAL DESCRITIVO-BRI'!W:W,SMALL(IF('MEMORIAL DESCRITIVO-BRI'!$E$2:$E$4000=\"Sim\",ROW('MEMORIAL DESCRITIVO-BRI'!$W$2:$W$4000)),ROW(B158))), \"\")","v":""},{"$f":"IFERROR(INDEX('MEMORIAL DESCRITIVO-BRI'!G:G,SMALL(IF('MEMORIAL DESCRITIVO-BRI'!$E$2:$E$4000=\"Sim\",ROW('MEMORIAL DESCRITIVO-BRI'!$G$2:$G$4000)),ROW(B158))), \"\")","v":""},{"$f":"IFERROR(INDEX('MEMORIAL DESCRITIVO-BRI'!P:P,SMALL(IF('MEMORIAL DESCRITIVO-BRI'!$E$2:$E$4000=\"Sim\",ROW('MEMORIAL DESCRITIVO-BRI'!$P$2:$P$4000)),ROW(B158))), \"\")","v":""},{"$f":"IFERROR(INDEX('MEMORIAL DESCRITIVO-BRI'!Q:Q,SMALL(IF('MEMORIAL DESCRITIVO-BRI'!$E$2:$E$4000=\"Sim\",ROW('MEMORIAL DESCRITIVO-BRI'!$Q$2:$Q$4000)),ROW(B158))), \"\")","v":""}]
[null,{"$f":"IFERROR(INDEX('MEMORIAL DESCRITIVO-BRI'!B:B,SMALL(IF('MEMORIAL DESCRITIVO-BRI'!$E$2:$E$4000=\"Sim\",ROW('MEMORIAL DESCRITIVO-BRI'!$B$2:$B$4000)),ROW(B159))), \"\")","v":""},{"$f":"IFERROR(INDEX('MEMORIAL DESCRITIVO-BRI'!I:I,SMALL(IF('MEMORIAL DESCRITIVO-BRI'!$E$2:$E$4000=\"Sim\",ROW('MEMORIAL DESCRITIVO-BRI'!$I$2:$I$4000)),ROW(B159))), \"\")","v":""},{"$f":"IFERROR(INDEX('MEMORIAL DESCRITIVO-BRI'!F:F,SMALL(IF('MEMORIAL DESCRITIVO-BRI'!$E$2:$E$4000=\"Sim\",ROW('MEMORIAL DESCRITIVO-BRI'!$F$2:$F$4000)),ROW(B159))) & \" - \" & INDEX('MEMORIAL DESCRITIVO-BRI'!H:H,SMALL(IF('MEMORIAL DESCRITIVO-BRI'!$E$2:$E$4000=\"Sim\",ROW('MEMORIAL DESCRITIVO-BRI'!$H$2:$H$4000)),ROW(B159))), \"\")","v":""},null,{"$f":"IFERROR(INDEX('MEMORIAL DESCRITIVO-BRI'!S:S,SMALL(IF('MEMORIAL DESCRITIVO-BRI'!$E$2:$E$4000=\"Sim\",ROW('MEMORIAL DESCRITIVO-BRI'!$S$2:$S$4000)),ROW(B159))), \"\")","v":""},{"$f":"IFERROR(INDEX('MEMORIAL DESCRITIVO-BRI'!Z:Z,SMALL(IF('MEMORIAL DESCRITIVO-BRI'!$E$2:$E$4000=\"Sim\",ROW('MEMORIAL DESCRITIVO-BRI'!$Z$2:$Z$4000)),ROW(B159))), \"\")","v":""},{"$f":"IFERROR(INDEX('MEMORIAL DESCRITIVO-BRI'!W:W,SMALL(IF('MEMORIAL DESCRITIVO-BRI'!$E$2:$E$4000=\"Sim\",ROW('MEMORIAL DESCRITIVO-BRI'!$W$2:$W$4000)),ROW(B159))), \"\")","v":""},{"$f":"IFERROR(INDEX('MEMORIAL DESCRITIVO-BRI'!G:G,SMALL(IF('MEMORIAL DESCRITIVO-BRI'!$E$2:$E$4000=\"Sim\",ROW('MEMORIAL DESCRITIVO-BRI'!$G$2:$G$4000)),ROW(B159))), \"\")","v":""},{"$f":"IFERROR(INDEX('MEMORIAL DESCRITIVO-BRI'!P:P,SMALL(IF('MEMORIAL DESCRITIVO-BRI'!$E$2:$E$4000=\"Sim\",ROW('MEMORIAL DESCRITIVO-BRI'!$P$2:$P$4000)),ROW(B159))), \"\")","v":""},{"$f":"IFERROR(INDEX('MEMORIAL DESCRITIVO-BRI'!Q:Q,SMALL(IF('MEMORIAL DESCRITIVO-BRI'!$E$2:$E$4000=\"Sim\",ROW('MEMORIAL DESCRITIVO-BRI'!$Q$2:$Q$4000)),ROW(B159))), \"\")","v":""}]
[null,{"$f":"IFERROR(INDEX('MEMORIAL DESCRITIVO-BRI'!B:B,SMALL(IF('MEMORIAL DESCRITIVO-BRI'!$E$2:$E$4000=\"Sim\",ROW('MEMORIAL DESCRITIVO-BRI'!$B$2:$B$4000)),ROW(B160))), \"\")","v":""},{"$f":"IFERROR(INDEX('MEMORIAL DESCRITIVO-BRI'!I:I,SMALL(IF('MEMORIAL DESCRITIVO-BRI'!$E$2:$E$4000=\"Sim\",ROW('MEMORIAL DESCRITIVO-BRI'!$I$2:$I$4000)),ROW(B160))), \"\")","v":""},{"$f":"IFERROR(INDEX('MEMORIAL DESCRITIVO-BRI'!F:F,SMALL(IF('MEMORIAL DESCRITIVO-BRI'!$E$2:$E$4000=\"Sim\",ROW('MEMORIAL DESCRITIVO-BRI'!$F$2:$F$4000)),ROW(B160))) & \" - \" & INDEX('MEMORIAL DESCRITIVO-BRI'!H:H,SMALL(IF('MEMORIAL DESCRITIVO-BRI'!$E$2:$E$4000=\"Sim\",ROW('MEMORIAL DESCRITIVO-BRI'!$H$2:$H$4000)),ROW(B160))), \"\")","v":""},null,{"$f":"IFERROR(INDEX('MEMORIAL DESCRITIVO-BRI'!S:S,SMALL(IF('MEMORIAL DESCRITIVO-BRI'!$E$2:$E$4000=\"Sim\",ROW('MEMORIAL DESCRITIVO-BRI'!$S$2:$S$4000)),ROW(B160))), \"\")","v":""},{"$f":"IFERROR(INDEX('MEMORIAL DESCRITIVO-BRI'!Z:Z,SMALL(IF('MEMORIAL DESCRITIVO-BRI'!$E$2:$E$4000=\"Sim\",ROW('MEMORIAL DESCRITIVO-BRI'!$Z$2:$Z$4000)),ROW(B160))), \"\")","v":""},{"$f":"IFERROR(INDEX('MEMORIAL DESCRITIVO-BRI'!W:W,SMALL(IF('MEMORIAL DESCRITIVO-BRI'!$E$2:$E$4000=\"Sim\",ROW('MEMORIAL DESCRITIVO-BRI'!$W$2:$W$4000)),ROW(B160))), \"\")","v":""},{"$f":"IFERROR(INDEX('MEMORIAL DESCRITIVO-BRI'!G:G,SMALL(IF('MEMORIAL DESCRITIVO-BRI'!$E$2:$E$4000=\"Sim\",ROW('MEMORIAL DESCRITIVO-BRI'!$G$2:$G$4000)),ROW(B160))), \"\")","v":""},{"$f":"IFERROR(INDEX('MEMORIAL DESCRITIVO-BRI'!P:P,SMALL(IF('MEMORIAL DESCRITIVO-BRI'!$E$2:$E$4000=\"Sim\",ROW('MEMORIAL DESCRITIVO-BRI'!$P$2:$P$4000)),ROW(B160))), \"\")","v":""},{"$f":"IFERROR(INDEX('MEMORIAL DESCRITIVO-BRI'!Q:Q,SMALL(IF('MEMORIAL DESCRITIVO-BRI'!$E$2:$E$4000=\"Sim\",ROW('MEMORIAL DESCRITIVO-BRI'!$Q$2:$Q$4000)),ROW(B160))), \"\")","v":""}]
[null,{"$f":"IFERROR(INDEX('MEMORIAL DESCRITIVO-BRI'!B:B,SMALL(IF('MEMORIAL DESCRITIVO-BRI'!$E$2:$E$4000=\"Sim\",ROW('MEMORIAL DESCRITIVO-BRI'!$B$2:$B$4000)),ROW(B161))), \"\")","v":""},{"$f":"IFERROR(INDEX('MEMORIAL DESCRITIVO-BRI'!I:I,SMALL(IF('MEMORIAL DESCRITIVO-BRI'!$E$2:$E$4000=\"Sim\",ROW('MEMORIAL DESCRITIVO-BRI'!$I$2:$I$4000)),ROW(B161))), \"\")","v":""},{"$f":"IFERROR(INDEX('MEMORIAL DESCRITIVO-BRI'!F:F,SMALL(IF('MEMORIAL DESCRITIVO-BRI'!$E$2:$E$4000=\"Sim\",ROW('MEMORIAL DESCRITIVO-BRI'!$F$2:$F$4000)),ROW(B161))) & \" - \" & INDEX('MEMORIAL DESCRITIVO-BRI'!H:H,SMALL(IF('MEMORIAL DESCRITIVO-BRI'!$E$2:$E$4000=\"Sim\",ROW('MEMORIAL DESCRITIVO-BRI'!$H$2:$H$4000)),ROW(B161))), \"\")","v":""},null,{"$f":"IFERROR(INDEX('MEMORIAL DESCRITIVO-BRI'!S:S,SMALL(IF('MEMORIAL DESCRITIVO-BRI'!$E$2:$E$4000=\"Sim\",ROW('MEMORIAL DESCRITIVO-BRI'!$S$2:$S$4000)),ROW(B161))), \"\")","v":""},{"$f":"IFERROR(INDEX('MEMORIAL DESCRITIVO-BRI'!Z:Z,SMALL(IF('MEMORIAL DESCRITIVO-BRI'!$E$2:$E$4000=\"Sim\",ROW('MEMORIAL DESCRITIVO-BRI'!$Z$2:$Z$4000)),ROW(B161))), \"\")","v":""},{"$f":"IFERROR(INDEX('MEMORIAL DESCRITIVO-BRI'!W:W,SMALL(IF('MEMORIAL DESCRITIVO-BRI'!$E$2:$E$4000=\"Sim\",ROW('MEMORIAL DESCRITIVO-BRI'!$W$2:$W$4000)),ROW(B161))), \"\")","v":""},{"$f":"IFERROR(INDEX('MEMORIAL DESCRITIVO-BRI'!G:G,SMALL(IF('MEMORIAL DESCRITIVO-BRI'!$E$2:$E$4000=\"Sim\",ROW('MEMORIAL DESCRITIVO-BRI'!$G$2:$G$4000)),ROW(B161))), \"\")","v":""},{"$f":"IFERROR(INDEX('MEMORIAL DESCRITIVO-BRI'!P:P,SMALL(IF('MEMORIAL DESCRITIVO-BRI'!$E$2:$E$4000=\"Sim\",ROW('MEMORIAL DESCRITIVO-BRI'!$P$2:$P$4000)),ROW(B161))), \"\")","v":""},{"$f":"IFERROR(INDEX('MEMORIAL DESCRITIVO-BRI'!Q:Q,SMALL(IF('MEMORIAL DESCRITIVO-BRI'!$E$2:$E$4000=\"Sim\",ROW('MEMORIAL DESCRITIVO-BRI'!$Q$2:$Q$4000)),ROW(B161))), \"\")","v":""}]
[null,{"$f":"IFERROR(INDEX('MEMORIAL DESCRITIVO-BRI'!B:B,SMALL(IF('MEMORIAL DESCRITIVO-BRI'!$E$2:$E$4000=\"Sim\",ROW('MEMORIAL DESCRITIVO-BRI'!$B$2:$B$4000)),ROW(B162))), \"\")","v":""},{"$f":"IFERROR(INDEX('MEMORIAL DESCRITIVO-BRI'!I:I,SMALL(IF('MEMORIAL DESCRITIVO-BRI'!$E$2:$E$4000=\"Sim\",ROW('MEMORIAL DESCRITIVO-BRI'!$I$2:$I$4000)),ROW(B162))), \"\")","v":""},{"$f":"IFERROR(INDEX('MEMORIAL DESCRITIVO-BRI'!F:F,SMALL(IF('MEMORIAL DESCRITIVO-BRI'!$E$2:$E$4000=\"Sim\",ROW('MEMORIAL DESCRITIVO-BRI'!$F$2:$F$4000)),ROW(B162))) & \" - \" & INDEX('MEMORIAL DESCRITIVO-BRI'!H:H,SMALL(IF('MEMORIAL DESCRITIVO-BRI'!$E$2:$E$4000=\"Sim\",ROW('MEMORIAL DESCRITIVO-BRI'!$H$2:$H$4000)),ROW(B162))), \"\")","v":""},null,{"$f":"IFERROR(INDEX('MEMORIAL DESCRITIVO-BRI'!S:S,SMALL(IF('MEMORIAL DESCRITIVO-BRI'!$E$2:$E$4000=\"Sim\",ROW('MEMORIAL DESCRITIVO-BRI'!$S$2:$S$4000)),ROW(B162))), \"\")","v":""},{"$f":"IFERROR(INDEX('MEMORIAL DESCRITIVO-BRI'!Z:Z,SMALL(IF('MEMORIAL DESCRITIVO-BRI'!$E$2:$E$4000=\"Sim\",ROW('MEMORIAL DESCRITIVO-BRI'!$Z$2:$Z$4000)),ROW(B162))), \"\")","v":""},{"$f":"IFERROR(INDEX('MEMORIAL DESCRITIVO-BRI'!W:W,SMALL(IF('MEMORIAL DESCRITIVO-BRI'!$E$2:$E$4000=\"Sim\",ROW('MEMORIAL DESCRITIVO-BRI'!$W$2:$W$4000)),ROW(B162))), \"\")","v":""},{"$f":"IFERROR(INDEX('MEMORIAL DESCRITIVO-BRI'!G:G,SMALL(IF('MEMORIAL DESCRITIVO-BRI'!$E$2:$E$4000=\"Sim\",ROW('MEMORIAL DESCRITIVO-BRI'!$G$2:$G$4000)),ROW(B162))), \"\")","v":""},{"$f":"IFERROR(INDEX('MEMORIAL DESCRITIVO-BRI'!P:P,SMALL(IF('MEMORIAL DESCRITIVO-BRI'!$E$2:$E$4000=\"Sim\",ROW('MEMORIAL DESCRITIVO-BRI'!$P$2:$P$4000)),ROW(B162))), \"\")","v":""},{"$f":"IFERROR(INDEX('MEMORIAL DESCRITIVO-BRI'!Q:Q,SMALL(IF('MEMORIAL DESCRITIVO-BRI'!$E$2:$E$4000=\"Sim\",ROW('MEMORIAL DESCRITIVO-BRI'!$Q$2:$Q$4000)),ROW(B162))), \"\")","v":""}]
[null,{"$f":"IFERROR(INDEX('MEMORIAL DESCRITIVO-BRI'!B:B,SMALL(IF('MEMORIAL DESCRITIVO-BRI'!$E$2:$E$4000=\"Sim\",ROW('MEMORIAL DESCRITIVO-BRI'!$B$2:$B$4000)),ROW(B163))), \"\")","v":""},{"$f":"IFERROR(INDEX('MEMORIAL DESCRITIVO-BRI'!I:I,SMALL(IF('MEMORIAL DESCRITIVO-BRI'!$E$2:$E$4000=\"Sim\",ROW('MEMORIAL DESCRITIVO-BRI'!$I$2:$I$4000)),ROW(B163))), \"\")","v":""},{"$f":"IFERROR(INDEX('MEMORIAL DESCRITIVO-BRI'!F:F,SMALL(IF('MEMORIAL DESCRITIVO-BRI'!$E$2:$E$4000=\"Sim\",ROW('MEMORIAL DESCRITIVO-BRI'!$F$2:$F$4000)),ROW(B163))) & \" - \" & INDEX('MEMORIAL DESCRITIVO-BRI'!H:H,SMALL(IF('MEMORIAL DESCRITIVO-BRI'!$E$2:$E$4000=\"Sim\",ROW('MEMORIAL DESCRITIVO-BRI'!$H$2:$H$4000)),ROW(B163))), \"\")","v":""},null,{"$f":"IFERROR(INDEX('MEMORIAL DESCRITIVO-BRI'!S:S,SMALL(IF('MEMORIAL DESCRITIVO-BRI'!$E$2:$E$4000=\"Sim\",ROW('MEMORIAL DESCRITIVO-BRI'!$S$2:$S$4000)),ROW(B163))), \"\")","v":""},{"$f":"IFERROR(INDEX('MEMORIAL DESCRITIVO-BRI'!Z:Z,SMALL(IF('MEMORIAL DESCRITIVO-BRI'!$E$2:$E$4000=\"Sim\",ROW('MEMORIAL DESCRITIVO-BRI'!$Z$2:$Z$4000)),ROW(B163))), \"\")","v":""},{"$f":"IFERROR(INDEX('MEMORIAL DESCRITIVO-BRI'!W:W,SMALL(IF('MEMORIAL DESCRITIVO-BRI'!$E$2:$E$4000=\"Sim\",ROW('MEMORIAL DESCRITIVO-BRI'!$W$2:$W$4000)),ROW(B163))), \"\")","v":""},{"$f":"IFERROR(INDEX('MEMORIAL DESCRITIVO-BRI'!G:G,SMALL(IF('MEMORIAL DESCRITIVO-BRI'!$E$2:$E$4000=\"Sim\",ROW('MEMORIAL DESCRITIVO-BRI'!$G$2:$G$4000)),ROW(B163))), \"\")","v":""},{"$f":"IFERROR(INDEX('MEMORIAL DESCRITIVO-BRI'!P:P,SMALL(IF('MEMORIAL DESCRITIVO-BRI'!$E$2:$E$4000=\"Sim\",ROW('MEMORIAL DESCRITIVO-BRI'!$P$2:$P$4000)),ROW(B163))), \"\")","v":""},{"$f":"IFERROR(INDEX('MEMORIAL DESCRITIVO-BRI'!Q:Q,SMALL(IF('MEMORIAL DESCRITIVO-BRI'!$E$2:$E$4000=\"Sim\",ROW('MEMORIAL DESCRITIVO-BRI'!$Q$2:$Q$4000)),ROW(B163))), \"\")","v":""}]
[null,{"$f":"IFERROR(INDEX('MEMORIAL DESCRITIVO-BRI'!B:B,SMALL(IF('MEMORIAL DESCRITIVO-BRI'!$E$2:$E$4000=\"Sim\",ROW('MEMORIAL DESCRITIVO-BRI'!$B$2:$B$4000)),ROW(B164))), \"\")","v":""},{"$f":"IFERROR(INDEX('MEMORIAL DESCRITIVO-BRI'!I:I,SMALL(IF('MEMORIAL DESCRITIVO-BRI'!$E$2:$E$4000=\"Sim\",ROW('MEMORIAL DESCRITIVO-BRI'!$I$2:$I$4000)),ROW(B164))), \"\")","v":""},{"$f":"IFERROR(INDEX('MEMORIAL DESCRITIVO-BRI'!F:F,SMALL(IF('MEMORIAL DESCRITIVO-BRI'!$E$2:$E$4000=\"Sim\",ROW('MEMORIAL DESCRITIVO-BRI'!$F$2:$F$4000)),ROW(B164))) & \" - \" & INDEX('MEMORIAL DESCRITIVO-BRI'!H:H,SMALL(IF('MEMORIAL DESCRITIVO-BRI'!$E$2:$E$4000=\"Sim\",ROW('MEMORIAL DESCRITIVO-BRI'!$H$2:$H$4000)),ROW(B164))), \"\")","v":""},null,{"$f":"IFERROR(INDEX('MEMORIAL DESCRITIVO-BRI'!S:S,SMALL(IF('MEMORIAL DESCRITIVO-BRI'!$E$2:$E$4000=\"Sim\",ROW('MEMORIAL DESCRITIVO-BRI'!$S$2:$S$4000)),ROW(B164))), \"\")","v":""},{"$f":"IFERROR(INDEX('MEMORIAL DESCRITIVO-BRI'!Z:Z,SMALL(IF('MEMORIAL DESCRITIVO-BRI'!$E$2:$E$4000=\"Sim\",ROW('MEMORIAL DESCRITIVO-BRI'!$Z$2:$Z$4000)),ROW(B164))), \"\")","v":""},{"$f":"IFERROR(INDEX('MEMORIAL DESCRITIVO-BRI'!W:W,SMALL(IF('MEMORIAL DESCRITIVO-BRI'!$E$2:$E$4000=\"Sim\",ROW('MEMORIAL DESCRITIVO-BRI'!$W$2:$W$4000)),ROW(B164))), \"\")","v":""},{"$f":"IFERROR(INDEX('MEMORIAL DESCRITIVO-BRI'!G:G,SMALL(IF('MEMORIAL DESCRITIVO-BRI'!$E$2:$E$4000=\"Sim\",ROW('MEMORIAL DESCRITIVO-BRI'!$G$2:$G$4000)),ROW(B164))), \"\")","v":""},{"$f":"IFERROR(INDEX('MEMORIAL DESCRITIVO-BRI'!P:P,SMALL(IF('MEMORIAL DESCRITIVO-BRI'!$E$2:$E$4000=\"Sim\",ROW('MEMORIAL DESCRITIVO-BRI'!$P$2:$P$4000)),ROW(B164))), \"\")","v":""},{"$f":"IFERROR(INDEX('MEMORIAL DESCRITIVO-BRI'!Q:Q,SMALL(IF('MEMORIAL DESCRITIVO-BRI'!$E$2:$E$4000=\"Sim\",ROW('MEMORIAL DESCRITIVO-BRI'!$Q$2:$Q$4000)),ROW(B164))), \"\")","v":""}]
[null,{"$f":"IFERROR(INDEX('MEMORIAL DESCRITIVO-BRI'!B:B,SMALL(IF('MEMORIAL DESCRITIVO-BRI'!$E$2:$E$4000=\"Sim\",ROW('MEMORIAL DESCRITIVO-BRI'!$B$2:$B$4000)),ROW(B165))), \"\")","v":""},{"$f":"IFERROR(INDEX('MEMORIAL DESCRITIVO-BRI'!I:I,SMALL(IF('MEMORIAL DESCRITIVO-BRI'!$E$2:$E$4000=\"Sim\",ROW('MEMORIAL DESCRITIVO-BRI'!$I$2:$I$4000)),ROW(B165))), \"\")","v":""},{"$f":"IFERROR(INDEX('MEMORIAL DESCRITIVO-BRI'!F:F,SMALL(IF('MEMORIAL DESCRITIVO-BRI'!$E$2:$E$4000=\"Sim\",ROW('MEMORIAL DESCRITIVO-BRI'!$F$2:$F$4000)),ROW(B165))) & \" - \" & INDEX('MEMORIAL DESCRITIVO-BRI'!H:H,SMALL(IF('MEMORIAL DESCRITIVO-BRI'!$E$2:$E$4000=\"Sim\",ROW('MEMORIAL DESCRITIVO-BRI'!$H$2:$H$4000)),ROW(B165))), \"\")","v":""},null,{"$f":"IFERROR(INDEX('MEMORIAL DESCRITIVO-BRI'!S:S,SMALL(IF('MEMORIAL DESCRITIVO-BRI'!$E$2:$E$4000=\"Sim\",ROW('MEMORIAL DESCRITIVO-BRI'!$S$2:$S$4000)),ROW(B165))), \"\")","v":""},{"$f":"IFERROR(INDEX('MEMORIAL DESCRITIVO-BRI'!Z:Z,SMALL(IF('MEMORIAL DESCRITIVO-BRI'!$E$2:$E$4000=\"Sim\",ROW('MEMORIAL DESCRITIVO-BRI'!$Z$2:$Z$4000)),ROW(B165))), \"\")","v":""},{"$f":"IFERROR(INDEX('MEMORIAL DESCRITIVO-BRI'!W:W,SMALL(IF('MEMORIAL DESCRITIVO-BRI'!$E$2:$E$4000=\"Sim\",ROW('MEMORIAL DESCRITIVO-BRI'!$W$2:$W$4000)),ROW(B165))), \"\")","v":""},{"$f":"IFERROR(INDEX('MEMORIAL DESCRITIVO-BRI'!G:G,SMALL(IF('MEMORIAL DESCRITIVO-BRI'!$E$2:$E$4000=\"Sim\",ROW('MEMORIAL DESCRITIVO-BRI'!$G$2:$G$4000)),ROW(B165))), \"\")","v":""},{"$f":"IFERROR(INDEX('MEMORIAL DESCRITIVO-BRI'!P:P,SMALL(IF('MEMORIAL DESCRITIVO-BRI'!$E$2:$E$4000=\"Sim\",ROW('MEMORIAL DESCRITIVO-BRI'!$P$2:$P$4000)),ROW(B165))), \"\")","v":""},{"$f":"IFERROR(INDEX('MEMORIAL DESCRITIVO-BRI'!Q:Q,SMALL(IF('MEMORIAL DESCRITIVO-BRI'!$E$2:$E$4000=\"Sim\",ROW('MEMORIAL DESCRITIVO-BRI'!$Q$2:$Q$4000)),ROW(B165))), \"\")","v":""}]
[null,{"$f":"IFERROR(INDEX('MEMORIAL DESCRITIVO-BRI'!B:B,SMALL(IF('MEMORIAL DESCRITIVO-BRI'!$E$2:$E$4000=\"Sim\",ROW('MEMORIAL DESCRITIVO-BRI'!$B$2:$B$4000)),ROW(B166))), \"\")","v":""},{"$f":"IFERROR(INDEX('MEMORIAL DESCRITIVO-BRI'!I:I,SMALL(IF('MEMORIAL DESCRITIVO-BRI'!$E$2:$E$4000=\"Sim\",ROW('MEMORIAL DESCRITIVO-BRI'!$I$2:$I$4000)),ROW(B166))), \"\")","v":""},{"$f":"IFERROR(INDEX('MEMORIAL DESCRITIVO-BRI'!F:F,SMALL(IF('MEMORIAL DESCRITIVO-BRI'!$E$2:$E$4000=\"Sim\",ROW('MEMORIAL DESCRITIVO-BRI'!$F$2:$F$4000)),ROW(B166))) & \" - \" & INDEX('MEMORIAL DESCRITIVO-BRI'!H:H,SMALL(IF('MEMORIAL DESCRITIVO-BRI'!$E$2:$E$4000=\"Sim\",ROW('MEMORIAL DESCRITIVO-BRI'!$H$2:$H$4000)),ROW(B166))), \"\")","v":""},null,{"$f":"IFERROR(INDEX('MEMORIAL DESCRITIVO-BRI'!S:S,SMALL(IF('MEMORIAL DESCRITIVO-BRI'!$E$2:$E$4000=\"Sim\",ROW('MEMORIAL DESCRITIVO-BRI'!$S$2:$S$4000)),ROW(B166))), \"\")","v":""},{"$f":"IFERROR(INDEX('MEMORIAL DESCRITIVO-BRI'!Z:Z,SMALL(IF('MEMORIAL DESCRITIVO-BRI'!$E$2:$E$4000=\"Sim\",ROW('MEMORIAL DESCRITIVO-BRI'!$Z$2:$Z$4000)),ROW(B166))), \"\")","v":""},{"$f":"IFERROR(INDEX('MEMORIAL DESCRITIVO-BRI'!W:W,SMALL(IF('MEMORIAL DESCRITIVO-BRI'!$E$2:$E$4000=\"Sim\",ROW('MEMORIAL DESCRITIVO-BRI'!$W$2:$W$4000)),ROW(B166))), \"\")","v":""},{"$f":"IFERROR(INDEX('MEMORIAL DESCRITIVO-BRI'!G:G,SMALL(IF('MEMORIAL DESCRITIVO-BRI'!$E$2:$E$4000=\"Sim\",ROW('MEMORIAL DESCRITIVO-BRI'!$G$2:$G$4000)),ROW(B166))), \"\")","v":""},{"$f":"IFERROR(INDEX('MEMORIAL DESCRITIVO-BRI'!P:P,SMALL(IF('MEMORIAL DESCRITIVO-BRI'!$E$2:$E$4000=\"Sim\",ROW('MEMORIAL DESCRITIVO-BRI'!$P$2:$P$4000)),ROW(B166))), \"\")","v":""},{"$f":"IFERROR(INDEX('MEMORIAL DESCRITIVO-BRI'!Q:Q,SMALL(IF('MEMORIAL DESCRITIVO-BRI'!$E$2:$E$4000=\"Sim\",ROW('MEMORIAL DESCRITIVO-BRI'!$Q$2:$Q$4000)),ROW(B166))), \"\")","v":""}]
[null,{"$f":"IFERROR(INDEX('MEMORIAL DESCRITIVO-BRI'!B:B,SMALL(IF('MEMORIAL DESCRITIVO-BRI'!$E$2:$E$4000=\"Sim\",ROW('MEMORIAL DESCRITIVO-BRI'!$B$2:$B$4000)),ROW(B167))), \"\")","v":""},{"$f":"IFERROR(INDEX('MEMORIAL DESCRITIVO-BRI'!I:I,SMALL(IF('MEMORIAL DESCRITIVO-BRI'!$E$2:$E$4000=\"Sim\",ROW('MEMORIAL DESCRITIVO-BRI'!$I$2:$I$4000)),ROW(B167))), \"\")","v":""},{"$f":"IFERROR(INDEX('MEMORIAL DESCRITIVO-BRI'!F:F,SMALL(IF('MEMORIAL DESCRITIVO-BRI'!$E$2:$E$4000=\"Sim\",ROW('MEMORIAL DESCRITIVO-BRI'!$F$2:$F$4000)),ROW(B167))) & \" - \" & INDEX('MEMORIAL DESCRITIVO-BRI'!H:H,SMALL(IF('MEMORIAL DESCRITIVO-BRI'!$E$2:$E$4000=\"Sim\",ROW('MEMORIAL DESCRITIVO-BRI'!$H$2:$H$4000)),ROW(B167))), \"\")","v":""},null,{"$f":"IFERROR(INDEX('MEMORIAL DESCRITIVO-BRI'!S:S,SMALL(IF('MEMORIAL DESCRITIVO-BRI'!$E$2:$E$4000=\"Sim\",ROW('MEMORIAL DESCRITIVO-BRI'!$S$2:$S$4000)),ROW(B167))), \"\")","v":""},{"$f":"IFERROR(INDEX('MEMORIAL DESCRITIVO-BRI'!Z:Z,SMALL(IF('MEMORIAL DESCRITIVO-BRI'!$E$2:$E$4000=\"Sim\",ROW('MEMORIAL DESCRITIVO-BRI'!$Z$2:$Z$4000)),ROW(B167))), \"\")","v":""},{"$f":"IFERROR(INDEX('MEMORIAL DESCRITIVO-BRI'!W:W,SMALL(IF('MEMORIAL DESCRITIVO-BRI'!$E$2:$E$4000=\"Sim\",ROW('MEMORIAL DESCRITIVO-BRI'!$W$2:$W$4000)),ROW(B167))), \"\")","v":""},{"$f":"IFERROR(INDEX('MEMORIAL DESCRITIVO-BRI'!G:G,SMALL(IF('MEMORIAL DESCRITIVO-BRI'!$E$2:$E$4000=\"Sim\",ROW('MEMORIAL DESCRITIVO-BRI'!$G$2:$G$4000)),ROW(B167))), \"\")","v":""},{"$f":"IFERROR(INDEX('MEMORIAL DESCRITIVO-BRI'!P:P,SMALL(IF('MEMORIAL DESCRITIVO-BRI'!$E$2:$E$4000=\"Sim\",ROW('MEMORIAL DESCRITIVO-BRI'!$P$2:$P$4000)),ROW(B167))), \"\")","v":""},{"$f":"IFERROR(INDEX('MEMORIAL DESCRITIVO-BRI'!Q:Q,SMALL(IF('MEMORIAL DESCRITIVO-BRI'!$E$2:$E$4000=\"Sim\",ROW('MEMORIAL DESCRITIVO-BRI'!$Q$2:$Q$4000)),ROW(B167))), \"\")","v":""}]
[null,{"$f":"IFERROR(INDEX('MEMORIAL DESCRITIVO-BRI'!B:B,SMALL(IF('MEMORIAL DESCRITIVO-BRI'!$E$2:$E$4000=\"Sim\",ROW('MEMORIAL DESCRITIVO-BRI'!$B$2:$B$4000)),ROW(B168))), \"\")","v":""},{"$f":"IFERROR(INDEX('MEMORIAL DESCRITIVO-BRI'!I:I,SMALL(IF('MEMORIAL DESCRITIVO-BRI'!$E$2:$E$4000=\"Sim\",ROW('MEMORIAL DESCRITIVO-BRI'!$I$2:$I$4000)),ROW(B168))), \"\")","v":""},{"$f":"IFERROR(INDEX('MEMORIAL DESCRITIVO-BRI'!F:F,SMALL(IF('MEMORIAL DESCRITIVO-BRI'!$E$2:$E$4000=\"Sim\",ROW('MEMORIAL DESCRITIVO-BRI'!$F$2:$F$4000)),ROW(B168))) & \" - \" & INDEX('MEMORIAL DESCRITIVO-BRI'!H:H,SMALL(IF('MEMORIAL DESCRITIVO-BRI'!$E$2:$E$4000=\"Sim\",ROW('MEMORIAL DESCRITIVO-BRI'!$H$2:$H$4000)),ROW(B168))), \"\")","v":""},null,{"$f":"IFERROR(INDEX('MEMORIAL DESCRITIVO-BRI'!S:S,SMALL(IF('MEMORIAL DESCRITIVO-BRI'!$E$2:$E$4000=\"Sim\",ROW('MEMORIAL DESCRITIVO-BRI'!$S$2:$S$4000)),ROW(B168))), \"\")","v":""},{"$f":"IFERROR(INDEX('MEMORIAL DESCRITIVO-BRI'!Z:Z,SMALL(IF('MEMORIAL DESCRITIVO-BRI'!$E$2:$E$4000=\"Sim\",ROW('MEMORIAL DESCRITIVO-BRI'!$Z$2:$Z$4000)),ROW(B168))), \"\")","v":""},{"$f":"IFERROR(INDEX('MEMORIAL DESCRITIVO-BRI'!W:W,SMALL(IF('MEMORIAL DESCRITIVO-BRI'!$E$2:$E$4000=\"Sim\",ROW('MEMORIAL DESCRITIVO-BRI'!$W$2:$W$4000)),ROW(B168))), \"\")","v":""},{"$f":"IFERROR(INDEX('MEMORIAL DESCRITIVO-BRI'!G:G,SMALL(IF('MEMORIAL DESCRITIVO-BRI'!$E$2:$E$4000=\"Sim\",ROW('MEMORIAL DESCRITIVO-BRI'!$G$2:$G$4000)),ROW(B168))), \"\")","v":""},{"$f":"IFERROR(INDEX('MEMORIAL DESCRITIVO-BRI'!P:P,SMALL(IF('MEMORIAL DESCRITIVO-BRI'!$E$2:$E$4000=\"Sim\",ROW('MEMORIAL DESCRITIVO-BRI'!$P$2:$P$4000)),ROW(B168))), \"\")","v":""},{"$f":"IFERROR(INDEX('MEMORIAL DESCRITIVO-BRI'!Q:Q,SMALL(IF('MEMORIAL DESCRITIVO-BRI'!$E$2:$E$4000=\"Sim\",ROW('MEMORIAL DESCRITIVO-BRI'!$Q$2:$Q$4000)),ROW(B168))), \"\")","v":""}]
[null,{"$f":"IFERROR(INDEX('MEMORIAL DESCRITIVO-BRI'!B:B,SMALL(IF('MEMORIAL DESCRITIVO-BRI'!$E$2:$E$4000=\"Sim\",ROW('MEMORIAL DESCRITIVO-BRI'!$B$2:$B$4000)),ROW(B169))), \"\")","v":""},{"$f":"IFERROR(INDEX('MEMORIAL DESCRITIVO-BRI'!I:I,SMALL(IF('MEMORIAL DESCRITIVO-BRI'!$E$2:$E$4000=\"Sim\",ROW('MEMORIAL DESCRITIVO-BRI'!$I$2:$I$4000)),ROW(B169))), \"\")","v":""},{"$f":"IFERROR(INDEX('MEMORIAL DESCRITIVO-BRI'!F:F,SMALL(IF('MEMORIAL DESCRITIVO-BRI'!$E$2:$E$4000=\"Sim\",ROW('MEMORIAL DESCRITIVO-BRI'!$F$2:$F$4000)),ROW(B169))) & \" - \" & INDEX('MEMORIAL DESCRITIVO-BRI'!H:H,SMALL(IF('MEMORIAL DESCRITIVO-BRI'!$E$2:$E$4000=\"Sim\",ROW('MEMORIAL DESCRITIVO-BRI'!$H$2:$H$4000)),ROW(B169))), \"\")","v":""},null,{"$f":"IFERROR(INDEX('MEMORIAL DESCRITIVO-BRI'!S:S,SMALL(IF('MEMORIAL DESCRITIVO-BRI'!$E$2:$E$4000=\"Sim\",ROW('MEMORIAL DESCRITIVO-BRI'!$S$2:$S$4000)),ROW(B169))), \"\")","v":""},{"$f":"IFERROR(INDEX('MEMORIAL DESCRITIVO-BRI'!Z:Z,SMALL(IF('MEMORIAL DESCRITIVO-BRI'!$E$2:$E$4000=\"Sim\",ROW('MEMORIAL DESCRITIVO-BRI'!$Z$2:$Z$4000)),ROW(B169))), \"\")","v":""},{"$f":"IFERROR(INDEX('MEMORIAL DESCRITIVO-BRI'!W:W,SMALL(IF('MEMORIAL DESCRITIVO-BRI'!$E$2:$E$4000=\"Sim\",ROW('MEMORIAL DESCRITIVO-BRI'!$W$2:$W$4000)),ROW(B169))), \"\")","v":""},{"$f":"IFERROR(INDEX('MEMORIAL DESCRITIVO-BRI'!G:G,SMALL(IF('MEMORIAL DESCRITIVO-BRI'!$E$2:$E$4000=\"Sim\",ROW('MEMORIAL DESCRITIVO-BRI'!$G$2:$G$4000)),ROW(B169))), \"\")","v":""},{"$f":"IFERROR(INDEX('MEMORIAL DESCRITIVO-BRI'!P:P,SMALL(IF('MEMORIAL DESCRITIVO-BRI'!$E$2:$E$4000=\"Sim\",ROW('MEMORIAL DESCRITIVO-BRI'!$P$2:$P$4000)),ROW(B169))), \"\")","v":""},{"$f":"IFERROR(INDEX('MEMORIAL DESCRITIVO-BRI'!Q:Q,SMALL(IF('MEMORIAL DESCRITIVO-BRI'!$E$2:$E$4000=\"Sim\",ROW('MEMORIAL DESCRITIVO-BRI'!$Q$2:$Q$4000)),ROW(B169))), \"\")","v":""}]
[null,{"$f":"IFERROR(INDEX('MEMORIAL DESCRITIVO-BRI'!B:B,SMALL(IF('MEMORIAL DESCRITIVO-BRI'!$E$2:$E$4000=\"Sim\",ROW('MEMORIAL DESCRITIVO-BRI'!$B$2:$B$4000)),ROW(B170))), \"\")","v":""},{"$f":"IFERROR(INDEX('MEMORIAL DESCRITIVO-BRI'!I:I,SMALL(IF('MEMORIAL DESCRITIVO-BRI'!$E$2:$E$4000=\"Sim\",ROW('MEMORIAL DESCRITIVO-BRI'!$I$2:$I$4000)),ROW(B170))), \"\")","v":""},{"$f":"IFERROR(INDEX('MEMORIAL DESCRITIVO-BRI'!F:F,SMALL(IF('MEMORIAL DESCRITIVO-BRI'!$E$2:$E$4000=\"Sim\",ROW('MEMORIAL DESCRITIVO-BRI'!$F$2:$F$4000)),ROW(B170))) & \" - \" & INDEX('MEMORIAL DESCRITIVO-BRI'!H:H,SMALL(IF('MEMORIAL DESCRITIVO-BRI'!$E$2:$E$4000=\"Sim\",ROW('MEMORIAL DESCRITIVO-BRI'!$H$2:$H$4000)),ROW(B170))), \"\")","v":""},null,{"$f":"IFERROR(INDEX('MEMORIAL DESCRITIVO-BRI'!S:S,SMALL(IF('MEMORIAL DESCRITIVO-BRI'!$E$2:$E$4000=\"Sim\",ROW('MEMORIAL DESCRITIVO-BRI'!$S$2:$S$4000)),ROW(B170))), \"\")","v":""},{"$f":"IFERROR(INDEX('MEMORIAL DESCRITIVO-BRI'!Z:Z,SMALL(IF('MEMORIAL DESCRITIVO-BRI'!$E$2:$E$4000=\"Sim\",ROW('MEMORIAL DESCRITIVO-BRI'!$Z$2:$Z$4000)),ROW(B170))), \"\")","v":""},{"$f":"IFERROR(INDEX('MEMORIAL DESCRITIVO-BRI'!W:W,SMALL(IF('MEMORIAL DESCRITIVO-BRI'!$E$2:$E$4000=\"Sim\",ROW('MEMORIAL DESCRITIVO-BRI'!$W$2:$W$4000)),ROW(B170))), \"\")","v":""},{"$f":"IFERROR(INDEX('MEMORIAL DESCRITIVO-BRI'!G:G,SMALL(IF('MEMORIAL DESCRITIVO-BRI'!$E$2:$E$4000=\"Sim\",ROW('MEMORIAL DESCRITIVO-BRI'!$G$2:$G$4000)),ROW(B170))), \"\")","v":""},{"$f":"IFERROR(INDEX('MEMORIAL DESCRITIVO-BRI'!P:P,SMALL(IF('MEMORIAL DESCRITIVO-BRI'!$E$2:$E$4000=\"Sim\",ROW('MEMORIAL DESCRITIVO-BRI'!$P$2:$P$4000)),ROW(B170))), \"\")","v":""},{"$f":"IFERROR(INDEX('MEMORIAL DESCRITIVO-BRI'!Q:Q,SMALL(IF('MEMORIAL DESCRITIVO-BRI'!$E$2:$E$4000=\"Sim\",ROW('MEMORIAL DESCRITIVO-BRI'!$Q$2:$Q$4000)),ROW(B170))), \"\")","v":""}]
[null,{"$f":"IFERROR(INDEX('MEMORIAL DESCRITIVO-BRI'!B:B,SMALL(IF('MEMORIAL DESCRITIVO-BRI'!$E$2:$E$4000=\"Sim\",ROW('MEMORIAL DESCRITIVO-BRI'!$B$2:$B$4000)),ROW(B171))), \"\")","v":""},{"$f":"IFERROR(INDEX('MEMORIAL DESCRITIVO-BRI'!I:I,SMALL(IF('MEMORIAL DESCRITIVO-BRI'!$E$2:$E$4000=\"Sim\",ROW('MEMORIAL DESCRITIVO-BRI'!$I$2:$I$4000)),ROW(B171))), \"\")","v":""},{"$f":"IFERROR(INDEX('MEMORIAL DESCRITIVO-BRI'!F:F,SMALL(IF('MEMORIAL DESCRITIVO-BRI'!$E$2:$E$4000=\"Sim\",ROW('MEMORIAL DESCRITIVO-BRI'!$F$2:$F$4000)),ROW(B171))) & \" - \" & INDEX('MEMORIAL DESCRITIVO-BRI'!H:H,SMALL(IF('MEMORIAL DESCRITIVO-BRI'!$E$2:$E$4000=\"Sim\",ROW('MEMORIAL DESCRITIVO-BRI'!$H$2:$H$4000)),ROW(B171))), \"\")","v":""},null,{"$f":"IFERROR(INDEX('MEMORIAL DESCRITIVO-BRI'!S:S,SMALL(IF('MEMORIAL DESCRITIVO-BRI'!$E$2:$E$4000=\"Sim\",ROW('MEMORIAL DESCRITIVO-BRI'!$S$2:$S$4000)),ROW(B171))), \"\")","v":""},{"$f":"IFERROR(INDEX('MEMORIAL DESCRITIVO-BRI'!Z:Z,SMALL(IF('MEMORIAL DESCRITIVO-BRI'!$E$2:$E$4000=\"Sim\",ROW('MEMORIAL DESCRITIVO-BRI'!$Z$2:$Z$4000)),ROW(B171))), \"\")","v":""},{"$f":"IFERROR(INDEX('MEMORIAL DESCRITIVO-BRI'!W:W,SMALL(IF('MEMORIAL DESCRITIVO-BRI'!$E$2:$E$4000=\"Sim\",ROW('MEMORIAL DESCRITIVO-BRI'!$W$2:$W$4000)),ROW(B171))), \"\")","v":""},{"$f":"IFERROR(INDEX('MEMORIAL DESCRITIVO-BRI'!G:G,SMALL(IF('MEMORIAL DESCRITIVO-BRI'!$E$2:$E$4000=\"Sim\",ROW('MEMORIAL DESCRITIVO-BRI'!$G$2:$G$4000)),ROW(B171))), \"\")","v":""},{"$f":"IFERROR(INDEX('MEMORIAL DESCRITIVO-BRI'!P:P,SMALL(IF('MEMORIAL DESCRITIVO-BRI'!$E$2:$E$4000=\"Sim\",ROW('MEMORIAL DESCRITIVO-BRI'!$P$2:$P$4000)),ROW(B171))), \"\")","v":""},{"$f":"IFERROR(INDEX('MEMORIAL DESCRITIVO-BRI'!Q:Q,SMALL(IF('MEMORIAL DESCRITIVO-BRI'!$E$2:$E$4000=\"Sim\",ROW('MEMORIAL DESCRITIVO-BRI'!$Q$2:$Q$4000)),ROW(B171))), \"\")","v":""}]
[null,{"$f":"IFERROR(INDEX('MEMORIAL DESCRITIVO-BRI'!B:B,SMALL(IF('MEMORIAL DESCRITIVO-BRI'!$E$2:$E$4000=\"Sim\",ROW('MEMORIAL DESCRITIVO-BRI'!$B$2:$B$4000)),ROW(B172))), \"\")","v":""},{"$f":"IFERROR(INDEX('MEMORIAL DESCRITIVO-BRI'!I:I,SMALL(IF('MEMORIAL DESCRITIVO-BRI'!$E$2:$E$4000=\"Sim\",ROW('MEMORIAL DESCRITIVO-BRI'!$I$2:$I$4000)),ROW(B172))), \"\")","v":""},{"$f":"IFERROR(INDEX('MEMORIAL DESCRITIVO-BRI'!F:F,SMALL(IF('MEMORIAL DESCRITIVO-BRI'!$E$2:$E$4000=\"Sim\",ROW('MEMORIAL DESCRITIVO-BRI'!$F$2:$F$4000)),ROW(B172))) & \" - \" & INDEX('MEMORIAL DESCRITIVO-BRI'!H:H,SMALL(IF('MEMORIAL DESCRITIVO-BRI'!$E$2:$E$4000=\"Sim\",ROW('MEMORIAL DESCRITIVO-BRI'!$H$2:$H$4000)),ROW(B172))), \"\")","v":""},null,{"$f":"IFERROR(INDEX('MEMORIAL DESCRITIVO-BRI'!S:S,SMALL(IF('MEMORIAL DESCRITIVO-BRI'!$E$2:$E$4000=\"Sim\",ROW('MEMORIAL DESCRITIVO-BRI'!$S$2:$S$4000)),ROW(B172))), \"\")","v":""},{"$f":"IFERROR(INDEX('MEMORIAL DESCRITIVO-BRI'!Z:Z,SMALL(IF('MEMORIAL DESCRITIVO-BRI'!$E$2:$E$4000=\"Sim\",ROW('MEMORIAL DESCRITIVO-BRI'!$Z$2:$Z$4000)),ROW(B172))), \"\")","v":""},{"$f":"IFERROR(INDEX('MEMORIAL DESCRITIVO-BRI'!W:W,SMALL(IF('MEMORIAL DESCRITIVO-BRI'!$E$2:$E$4000=\"Sim\",ROW('MEMORIAL DESCRITIVO-BRI'!$W$2:$W$4000)),ROW(B172))), \"\")","v":""},{"$f":"IFERROR(INDEX('MEMORIAL DESCRITIVO-BRI'!G:G,SMALL(IF('MEMORIAL DESCRITIVO-BRI'!$E$2:$E$4000=\"Sim\",ROW('MEMORIAL DESCRITIVO-BRI'!$G$2:$G$4000)),ROW(B172))), \"\")","v":""},{"$f":"IFERROR(INDEX('MEMORIAL DESCRITIVO-BRI'!P:P,SMALL(IF('MEMORIAL DESCRITIVO-BRI'!$E$2:$E$4000=\"Sim\",ROW('MEMORIAL DESCRITIVO-BRI'!$P$2:$P$4000)),ROW(B172))), \"\")","v":""},{"$f":"IFERROR(INDEX('MEMORIAL DESCRITIVO-BRI'!Q:Q,SMALL(IF('MEMORIAL DESCRITIVO-BRI'!$E$2:$E$4000=\"Sim\",ROW('MEMORIAL DESCRITIVO-BRI'!$Q$2:$Q$4000)),ROW(B172))), \"\")","v":""}]
[null,{"$f":"IFERROR(INDEX('MEMORIAL DESCRITIVO-BRI'!B:B,SMALL(IF('MEMORIAL DESCRITIVO-BRI'!$E$2:$E$4000=\"Sim\",ROW('MEMORIAL DESCRITIVO-BRI'!$B$2:$B$4000)),ROW(B173))), \"\")","v":""},{"$f":"IFERROR(INDEX('MEMORIAL DESCRITIVO-BRI'!I:I,SMALL(IF('MEMORIAL DESCRITIVO-BRI'!$E$2:$E$4000=\"Sim\",ROW('MEMORIAL DESCRITIVO-BRI'!$I$2:$I$4000)),ROW(B173))), \"\")","v":""},{"$f":"IFERROR(INDEX('MEMORIAL DESCRITIVO-BRI'!F:F,SMALL(IF('MEMORIAL DESCRITIVO-BRI'!$E$2:$E$4000=\"Sim\",ROW('MEMORIAL DESCRITIVO-BRI'!$F$2:$F$4000)),ROW(B173))) & \" - \" & INDEX('MEMORIAL DESCRITIVO-BRI'!H:H,SMALL(IF('MEMORIAL DESCRITIVO-BRI'!$E$2:$E$4000=\"Sim\",ROW('MEMORIAL DESCRITIVO-BRI'!$H$2:$H$4000)),ROW(B173))), \"\")","v":""},null,{"$f":"IFERROR(INDEX('MEMORIAL DESCRITIVO-BRI'!S:S,SMALL(IF('MEMORIAL DESCRITIVO-BRI'!$E$2:$E$4000=\"Sim\",ROW('MEMORIAL DESCRITIVO-BRI'!$S$2:$S$4000)),ROW(B173))), \"\")","v":""},{"$f":"IFERROR(INDEX('MEMORIAL DESCRITIVO-BRI'!Z:Z,SMALL(IF('MEMORIAL DESCRITIVO-BRI'!$E$2:$E$4000=\"Sim\",ROW('MEMORIAL DESCRITIVO-BRI'!$Z$2:$Z$4000)),ROW(B173))), \"\")","v":""},{"$f":"IFERROR(INDEX('MEMORIAL DESCRITIVO-BRI'!W:W,SMALL(IF('MEMORIAL DESCRITIVO-BRI'!$E$2:$E$4000=\"Sim\",ROW('MEMORIAL DESCRITIVO-BRI'!$W$2:$W$4000)),ROW(B173))), \"\")","v":""},{"$f":"IFERROR(INDEX('MEMORIAL DESCRITIVO-BRI'!G:G,SMALL(IF('MEMORIAL DESCRITIVO-BRI'!$E$2:$E$4000=\"Sim\",ROW('MEMORIAL DESCRITIVO-BRI'!$G$2:$G$4000)),ROW(B173))), \"\")","v":""},{"$f":"IFERROR(INDEX('MEMORIAL DESCRITIVO-BRI'!P:P,SMALL(IF('MEMORIAL DESCRITIVO-BRI'!$E$2:$E$4000=\"Sim\",ROW('MEMORIAL DESCRITIVO-BRI'!$P$2:$P$4000)),ROW(B173))), \"\")","v":""},{"$f":"IFERROR(INDEX('MEMORIAL DESCRITIVO-BRI'!Q:Q,SMALL(IF('MEMORIAL DESCRITIVO-BRI'!$E$2:$E$4000=\"Sim\",ROW('MEMORIAL DESCRITIVO-BRI'!$Q$2:$Q$4000)),ROW(B173))), \"\")","v":""}]
[null,{"$f":"IFERROR(INDEX('MEMORIAL DESCRITIVO-BRI'!B:B,SMALL(IF('MEMORIAL DESCRITIVO-BRI'!$E$2:$E$4000=\"Sim\",ROW('MEMORIAL DESCRITIVO-BRI'!$B$2:$B$4000)),ROW(B174))), \"\")","v":""},{"$f":"IFERROR(INDEX('MEMORIAL DESCRITIVO-BRI'!I:I,SMALL(IF('MEMORIAL DESCRITIVO-BRI'!$E$2:$E$4000=\"Sim\",ROW('MEMORIAL DESCRITIVO-BRI'!$I$2:$I$4000)),ROW(B174))), \"\")","v":""},{"$f":"IFERROR(INDEX('MEMORIAL DESCRITIVO-BRI'!F:F,SMALL(IF('MEMORIAL DESCRITIVO-BRI'!$E$2:$E$4000=\"Sim\",ROW('MEMORIAL DESCRITIVO-BRI'!$F$2:$F$4000)),ROW(B174))) & \" - \" & INDEX('MEMORIAL DESCRITIVO-BRI'!H:H,SMALL(IF('MEMORIAL DESCRITIVO-BRI'!$E$2:$E$4000=\"Sim\",ROW('MEMORIAL DESCRITIVO-BRI'!$H$2:$H$4000)),ROW(B174))), \"\")","v":""},null,{"$f":"IFERROR(INDEX('MEMORIAL DESCRITIVO-BRI'!S:S,SMALL(IF('MEMORIAL DESCRITIVO-BRI'!$E$2:$E$4000=\"Sim\",ROW('MEMORIAL DESCRITIVO-BRI'!$S$2:$S$4000)),ROW(B174))), \"\")","v":""},{"$f":"IFERROR(INDEX('MEMORIAL DESCRITIVO-BRI'!Z:Z,SMALL(IF('MEMORIAL DESCRITIVO-BRI'!$E$2:$E$4000=\"Sim\",ROW('MEMORIAL DESCRITIVO-BRI'!$Z$2:$Z$4000)),ROW(B174))), \"\")","v":""},{"$f":"IFERROR(INDEX('MEMORIAL DESCRITIVO-BRI'!W:W,SMALL(IF('MEMORIAL DESCRITIVO-BRI'!$E$2:$E$4000=\"Sim\",ROW('MEMORIAL DESCRITIVO-BRI'!$W$2:$W$4000)),ROW(B174))), \"\")","v":""},{"$f":"IFERROR(INDEX('MEMORIAL DESCRITIVO-BRI'!G:G,SMALL(IF('MEMORIAL DESCRITIVO-BRI'!$E$2:$E$4000=\"Sim\",ROW('MEMORIAL DESCRITIVO-BRI'!$G$2:$G$4000)),ROW(B174))), \"\")","v":""},{"$f":"IFERROR(INDEX('MEMORIAL DESCRITIVO-BRI'!P:P,SMALL(IF('MEMORIAL DESCRITIVO-BRI'!$E$2:$E$4000=\"Sim\",ROW('MEMORIAL DESCRITIVO-BRI'!$P$2:$P$4000)),ROW(B174))), \"\")","v":""},{"$f":"IFERROR(INDEX('MEMORIAL DESCRITIVO-BRI'!Q:Q,SMALL(IF('MEMORIAL DESCRITIVO-BRI'!$E$2:$E$4000=\"Sim\",ROW('MEMORIAL DESCRITIVO-BRI'!$Q$2:$Q$4000)),ROW(B174))), \"\")","v":""}]
[null,{"$f":"IFERROR(INDEX('MEMORIAL DESCRITIVO-BRI'!B:B,SMALL(IF('MEMORIAL DESCRITIVO-BRI'!$E$2:$E$4000=\"Sim\",ROW('MEMORIAL DESCRITIVO-BRI'!$B$2:$B$4000)),ROW(B175))), \"\")","v":""},{"$f":"IFERROR(INDEX('MEMORIAL DESCRITIVO-BRI'!I:I,SMALL(IF('MEMORIAL DESCRITIVO-BRI'!$E$2:$E$4000=\"Sim\",ROW('MEMORIAL DESCRITIVO-BRI'!$I$2:$I$4000)),ROW(B175))), \"\")","v":""},{"$f":"IFERROR(INDEX('MEMORIAL DESCRITIVO-BRI'!F:F,SMALL(IF('MEMORIAL DESCRITIVO-BRI'!$E$2:$E$4000=\"Sim\",ROW('MEMORIAL DESCRITIVO-BRI'!$F$2:$F$4000)),ROW(B175))) & \" - \" & INDEX('MEMORIAL DESCRITIVO-BRI'!H:H,SMALL(IF('MEMORIAL DESCRITIVO-BRI'!$E$2:$E$4000=\"Sim\",ROW('MEMORIAL DESCRITIVO-BRI'!$H$2:$H$4000)),ROW(B175))), \"\")","v":""},null,{"$f":"IFERROR(INDEX('MEMORIAL DESCRITIVO-BRI'!S:S,SMALL(IF('MEMORIAL DESCRITIVO-BRI'!$E$2:$E$4000=\"Sim\",ROW('MEMORIAL DESCRITIVO-BRI'!$S$2:$S$4000)),ROW(B175))), \"\")","v":""},{"$f":"IFERROR(INDEX('MEMORIAL DESCRITIVO-BRI'!Z:Z,SMALL(IF('MEMORIAL DESCRITIVO-BRI'!$E$2:$E$4000=\"Sim\",ROW('MEMORIAL DESCRITIVO-BRI'!$Z$2:$Z$4000)),ROW(B175))), \"\")","v":""},{"$f":"IFERROR(INDEX('MEMORIAL DESCRITIVO-BRI'!W:W,SMALL(IF('MEMORIAL DESCRITIVO-BRI'!$E$2:$E$4000=\"Sim\",ROW('MEMORIAL DESCRITIVO-BRI'!$W$2:$W$4000)),ROW(B175))), \"\")","v":""},{"$f":"IFERROR(INDEX('MEMORIAL DESCRITIVO-BRI'!G:G,SMALL(IF('MEMORIAL DESCRITIVO-BRI'!$E$2:$E$4000=\"Sim\",ROW('MEMORIAL DESCRITIVO-BRI'!$G$2:$G$4000)),ROW(B175))), \"\")","v":""},{"$f":"IFERROR(INDEX('MEMORIAL DESCRITIVO-BRI'!P:P,SMALL(IF('MEMORIAL DESCRITIVO-BRI'!$E$2:$E$4000=\"Sim\",ROW('MEMORIAL DESCRITIVO-BRI'!$P$2:$P$4000)),ROW(B175))), \"\")","v":""},{"$f":"IFERROR(INDEX('MEMORIAL DESCRITIVO-BRI'!Q:Q,SMALL(IF('MEMORIAL DESCRITIVO-BRI'!$E$2:$E$4000=\"Sim\",ROW('MEMORIAL DESCRITIVO-BRI'!$Q$2:$Q$4000)),ROW(B175))), \"\")","v":""}]
[null,{"$f":"IFERROR(INDEX('MEMORIAL DESCRITIVO-BRI'!B:B,SMALL(IF('MEMORIAL DESCRITIVO-BRI'!$E$2:$E$4000=\"Sim\",ROW('MEMORIAL DESCRITIVO-BRI'!$B$2:$B$4000)),ROW(B176))), \"\")","v":""},{"$f":"IFERROR(INDEX('MEMORIAL DESCRITIVO-BRI'!I:I,SMALL(IF('MEMORIAL DESCRITIVO-BRI'!$E$2:$E$4000=\"Sim\",ROW('MEMORIAL DESCRITIVO-BRI'!$I$2:$I$4000)),ROW(B176))), \"\")","v":""},{"$f":"IFERROR(INDEX('MEMORIAL DESCRITIVO-BRI'!F:F,SMALL(IF('MEMORIAL DESCRITIVO-BRI'!$E$2:$E$4000=\"Sim\",ROW('MEMORIAL DESCRITIVO-BRI'!$F$2:$F$4000)),ROW(B176))) & \" - \" & INDEX('MEMORIAL DESCRITIVO-BRI'!H:H,SMALL(IF('MEMORIAL DESCRITIVO-BRI'!$E$2:$E$4000=\"Sim\",ROW('MEMORIAL DESCRITIVO-BRI'!$H$2:$H$4000)),ROW(B176))), \"\")","v":""},null,{"$f":"IFERROR(INDEX('MEMORIAL DESCRITIVO-BRI'!S:S,SMALL(IF('MEMORIAL DESCRITIVO-BRI'!$E$2:$E$4000=\"Sim\",ROW('MEMORIAL DESCRITIVO-BRI'!$S$2:$S$4000)),ROW(B176))), \"\")","v":""},{"$f":"IFERROR(INDEX('MEMORIAL DESCRITIVO-BRI'!Z:Z,SMALL(IF('MEMORIAL DESCRITIVO-BRI'!$E$2:$E$4000=\"Sim\",ROW('MEMORIAL DESCRITIVO-BRI'!$Z$2:$Z$4000)),ROW(B176))), \"\")","v":""},{"$f":"IFERROR(INDEX('MEMORIAL DESCRITIVO-BRI'!W:W,SMALL(IF('MEMORIAL DESCRITIVO-BRI'!$E$2:$E$4000=\"Sim\",ROW('MEMORIAL DESCRITIVO-BRI'!$W$2:$W$4000)),ROW(B176))), \"\")","v":""},{"$f":"IFERROR(INDEX('MEMORIAL DESCRITIVO-BRI'!G:G,SMALL(IF('MEMORIAL DESCRITIVO-BRI'!$E$2:$E$4000=\"Sim\",ROW('MEMORIAL DESCRITIVO-BRI'!$G$2:$G$4000)),ROW(B176))), \"\")","v":""},{"$f":"IFERROR(INDEX('MEMORIAL DESCRITIVO-BRI'!P:P,SMALL(IF('MEMORIAL DESCRITIVO-BRI'!$E$2:$E$4000=\"Sim\",ROW('MEMORIAL DESCRITIVO-BRI'!$P$2:$P$4000)),ROW(B176))), \"\")","v":""},{"$f":"IFERROR(INDEX('MEMORIAL DESCRITIVO-BRI'!Q:Q,SMALL(IF('MEMORIAL DESCRITIVO-BRI'!$E$2:$E$4000=\"Sim\",ROW('MEMORIAL DESCRITIVO-BRI'!$Q$2:$Q$4000)),ROW(B176))), \"\")","v":""}]
[null,{"$f":"IFERROR(INDEX('MEMORIAL DESCRITIVO-BRI'!B:B,SMALL(IF('MEMORIAL DESCRITIVO-BRI'!$E$2:$E$4000=\"Sim\",ROW('MEMORIAL DESCRITIVO-BRI'!$B$2:$B$4000)),ROW(B177))), \"\")","v":""},{"$f":"IFERROR(INDEX('MEMORIAL DESCRITIVO-BRI'!I:I,SMALL(IF('MEMORIAL DESCRITIVO-BRI'!$E$2:$E$4000=\"Sim\",ROW('MEMORIAL DESCRITIVO-BRI'!$I$2:$I$4000)),ROW(B177))), \"\")","v":""},{"$f":"IFERROR(INDEX('MEMORIAL DESCRITIVO-BRI'!F:F,SMALL(IF('MEMORIAL DESCRITIVO-BRI'!$E$2:$E$4000=\"Sim\",ROW('MEMORIAL DESCRITIVO-BRI'!$F$2:$F$4000)),ROW(B177))) & \" - \" & INDEX('MEMORIAL DESCRITIVO-BRI'!H:H,SMALL(IF('MEMORIAL DESCRITIVO-BRI'!$E$2:$E$4000=\"Sim\",ROW('MEMORIAL DESCRITIVO-BRI'!$H$2:$H$4000)),ROW(B177))), \"\")","v":""},null,{"$f":"IFERROR(INDEX('MEMORIAL DESCRITIVO-BRI'!S:S,SMALL(IF('MEMORIAL DESCRITIVO-BRI'!$E$2:$E$4000=\"Sim\",ROW('MEMORIAL DESCRITIVO-BRI'!$S$2:$S$4000)),ROW(B177))), \"\")","v":""},{"$f":"IFERROR(INDEX('MEMORIAL DESCRITIVO-BRI'!Z:Z,SMALL(IF('MEMORIAL DESCRITIVO-BRI'!$E$2:$E$4000=\"Sim\",ROW('MEMORIAL DESCRITIVO-BRI'!$Z$2:$Z$4000)),ROW(B177))), \"\")","v":""},{"$f":"IFERROR(INDEX('MEMORIAL DESCRITIVO-BRI'!W:W,SMALL(IF('MEMORIAL DESCRITIVO-BRI'!$E$2:$E$4000=\"Sim\",ROW('MEMORIAL DESCRITIVO-BRI'!$W$2:$W$4000)),ROW(B177))), \"\")","v":""},{"$f":"IFERROR(INDEX('MEMORIAL DESCRITIVO-BRI'!G:G,SMALL(IF('MEMORIAL DESCRITIVO-BRI'!$E$2:$E$4000=\"Sim\",ROW('MEMORIAL DESCRITIVO-BRI'!$G$2:$G$4000)),ROW(B177))), \"\")","v":""},{"$f":"IFERROR(INDEX('MEMORIAL DESCRITIVO-BRI'!P:P,SMALL(IF('MEMORIAL DESCRITIVO-BRI'!$E$2:$E$4000=\"Sim\",ROW('MEMORIAL DESCRITIVO-BRI'!$P$2:$P$4000)),ROW(B177))), \"\")","v":""},{"$f":"IFERROR(INDEX('MEMORIAL DESCRITIVO-BRI'!Q:Q,SMALL(IF('MEMORIAL DESCRITIVO-BRI'!$E$2:$E$4000=\"Sim\",ROW('MEMORIAL DESCRITIVO-BRI'!$Q$2:$Q$4000)),ROW(B177))), \"\")","v":""}]
[null,{"$f":"IFERROR(INDEX('MEMORIAL DESCRITIVO-BRI'!B:B,SMALL(IF('MEMORIAL DESCRITIVO-BRI'!$E$2:$E$4000=\"Sim\",ROW('MEMORIAL DESCRITIVO-BRI'!$B$2:$B$4000)),ROW(B178))), \"\")","v":""},{"$f":"IFERROR(INDEX('MEMORIAL DESCRITIVO-BRI'!I:I,SMALL(IF('MEMORIAL DESCRITIVO-BRI'!$E$2:$E$4000=\"Sim\",ROW('MEMORIAL DESCRITIVO-BRI'!$I$2:$I$4000)),ROW(B178))), \"\")","v":""},{"$f":"IFERROR(INDEX('MEMORIAL DESCRITIVO-BRI'!F:F,SMALL(IF('MEMORIAL DESCRITIVO-BRI'!$E$2:$E$4000=\"Sim\",ROW('MEMORIAL DESCRITIVO-BRI'!$F$2:$F$4000)),ROW(B178))) & \" - \" & INDEX('MEMORIAL DESCRITIVO-BRI'!H:H,SMALL(IF('MEMORIAL DESCRITIVO-BRI'!$E$2:$E$4000=\"Sim\",ROW('MEMORIAL DESCRITIVO-BRI'!$H$2:$H$4000)),ROW(B178))), \"\")","v":""},null,{"$f":"IFERROR(INDEX('MEMORIAL DESCRITIVO-BRI'!S:S,SMALL(IF('MEMORIAL DESCRITIVO-BRI'!$E$2:$E$4000=\"Sim\",ROW('MEMORIAL DESCRITIVO-BRI'!$S$2:$S$4000)),ROW(B178))), \"\")","v":""},{"$f":"IFERROR(INDEX('MEMORIAL DESCRITIVO-BRI'!Z:Z,SMALL(IF('MEMORIAL DESCRITIVO-BRI'!$E$2:$E$4000=\"Sim\",ROW('MEMORIAL DESCRITIVO-BRI'!$Z$2:$Z$4000)),ROW(B178))), \"\")","v":""},{"$f":"IFERROR(INDEX('MEMORIAL DESCRITIVO-BRI'!W:W,SMALL(IF('MEMORIAL DESCRITIVO-BRI'!$E$2:$E$4000=\"Sim\",ROW('MEMORIAL DESCRITIVO-BRI'!$W$2:$W$4000)),ROW(B178))), \"\")","v":""},{"$f":"IFERROR(INDEX('MEMORIAL DESCRITIVO-BRI'!G:G,SMALL(IF('MEMORIAL DESCRITIVO-BRI'!$E$2:$E$4000=\"Sim\",ROW('MEMORIAL DESCRITIVO-BRI'!$G$2:$G$4000)),ROW(B178))), \"\")","v":""},{"$f":"IFERROR(INDEX('MEMORIAL DESCRITIVO-BRI'!P:P,SMALL(IF('MEMORIAL DESCRITIVO-BRI'!$E$2:$E$4000=\"Sim\",ROW('MEMORIAL DESCRITIVO-BRI'!$P$2:$P$4000)),ROW(B178))), \"\")","v":""},{"$f":"IFERROR(INDEX('MEMORIAL DESCRITIVO-BRI'!Q:Q,SMALL(IF('MEMORIAL DESCRITIVO-BRI'!$E$2:$E$4000=\"Sim\",ROW('MEMORIAL DESCRITIVO-BRI'!$Q$2:$Q$4000)),ROW(B178))), \"\")","v":""}]
[null,{"$f":"IFERROR(INDEX('MEMORIAL DESCRITIVO-BRI'!B:B,SMALL(IF('MEMORIAL DESCRITIVO-BRI'!$E$2:$E$4000=\"Sim\",ROW('MEMORIAL DESCRITIVO-BRI'!$B$2:$B$4000)),ROW(B179))), \"\")","v":""},{"$f":"IFERROR(INDEX('MEMORIAL DESCRITIVO-BRI'!I:I,SMALL(IF('MEMORIAL DESCRITIVO-BRI'!$E$2:$E$4000=\"Sim\",ROW('MEMORIAL DESCRITIVO-BRI'!$I$2:$I$4000)),ROW(B179))), \"\")","v":""},{"$f":"IFERROR(INDEX('MEMORIAL DESCRITIVO-BRI'!F:F,SMALL(IF('MEMORIAL DESCRITIVO-BRI'!$E$2:$E$4000=\"Sim\",ROW('MEMORIAL DESCRITIVO-BRI'!$F$2:$F$4000)),ROW(B179))) & \" - \" & INDEX('MEMORIAL DESCRITIVO-BRI'!H:H,SMALL(IF('MEMORIAL DESCRITIVO-BRI'!$E$2:$E$4000=\"Sim\",ROW('MEMORIAL DESCRITIVO-BRI'!$H$2:$H$4000)),ROW(B179))), \"\")","v":""},null,{"$f":"IFERROR(INDEX('MEMORIAL DESCRITIVO-BRI'!S:S,SMALL(IF('MEMORIAL DESCRITIVO-BRI'!$E$2:$E$4000=\"Sim\",ROW('MEMORIAL DESCRITIVO-BRI'!$S$2:$S$4000)),ROW(B179))), \"\")","v":""},{"$f":"IFERROR(INDEX('MEMORIAL DESCRITIVO-BRI'!Z:Z,SMALL(IF('MEMORIAL DESCRITIVO-BRI'!$E$2:$E$4000=\"Sim\",ROW('MEMORIAL DESCRITIVO-BRI'!$Z$2:$Z$4000)),ROW(B179))), \"\")","v":""},{"$f":"IFERROR(INDEX('MEMORIAL DESCRITIVO-BRI'!W:W,SMALL(IF('MEMORIAL DESCRITIVO-BRI'!$E$2:$E$4000=\"Sim\",ROW('MEMORIAL DESCRITIVO-BRI'!$W$2:$W$4000)),ROW(B179))), \"\")","v":""},{"$f":"IFERROR(INDEX('MEMORIAL DESCRITIVO-BRI'!G:G,SMALL(IF('MEMORIAL DESCRITIVO-BRI'!$E$2:$E$4000=\"Sim\",ROW('MEMORIAL DESCRITIVO-BRI'!$G$2:$G$4000)),ROW(B179))), \"\")","v":""},{"$f":"IFERROR(INDEX('MEMORIAL DESCRITIVO-BRI'!P:P,SMALL(IF('MEMORIAL DESCRITIVO-BRI'!$E$2:$E$4000=\"Sim\",ROW('MEMORIAL DESCRITIVO-BRI'!$P$2:$P$4000)),ROW(B179))), \"\")","v":""},{"$f":"IFERROR(INDEX('MEMORIAL DESCRITIVO-BRI'!Q:Q,SMALL(IF('MEMORIAL DESCRITIVO-BRI'!$E$2:$E$4000=\"Sim\",ROW('MEMORIAL DESCRITIVO-BRI'!$Q$2:$Q$4000)),ROW(B179))), \"\")","v":""}]
[null,{"$f":"IFERROR(INDEX('MEMORIAL DESCRITIVO-BRI'!B:B,SMALL(IF('MEMORIAL DESCRITIVO-BRI'!$E$2:$E$4000=\"Sim\",ROW('MEMORIAL DESCRITIVO-BRI'!$B$2:$B$4000)),ROW(B180))), \"\")","v":""},{"$f":"IFERROR(INDEX('MEMORIAL DESCRITIVO-BRI'!I:I,SMALL(IF('MEMORIAL DESCRITIVO-BRI'!$E$2:$E$4000=\"Sim\",ROW('MEMORIAL DESCRITIVO-BRI'!$I$2:$I$4000)),ROW(B180))), \"\")","v":""},{"$f":"IFERROR(INDEX('MEMORIAL DESCRITIVO-BRI'!F:F,SMALL(IF('MEMORIAL DESCRITIVO-BRI'!$E$2:$E$4000=\"Sim\",ROW('MEMORIAL DESCRITIVO-BRI'!$F$2:$F$4000)),ROW(B180))) & \" - \" & INDEX('MEMORIAL DESCRITIVO-BRI'!H:H,SMALL(IF('MEMORIAL DESCRITIVO-BRI'!$E$2:$E$4000=\"Sim\",ROW('MEMORIAL DESCRITIVO-BRI'!$H$2:$H$4000)),ROW(B180))), \"\")","v":""},null,{"$f":"IFERROR(INDEX('MEMORIAL DESCRITIVO-BRI'!S:S,SMALL(IF('MEMORIAL DESCRITIVO-BRI'!$E$2:$E$4000=\"Sim\",ROW('MEMORIAL DESCRITIVO-BRI'!$S$2:$S$4000)),ROW(B180))), \"\")","v":""},{"$f":"IFERROR(INDEX('MEMORIAL DESCRITIVO-BRI'!Z:Z,SMALL(IF('MEMORIAL DESCRITIVO-BRI'!$E$2:$E$4000=\"Sim\",ROW('MEMORIAL DESCRITIVO-BRI'!$Z$2:$Z$4000)),ROW(B180))), \"\")","v":""},{"$f":"IFERROR(INDEX('MEMORIAL DESCRITIVO-BRI'!W:W,SMALL(IF('MEMORIAL DESCRITIVO-BRI'!$E$2:$E$4000=\"Sim\",ROW('MEMORIAL DESCRITIVO-BRI'!$W$2:$W$4000)),ROW(B180))), \"\")","v":""},{"$f":"IFERROR(INDEX('MEMORIAL DESCRITIVO-BRI'!G:G,SMALL(IF('MEMORIAL DESCRITIVO-BRI'!$E$2:$E$4000=\"Sim\",ROW('MEMORIAL DESCRITIVO-BRI'!$G$2:$G$4000)),ROW(B180))), \"\")","v":""},{"$f":"IFERROR(INDEX('MEMORIAL DESCRITIVO-BRI'!P:P,SMALL(IF('MEMORIAL DESCRITIVO-BRI'!$E$2:$E$4000=\"Sim\",ROW('MEMORIAL DESCRITIVO-BRI'!$P$2:$P$4000)),ROW(B180))), \"\")","v":""},{"$f":"IFERROR(INDEX('MEMORIAL DESCRITIVO-BRI'!Q:Q,SMALL(IF('MEMORIAL DESCRITIVO-BRI'!$E$2:$E$4000=\"Sim\",ROW('MEMORIAL DESCRITIVO-BRI'!$Q$2:$Q$4000)),ROW(B180))), \"\")","v":""}]
[null,{"$f":"IFERROR(INDEX('MEMORIAL DESCRITIVO-BRI'!B:B,SMALL(IF('MEMORIAL DESCRITIVO-BRI'!$E$2:$E$4000=\"Sim\",ROW('MEMORIAL DESCRITIVO-BRI'!$B$2:$B$4000)),ROW(B181))), \"\")","v":""},{"$f":"IFERROR(INDEX('MEMORIAL DESCRITIVO-BRI'!I:I,SMALL(IF('MEMORIAL DESCRITIVO-BRI'!$E$2:$E$4000=\"Sim\",ROW('MEMORIAL DESCRITIVO-BRI'!$I$2:$I$4000)),ROW(B181))), \"\")","v":""},{"$f":"IFERROR(INDEX('MEMORIAL DESCRITIVO-BRI'!F:F,SMALL(IF('MEMORIAL DESCRITIVO-BRI'!$E$2:$E$4000=\"Sim\",ROW('MEMORIAL DESCRITIVO-BRI'!$F$2:$F$4000)),ROW(B181))) & \" - \" & INDEX('MEMORIAL DESCRITIVO-BRI'!H:H,SMALL(IF('MEMORIAL DESCRITIVO-BRI'!$E$2:$E$4000=\"Sim\",ROW('MEMORIAL DESCRITIVO-BRI'!$H$2:$H$4000)),ROW(B181))), \"\")","v":""},null,{"$f":"IFERROR(INDEX('MEMORIAL DESCRITIVO-BRI'!S:S,SMALL(IF('MEMORIAL DESCRITIVO-BRI'!$E$2:$E$4000=\"Sim\",ROW('MEMORIAL DESCRITIVO-BRI'!$S$2:$S$4000)),ROW(B181))), \"\")","v":""},{"$f":"IFERROR(INDEX('MEMORIAL DESCRITIVO-BRI'!Z:Z,SMALL(IF('MEMORIAL DESCRITIVO-BRI'!$E$2:$E$4000=\"Sim\",ROW('MEMORIAL DESCRITIVO-BRI'!$Z$2:$Z$4000)),ROW(B181))), \"\")","v":""},{"$f":"IFERROR(INDEX('MEMORIAL DESCRITIVO-BRI'!W:W,SMALL(IF('MEMORIAL DESCRITIVO-BRI'!$E$2:$E$4000=\"Sim\",ROW('MEMORIAL DESCRITIVO-BRI'!$W$2:$W$4000)),ROW(B181))), \"\")","v":""},{"$f":"IFERROR(INDEX('MEMORIAL DESCRITIVO-BRI'!G:G,SMALL(IF('MEMORIAL DESCRITIVO-BRI'!$E$2:$E$4000=\"Sim\",ROW('MEMORIAL DESCRITIVO-BRI'!$G$2:$G$4000)),ROW(B181))), \"\")","v":""},{"$f":"IFERROR(INDEX('MEMORIAL DESCRITIVO-BRI'!P:P,SMALL(IF('MEMORIAL DESCRITIVO-BRI'!$E$2:$E$4000=\"Sim\",ROW('MEMORIAL DESCRITIVO-BRI'!$P$2:$P$4000)),ROW(B181))), \"\")","v":""},{"$f":"IFERROR(INDEX('MEMORIAL DESCRITIVO-BRI'!Q:Q,SMALL(IF('MEMORIAL DESCRITIVO-BRI'!$E$2:$E$4000=\"Sim\",ROW('MEMORIAL DESCRITIVO-BRI'!$Q$2:$Q$4000)),ROW(B181))), \"\")","v":""}]
[null,{"$f":"IFERROR(INDEX('MEMORIAL DESCRITIVO-BRI'!B:B,SMALL(IF('MEMORIAL DESCRITIVO-BRI'!$E$2:$E$4000=\"Sim\",ROW('MEMORIAL DESCRITIVO-BRI'!$B$2:$B$4000)),ROW(B182))), \"\")","v":""},{"$f":"IFERROR(INDEX('MEMORIAL DESCRITIVO-BRI'!I:I,SMALL(IF('MEMORIAL DESCRITIVO-BRI'!$E$2:$E$4000=\"Sim\",ROW('MEMORIAL DESCRITIVO-BRI'!$I$2:$I$4000)),ROW(B182))), \"\")","v":""},{"$f":"IFERROR(INDEX('MEMORIAL DESCRITIVO-BRI'!F:F,SMALL(IF('MEMORIAL DESCRITIVO-BRI'!$E$2:$E$4000=\"Sim\",ROW('MEMORIAL DESCRITIVO-BRI'!$F$2:$F$4000)),ROW(B182))) & \" - \" & INDEX('MEMORIAL DESCRITIVO-BRI'!H:H,SMALL(IF('MEMORIAL DESCRITIVO-BRI'!$E$2:$E$4000=\"Sim\",ROW('MEMORIAL DESCRITIVO-BRI'!$H$2:$H$4000)),ROW(B182))), \"\")","v":""},null,{"$f":"IFERROR(INDEX('MEMORIAL DESCRITIVO-BRI'!S:S,SMALL(IF('MEMORIAL DESCRITIVO-BRI'!$E$2:$E$4000=\"Sim\",ROW('MEMORIAL DESCRITIVO-BRI'!$S$2:$S$4000)),ROW(B182))), \"\")","v":""},{"$f":"IFERROR(INDEX('MEMORIAL DESCRITIVO-BRI'!Z:Z,SMALL(IF('MEMORIAL DESCRITIVO-BRI'!$E$2:$E$4000=\"Sim\",ROW('MEMORIAL DESCRITIVO-BRI'!$Z$2:$Z$4000)),ROW(B182))), \"\")","v":""},{"$f":"IFERROR(INDEX('MEMORIAL DESCRITIVO-BRI'!W:W,SMALL(IF('MEMORIAL DESCRITIVO-BRI'!$E$2:$E$4000=\"Sim\",ROW('MEMORIAL DESCRITIVO-BRI'!$W$2:$W$4000)),ROW(B182))), \"\")","v":""},{"$f":"IFERROR(INDEX('MEMORIAL DESCRITIVO-BRI'!G:G,SMALL(IF('MEMORIAL DESCRITIVO-BRI'!$E$2:$E$4000=\"Sim\",ROW('MEMORIAL DESCRITIVO-BRI'!$G$2:$G$4000)),ROW(B182))), \"\")","v":""},{"$f":"IFERROR(INDEX('MEMORIAL DESCRITIVO-BRI'!P:P,SMALL(IF('MEMORIAL DESCRITIVO-BRI'!$E$2:$E$4000=\"Sim\",ROW('MEMORIAL DESCRITIVO-BRI'!$P$2:$P$4000)),ROW(B182))), \"\")","v":""},{"$f":"IFERROR(INDEX('MEMORIAL DESCRITIVO-BRI'!Q:Q,SMALL(IF('MEMORIAL DESCRITIVO-BRI'!$E$2:$E$4000=\"Sim\",ROW('MEMORIAL DESCRITIVO-BRI'!$Q$2:$Q$4000)),ROW(B182))), \"\")","v":""}]
[null,{"$f":"IFERROR(INDEX('MEMORIAL DESCRITIVO-BRI'!B:B,SMALL(IF('MEMORIAL DESCRITIVO-BRI'!$E$2:$E$4000=\"Sim\",ROW('MEMORIAL DESCRITIVO-BRI'!$B$2:$B$4000)),ROW(B183))), \"\")","v":""},{"$f":"IFERROR(INDEX('MEMORIAL DESCRITIVO-BRI'!I:I,SMALL(IF('MEMORIAL DESCRITIVO-BRI'!$E$2:$E$4000=\"Sim\",ROW('MEMORIAL DESCRITIVO-BRI'!$I$2:$I$4000)),ROW(B183))), \"\")","v":""},{"$f":"IFERROR(INDEX('MEMORIAL DESCRITIVO-BRI'!F:F,SMALL(IF('MEMORIAL DESCRITIVO-BRI'!$E$2:$E$4000=\"Sim\",ROW('MEMORIAL DESCRITIVO-BRI'!$F$2:$F$4000)),ROW(B183))) & \" - \" & INDEX('MEMORIAL DESCRITIVO-BRI'!H:H,SMALL(IF('MEMORIAL DESCRITIVO-BRI'!$E$2:$E$4000=\"Sim\",ROW('MEMORIAL DESCRITIVO-BRI'!$H$2:$H$4000)),ROW(B183))), \"\")","v":""},null,{"$f":"IFERROR(INDEX('MEMORIAL DESCRITIVO-BRI'!S:S,SMALL(IF('MEMORIAL DESCRITIVO-BRI'!$E$2:$E$4000=\"Sim\",ROW('MEMORIAL DESCRITIVO-BRI'!$S$2:$S$4000)),ROW(B183))), \"\")","v":""},{"$f":"IFERROR(INDEX('MEMORIAL DESCRITIVO-BRI'!Z:Z,SMALL(IF('MEMORIAL DESCRITIVO-BRI'!$E$2:$E$4000=\"Sim\",ROW('MEMORIAL DESCRITIVO-BRI'!$Z$2:$Z$4000)),ROW(B183))), \"\")","v":""},{"$f":"IFERROR(INDEX('MEMORIAL DESCRITIVO-BRI'!W:W,SMALL(IF('MEMORIAL DESCRITIVO-BRI'!$E$2:$E$4000=\"Sim\",ROW('MEMORIAL DESCRITIVO-BRI'!$W$2:$W$4000)),ROW(B183))), \"\")","v":""},{"$f":"IFERROR(INDEX('MEMORIAL DESCRITIVO-BRI'!G:G,SMALL(IF('MEMORIAL DESCRITIVO-BRI'!$E$2:$E$4000=\"Sim\",ROW('MEMORIAL DESCRITIVO-BRI'!$G$2:$G$4000)),ROW(B183))), \"\")","v":""},{"$f":"IFERROR(INDEX('MEMORIAL DESCRITIVO-BRI'!P:P,SMALL(IF('MEMORIAL DESCRITIVO-BRI'!$E$2:$E$4000=\"Sim\",ROW('MEMORIAL DESCRITIVO-BRI'!$P$2:$P$4000)),ROW(B183))), \"\")","v":""},{"$f":"IFERROR(INDEX('MEMORIAL DESCRITIVO-BRI'!Q:Q,SMALL(IF('MEMORIAL DESCRITIVO-BRI'!$E$2:$E$4000=\"Sim\",ROW('MEMORIAL DESCRITIVO-BRI'!$Q$2:$Q$4000)),ROW(B183))), \"\")","v":""}]
[null,{"$f":"IFERROR(INDEX('MEMORIAL DESCRITIVO-BRI'!B:B,SMALL(IF('MEMORIAL DESCRITIVO-BRI'!$E$2:$E$4000=\"Sim\",ROW('MEMORIAL DESCRITIVO-BRI'!$B$2:$B$4000)),ROW(B184))), \"\")","v":""},{"$f":"IFERROR(INDEX('MEMORIAL DESCRITIVO-BRI'!I:I,SMALL(IF('MEMORIAL DESCRITIVO-BRI'!$E$2:$E$4000=\"Sim\",ROW('MEMORIAL DESCRITIVO-BRI'!$I$2:$I$4000)),ROW(B184))), \"\")","v":""},{"$f":"IFERROR(INDEX('MEMORIAL DESCRITIVO-BRI'!F:F,SMALL(IF('MEMORIAL DESCRITIVO-BRI'!$E$2:$E$4000=\"Sim\",ROW('MEMORIAL DESCRITIVO-BRI'!$F$2:$F$4000)),ROW(B184))) & \" - \" & INDEX('MEMORIAL DESCRITIVO-BRI'!H:H,SMALL(IF('MEMORIAL DESCRITIVO-BRI'!$E$2:$E$4000=\"Sim\",ROW('MEMORIAL DESCRITIVO-BRI'!$H$2:$H$4000)),ROW(B184))), \"\")","v":""},null,{"$f":"IFERROR(INDEX('MEMORIAL DESCRITIVO-BRI'!S:S,SMALL(IF('MEMORIAL DESCRITIVO-BRI'!$E$2:$E$4000=\"Sim\",ROW('MEMORIAL DESCRITIVO-BRI'!$S$2:$S$4000)),ROW(B184))), \"\")","v":""},{"$f":"IFERROR(INDEX('MEMORIAL DESCRITIVO-BRI'!Z:Z,SMALL(IF('MEMORIAL DESCRITIVO-BRI'!$E$2:$E$4000=\"Sim\",ROW('MEMORIAL DESCRITIVO-BRI'!$Z$2:$Z$4000)),ROW(B184))), \"\")","v":""},{"$f":"IFERROR(INDEX('MEMORIAL DESCRITIVO-BRI'!W:W,SMALL(IF('MEMORIAL DESCRITIVO-BRI'!$E$2:$E$4000=\"Sim\",ROW('MEMORIAL DESCRITIVO-BRI'!$W$2:$W$4000)),ROW(B184))), \"\")","v":""},{"$f":"IFERROR(INDEX('MEMORIAL DESCRITIVO-BRI'!G:G,SMALL(IF('MEMORIAL DESCRITIVO-BRI'!$E$2:$E$4000=\"Sim\",ROW('MEMORIAL DESCRITIVO-BRI'!$G$2:$G$4000)),ROW(B184))), \"\")","v":""},{"$f":"IFERROR(INDEX('MEMORIAL DESCRITIVO-BRI'!P:P,SMALL(IF('MEMORIAL DESCRITIVO-BRI'!$E$2:$E$4000=\"Sim\",ROW('MEMORIAL DESCRITIVO-BRI'!$P$2:$P$4000)),ROW(B184))), \"\")","v":""},{"$f":"IFERROR(INDEX('MEMORIAL DESCRITIVO-BRI'!Q:Q,SMALL(IF('MEMORIAL DESCRITIVO-BRI'!$E$2:$E$4000=\"Sim\",ROW('MEMORIAL DESCRITIVO-BRI'!$Q$2:$Q$4000)),ROW(B184))), \"\")","v":""}]
[null,{"$f":"IFERROR(INDEX('MEMORIAL DESCRITIVO-BRI'!B:B,SMALL(IF('MEMORIAL DESCRITIVO-BRI'!$E$2:$E$4000=\"Sim\",ROW('MEMORIAL DESCRITIVO-BRI'!$B$2:$B$4000)),ROW(B185))), \"\")","v":""},{"$f":"IFERROR(INDEX('MEMORIAL DESCRITIVO-BRI'!I:I,SMALL(IF('MEMORIAL DESCRITIVO-BRI'!$E$2:$E$4000=\"Sim\",ROW('MEMORIAL DESCRITIVO-BRI'!$I$2:$I$4000)),ROW(B185))), \"\")","v":""},{"$f":"IFERROR(INDEX('MEMORIAL DESCRITIVO-BRI'!F:F,SMALL(IF('MEMORIAL DESCRITIVO-BRI'!$E$2:$E$4000=\"Sim\",ROW('MEMORIAL DESCRITIVO-BRI'!$F$2:$F$4000)),ROW(B185))) & \" - \" & INDEX('MEMORIAL DESCRITIVO-BRI'!H:H,SMALL(IF('MEMORIAL DESCRITIVO-BRI'!$E$2:$E$4000=\"Sim\",ROW('MEMORIAL DESCRITIVO-BRI'!$H$2:$H$4000)),ROW(B185))), \"\")","v":""},null,{"$f":"IFERROR(INDEX('MEMORIAL DESCRITIVO-BRI'!S:S,SMALL(IF('MEMORIAL DESCRITIVO-BRI'!$E$2:$E$4000=\"Sim\",ROW('MEMORIAL DESCRITIVO-BRI'!$S$2:$S$4000)),ROW(B185))), \"\")","v":""},{"$f":"IFERROR(INDEX('MEMORIAL DESCRITIVO-BRI'!Z:Z,SMALL(IF('MEMORIAL DESCRITIVO-BRI'!$E$2:$E$4000=\"Sim\",ROW('MEMORIAL DESCRITIVO-BRI'!$Z$2:$Z$4000)),ROW(B185))), \"\")","v":""},{"$f":"IFERROR(INDEX('MEMORIAL DESCRITIVO-BRI'!W:W,SMALL(IF('MEMORIAL DESCRITIVO-BRI'!$E$2:$E$4000=\"Sim\",ROW('MEMORIAL DESCRITIVO-BRI'!$W$2:$W$4000)),ROW(B185))), \"\")","v":""},{"$f":"IFERROR(INDEX('MEMORIAL DESCRITIVO-BRI'!G:G,SMALL(IF('MEMORIAL DESCRITIVO-BRI'!$E$2:$E$4000=\"Sim\",ROW('MEMORIAL DESCRITIVO-BRI'!$G$2:$G$4000)),ROW(B185))), \"\")","v":""},{"$f":"IFERROR(INDEX('MEMORIAL DESCRITIVO-BRI'!P:P,SMALL(IF('MEMORIAL DESCRITIVO-BRI'!$E$2:$E$4000=\"Sim\",ROW('MEMORIAL DESCRITIVO-BRI'!$P$2:$P$4000)),ROW(B185))), \"\")","v":""},{"$f":"IFERROR(INDEX('MEMORIAL DESCRITIVO-BRI'!Q:Q,SMALL(IF('MEMORIAL DESCRITIVO-BRI'!$E$2:$E$4000=\"Sim\",ROW('MEMORIAL DESCRITIVO-BRI'!$Q$2:$Q$4000)),ROW(B185))), \"\")","v":""}]
[null,{"$f":"IFERROR(INDEX('MEMORIAL DESCRITIVO-BRI'!B:B,SMALL(IF('MEMORIAL DESCRITIVO-BRI'!$E$2:$E$4000=\"Sim\",ROW('MEMORIAL DESCRITIVO-BRI'!$B$2:$B$4000)),ROW(B186))), \"\")","v":""},{"$f":"IFERROR(INDEX('MEMORIAL DESCRITIVO-BRI'!I:I,SMALL(IF('MEMORIAL DESCRITIVO-BRI'!$E$2:$E$4000=\"Sim\",ROW('MEMORIAL DESCRITIVO-BRI'!$I$2:$I$4000)),ROW(B186))), \"\")","v":""},{"$f":"IFERROR(INDEX('MEMORIAL DESCRITIVO-BRI'!F:F,SMALL(IF('MEMORIAL DESCRITIVO-BRI'!$E$2:$E$4000=\"Sim\",ROW('MEMORIAL DESCRITIVO-BRI'!$F$2:$F$4000)),ROW(B186))) & \" - \" & INDEX('MEMORIAL DESCRITIVO-BRI'!H:H,SMALL(IF('MEMORIAL DESCRITIVO-BRI'!$E$2:$E$4000=\"Sim\",ROW('MEMORIAL DESCRITIVO-BRI'!$H$2:$H$4000)),ROW(B186))), \"\")","v":""},null,{"$f":"IFERROR(INDEX('MEMORIAL DESCRITIVO-BRI'!S:S,SMALL(IF('MEMORIAL DESCRITIVO-BRI'!$E$2:$E$4000=\"Sim\",ROW('MEMORIAL DESCRITIVO-BRI'!$S$2:$S$4000)),ROW(B186))), \"\")","v":""},{"$f":"IFERROR(INDEX('MEMORIAL DESCRITIVO-BRI'!Z:Z,SMALL(IF('MEMORIAL DESCRITIVO-BRI'!$E$2:$E$4000=\"Sim\",ROW('MEMORIAL DESCRITIVO-BRI'!$Z$2:$Z$4000)),ROW(B186))), \"\")","v":""},{"$f":"IFERROR(INDEX('MEMORIAL DESCRITIVO-BRI'!W:W,SMALL(IF('MEMORIAL DESCRITIVO-BRI'!$E$2:$E$4000=\"Sim\",ROW('MEMORIAL DESCRITIVO-BRI'!$W$2:$W$4000)),ROW(B186))), \"\")","v":""},{"$f":"IFERROR(INDEX('MEMORIAL DESCRITIVO-BRI'!G:G,SMALL(IF('MEMORIAL DESCRITIVO-BRI'!$E$2:$E$4000=\"Sim\",ROW('MEMORIAL DESCRITIVO-BRI'!$G$2:$G$4000)),ROW(B186))), \"\")","v":""},{"$f":"IFERROR(INDEX('MEMORIAL DESCRITIVO-BRI'!P:P,SMALL(IF('MEMORIAL DESCRITIVO-BRI'!$E$2:$E$4000=\"Sim\",ROW('MEMORIAL DESCRITIVO-BRI'!$P$2:$P$4000)),ROW(B186))), \"\")","v":""},{"$f":"IFERROR(INDEX('MEMORIAL DESCRITIVO-BRI'!Q:Q,SMALL(IF('MEMORIAL DESCRITIVO-BRI'!$E$2:$E$4000=\"Sim\",ROW('MEMORIAL DESCRITIVO-BRI'!$Q$2:$Q$4000)),ROW(B186))), \"\")","v":""}]
[null,{"$f":"IFERROR(INDEX('MEMORIAL DESCRITIVO-BRI'!B:B,SMALL(IF('MEMORIAL DESCRITIVO-BRI'!$E$2:$E$4000=\"Sim\",ROW('MEMORIAL DESCRITIVO-BRI'!$B$2:$B$4000)),ROW(B187))), \"\")","v":""},{"$f":"IFERROR(INDEX('MEMORIAL DESCRITIVO-BRI'!I:I,SMALL(IF('MEMORIAL DESCRITIVO-BRI'!$E$2:$E$4000=\"Sim\",ROW('MEMORIAL DESCRITIVO-BRI'!$I$2:$I$4000)),ROW(B187))), \"\")","v":""},{"$f":"IFERROR(INDEX('MEMORIAL DESCRITIVO-BRI'!F:F,SMALL(IF('MEMORIAL DESCRITIVO-BRI'!$E$2:$E$4000=\"Sim\",ROW('MEMORIAL DESCRITIVO-BRI'!$F$2:$F$4000)),ROW(B187))) & \" - \" & INDEX('MEMORIAL DESCRITIVO-BRI'!H:H,SMALL(IF('MEMORIAL DESCRITIVO-BRI'!$E$2:$E$4000=\"Sim\",ROW('MEMORIAL DESCRITIVO-BRI'!$H$2:$H$4000)),ROW(B187))), \"\")","v":""},null,{"$f":"IFERROR(INDEX('MEMORIAL DESCRITIVO-BRI'!S:S,SMALL(IF('MEMORIAL DESCRITIVO-BRI'!$E$2:$E$4000=\"Sim\",ROW('MEMORIAL DESCRITIVO-BRI'!$S$2:$S$4000)),ROW(B187))), \"\")","v":""},{"$f":"IFERROR(INDEX('MEMORIAL DESCRITIVO-BRI'!Z:Z,SMALL(IF('MEMORIAL DESCRITIVO-BRI'!$E$2:$E$4000=\"Sim\",ROW('MEMORIAL DESCRITIVO-BRI'!$Z$2:$Z$4000)),ROW(B187))), \"\")","v":""},{"$f":"IFERROR(INDEX('MEMORIAL DESCRITIVO-BRI'!W:W,SMALL(IF('MEMORIAL DESCRITIVO-BRI'!$E$2:$E$4000=\"Sim\",ROW('MEMORIAL DESCRITIVO-BRI'!$W$2:$W$4000)),ROW(B187))), \"\")","v":""},{"$f":"IFERROR(INDEX('MEMORIAL DESCRITIVO-BRI'!G:G,SMALL(IF('MEMORIAL DESCRITIVO-BRI'!$E$2:$E$4000=\"Sim\",ROW('MEMORIAL DESCRITIVO-BRI'!$G$2:$G$4000)),ROW(B187))), \"\")","v":""},{"$f":"IFERROR(INDEX('MEMORIAL DESCRITIVO-BRI'!P:P,SMALL(IF('MEMORIAL DESCRITIVO-BRI'!$E$2:$E$4000=\"Sim\",ROW('MEMORIAL DESCRITIVO-BRI'!$P$2:$P$4000)),ROW(B187))), \"\")","v":""},{"$f":"IFERROR(INDEX('MEMORIAL DESCRITIVO-BRI'!Q:Q,SMALL(IF('MEMORIAL DESCRITIVO-BRI'!$E$2:$E$4000=\"Sim\",ROW('MEMORIAL DESCRITIVO-BRI'!$Q$2:$Q$4000)),ROW(B187))), \"\")","v":""}]
[null,{"$f":"IFERROR(INDEX('MEMORIAL DESCRITIVO-BRI'!B:B,SMALL(IF('MEMORIAL DESCRITIVO-BRI'!$E$2:$E$4000=\"Sim\",ROW('MEMORIAL DESCRITIVO-BRI'!$B$2:$B$4000)),ROW(B188))), \"\")","v":""},{"$f":"IFERROR(INDEX('MEMORIAL DESCRITIVO-BRI'!I:I,SMALL(IF('MEMORIAL DESCRITIVO-BRI'!$E$2:$E$4000=\"Sim\",ROW('MEMORIAL DESCRITIVO-BRI'!$I$2:$I$4000)),ROW(B188))), \"\")","v":""},{"$f":"IFERROR(INDEX('MEMORIAL DESCRITIVO-BRI'!F:F,SMALL(IF('MEMORIAL DESCRITIVO-BRI'!$E$2:$E$4000=\"Sim\",ROW('MEMORIAL DESCRITIVO-BRI'!$F$2:$F$4000)),ROW(B188))) & \" - \" & INDEX('MEMORIAL DESCRITIVO-BRI'!H:H,SMALL(IF('MEMORIAL DESCRITIVO-BRI'!$E$2:$E$4000=\"Sim\",ROW('MEMORIAL DESCRITIVO-BRI'!$H$2:$H$4000)),ROW(B188))), \"\")","v":""},null,{"$f":"IFERROR(INDEX('MEMORIAL DESCRITIVO-BRI'!S:S,SMALL(IF('MEMORIAL DESCRITIVO-BRI'!$E$2:$E$4000=\"Sim\",ROW('MEMORIAL DESCRITIVO-BRI'!$S$2:$S$4000)),ROW(B188))), \"\")","v":""},{"$f":"IFERROR(INDEX('MEMORIAL DESCRITIVO-BRI'!Z:Z,SMALL(IF('MEMORIAL DESCRITIVO-BRI'!$E$2:$E$4000=\"Sim\",ROW('MEMORIAL DESCRITIVO-BRI'!$Z$2:$Z$4000)),ROW(B188))), \"\")","v":""},{"$f":"IFERROR(INDEX('MEMORIAL DESCRITIVO-BRI'!W:W,SMALL(IF('MEMORIAL DESCRITIVO-BRI'!$E$2:$E$4000=\"Sim\",ROW('MEMORIAL DESCRITIVO-BRI'!$W$2:$W$4000)),ROW(B188))), \"\")","v":""},{"$f":"IFERROR(INDEX('MEMORIAL DESCRITIVO-BRI'!G:G,SMALL(IF('MEMORIAL DESCRITIVO-BRI'!$E$2:$E$4000=\"Sim\",ROW('MEMORIAL DESCRITIVO-BRI'!$G$2:$G$4000)),ROW(B188))), \"\")","v":""},{"$f":"IFERROR(INDEX('MEMORIAL DESCRITIVO-BRI'!P:P,SMALL(IF('MEMORIAL DESCRITIVO-BRI'!$E$2:$E$4000=\"Sim\",ROW('MEMORIAL DESCRITIVO-BRI'!$P$2:$P$4000)),ROW(B188))), \"\")","v":""},{"$f":"IFERROR(INDEX('MEMORIAL DESCRITIVO-BRI'!Q:Q,SMALL(IF('MEMORIAL DESCRITIVO-BRI'!$E$2:$E$4000=\"Sim\",ROW('MEMORIAL DESCRITIVO-BRI'!$Q$2:$Q$4000)),ROW(B188))), \"\")","v":""}]
[null,{"$f":"IFERROR(INDEX('MEMORIAL DESCRITIVO-BRI'!B:B,SMALL(IF('MEMORIAL DESCRITIVO-BRI'!$E$2:$E$4000=\"Sim\",ROW('MEMORIAL DESCRITIVO-BRI'!$B$2:$B$4000)),ROW(B189))), \"\")","v":""},{"$f":"IFERROR(INDEX('MEMORIAL DESCRITIVO-BRI'!I:I,SMALL(IF('MEMORIAL DESCRITIVO-BRI'!$E$2:$E$4000=\"Sim\",ROW('MEMORIAL DESCRITIVO-BRI'!$I$2:$I$4000)),ROW(B189))), \"\")","v":""},{"$f":"IFERROR(INDEX('MEMORIAL DESCRITIVO-BRI'!F:F,SMALL(IF('MEMORIAL DESCRITIVO-BRI'!$E$2:$E$4000=\"Sim\",ROW('MEMORIAL DESCRITIVO-BRI'!$F$2:$F$4000)),ROW(B189))) & \" - \" & INDEX('MEMORIAL DESCRITIVO-BRI'!H:H,SMALL(IF('MEMORIAL DESCRITIVO-BRI'!$E$2:$E$4000=\"Sim\",ROW('MEMORIAL DESCRITIVO-BRI'!$H$2:$H$4000)),ROW(B189))), \"\")","v":""},null,{"$f":"IFERROR(INDEX('MEMORIAL DESCRITIVO-BRI'!S:S,SMALL(IF('MEMORIAL DESCRITIVO-BRI'!$E$2:$E$4000=\"Sim\",ROW('MEMORIAL DESCRITIVO-BRI'!$S$2:$S$4000)),ROW(B189))), \"\")","v":""},{"$f":"IFERROR(INDEX('MEMORIAL DESCRITIVO-BRI'!Z:Z,SMALL(IF('MEMORIAL DESCRITIVO-BRI'!$E$2:$E$4000=\"Sim\",ROW('MEMORIAL DESCRITIVO-BRI'!$Z$2:$Z$4000)),ROW(B189))), \"\")","v":""},{"$f":"IFERROR(INDEX('MEMORIAL DESCRITIVO-BRI'!W:W,SMALL(IF('MEMORIAL DESCRITIVO-BRI'!$E$2:$E$4000=\"Sim\",ROW('MEMORIAL DESCRITIVO-BRI'!$W$2:$W$4000)),ROW(B189))), \"\")","v":""},{"$f":"IFERROR(INDEX('MEMORIAL DESCRITIVO-BRI'!G:G,SMALL(IF('MEMORIAL DESCRITIVO-BRI'!$E$2:$E$4000=\"Sim\",ROW('MEMORIAL DESCRITIVO-BRI'!$G$2:$G$4000)),ROW(B189))), \"\")","v":""},{"$f":"IFERROR(INDEX('MEMORIAL DESCRITIVO-BRI'!P:P,SMALL(IF('MEMORIAL DESCRITIVO-BRI'!$E$2:$E$4000=\"Sim\",ROW('MEMORIAL DESCRITIVO-BRI'!$P$2:$P$4000)),ROW(B189))), \"\")","v":""},{"$f":"IFERROR(INDEX('MEMORIAL DESCRITIVO-BRI'!Q:Q,SMALL(IF('MEMORIAL DESCRITIVO-BRI'!$E$2:$E$4000=\"Sim\",ROW('MEMORIAL DESCRITIVO-BRI'!$Q$2:$Q$4000)),ROW(B189))), \"\")","v":""}]
[null,{"$f":"IFERROR(INDEX('MEMORIAL DESCRITIVO-BRI'!B:B,SMALL(IF('MEMORIAL DESCRITIVO-BRI'!$E$2:$E$4000=\"Sim\",ROW('MEMORIAL DESCRITIVO-BRI'!$B$2:$B$4000)),ROW(B190))), \"\")","v":""},{"$f":"IFERROR(INDEX('MEMORIAL DESCRITIVO-BRI'!I:I,SMALL(IF('MEMORIAL DESCRITIVO-BRI'!$E$2:$E$4000=\"Sim\",ROW('MEMORIAL DESCRITIVO-BRI'!$I$2:$I$4000)),ROW(B190))), \"\")","v":""},{"$f":"IFERROR(INDEX('MEMORIAL DESCRITIVO-BRI'!F:F,SMALL(IF('MEMORIAL DESCRITIVO-BRI'!$E$2:$E$4000=\"Sim\",ROW('MEMORIAL DESCRITIVO-BRI'!$F$2:$F$4000)),ROW(B190))) & \" - \" & INDEX('MEMORIAL DESCRITIVO-BRI'!H:H,SMALL(IF('MEMORIAL DESCRITIVO-BRI'!$E$2:$E$4000=\"Sim\",ROW('MEMORIAL DESCRITIVO-BRI'!$H$2:$H$4000)),ROW(B190))), \"\")","v":""},null,{"$f":"IFERROR(INDEX('MEMORIAL DESCRITIVO-BRI'!S:S,SMALL(IF('MEMORIAL DESCRITIVO-BRI'!$E$2:$E$4000=\"Sim\",ROW('MEMORIAL DESCRITIVO-BRI'!$S$2:$S$4000)),ROW(B190))), \"\")","v":""},{"$f":"IFERROR(INDEX('MEMORIAL DESCRITIVO-BRI'!Z:Z,SMALL(IF('MEMORIAL DESCRITIVO-BRI'!$E$2:$E$4000=\"Sim\",ROW('MEMORIAL DESCRITIVO-BRI'!$Z$2:$Z$4000)),ROW(B190))), \"\")","v":""},{"$f":"IFERROR(INDEX('MEMORIAL DESCRITIVO-BRI'!W:W,SMALL(IF('MEMORIAL DESCRITIVO-BRI'!$E$2:$E$4000=\"Sim\",ROW('MEMORIAL DESCRITIVO-BRI'!$W$2:$W$4000)),ROW(B190))), \"\")","v":""},{"$f":"IFERROR(INDEX('MEMORIAL DESCRITIVO-BRI'!G:G,SMALL(IF('MEMORIAL DESCRITIVO-BRI'!$E$2:$E$4000=\"Sim\",ROW('MEMORIAL DESCRITIVO-BRI'!$G$2:$G$4000)),ROW(B190))), \"\")","v":""},{"$f":"IFERROR(INDEX('MEMORIAL DESCRITIVO-BRI'!P:P,SMALL(IF('MEMORIAL DESCRITIVO-BRI'!$E$2:$E$4000=\"Sim\",ROW('MEMORIAL DESCRITIVO-BRI'!$P$2:$P$4000)),ROW(B190))), \"\")","v":""},{"$f":"IFERROR(INDEX('MEMORIAL DESCRITIVO-BRI'!Q:Q,SMALL(IF('MEMORIAL DESCRITIVO-BRI'!$E$2:$E$4000=\"Sim\",ROW('MEMORIAL DESCRITIVO-BRI'!$Q$2:$Q$4000)),ROW(B190))), \"\")","v":""}]
[null,{"$f":"IFERROR(INDEX('MEMORIAL DESCRITIVO-BRI'!B:B,SMALL(IF('MEMORIAL DESCRITIVO-BRI'!$E$2:$E$4000=\"Sim\",ROW('MEMORIAL DESCRITIVO-BRI'!$B$2:$B$4000)),ROW(B191))), \"\")","v":""},{"$f":"IFERROR(INDEX('MEMORIAL DESCRITIVO-BRI'!I:I,SMALL(IF('MEMORIAL DESCRITIVO-BRI'!$E$2:$E$4000=\"Sim\",ROW('MEMORIAL DESCRITIVO-BRI'!$I$2:$I$4000)),ROW(B191))), \"\")","v":""},{"$f":"IFERROR(INDEX('MEMORIAL DESCRITIVO-BRI'!F:F,SMALL(IF('MEMORIAL DESCRITIVO-BRI'!$E$2:$E$4000=\"Sim\",ROW('MEMORIAL DESCRITIVO-BRI'!$F$2:$F$4000)),ROW(B191))) & \" - \" & INDEX('MEMORIAL DESCRITIVO-BRI'!H:H,SMALL(IF('MEMORIAL DESCRITIVO-BRI'!$E$2:$E$4000=\"Sim\",ROW('MEMORIAL DESCRITIVO-BRI'!$H$2:$H$4000)),ROW(B191))), \"\")","v":""},null,{"$f":"IFERROR(INDEX('MEMORIAL DESCRITIVO-BRI'!S:S,SMALL(IF('MEMORIAL DESCRITIVO-BRI'!$E$2:$E$4000=\"Sim\",ROW('MEMORIAL DESCRITIVO-BRI'!$S$2:$S$4000)),ROW(B191))), \"\")","v":""},{"$f":"IFERROR(INDEX('MEMORIAL DESCRITIVO-BRI'!Z:Z,SMALL(IF('MEMORIAL DESCRITIVO-BRI'!$E$2:$E$4000=\"Sim\",ROW('MEMORIAL DESCRITIVO-BRI'!$Z$2:$Z$4000)),ROW(B191))), \"\")","v":""},{"$f":"IFERROR(INDEX('MEMORIAL DESCRITIVO-BRI'!W:W,SMALL(IF('MEMORIAL DESCRITIVO-BRI'!$E$2:$E$4000=\"Sim\",ROW('MEMORIAL DESCRITIVO-BRI'!$W$2:$W$4000)),ROW(B191))), \"\")","v":""},{"$f":"IFERROR(INDEX('MEMORIAL DESCRITIVO-BRI'!G:G,SMALL(IF('MEMORIAL DESCRITIVO-BRI'!$E$2:$E$4000=\"Sim\",ROW('MEMORIAL DESCRITIVO-BRI'!$G$2:$G$4000)),ROW(B191))), \"\")","v":""},{"$f":"IFERROR(INDEX('MEMORIAL DESCRITIVO-BRI'!P:P,SMALL(IF('MEMORIAL DESCRITIVO-BRI'!$E$2:$E$4000=\"Sim\",ROW('MEMORIAL DESCRITIVO-BRI'!$P$2:$P$4000)),ROW(B191))), \"\")","v":""},{"$f":"IFERROR(INDEX('MEMORIAL DESCRITIVO-BRI'!Q:Q,SMALL(IF('MEMORIAL DESCRITIVO-BRI'!$E$2:$E$4000=\"Sim\",ROW('MEMORIAL DESCRITIVO-BRI'!$Q$2:$Q$4000)),ROW(B191))), \"\")","v":""}]
[null,{"$f":"IFERROR(INDEX('MEMORIAL DESCRITIVO-BRI'!B:B,SMALL(IF('MEMORIAL DESCRITIVO-BRI'!$E$2:$E$4000=\"Sim\",ROW('MEMORIAL DESCRITIVO-BRI'!$B$2:$B$4000)),ROW(B192))), \"\")","v":""},{"$f":"IFERROR(INDEX('MEMORIAL DESCRITIVO-BRI'!I:I,SMALL(IF('MEMORIAL DESCRITIVO-BRI'!$E$2:$E$4000=\"Sim\",ROW('MEMORIAL DESCRITIVO-BRI'!$I$2:$I$4000)),ROW(B192))), \"\")","v":""},{"$f":"IFERROR(INDEX('MEMORIAL DESCRITIVO-BRI'!F:F,SMALL(IF('MEMORIAL DESCRITIVO-BRI'!$E$2:$E$4000=\"Sim\",ROW('MEMORIAL DESCRITIVO-BRI'!$F$2:$F$4000)),ROW(B192))) & \" - \" & INDEX('MEMORIAL DESCRITIVO-BRI'!H:H,SMALL(IF('MEMORIAL DESCRITIVO-BRI'!$E$2:$E$4000=\"Sim\",ROW('MEMORIAL DESCRITIVO-BRI'!$H$2:$H$4000)),ROW(B192))), \"\")","v":""},null,{"$f":"IFERROR(INDEX('MEMORIAL DESCRITIVO-BRI'!S:S,SMALL(IF('MEMORIAL DESCRITIVO-BRI'!$E$2:$E$4000=\"Sim\",ROW('MEMORIAL DESCRITIVO-BRI'!$S$2:$S$4000)),ROW(B192))), \"\")","v":""},{"$f":"IFERROR(INDEX('MEMORIAL DESCRITIVO-BRI'!Z:Z,SMALL(IF('MEMORIAL DESCRITIVO-BRI'!$E$2:$E$4000=\"Sim\",ROW('MEMORIAL DESCRITIVO-BRI'!$Z$2:$Z$4000)),ROW(B192))), \"\")","v":""},{"$f":"IFERROR(INDEX('MEMORIAL DESCRITIVO-BRI'!W:W,SMALL(IF('MEMORIAL DESCRITIVO-BRI'!$E$2:$E$4000=\"Sim\",ROW('MEMORIAL DESCRITIVO-BRI'!$W$2:$W$4000)),ROW(B192))), \"\")","v":""},{"$f":"IFERROR(INDEX('MEMORIAL DESCRITIVO-BRI'!G:G,SMALL(IF('MEMORIAL DESCRITIVO-BRI'!$E$2:$E$4000=\"Sim\",ROW('MEMORIAL DESCRITIVO-BRI'!$G$2:$G$4000)),ROW(B192))), \"\")","v":""},{"$f":"IFERROR(INDEX('MEMORIAL DESCRITIVO-BRI'!P:P,SMALL(IF('MEMORIAL DESCRITIVO-BRI'!$E$2:$E$4000=\"Sim\",ROW('MEMORIAL DESCRITIVO-BRI'!$P$2:$P$4000)),ROW(B192))), \"\")","v":""},{"$f":"IFERROR(INDEX('MEMORIAL DESCRITIVO-BRI'!Q:Q,SMALL(IF('MEMORIAL DESCRITIVO-BRI'!$E$2:$E$4000=\"Sim\",ROW('MEMORIAL DESCRITIVO-BRI'!$Q$2:$Q$4000)),ROW(B192))), \"\")","v":""}]
[null,{"$f":"IFERROR(INDEX('MEMORIAL DESCRITIVO-BRI'!B:B,SMALL(IF('MEMORIAL DESCRITIVO-BRI'!$E$2:$E$4000=\"Sim\",ROW('MEMORIAL DESCRITIVO-BRI'!$B$2:$B$4000)),ROW(B193))), \"\")","v":""},{"$f":"IFERROR(INDEX('MEMORIAL DESCRITIVO-BRI'!I:I,SMALL(IF('MEMORIAL DESCRITIVO-BRI'!$E$2:$E$4000=\"Sim\",ROW('MEMORIAL DESCRITIVO-BRI'!$I$2:$I$4000)),ROW(B193))), \"\")","v":""},{"$f":"IFERROR(INDEX('MEMORIAL DESCRITIVO-BRI'!F:F,SMALL(IF('MEMORIAL DESCRITIVO-BRI'!$E$2:$E$4000=\"Sim\",ROW('MEMORIAL DESCRITIVO-BRI'!$F$2:$F$4000)),ROW(B193))) & \" - \" & INDEX('MEMORIAL DESCRITIVO-BRI'!H:H,SMALL(IF('MEMORIAL DESCRITIVO-BRI'!$E$2:$E$4000=\"Sim\",ROW('MEMORIAL DESCRITIVO-BRI'!$H$2:$H$4000)),ROW(B193))), \"\")","v":""},null,{"$f":"IFERROR(INDEX('MEMORIAL DESCRITIVO-BRI'!S:S,SMALL(IF('MEMORIAL DESCRITIVO-BRI'!$E$2:$E$4000=\"Sim\",ROW('MEMORIAL DESCRITIVO-BRI'!$S$2:$S$4000)),ROW(B193))), \"\")","v":""},{"$f":"IFERROR(INDEX('MEMORIAL DESCRITIVO-BRI'!Z:Z,SMALL(IF('MEMORIAL DESCRITIVO-BRI'!$E$2:$E$4000=\"Sim\",ROW('MEMORIAL DESCRITIVO-BRI'!$Z$2:$Z$4000)),ROW(B193))), \"\")","v":""},{"$f":"IFERROR(INDEX('MEMORIAL DESCRITIVO-BRI'!W:W,SMALL(IF('MEMORIAL DESCRITIVO-BRI'!$E$2:$E$4000=\"Sim\",ROW('MEMORIAL DESCRITIVO-BRI'!$W$2:$W$4000)),ROW(B193))), \"\")","v":""},{"$f":"IFERROR(INDEX('MEMORIAL DESCRITIVO-BRI'!G:G,SMALL(IF('MEMORIAL DESCRITIVO-BRI'!$E$2:$E$4000=\"Sim\",ROW('MEMORIAL DESCRITIVO-BRI'!$G$2:$G$4000)),ROW(B193))), \"\")","v":""},{"$f":"IFERROR(INDEX('MEMORIAL DESCRITIVO-BRI'!P:P,SMALL(IF('MEMORIAL DESCRITIVO-BRI'!$E$2:$E$4000=\"Sim\",ROW('MEMORIAL DESCRITIVO-BRI'!$P$2:$P$4000)),ROW(B193))), \"\")","v":""},{"$f":"IFERROR(INDEX('MEMORIAL DESCRITIVO-BRI'!Q:Q,SMALL(IF('MEMORIAL DESCRITIVO-BRI'!$E$2:$E$4000=\"Sim\",ROW('MEMORIAL DESCRITIVO-BRI'!$Q$2:$Q$4000)),ROW(B193))), \"\")","v":""}]
[null,{"$f":"IFERROR(INDEX('MEMORIAL DESCRITIVO-BRI'!B:B,SMALL(IF('MEMORIAL DESCRITIVO-BRI'!$E$2:$E$4000=\"Sim\",ROW('MEMORIAL DESCRITIVO-BRI'!$B$2:$B$4000)),ROW(B194))), \"\")","v":""},{"$f":"IFERROR(INDEX('MEMORIAL DESCRITIVO-BRI'!I:I,SMALL(IF('MEMORIAL DESCRITIVO-BRI'!$E$2:$E$4000=\"Sim\",ROW('MEMORIAL DESCRITIVO-BRI'!$I$2:$I$4000)),ROW(B194))), \"\")","v":""},{"$f":"IFERROR(INDEX('MEMORIAL DESCRITIVO-BRI'!F:F,SMALL(IF('MEMORIAL DESCRITIVO-BRI'!$E$2:$E$4000=\"Sim\",ROW('MEMORIAL DESCRITIVO-BRI'!$F$2:$F$4000)),ROW(B194))) & \" - \" & INDEX('MEMORIAL DESCRITIVO-BRI'!H:H,SMALL(IF('MEMORIAL DESCRITIVO-BRI'!$E$2:$E$4000=\"Sim\",ROW('MEMORIAL DESCRITIVO-BRI'!$H$2:$H$4000)),ROW(B194))), \"\")","v":""},null,{"$f":"IFERROR(INDEX('MEMORIAL DESCRITIVO-BRI'!S:S,SMALL(IF('MEMORIAL DESCRITIVO-BRI'!$E$2:$E$4000=\"Sim\",ROW('MEMORIAL DESCRITIVO-BRI'!$S$2:$S$4000)),ROW(B194))), \"\")","v":""},{"$f":"IFERROR(INDEX('MEMORIAL DESCRITIVO-BRI'!Z:Z,SMALL(IF('MEMORIAL DESCRITIVO-BRI'!$E$2:$E$4000=\"Sim\",ROW('MEMORIAL DESCRITIVO-BRI'!$Z$2:$Z$4000)),ROW(B194))), \"\")","v":""},{"$f":"IFERROR(INDEX('MEMORIAL DESCRITIVO-BRI'!W:W,SMALL(IF('MEMORIAL DESCRITIVO-BRI'!$E$2:$E$4000=\"Sim\",ROW('MEMORIAL DESCRITIVO-BRI'!$W$2:$W$4000)),ROW(B194))), \"\")","v":""},{"$f":"IFERROR(INDEX('MEMORIAL DESCRITIVO-BRI'!G:G,SMALL(IF('MEMORIAL DESCRITIVO-BRI'!$E$2:$E$4000=\"Sim\",ROW('MEMORIAL DESCRITIVO-BRI'!$G$2:$G$4000)),ROW(B194))), \"\")","v":""},{"$f":"IFERROR(INDEX('MEMORIAL DESCRITIVO-BRI'!P:P,SMALL(IF('MEMORIAL DESCRITIVO-BRI'!$E$2:$E$4000=\"Sim\",ROW('MEMORIAL DESCRITIVO-BRI'!$P$2:$P$4000)),ROW(B194))), \"\")","v":""},{"$f":"IFERROR(INDEX('MEMORIAL DESCRITIVO-BRI'!Q:Q,SMALL(IF('MEMORIAL DESCRITIVO-BRI'!$E$2:$E$4000=\"Sim\",ROW('MEMORIAL DESCRITIVO-BRI'!$Q$2:$Q$4000)),ROW(B194))), \"\")","v":""}]
[null,{"$f":"IFERROR(INDEX('MEMORIAL DESCRITIVO-BRI'!B:B,SMALL(IF('MEMORIAL DESCRITIVO-BRI'!$E$2:$E$4000=\"Sim\",ROW('MEMORIAL DESCRITIVO-BRI'!$B$2:$B$4000)),ROW(B195))), \"\")","v":""},{"$f":"IFERROR(INDEX('MEMORIAL DESCRITIVO-BRI'!I:I,SMALL(IF('MEMORIAL DESCRITIVO-BRI'!$E$2:$E$4000=\"Sim\",ROW('MEMORIAL DESCRITIVO-BRI'!$I$2:$I$4000)),ROW(B195))), \"\")","v":""},{"$f":"IFERROR(INDEX('MEMORIAL DESCRITIVO-BRI'!F:F,SMALL(IF('MEMORIAL DESCRITIVO-BRI'!$E$2:$E$4000=\"Sim\",ROW('MEMORIAL DESCRITIVO-BRI'!$F$2:$F$4000)),ROW(B195))) & \" - \" & INDEX('MEMORIAL DESCRITIVO-BRI'!H:H,SMALL(IF('MEMORIAL DESCRITIVO-BRI'!$E$2:$E$4000=\"Sim\",ROW('MEMORIAL DESCRITIVO-BRI'!$H$2:$H$4000)),ROW(B195))), \"\")","v":""},null,{"$f":"IFERROR(INDEX('MEMORIAL DESCRITIVO-BRI'!S:S,SMALL(IF('MEMORIAL DESCRITIVO-BRI'!$E$2:$E$4000=\"Sim\",ROW('MEMORIAL DESCRITIVO-BRI'!$S$2:$S$4000)),ROW(B195))), \"\")","v":""},{"$f":"IFERROR(INDEX('MEMORIAL DESCRITIVO-BRI'!Z:Z,SMALL(IF('MEMORIAL DESCRITIVO-BRI'!$E$2:$E$4000=\"Sim\",ROW('MEMORIAL DESCRITIVO-BRI'!$Z$2:$Z$4000)),ROW(B195))), \"\")","v":""},{"$f":"IFERROR(INDEX('MEMORIAL DESCRITIVO-BRI'!W:W,SMALL(IF('MEMORIAL DESCRITIVO-BRI'!$E$2:$E$4000=\"Sim\",ROW('MEMORIAL DESCRITIVO-BRI'!$W$2:$W$4000)),ROW(B195))), \"\")","v":""},{"$f":"IFERROR(INDEX('MEMORIAL DESCRITIVO-BRI'!G:G,SMALL(IF('MEMORIAL DESCRITIVO-BRI'!$E$2:$E$4000=\"Sim\",ROW('MEMORIAL DESCRITIVO-BRI'!$G$2:$G$4000)),ROW(B195))), \"\")","v":""},{"$f":"IFERROR(INDEX('MEMORIAL DESCRITIVO-BRI'!P:P,SMALL(IF('MEMORIAL DESCRITIVO-BRI'!$E$2:$E$4000=\"Sim\",ROW('MEMORIAL DESCRITIVO-BRI'!$P$2:$P$4000)),ROW(B195))), \"\")","v":""},{"$f":"IFERROR(INDEX('MEMORIAL DESCRITIVO-BRI'!Q:Q,SMALL(IF('MEMORIAL DESCRITIVO-BRI'!$E$2:$E$4000=\"Sim\",ROW('MEMORIAL DESCRITIVO-BRI'!$Q$2:$Q$4000)),ROW(B195))), \"\")","v":""}]
[null,{"$f":"IFERROR(INDEX('MEMORIAL DESCRITIVO-BRI'!B:B,SMALL(IF('MEMORIAL DESCRITIVO-BRI'!$E$2:$E$4000=\"Sim\",ROW('MEMORIAL DESCRITIVO-BRI'!$B$2:$B$4000)),ROW(B196))), \"\")","v":""},{"$f":"IFERROR(INDEX('MEMORIAL DESCRITIVO-BRI'!I:I,SMALL(IF('MEMORIAL DESCRITIVO-BRI'!$E$2:$E$4000=\"Sim\",ROW('MEMORIAL DESCRITIVO-BRI'!$I$2:$I$4000)),ROW(B196))), \"\")","v":""},{"$f":"IFERROR(INDEX('MEMORIAL DESCRITIVO-BRI'!F:F,SMALL(IF('MEMORIAL DESCRITIVO-BRI'!$E$2:$E$4000=\"Sim\",ROW('MEMORIAL DESCRITIVO-BRI'!$F$2:$F$4000)),ROW(B196))) & \" - \" & INDEX('MEMORIAL DESCRITIVO-BRI'!H:H,SMALL(IF('MEMORIAL DESCRITIVO-BRI'!$E$2:$E$4000=\"Sim\",ROW('MEMORIAL DESCRITIVO-BRI'!$H$2:$H$4000)),ROW(B196))), \"\")","v":""},null,{"$f":"IFERROR(INDEX('MEMORIAL DESCRITIVO-BRI'!S:S,SMALL(IF('MEMORIAL DESCRITIVO-BRI'!$E$2:$E$4000=\"Sim\",ROW('MEMORIAL DESCRITIVO-BRI'!$S$2:$S$4000)),ROW(B196))), \"\")","v":""},{"$f":"IFERROR(INDEX('MEMORIAL DESCRITIVO-BRI'!Z:Z,SMALL(IF('MEMORIAL DESCRITIVO-BRI'!$E$2:$E$4000=\"Sim\",ROW('MEMORIAL DESCRITIVO-BRI'!$Z$2:$Z$4000)),ROW(B196))), \"\")","v":""},{"$f":"IFERROR(INDEX('MEMORIAL DESCRITIVO-BRI'!W:W,SMALL(IF('MEMORIAL DESCRITIVO-BRI'!$E$2:$E$4000=\"Sim\",ROW('MEMORIAL DESCRITIVO-BRI'!$W$2:$W$4000)),ROW(B196))), \"\")","v":""},{"$f":"IFERROR(INDEX('MEMORIAL DESCRITIVO-BRI'!G:G,SMALL(IF('MEMORIAL DESCRITIVO-BRI'!$E$2:$E$4000=\"Sim\",ROW('MEMORIAL DESCRITIVO-BRI'!$G$2:$G$4000)),ROW(B196))), \"\")","v":""},{"$f":"IFERROR(INDEX('MEMORIAL DESCRITIVO-BRI'!P:P,SMALL(IF('MEMORIAL DESCRITIVO-BRI'!$E$2:$E$4000=\"Sim\",ROW('MEMORIAL DESCRITIVO-BRI'!$P$2:$P$4000)),ROW(B196))), \"\")","v":""},{"$f":"IFERROR(INDEX('MEMORIAL DESCRITIVO-BRI'!Q:Q,SMALL(IF('MEMORIAL DESCRITIVO-BRI'!$E$2:$E$4000=\"Sim\",ROW('MEMORIAL DESCRITIVO-BRI'!$Q$2:$Q$4000)),ROW(B196))), \"\")","v":""}]
[null,{"$f":"IFERROR(INDEX('MEMORIAL DESCRITIVO-BRI'!B:B,SMALL(IF('MEMORIAL DESCRITIVO-BRI'!$E$2:$E$4000=\"Sim\",ROW('MEMORIAL DESCRITIVO-BRI'!$B$2:$B$4000)),ROW(B197))), \"\")","v":""},{"$f":"IFERROR(INDEX('MEMORIAL DESCRITIVO-BRI'!I:I,SMALL(IF('MEMORIAL DESCRITIVO-BRI'!$E$2:$E$4000=\"Sim\",ROW('MEMORIAL DESCRITIVO-BRI'!$I$2:$I$4000)),ROW(B197))), \"\")","v":""},{"$f":"IFERROR(INDEX('MEMORIAL DESCRITIVO-BRI'!F:F,SMALL(IF('MEMORIAL DESCRITIVO-BRI'!$E$2:$E$4000=\"Sim\",ROW('MEMORIAL DESCRITIVO-BRI'!$F$2:$F$4000)),ROW(B197))) & \" - \" & INDEX('MEMORIAL DESCRITIVO-BRI'!H:H,SMALL(IF('MEMORIAL DESCRITIVO-BRI'!$E$2:$E$4000=\"Sim\",ROW('MEMORIAL DESCRITIVO-BRI'!$H$2:$H$4000)),ROW(B197))), \"\")","v":""},null,{"$f":"IFERROR(INDEX('MEMORIAL DESCRITIVO-BRI'!S:S,SMALL(IF('MEMORIAL DESCRITIVO-BRI'!$E$2:$E$4000=\"Sim\",ROW('MEMORIAL DESCRITIVO-BRI'!$S$2:$S$4000)),ROW(B197))), \"\")","v":""},{"$f":"IFERROR(INDEX('MEMORIAL DESCRITIVO-BRI'!Z:Z,SMALL(IF('MEMORIAL DESCRITIVO-BRI'!$E$2:$E$4000=\"Sim\",ROW('MEMORIAL DESCRITIVO-BRI'!$Z$2:$Z$4000)),ROW(B197))), \"\")","v":""},{"$f":"IFERROR(INDEX('MEMORIAL DESCRITIVO-BRI'!W:W,SMALL(IF('MEMORIAL DESCRITIVO-BRI'!$E$2:$E$4000=\"Sim\",ROW('MEMORIAL DESCRITIVO-BRI'!$W$2:$W$4000)),ROW(B197))), \"\")","v":""},{"$f":"IFERROR(INDEX('MEMORIAL DESCRITIVO-BRI'!G:G,SMALL(IF('MEMORIAL DESCRITIVO-BRI'!$E$2:$E$4000=\"Sim\",ROW('MEMORIAL DESCRITIVO-BRI'!$G$2:$G$4000)),ROW(B197))), \"\")","v":""},{"$f":"IFERROR(INDEX('MEMORIAL DESCRITIVO-BRI'!P:P,SMALL(IF('MEMORIAL DESCRITIVO-BRI'!$E$2:$E$4000=\"Sim\",ROW('MEMORIAL DESCRITIVO-BRI'!$P$2:$P$4000)),ROW(B197))), \"\")","v":""},{"$f":"IFERROR(INDEX('MEMORIAL DESCRITIVO-BRI'!Q:Q,SMALL(IF('MEMORIAL DESCRITIVO-BRI'!$E$2:$E$4000=\"Sim\",ROW('MEMORIAL DESCRITIVO-BRI'!$Q$2:$Q$4000)),ROW(B197))), \"\")","v":""}]
[null,{"$f":"IFERROR(INDEX('MEMORIAL DESCRITIVO-BRI'!B:B,SMALL(IF('MEMORIAL DESCRITIVO-BRI'!$E$2:$E$4000=\"Sim\",ROW('MEMORIAL DESCRITIVO-BRI'!$B$2:$B$4000)),ROW(B198))), \"\")","v":""},{"$f":"IFERROR(INDEX('MEMORIAL DESCRITIVO-BRI'!I:I,SMALL(IF('MEMORIAL DESCRITIVO-BRI'!$E$2:$E$4000=\"Sim\",ROW('MEMORIAL DESCRITIVO-BRI'!$I$2:$I$4000)),ROW(B198))), \"\")","v":""},{"$f":"IFERROR(INDEX('MEMORIAL DESCRITIVO-BRI'!F:F,SMALL(IF('MEMORIAL DESCRITIVO-BRI'!$E$2:$E$4000=\"Sim\",ROW('MEMORIAL DESCRITIVO-BRI'!$F$2:$F$4000)),ROW(B198))) & \" - \" & INDEX('MEMORIAL DESCRITIVO-BRI'!H:H,SMALL(IF('MEMORIAL DESCRITIVO-BRI'!$E$2:$E$4000=\"Sim\",ROW('MEMORIAL DESCRITIVO-BRI'!$H$2:$H$4000)),ROW(B198))), \"\")","v":""},null,{"$f":"IFERROR(INDEX('MEMORIAL DESCRITIVO-BRI'!S:S,SMALL(IF('MEMORIAL DESCRITIVO-BRI'!$E$2:$E$4000=\"Sim\",ROW('MEMORIAL DESCRITIVO-BRI'!$S$2:$S$4000)),ROW(B198))), \"\")","v":""},{"$f":"IFERROR(INDEX('MEMORIAL DESCRITIVO-BRI'!Z:Z,SMALL(IF('MEMORIAL DESCRITIVO-BRI'!$E$2:$E$4000=\"Sim\",ROW('MEMORIAL DESCRITIVO-BRI'!$Z$2:$Z$4000)),ROW(B198))), \"\")","v":""},{"$f":"IFERROR(INDEX('MEMORIAL DESCRITIVO-BRI'!W:W,SMALL(IF('MEMORIAL DESCRITIVO-BRI'!$E$2:$E$4000=\"Sim\",ROW('MEMORIAL DESCRITIVO-BRI'!$W$2:$W$4000)),ROW(B198))), \"\")","v":""},{"$f":"IFERROR(INDEX('MEMORIAL DESCRITIVO-BRI'!G:G,SMALL(IF('MEMORIAL DESCRITIVO-BRI'!$E$2:$E$4000=\"Sim\",ROW('MEMORIAL DESCRITIVO-BRI'!$G$2:$G$4000)),ROW(B198))), \"\")","v":""},{"$f":"IFERROR(INDEX('MEMORIAL DESCRITIVO-BRI'!P:P,SMALL(IF('MEMORIAL DESCRITIVO-BRI'!$E$2:$E$4000=\"Sim\",ROW('MEMORIAL DESCRITIVO-BRI'!$P$2:$P$4000)),ROW(B198))), \"\")","v":""},{"$f":"IFERROR(INDEX('MEMORIAL DESCRITIVO-BRI'!Q:Q,SMALL(IF('MEMORIAL DESCRITIVO-BRI'!$E$2:$E$4000=\"Sim\",ROW('MEMORIAL DESCRITIVO-BRI'!$Q$2:$Q$4000)),ROW(B198))), \"\")","v":""}]
[null,{"$f":"IFERROR(INDEX('MEMORIAL DESCRITIVO-BRI'!B:B,SMALL(IF('MEMORIAL DESCRITIVO-BRI'!$E$2:$E$4000=\"Sim\",ROW('MEMORIAL DESCRITIVO-BRI'!$B$2:$B$4000)),ROW(B199))), \"\")","v":""},{"$f":"IFERROR(INDEX('MEMORIAL DESCRITIVO-BRI'!I:I,SMALL(IF('MEMORIAL DESCRITIVO-BRI'!$E$2:$E$4000=\"Sim\",ROW('MEMORIAL DESCRITIVO-BRI'!$I$2:$I$4000)),ROW(B199))), \"\")","v":""},{"$f":"IFERROR(INDEX('MEMORIAL DESCRITIVO-BRI'!F:F,SMALL(IF('MEMORIAL DESCRITIVO-BRI'!$E$2:$E$4000=\"Sim\",ROW('MEMORIAL DESCRITIVO-BRI'!$F$2:$F$4000)),ROW(B199))) & \" - \" & INDEX('MEMORIAL DESCRITIVO-BRI'!H:H,SMALL(IF('MEMORIAL DESCRITIVO-BRI'!$E$2:$E$4000=\"Sim\",ROW('MEMORIAL DESCRITIVO-BRI'!$H$2:$H$4000)),ROW(B199))), \"\")","v":""},null,{"$f":"IFERROR(INDEX('MEMORIAL DESCRITIVO-BRI'!S:S,SMALL(IF('MEMORIAL DESCRITIVO-BRI'!$E$2:$E$4000=\"Sim\",ROW('MEMORIAL DESCRITIVO-BRI'!$S$2:$S$4000)),ROW(B199))), \"\")","v":""},{"$f":"IFERROR(INDEX('MEMORIAL DESCRITIVO-BRI'!Z:Z,SMALL(IF('MEMORIAL DESCRITIVO-BRI'!$E$2:$E$4000=\"Sim\",ROW('MEMORIAL DESCRITIVO-BRI'!$Z$2:$Z$4000)),ROW(B199))), \"\")","v":""},{"$f":"IFERROR(INDEX('MEMORIAL DESCRITIVO-BRI'!W:W,SMALL(IF('MEMORIAL DESCRITIVO-BRI'!$E$2:$E$4000=\"Sim\",ROW('MEMORIAL DESCRITIVO-BRI'!$W$2:$W$4000)),ROW(B199))), \"\")","v":""},{"$f":"IFERROR(INDEX('MEMORIAL DESCRITIVO-BRI'!G:G,SMALL(IF('MEMORIAL DESCRITIVO-BRI'!$E$2:$E$4000=\"Sim\",ROW('MEMORIAL DESCRITIVO-BRI'!$G$2:$G$4000)),ROW(B199))), \"\")","v":""},{"$f":"IFERROR(INDEX('MEMORIAL DESCRITIVO-BRI'!P:P,SMALL(IF('MEMORIAL DESCRITIVO-BRI'!$E$2:$E$4000=\"Sim\",ROW('MEMORIAL DESCRITIVO-BRI'!$P$2:$P$4000)),ROW(B199))), \"\")","v":""},{"$f":"IFERROR(INDEX('MEMORIAL DESCRITIVO-BRI'!Q:Q,SMALL(IF('MEMORIAL DESCRITIVO-BRI'!$E$2:$E$4000=\"Sim\",ROW('MEMORIAL DESCRITIVO-BRI'!$Q$2:$Q$4000)),ROW(B199))), \"\")","v":""}]
[null,{"$f":"IFERROR(INDEX('MEMORIAL DESCRITIVO-BRI'!B:B,SMALL(IF('MEMORIAL DESCRITIVO-BRI'!$E$2:$E$4000=\"Sim\",ROW('MEMORIAL DESCRITIVO-BRI'!$B$2:$B$4000)),ROW(B200))), \"\")","v":""},{"$f":"IFERROR(INDEX('MEMORIAL DESCRITIVO-BRI'!I:I,SMALL(IF('MEMORIAL DESCRITIVO-BRI'!$E$2:$E$4000=\"Sim\",ROW('MEMORIAL DESCRITIVO-BRI'!$I$2:$I$4000)),ROW(B200))), \"\")","v":""},{"$f":"IFERROR(INDEX('MEMORIAL DESCRITIVO-BRI'!F:F,SMALL(IF('MEMORIAL DESCRITIVO-BRI'!$E$2:$E$4000=\"Sim\",ROW('MEMORIAL DESCRITIVO-BRI'!$F$2:$F$4000)),ROW(B200))) & \" - \" & INDEX('MEMORIAL DESCRITIVO-BRI'!H:H,SMALL(IF('MEMORIAL DESCRITIVO-BRI'!$E$2:$E$4000=\"Sim\",ROW('MEMORIAL DESCRITIVO-BRI'!$H$2:$H$4000)),ROW(B200))), \"\")","v":""},null,{"$f":"IFERROR(INDEX('MEMORIAL DESCRITIVO-BRI'!S:S,SMALL(IF('MEMORIAL DESCRITIVO-BRI'!$E$2:$E$4000=\"Sim\",ROW('MEMORIAL DESCRITIVO-BRI'!$S$2:$S$4000)),ROW(B200))), \"\")","v":""},{"$f":"IFERROR(INDEX('MEMORIAL DESCRITIVO-BRI'!Z:Z,SMALL(IF('MEMORIAL DESCRITIVO-BRI'!$E$2:$E$4000=\"Sim\",ROW('MEMORIAL DESCRITIVO-BRI'!$Z$2:$Z$4000)),ROW(B200))), \"\")","v":""},{"$f":"IFERROR(INDEX('MEMORIAL DESCRITIVO-BRI'!W:W,SMALL(IF('MEMORIAL DESCRITIVO-BRI'!$E$2:$E$4000=\"Sim\",ROW('MEMORIAL DESCRITIVO-BRI'!$W$2:$W$4000)),ROW(B200))), \"\")","v":""},{"$f":"IFERROR(INDEX('MEMORIAL DESCRITIVO-BRI'!G:G,SMALL(IF('MEMORIAL DESCRITIVO-BRI'!$E$2:$E$4000=\"Sim\",ROW('MEMORIAL DESCRITIVO-BRI'!$G$2:$G$4000)),ROW(B200))), \"\")","v":""},{"$f":"IFERROR(INDEX('MEMORIAL DESCRITIVO-BRI'!P:P,SMALL(IF('MEMORIAL DESCRITIVO-BRI'!$E$2:$E$4000=\"Sim\",ROW('MEMORIAL DESCRITIVO-BRI'!$P$2:$P$4000)),ROW(B200))), \"\")","v":""},{"$f":"IFERROR(INDEX('MEMORIAL DESCRITIVO-BRI'!Q:Q,SMALL(IF('MEMORIAL DESCRITIVO-BRI'!$E$2:$E$4000=\"Sim\",ROW('MEMORIAL DESCRITIVO-BRI'!$Q$2:$Q$4000)),ROW(B200))), \"\")","v":""}]
[null,{"$f":"IFERROR(INDEX('MEMORIAL DESCRITIVO-BRI'!B:B,SMALL(IF('MEMORIAL DESCRITIVO-BRI'!$E$2:$E$4000=\"Sim\",ROW('MEMORIAL DESCRITIVO-BRI'!$B$2:$B$4000)),ROW(B201))), \"\")","v":""},{"$f":"IFERROR(INDEX('MEMORIAL DESCRITIVO-BRI'!I:I,SMALL(IF('MEMORIAL DESCRITIVO-BRI'!$E$2:$E$4000=\"Sim\",ROW('MEMORIAL DESCRITIVO-BRI'!$I$2:$I$4000)),ROW(B201))), \"\")","v":""},{"$f":"IFERROR(INDEX('MEMORIAL DESCRITIVO-BRI'!F:F,SMALL(IF('MEMORIAL DESCRITIVO-BRI'!$E$2:$E$4000=\"Sim\",ROW('MEMORIAL DESCRITIVO-BRI'!$F$2:$F$4000)),ROW(B201))) & \" - \" & INDEX('MEMORIAL DESCRITIVO-BRI'!H:H,SMALL(IF('MEMORIAL DESCRITIVO-BRI'!$E$2:$E$4000=\"Sim\",ROW('MEMORIAL DESCRITIVO-BRI'!$H$2:$H$4000)),ROW(B201))), \"\")","v":""},null,{"$f":"IFERROR(INDEX('MEMORIAL DESCRITIVO-BRI'!S:S,SMALL(IF('MEMORIAL DESCRITIVO-BRI'!$E$2:$E$4000=\"Sim\",ROW('MEMORIAL DESCRITIVO-BRI'!$S$2:$S$4000)),ROW(B201))), \"\")","v":""},{"$f":"IFERROR(INDEX('MEMORIAL DESCRITIVO-BRI'!Z:Z,SMALL(IF('MEMORIAL DESCRITIVO-BRI'!$E$2:$E$4000=\"Sim\",ROW('MEMORIAL DESCRITIVO-BRI'!$Z$2:$Z$4000)),ROW(B201))), \"\")","v":""},{"$f":"IFERROR(INDEX('MEMORIAL DESCRITIVO-BRI'!W:W,SMALL(IF('MEMORIAL DESCRITIVO-BRI'!$E$2:$E$4000=\"Sim\",ROW('MEMORIAL DESCRITIVO-BRI'!$W$2:$W$4000)),ROW(B201))), \"\")","v":""},{"$f":"IFERROR(INDEX('MEMORIAL DESCRITIVO-BRI'!G:G,SMALL(IF('MEMORIAL DESCRITIVO-BRI'!$E$2:$E$4000=\"Sim\",ROW('MEMORIAL DESCRITIVO-BRI'!$G$2:$G$4000)),ROW(B201))), \"\")","v":""},{"$f":"IFERROR(INDEX('MEMORIAL DESCRITIVO-BRI'!P:P,SMALL(IF('MEMORIAL DESCRITIVO-BRI'!$E$2:$E$4000=\"Sim\",ROW('MEMORIAL DESCRITIVO-BRI'!$P$2:$P$4000)),ROW(B201))), \"\")","v":""},{"$f":"IFERROR(INDEX('MEMORIAL DESCRITIVO-BRI'!Q:Q,SMALL(IF('MEMORIAL DESCRITIVO-BRI'!$E$2:$E$4000=\"Sim\",ROW('MEMORIAL DESCRITIVO-BRI'!$Q$2:$Q$4000)),ROW(B201))), \"\")","v":""}]
[null,{"$f":"IFERROR(INDEX('MEMORIAL DESCRITIVO-BRI'!B:B,SMALL(IF('MEMORIAL DESCRITIVO-BRI'!$E$2:$E$4000=\"Sim\",ROW('MEMORIAL DESCRITIVO-BRI'!$B$2:$B$4000)),ROW(B202))), \"\")","v":""},{"$f":"IFERROR(INDEX('MEMORIAL DESCRITIVO-BRI'!I:I,SMALL(IF('MEMORIAL DESCRITIVO-BRI'!$E$2:$E$4000=\"Sim\",ROW('MEMORIAL DESCRITIVO-BRI'!$I$2:$I$4000)),ROW(B202))), \"\")","v":""},{"$f":"IFERROR(INDEX('MEMORIAL DESCRITIVO-BRI'!F:F,SMALL(IF('MEMORIAL DESCRITIVO-BRI'!$E$2:$E$4000=\"Sim\",ROW('MEMORIAL DESCRITIVO-BRI'!$F$2:$F$4000)),ROW(B202))) & \" - \" & INDEX('MEMORIAL DESCRITIVO-BRI'!H:H,SMALL(IF('MEMORIAL DESCRITIVO-BRI'!$E$2:$E$4000=\"Sim\",ROW('MEMORIAL DESCRITIVO-BRI'!$H$2:$H$4000)),ROW(B202))), \"\")","v":""},null,{"$f":"IFERROR(INDEX('MEMORIAL DESCRITIVO-BRI'!S:S,SMALL(IF('MEMORIAL DESCRITIVO-BRI'!$E$2:$E$4000=\"Sim\",ROW('MEMORIAL DESCRITIVO-BRI'!$S$2:$S$4000)),ROW(B202))), \"\")","v":""},{"$f":"IFERROR(INDEX('MEMORIAL DESCRITIVO-BRI'!Z:Z,SMALL(IF('MEMORIAL DESCRITIVO-BRI'!$E$2:$E$4000=\"Sim\",ROW('MEMORIAL DESCRITIVO-BRI'!$Z$2:$Z$4000)),ROW(B202))), \"\")","v":""},{"$f":"IFERROR(INDEX('MEMORIAL DESCRITIVO-BRI'!W:W,SMALL(IF('MEMORIAL DESCRITIVO-BRI'!$E$2:$E$4000=\"Sim\",ROW('MEMORIAL DESCRITIVO-BRI'!$W$2:$W$4000)),ROW(B202))), \"\")","v":""},{"$f":"IFERROR(INDEX('MEMORIAL DESCRITIVO-BRI'!G:G,SMALL(IF('MEMORIAL DESCRITIVO-BRI'!$E$2:$E$4000=\"Sim\",ROW('MEMORIAL DESCRITIVO-BRI'!$G$2:$G$4000)),ROW(B202))), \"\")","v":""},{"$f":"IFERROR(INDEX('MEMORIAL DESCRITIVO-BRI'!P:P,SMALL(IF('MEMORIAL DESCRITIVO-BRI'!$E$2:$E$4000=\"Sim\",ROW('MEMORIAL DESCRITIVO-BRI'!$P$2:$P$4000)),ROW(B202))), \"\")","v":""},{"$f":"IFERROR(INDEX('MEMORIAL DESCRITIVO-BRI'!Q:Q,SMALL(IF('MEMORIAL DESCRITIVO-BRI'!$E$2:$E$4000=\"Sim\",ROW('MEMORIAL DESCRITIVO-BRI'!$Q$2:$Q$4000)),ROW(B202))), \"\")","v":""}]
[null,{"$f":"IFERROR(INDEX('MEMORIAL DESCRITIVO-BRI'!B:B,SMALL(IF('MEMORIAL DESCRITIVO-BRI'!$E$2:$E$4000=\"Sim\",ROW('MEMORIAL DESCRITIVO-BRI'!$B$2:$B$4000)),ROW(B203))), \"\")","v":""},{"$f":"IFERROR(INDEX('MEMORIAL DESCRITIVO-BRI'!I:I,SMALL(IF('MEMORIAL DESCRITIVO-BRI'!$E$2:$E$4000=\"Sim\",ROW('MEMORIAL DESCRITIVO-BRI'!$I$2:$I$4000)),ROW(B203))), \"\")","v":""},{"$f":"IFERROR(INDEX('MEMORIAL DESCRITIVO-BRI'!F:F,SMALL(IF('MEMORIAL DESCRITIVO-BRI'!$E$2:$E$4000=\"Sim\",ROW('MEMORIAL DESCRITIVO-BRI'!$F$2:$F$4000)),ROW(B203))) & \" - \" & INDEX('MEMORIAL DESCRITIVO-BRI'!H:H,SMALL(IF('MEMORIAL DESCRITIVO-BRI'!$E$2:$E$4000=\"Sim\",ROW('MEMORIAL DESCRITIVO-BRI'!$H$2:$H$4000)),ROW(B203))), \"\")","v":""},null,{"$f":"IFERROR(INDEX('MEMORIAL DESCRITIVO-BRI'!S:S,SMALL(IF('MEMORIAL DESCRITIVO-BRI'!$E$2:$E$4000=\"Sim\",ROW('MEMORIAL DESCRITIVO-BRI'!$S$2:$S$4000)),ROW(B203))), \"\")","v":""},{"$f":"IFERROR(INDEX('MEMORIAL DESCRITIVO-BRI'!Z:Z,SMALL(IF('MEMORIAL DESCRITIVO-BRI'!$E$2:$E$4000=\"Sim\",ROW('MEMORIAL DESCRITIVO-BRI'!$Z$2:$Z$4000)),ROW(B203))), \"\")","v":""},{"$f":"IFERROR(INDEX('MEMORIAL DESCRITIVO-BRI'!W:W,SMALL(IF('MEMORIAL DESCRITIVO-BRI'!$E$2:$E$4000=\"Sim\",ROW('MEMORIAL DESCRITIVO-BRI'!$W$2:$W$4000)),ROW(B203))), \"\")","v":""},{"$f":"IFERROR(INDEX('MEMORIAL DESCRITIVO-BRI'!G:G,SMALL(IF('MEMORIAL DESCRITIVO-BRI'!$E$2:$E$4000=\"Sim\",ROW('MEMORIAL DESCRITIVO-BRI'!$G$2:$G$4000)),ROW(B203))), \"\")","v":""},{"$f":"IFERROR(INDEX('MEMORIAL DESCRITIVO-BRI'!P:P,SMALL(IF('MEMORIAL DESCRITIVO-BRI'!$E$2:$E$4000=\"Sim\",ROW('MEMORIAL DESCRITIVO-BRI'!$P$2:$P$4000)),ROW(B203))), \"\")","v":""},{"$f":"IFERROR(INDEX('MEMORIAL DESCRITIVO-BRI'!Q:Q,SMALL(IF('MEMORIAL DESCRITIVO-BRI'!$E$2:$E$4000=\"Sim\",ROW('MEMORIAL DESCRITIVO-BRI'!$Q$2:$Q$4000)),ROW(B203))), \"\")","v":""}]
[null,{"$f":"IFERROR(INDEX('MEMORIAL DESCRITIVO-BRI'!B:B,SMALL(IF('MEMORIAL DESCRITIVO-BRI'!$E$2:$E$4000=\"Sim\",ROW('MEMORIAL DESCRITIVO-BRI'!$B$2:$B$4000)),ROW(B204))), \"\")","v":""},{"$f":"IFERROR(INDEX('MEMORIAL DESCRITIVO-BRI'!I:I,SMALL(IF('MEMORIAL DESCRITIVO-BRI'!$E$2:$E$4000=\"Sim\",ROW('MEMORIAL DESCRITIVO-BRI'!$I$2:$I$4000)),ROW(B204))), \"\")","v":""},{"$f":"IFERROR(INDEX('MEMORIAL DESCRITIVO-BRI'!F:F,SMALL(IF('MEMORIAL DESCRITIVO-BRI'!$E$2:$E$4000=\"Sim\",ROW('MEMORIAL DESCRITIVO-BRI'!$F$2:$F$4000)),ROW(B204))) & \" - \" & INDEX('MEMORIAL DESCRITIVO-BRI'!H:H,SMALL(IF('MEMORIAL DESCRITIVO-BRI'!$E$2:$E$4000=\"Sim\",ROW('MEMORIAL DESCRITIVO-BRI'!$H$2:$H$4000)),ROW(B204))), \"\")","v":""},null,{"$f":"IFERROR(INDEX('MEMORIAL DESCRITIVO-BRI'!S:S,SMALL(IF('MEMORIAL DESCRITIVO-BRI'!$E$2:$E$4000=\"Sim\",ROW('MEMORIAL DESCRITIVO-BRI'!$S$2:$S$4000)),ROW(B204))), \"\")","v":""},{"$f":"IFERROR(INDEX('MEMORIAL DESCRITIVO-BRI'!Z:Z,SMALL(IF('MEMORIAL DESCRITIVO-BRI'!$E$2:$E$4000=\"Sim\",ROW('MEMORIAL DESCRITIVO-BRI'!$Z$2:$Z$4000)),ROW(B204))), \"\")","v":""},{"$f":"IFERROR(INDEX('MEMORIAL DESCRITIVO-BRI'!W:W,SMALL(IF('MEMORIAL DESCRITIVO-BRI'!$E$2:$E$4000=\"Sim\",ROW('MEMORIAL DESCRITIVO-BRI'!$W$2:$W$4000)),ROW(B204))), \"\")","v":""},{"$f":"IFERROR(INDEX('MEMORIAL DESCRITIVO-BRI'!G:G,SMALL(IF('MEMORIAL DESCRITIVO-BRI'!$E$2:$E$4000=\"Sim\",ROW('MEMORIAL DESCRITIVO-BRI'!$G$2:$G$4000)),ROW(B204))), \"\")","v":""},{"$f":"IFERROR(INDEX('MEMORIAL DESCRITIVO-BRI'!P:P,SMALL(IF('MEMORIAL DESCRITIVO-BRI'!$E$2:$E$4000=\"Sim\",ROW('MEMORIAL DESCRITIVO-BRI'!$P$2:$P$4000)),ROW(B204))), \"\")","v":""},{"$f":"IFERROR(INDEX('MEMORIAL DESCRITIVO-BRI'!Q:Q,SMALL(IF('MEMORIAL DESCRITIVO-BRI'!$E$2:$E$4000=\"Sim\",ROW('MEMORIAL DESCRITIVO-BRI'!$Q$2:$Q$4000)),ROW(B204))), \"\")","v":""}]
[null,{"$f":"IFERROR(INDEX('MEMORIAL DESCRITIVO-BRI'!B:B,SMALL(IF('MEMORIAL DESCRITIVO-BRI'!$E$2:$E$4000=\"Sim\",ROW('MEMORIAL DESCRITIVO-BRI'!$B$2:$B$4000)),ROW(B205))), \"\")","v":""},{"$f":"IFERROR(INDEX('MEMORIAL DESCRITIVO-BRI'!I:I,SMALL(IF('MEMORIAL DESCRITIVO-BRI'!$E$2:$E$4000=\"Sim\",ROW('MEMORIAL DESCRITIVO-BRI'!$I$2:$I$4000)),ROW(B205))), \"\")","v":""},{"$f":"IFERROR(INDEX('MEMORIAL DESCRITIVO-BRI'!F:F,SMALL(IF('MEMORIAL DESCRITIVO-BRI'!$E$2:$E$4000=\"Sim\",ROW('MEMORIAL DESCRITIVO-BRI'!$F$2:$F$4000)),ROW(B205))) & \" - \" & INDEX('MEMORIAL DESCRITIVO-BRI'!H:H,SMALL(IF('MEMORIAL DESCRITIVO-BRI'!$E$2:$E$4000=\"Sim\",ROW('MEMORIAL DESCRITIVO-BRI'!$H$2:$H$4000)),ROW(B205))), \"\")","v":""},null,{"$f":"IFERROR(INDEX('MEMORIAL DESCRITIVO-BRI'!S:S,SMALL(IF('MEMORIAL DESCRITIVO-BRI'!$E$2:$E$4000=\"Sim\",ROW('MEMORIAL DESCRITIVO-BRI'!$S$2:$S$4000)),ROW(B205))), \"\")","v":""},{"$f":"IFERROR(INDEX('MEMORIAL DESCRITIVO-BRI'!Z:Z,SMALL(IF('MEMORIAL DESCRITIVO-BRI'!$E$2:$E$4000=\"Sim\",ROW('MEMORIAL DESCRITIVO-BRI'!$Z$2:$Z$4000)),ROW(B205))), \"\")","v":""},{"$f":"IFERROR(INDEX('MEMORIAL DESCRITIVO-BRI'!W:W,SMALL(IF('MEMORIAL DESCRITIVO-BRI'!$E$2:$E$4000=\"Sim\",ROW('MEMORIAL DESCRITIVO-BRI'!$W$2:$W$4000)),ROW(B205))), \"\")","v":""},{"$f":"IFERROR(INDEX('MEMORIAL DESCRITIVO-BRI'!G:G,SMALL(IF('MEMORIAL DESCRITIVO-BRI'!$E$2:$E$4000=\"Sim\",ROW('MEMORIAL DESCRITIVO-BRI'!$G$2:$G$4000)),ROW(B205))), \"\")","v":""},{"$f":"IFERROR(INDEX('MEMORIAL DESCRITIVO-BRI'!P:P,SMALL(IF('MEMORIAL DESCRITIVO-BRI'!$E$2:$E$4000=\"Sim\",ROW('MEMORIAL DESCRITIVO-BRI'!$P$2:$P$4000)),ROW(B205))), \"\")","v":""},{"$f":"IFERROR(INDEX('MEMORIAL DESCRITIVO-BRI'!Q:Q,SMALL(IF('MEMORIAL DESCRITIVO-BRI'!$E$2:$E$4000=\"Sim\",ROW('MEMORIAL DESCRITIVO-BRI'!$Q$2:$Q$4000)),ROW(B205))), \"\")","v":""}]
[null,{"$f":"IFERROR(INDEX('MEMORIAL DESCRITIVO-BRI'!B:B,SMALL(IF('MEMORIAL DESCRITIVO-BRI'!$E$2:$E$4000=\"Sim\",ROW('MEMORIAL DESCRITIVO-BRI'!$B$2:$B$4000)),ROW(B206))), \"\")","v":""},{"$f":"IFERROR(INDEX('MEMORIAL DESCRITIVO-BRI'!I:I,SMALL(IF('MEMORIAL DESCRITIVO-BRI'!$E$2:$E$4000=\"Sim\",ROW('MEMORIAL DESCRITIVO-BRI'!$I$2:$I$4000)),ROW(B206))), \"\")","v":""},{"$f":"IFERROR(INDEX('MEMORIAL DESCRITIVO-BRI'!F:F,SMALL(IF('MEMORIAL DESCRITIVO-BRI'!$E$2:$E$4000=\"Sim\",ROW('MEMORIAL DESCRITIVO-BRI'!$F$2:$F$4000)),ROW(B206))) & \" - \" & INDEX('MEMORIAL DESCRITIVO-BRI'!H:H,SMALL(IF('MEMORIAL DESCRITIVO-BRI'!$E$2:$E$4000=\"Sim\",ROW('MEMORIAL DESCRITIVO-BRI'!$H$2:$H$4000)),ROW(B206))), \"\")","v":""},null,{"$f":"IFERROR(INDEX('MEMORIAL DESCRITIVO-BRI'!S:S,SMALL(IF('MEMORIAL DESCRITIVO-BRI'!$E$2:$E$4000=\"Sim\",ROW('MEMORIAL DESCRITIVO-BRI'!$S$2:$S$4000)),ROW(B206))), \"\")","v":""},{"$f":"IFERROR(INDEX('MEMORIAL DESCRITIVO-BRI'!Z:Z,SMALL(IF('MEMORIAL DESCRITIVO-BRI'!$E$2:$E$4000=\"Sim\",ROW('MEMORIAL DESCRITIVO-BRI'!$Z$2:$Z$4000)),ROW(B206))), \"\")","v":""},{"$f":"IFERROR(INDEX('MEMORIAL DESCRITIVO-BRI'!W:W,SMALL(IF('MEMORIAL DESCRITIVO-BRI'!$E$2:$E$4000=\"Sim\",ROW('MEMORIAL DESCRITIVO-BRI'!$W$2:$W$4000)),ROW(B206))), \"\")","v":""},{"$f":"IFERROR(INDEX('MEMORIAL DESCRITIVO-BRI'!G:G,SMALL(IF('MEMORIAL DESCRITIVO-BRI'!$E$2:$E$4000=\"Sim\",ROW('MEMORIAL DESCRITIVO-BRI'!$G$2:$G$4000)),ROW(B206))), \"\")","v":""},{"$f":"IFERROR(INDEX('MEMORIAL DESCRITIVO-BRI'!P:P,SMALL(IF('MEMORIAL DESCRITIVO-BRI'!$E$2:$E$4000=\"Sim\",ROW('MEMORIAL DESCRITIVO-BRI'!$P$2:$P$4000)),ROW(B206))), \"\")","v":""},{"$f":"IFERROR(INDEX('MEMORIAL DESCRITIVO-BRI'!Q:Q,SMALL(IF('MEMORIAL DESCRITIVO-BRI'!$E$2:$E$4000=\"Sim\",ROW('MEMORIAL DESCRITIVO-BRI'!$Q$2:$Q$4000)),ROW(B206))), \"\")","v":""}]
[null,{"$f":"IFERROR(INDEX('MEMORIAL DESCRITIVO-BRI'!B:B,SMALL(IF('MEMORIAL DESCRITIVO-BRI'!$E$2:$E$4000=\"Sim\",ROW('MEMORIAL DESCRITIVO-BRI'!$B$2:$B$4000)),ROW(B207))), \"\")","v":""},{"$f":"IFERROR(INDEX('MEMORIAL DESCRITIVO-BRI'!I:I,SMALL(IF('MEMORIAL DESCRITIVO-BRI'!$E$2:$E$4000=\"Sim\",ROW('MEMORIAL DESCRITIVO-BRI'!$I$2:$I$4000)),ROW(B207))), \"\")","v":""},{"$f":"IFERROR(INDEX('MEMORIAL DESCRITIVO-BRI'!F:F,SMALL(IF('MEMORIAL DESCRITIVO-BRI'!$E$2:$E$4000=\"Sim\",ROW('MEMORIAL DESCRITIVO-BRI'!$F$2:$F$4000)),ROW(B207))) & \" - \" & INDEX('MEMORIAL DESCRITIVO-BRI'!H:H,SMALL(IF('MEMORIAL DESCRITIVO-BRI'!$E$2:$E$4000=\"Sim\",ROW('MEMORIAL DESCRITIVO-BRI'!$H$2:$H$4000)),ROW(B207))), \"\")","v":""},null,{"$f":"IFERROR(INDEX('MEMORIAL DESCRITIVO-BRI'!S:S,SMALL(IF('MEMORIAL DESCRITIVO-BRI'!$E$2:$E$4000=\"Sim\",ROW('MEMORIAL DESCRITIVO-BRI'!$S$2:$S$4000)),ROW(B207))), \"\")","v":""},{"$f":"IFERROR(INDEX('MEMORIAL DESCRITIVO-BRI'!Z:Z,SMALL(IF('MEMORIAL DESCRITIVO-BRI'!$E$2:$E$4000=\"Sim\",ROW('MEMORIAL DESCRITIVO-BRI'!$Z$2:$Z$4000)),ROW(B207))), \"\")","v":""},{"$f":"IFERROR(INDEX('MEMORIAL DESCRITIVO-BRI'!W:W,SMALL(IF('MEMORIAL DESCRITIVO-BRI'!$E$2:$E$4000=\"Sim\",ROW('MEMORIAL DESCRITIVO-BRI'!$W$2:$W$4000)),ROW(B207))), \"\")","v":""},{"$f":"IFERROR(INDEX('MEMORIAL DESCRITIVO-BRI'!G:G,SMALL(IF('MEMORIAL DESCRITIVO-BRI'!$E$2:$E$4000=\"Sim\",ROW('MEMORIAL DESCRITIVO-BRI'!$G$2:$G$4000)),ROW(B207))), \"\")","v":""},{"$f":"IFERROR(INDEX('MEMORIAL DESCRITIVO-BRI'!P:P,SMALL(IF('MEMORIAL DESCRITIVO-BRI'!$E$2:$E$4000=\"Sim\",ROW('MEMORIAL DESCRITIVO-BRI'!$P$2:$P$4000)),ROW(B207))), \"\")","v":""},{"$f":"IFERROR(INDEX('MEMORIAL DESCRITIVO-BRI'!Q:Q,SMALL(IF('MEMORIAL DESCRITIVO-BRI'!$E$2:$E$4000=\"Sim\",ROW('MEMORIAL DESCRITIVO-BRI'!$Q$2:$Q$4000)),ROW(B207))), \"\")","v":""}]
[null,{"$f":"IFERROR(INDEX('MEMORIAL DESCRITIVO-BRI'!B:B,SMALL(IF('MEMORIAL DESCRITIVO-BRI'!$E$2:$E$4000=\"Sim\",ROW('MEMORIAL DESCRITIVO-BRI'!$B$2:$B$4000)),ROW(B208))), \"\")","v":""},{"$f":"IFERROR(INDEX('MEMORIAL DESCRITIVO-BRI'!I:I,SMALL(IF('MEMORIAL DESCRITIVO-BRI'!$E$2:$E$4000=\"Sim\",ROW('MEMORIAL DESCRITIVO-BRI'!$I$2:$I$4000)),ROW(B208))), \"\")","v":""},{"$f":"IFERROR(INDEX('MEMORIAL DESCRITIVO-BRI'!F:F,SMALL(IF('MEMORIAL DESCRITIVO-BRI'!$E$2:$E$4000=\"Sim\",ROW('MEMORIAL DESCRITIVO-BRI'!$F$2:$F$4000)),ROW(B208))) & \" - \" & INDEX('MEMORIAL DESCRITIVO-BRI'!H:H,SMALL(IF('MEMORIAL DESCRITIVO-BRI'!$E$2:$E$4000=\"Sim\",ROW('MEMORIAL DESCRITIVO-BRI'!$H$2:$H$4000)),ROW(B208))), \"\")","v":""},null,{"$f":"IFERROR(INDEX('MEMORIAL DESCRITIVO-BRI'!S:S,SMALL(IF('MEMORIAL DESCRITIVO-BRI'!$E$2:$E$4000=\"Sim\",ROW('MEMORIAL DESCRITIVO-BRI'!$S$2:$S$4000)),ROW(B208))), \"\")","v":""},{"$f":"IFERROR(INDEX('MEMORIAL DESCRITIVO-BRI'!Z:Z,SMALL(IF('MEMORIAL DESCRITIVO-BRI'!$E$2:$E$4000=\"Sim\",ROW('MEMORIAL DESCRITIVO-BRI'!$Z$2:$Z$4000)),ROW(B208))), \"\")","v":""},{"$f":"IFERROR(INDEX('MEMORIAL DESCRITIVO-BRI'!W:W,SMALL(IF('MEMORIAL DESCRITIVO-BRI'!$E$2:$E$4000=\"Sim\",ROW('MEMORIAL DESCRITIVO-BRI'!$W$2:$W$4000)),ROW(B208))), \"\")","v":""},{"$f":"IFERROR(INDEX('MEMORIAL DESCRITIVO-BRI'!G:G,SMALL(IF('MEMORIAL DESCRITIVO-BRI'!$E$2:$E$4000=\"Sim\",ROW('MEMORIAL DESCRITIVO-BRI'!$G$2:$G$4000)),ROW(B208))), \"\")","v":""},{"$f":"IFERROR(INDEX('MEMORIAL DESCRITIVO-BRI'!P:P,SMALL(IF('MEMORIAL DESCRITIVO-BRI'!$E$2:$E$4000=\"Sim\",ROW('MEMORIAL DESCRITIVO-BRI'!$P$2:$P$4000)),ROW(B208))), \"\")","v":""},{"$f":"IFERROR(INDEX('MEMORIAL DESCRITIVO-BRI'!Q:Q,SMALL(IF('MEMORIAL DESCRITIVO-BRI'!$E$2:$E$4000=\"Sim\",ROW('MEMORIAL DESCRITIVO-BRI'!$Q$2:$Q$4000)),ROW(B208))), \"\")","v":""}]
[null,{"$f":"IFERROR(INDEX('MEMORIAL DESCRITIVO-BRI'!B:B,SMALL(IF('MEMORIAL DESCRITIVO-BRI'!$E$2:$E$4000=\"Sim\",ROW('MEMORIAL DESCRITIVO-BRI'!$B$2:$B$4000)),ROW(B209))), \"\")","v":""},{"$f":"IFERROR(INDEX('MEMORIAL DESCRITIVO-BRI'!I:I,SMALL(IF('MEMORIAL DESCRITIVO-BRI'!$E$2:$E$4000=\"Sim\",ROW('MEMORIAL DESCRITIVO-BRI'!$I$2:$I$4000)),ROW(B209))), \"\")","v":""},{"$f":"IFERROR(INDEX('MEMORIAL DESCRITIVO-BRI'!F:F,SMALL(IF('MEMORIAL DESCRITIVO-BRI'!$E$2:$E$4000=\"Sim\",ROW('MEMORIAL DESCRITIVO-BRI'!$F$2:$F$4000)),ROW(B209))) & \" - \" & INDEX('MEMORIAL DESCRITIVO-BRI'!H:H,SMALL(IF('MEMORIAL DESCRITIVO-BRI'!$E$2:$E$4000=\"Sim\",ROW('MEMORIAL DESCRITIVO-BRI'!$H$2:$H$4000)),ROW(B209))), \"\")","v":""},null,{"$f":"IFERROR(INDEX('MEMORIAL DESCRITIVO-BRI'!S:S,SMALL(IF('MEMORIAL DESCRITIVO-BRI'!$E$2:$E$4000=\"Sim\",ROW('MEMORIAL DESCRITIVO-BRI'!$S$2:$S$4000)),ROW(B209))), \"\")","v":""},{"$f":"IFERROR(INDEX('MEMORIAL DESCRITIVO-BRI'!Z:Z,SMALL(IF('MEMORIAL DESCRITIVO-BRI'!$E$2:$E$4000=\"Sim\",ROW('MEMORIAL DESCRITIVO-BRI'!$Z$2:$Z$4000)),ROW(B209))), \"\")","v":""},{"$f":"IFERROR(INDEX('MEMORIAL DESCRITIVO-BRI'!W:W,SMALL(IF('MEMORIAL DESCRITIVO-BRI'!$E$2:$E$4000=\"Sim\",ROW('MEMORIAL DESCRITIVO-BRI'!$W$2:$W$4000)),ROW(B209))), \"\")","v":""},{"$f":"IFERROR(INDEX('MEMORIAL DESCRITIVO-BRI'!G:G,SMALL(IF('MEMORIAL DESCRITIVO-BRI'!$E$2:$E$4000=\"Sim\",ROW('MEMORIAL DESCRITIVO-BRI'!$G$2:$G$4000)),ROW(B209))), \"\")","v":""},{"$f":"IFERROR(INDEX('MEMORIAL DESCRITIVO-BRI'!P:P,SMALL(IF('MEMORIAL DESCRITIVO-BRI'!$E$2:$E$4000=\"Sim\",ROW('MEMORIAL DESCRITIVO-BRI'!$P$2:$P$4000)),ROW(B209))), \"\")","v":""},{"$f":"IFERROR(INDEX('MEMORIAL DESCRITIVO-BRI'!Q:Q,SMALL(IF('MEMORIAL DESCRITIVO-BRI'!$E$2:$E$4000=\"Sim\",ROW('MEMORIAL DESCRITIVO-BRI'!$Q$2:$Q$4000)),ROW(B209))), \"\")","v":""}]
[null,{"$f":"IFERROR(INDEX('MEMORIAL DESCRITIVO-BRI'!B:B,SMALL(IF('MEMORIAL DESCRITIVO-BRI'!$E$2:$E$4000=\"Sim\",ROW('MEMORIAL DESCRITIVO-BRI'!$B$2:$B$4000)),ROW(B210))), \"\")","v":""},{"$f":"IFERROR(INDEX('MEMORIAL DESCRITIVO-BRI'!I:I,SMALL(IF('MEMORIAL DESCRITIVO-BRI'!$E$2:$E$4000=\"Sim\",ROW('MEMORIAL DESCRITIVO-BRI'!$I$2:$I$4000)),ROW(B210))), \"\")","v":""},{"$f":"IFERROR(INDEX('MEMORIAL DESCRITIVO-BRI'!F:F,SMALL(IF('MEMORIAL DESCRITIVO-BRI'!$E$2:$E$4000=\"Sim\",ROW('MEMORIAL DESCRITIVO-BRI'!$F$2:$F$4000)),ROW(B210))) & \" - \" & INDEX('MEMORIAL DESCRITIVO-BRI'!H:H,SMALL(IF('MEMORIAL DESCRITIVO-BRI'!$E$2:$E$4000=\"Sim\",ROW('MEMORIAL DESCRITIVO-BRI'!$H$2:$H$4000)),ROW(B210))), \"\")","v":""},null,{"$f":"IFERROR(INDEX('MEMORIAL DESCRITIVO-BRI'!S:S,SMALL(IF('MEMORIAL DESCRITIVO-BRI'!$E$2:$E$4000=\"Sim\",ROW('MEMORIAL DESCRITIVO-BRI'!$S$2:$S$4000)),ROW(B210))), \"\")","v":""},{"$f":"IFERROR(INDEX('MEMORIAL DESCRITIVO-BRI'!Z:Z,SMALL(IF('MEMORIAL DESCRITIVO-BRI'!$E$2:$E$4000=\"Sim\",ROW('MEMORIAL DESCRITIVO-BRI'!$Z$2:$Z$4000)),ROW(B210))), \"\")","v":""},{"$f":"IFERROR(INDEX('MEMORIAL DESCRITIVO-BRI'!W:W,SMALL(IF('MEMORIAL DESCRITIVO-BRI'!$E$2:$E$4000=\"Sim\",ROW('MEMORIAL DESCRITIVO-BRI'!$W$2:$W$4000)),ROW(B210))), \"\")","v":""},{"$f":"IFERROR(INDEX('MEMORIAL DESCRITIVO-BRI'!G:G,SMALL(IF('MEMORIAL DESCRITIVO-BRI'!$E$2:$E$4000=\"Sim\",ROW('MEMORIAL DESCRITIVO-BRI'!$G$2:$G$4000)),ROW(B210))), \"\")","v":""},{"$f":"IFERROR(INDEX('MEMORIAL DESCRITIVO-BRI'!P:P,SMALL(IF('MEMORIAL DESCRITIVO-BRI'!$E$2:$E$4000=\"Sim\",ROW('MEMORIAL DESCRITIVO-BRI'!$P$2:$P$4000)),ROW(B210))), \"\")","v":""},{"$f":"IFERROR(INDEX('MEMORIAL DESCRITIVO-BRI'!Q:Q,SMALL(IF('MEMORIAL DESCRITIVO-BRI'!$E$2:$E$4000=\"Sim\",ROW('MEMORIAL DESCRITIVO-BRI'!$Q$2:$Q$4000)),ROW(B210))), \"\")","v":""}]
[null,{"$f":"IFERROR(INDEX('MEMORIAL DESCRITIVO-BRI'!B:B,SMALL(IF('MEMORIAL DESCRITIVO-BRI'!$E$2:$E$4000=\"Sim\",ROW('MEMORIAL DESCRITIVO-BRI'!$B$2:$B$4000)),ROW(B211))), \"\")","v":""},{"$f":"IFERROR(INDEX('MEMORIAL DESCRITIVO-BRI'!I:I,SMALL(IF('MEMORIAL DESCRITIVO-BRI'!$E$2:$E$4000=\"Sim\",ROW('MEMORIAL DESCRITIVO-BRI'!$I$2:$I$4000)),ROW(B211))), \"\")","v":""},{"$f":"IFERROR(INDEX('MEMORIAL DESCRITIVO-BRI'!F:F,SMALL(IF('MEMORIAL DESCRITIVO-BRI'!$E$2:$E$4000=\"Sim\",ROW('MEMORIAL DESCRITIVO-BRI'!$F$2:$F$4000)),ROW(B211))) & \" - \" & INDEX('MEMORIAL DESCRITIVO-BRI'!H:H,SMALL(IF('MEMORIAL DESCRITIVO-BRI'!$E$2:$E$4000=\"Sim\",ROW('MEMORIAL DESCRITIVO-BRI'!$H$2:$H$4000)),ROW(B211))), \"\")","v":""},null,{"$f":"IFERROR(INDEX('MEMORIAL DESCRITIVO-BRI'!S:S,SMALL(IF('MEMORIAL DESCRITIVO-BRI'!$E$2:$E$4000=\"Sim\",ROW('MEMORIAL DESCRITIVO-BRI'!$S$2:$S$4000)),ROW(B211))), \"\")","v":""},{"$f":"IFERROR(INDEX('MEMORIAL DESCRITIVO-BRI'!Z:Z,SMALL(IF('MEMORIAL DESCRITIVO-BRI'!$E$2:$E$4000=\"Sim\",ROW('MEMORIAL DESCRITIVO-BRI'!$Z$2:$Z$4000)),ROW(B211))), \"\")","v":""},{"$f":"IFERROR(INDEX('MEMORIAL DESCRITIVO-BRI'!W:W,SMALL(IF('MEMORIAL DESCRITIVO-BRI'!$E$2:$E$4000=\"Sim\",ROW('MEMORIAL DESCRITIVO-BRI'!$W$2:$W$4000)),ROW(B211))), \"\")","v":""},{"$f":"IFERROR(INDEX('MEMORIAL DESCRITIVO-BRI'!G:G,SMALL(IF('MEMORIAL DESCRITIVO-BRI'!$E$2:$E$4000=\"Sim\",ROW('MEMORIAL DESCRITIVO-BRI'!$G$2:$G$4000)),ROW(B211))), \"\")","v":""},{"$f":"IFERROR(INDEX('MEMORIAL DESCRITIVO-BRI'!P:P,SMALL(IF('MEMORIAL DESCRITIVO-BRI'!$E$2:$E$4000=\"Sim\",ROW('MEMORIAL DESCRITIVO-BRI'!$P$2:$P$4000)),ROW(B211))), \"\")","v":""},{"$f":"IFERROR(INDEX('MEMORIAL DESCRITIVO-BRI'!Q:Q,SMALL(IF('MEMORIAL DESCRITIVO-BRI'!$E$2:$E$4000=\"Sim\",ROW('MEMORIAL DESCRITIVO-BRI'!$Q$2:$Q$4000)),ROW(B211))), \"\")","v":""}]
[null,{"$f":"IFERROR(INDEX('MEMORIAL DESCRITIVO-BRI'!B:B,SMALL(IF('MEMORIAL DESCRITIVO-BRI'!$E$2:$E$4000=\"Sim\",ROW('MEMORIAL DESCRITIVO-BRI'!$B$2:$B$4000)),ROW(B212))), \"\")","v":""},{"$f":"IFERROR(INDEX('MEMORIAL DESCRITIVO-BRI'!I:I,SMALL(IF('MEMORIAL DESCRITIVO-BRI'!$E$2:$E$4000=\"Sim\",ROW('MEMORIAL DESCRITIVO-BRI'!$I$2:$I$4000)),ROW(B212))), \"\")","v":""},{"$f":"IFERROR(INDEX('MEMORIAL DESCRITIVO-BRI'!F:F,SMALL(IF('MEMORIAL DESCRITIVO-BRI'!$E$2:$E$4000=\"Sim\",ROW('MEMORIAL DESCRITIVO-BRI'!$F$2:$F$4000)),ROW(B212))) & \" - \" & INDEX('MEMORIAL DESCRITIVO-BRI'!H:H,SMALL(IF('MEMORIAL DESCRITIVO-BRI'!$E$2:$E$4000=\"Sim\",ROW('MEMORIAL DESCRITIVO-BRI'!$H$2:$H$4000)),ROW(B212))), \"\")","v":""},null,{"$f":"IFERROR(INDEX('MEMORIAL DESCRITIVO-BRI'!S:S,SMALL(IF('MEMORIAL DESCRITIVO-BRI'!$E$2:$E$4000=\"Sim\",ROW('MEMORIAL DESCRITIVO-BRI'!$S$2:$S$4000)),ROW(B212))), \"\")","v":""},{"$f":"IFERROR(INDEX('MEMORIAL DESCRITIVO-BRI'!Z:Z,SMALL(IF('MEMORIAL DESCRITIVO-BRI'!$E$2:$E$4000=\"Sim\",ROW('MEMORIAL DESCRITIVO-BRI'!$Z$2:$Z$4000)),ROW(B212))), \"\")","v":""},{"$f":"IFERROR(INDEX('MEMORIAL DESCRITIVO-BRI'!W:W,SMALL(IF('MEMORIAL DESCRITIVO-BRI'!$E$2:$E$4000=\"Sim\",ROW('MEMORIAL DESCRITIVO-BRI'!$W$2:$W$4000)),ROW(B212))), \"\")","v":""},{"$f":"IFERROR(INDEX('MEMORIAL DESCRITIVO-BRI'!G:G,SMALL(IF('MEMORIAL DESCRITIVO-BRI'!$E$2:$E$4000=\"Sim\",ROW('MEMORIAL DESCRITIVO-BRI'!$G$2:$G$4000)),ROW(B212))), \"\")","v":""},{"$f":"IFERROR(INDEX('MEMORIAL DESCRITIVO-BRI'!P:P,SMALL(IF('MEMORIAL DESCRITIVO-BRI'!$E$2:$E$4000=\"Sim\",ROW('MEMORIAL DESCRITIVO-BRI'!$P$2:$P$4000)),ROW(B212))), \"\")","v":""},{"$f":"IFERROR(INDEX('MEMORIAL DESCRITIVO-BRI'!Q:Q,SMALL(IF('MEMORIAL DESCRITIVO-BRI'!$E$2:$E$4000=\"Sim\",ROW('MEMORIAL DESCRITIVO-BRI'!$Q$2:$Q$4000)),ROW(B212))), \"\")","v":""}]
[null,{"$f":"IFERROR(INDEX('MEMORIAL DESCRITIVO-BRI'!B:B,SMALL(IF('MEMORIAL DESCRITIVO-BRI'!$E$2:$E$4000=\"Sim\",ROW('MEMORIAL DESCRITIVO-BRI'!$B$2:$B$4000)),ROW(B213))), \"\")","v":""},{"$f":"IFERROR(INDEX('MEMORIAL DESCRITIVO-BRI'!I:I,SMALL(IF('MEMORIAL DESCRITIVO-BRI'!$E$2:$E$4000=\"Sim\",ROW('MEMORIAL DESCRITIVO-BRI'!$I$2:$I$4000)),ROW(B213))), \"\")","v":""},{"$f":"IFERROR(INDEX('MEMORIAL DESCRITIVO-BRI'!F:F,SMALL(IF('MEMORIAL DESCRITIVO-BRI'!$E$2:$E$4000=\"Sim\",ROW('MEMORIAL DESCRITIVO-BRI'!$F$2:$F$4000)),ROW(B213))) & \" - \" & INDEX('MEMORIAL DESCRITIVO-BRI'!H:H,SMALL(IF('MEMORIAL DESCRITIVO-BRI'!$E$2:$E$4000=\"Sim\",ROW('MEMORIAL DESCRITIVO-BRI'!$H$2:$H$4000)),ROW(B213))), \"\")","v":""},null,{"$f":"IFERROR(INDEX('MEMORIAL DESCRITIVO-BRI'!S:S,SMALL(IF('MEMORIAL DESCRITIVO-BRI'!$E$2:$E$4000=\"Sim\",ROW('MEMORIAL DESCRITIVO-BRI'!$S$2:$S$4000)),ROW(B213))), \"\")","v":""},{"$f":"IFERROR(INDEX('MEMORIAL DESCRITIVO-BRI'!Z:Z,SMALL(IF('MEMORIAL DESCRITIVO-BRI'!$E$2:$E$4000=\"Sim\",ROW('MEMORIAL DESCRITIVO-BRI'!$Z$2:$Z$4000)),ROW(B213))), \"\")","v":""},{"$f":"IFERROR(INDEX('MEMORIAL DESCRITIVO-BRI'!W:W,SMALL(IF('MEMORIAL DESCRITIVO-BRI'!$E$2:$E$4000=\"Sim\",ROW('MEMORIAL DESCRITIVO-BRI'!$W$2:$W$4000)),ROW(B213))), \"\")","v":""},{"$f":"IFERROR(INDEX('MEMORIAL DESCRITIVO-BRI'!G:G,SMALL(IF('MEMORIAL DESCRITIVO-BRI'!$E$2:$E$4000=\"Sim\",ROW('MEMORIAL DESCRITIVO-BRI'!$G$2:$G$4000)),ROW(B213))), \"\")","v":""},{"$f":"IFERROR(INDEX('MEMORIAL DESCRITIVO-BRI'!P:P,SMALL(IF('MEMORIAL DESCRITIVO-BRI'!$E$2:$E$4000=\"Sim\",ROW('MEMORIAL DESCRITIVO-BRI'!$P$2:$P$4000)),ROW(B213))), \"\")","v":""},{"$f":"IFERROR(INDEX('MEMORIAL DESCRITIVO-BRI'!Q:Q,SMALL(IF('MEMORIAL DESCRITIVO-BRI'!$E$2:$E$4000=\"Sim\",ROW('MEMORIAL DESCRITIVO-BRI'!$Q$2:$Q$4000)),ROW(B213))), \"\")","v":""}]
[null,{"$f":"IFERROR(INDEX('MEMORIAL DESCRITIVO-BRI'!B:B,SMALL(IF('MEMORIAL DESCRITIVO-BRI'!$E$2:$E$4000=\"Sim\",ROW('MEMORIAL DESCRITIVO-BRI'!$B$2:$B$4000)),ROW(B214))), \"\")","v":""},{"$f":"IFERROR(INDEX('MEMORIAL DESCRITIVO-BRI'!I:I,SMALL(IF('MEMORIAL DESCRITIVO-BRI'!$E$2:$E$4000=\"Sim\",ROW('MEMORIAL DESCRITIVO-BRI'!$I$2:$I$4000)),ROW(B214))), \"\")","v":""},{"$f":"IFERROR(INDEX('MEMORIAL DESCRITIVO-BRI'!F:F,SMALL(IF('MEMORIAL DESCRITIVO-BRI'!$E$2:$E$4000=\"Sim\",ROW('MEMORIAL DESCRITIVO-BRI'!$F$2:$F$4000)),ROW(B214))) & \" - \" & INDEX('MEMORIAL DESCRITIVO-BRI'!H:H,SMALL(IF('MEMORIAL DESCRITIVO-BRI'!$E$2:$E$4000=\"Sim\",ROW('MEMORIAL DESCRITIVO-BRI'!$H$2:$H$4000)),ROW(B214))), \"\")","v":""},null,{"$f":"IFERROR(INDEX('MEMORIAL DESCRITIVO-BRI'!S:S,SMALL(IF('MEMORIAL DESCRITIVO-BRI'!$E$2:$E$4000=\"Sim\",ROW('MEMORIAL DESCRITIVO-BRI'!$S$2:$S$4000)),ROW(B214))), \"\")","v":""},{"$f":"IFERROR(INDEX('MEMORIAL DESCRITIVO-BRI'!Z:Z,SMALL(IF('MEMORIAL DESCRITIVO-BRI'!$E$2:$E$4000=\"Sim\",ROW('MEMORIAL DESCRITIVO-BRI'!$Z$2:$Z$4000)),ROW(B214))), \"\")","v":""},{"$f":"IFERROR(INDEX('MEMORIAL DESCRITIVO-BRI'!W:W,SMALL(IF('MEMORIAL DESCRITIVO-BRI'!$E$2:$E$4000=\"Sim\",ROW('MEMORIAL DESCRITIVO-BRI'!$W$2:$W$4000)),ROW(B214))), \"\")","v":""},{"$f":"IFERROR(INDEX('MEMORIAL DESCRITIVO-BRI'!G:G,SMALL(IF('MEMORIAL DESCRITIVO-BRI'!$E$2:$E$4000=\"Sim\",ROW('MEMORIAL DESCRITIVO-BRI'!$G$2:$G$4000)),ROW(B214))), \"\")","v":""},{"$f":"IFERROR(INDEX('MEMORIAL DESCRITIVO-BRI'!P:P,SMALL(IF('MEMORIAL DESCRITIVO-BRI'!$E$2:$E$4000=\"Sim\",ROW('MEMORIAL DESCRITIVO-BRI'!$P$2:$P$4000)),ROW(B214))), \"\")","v":""},{"$f":"IFERROR(INDEX('MEMORIAL DESCRITIVO-BRI'!Q:Q,SMALL(IF('MEMORIAL DESCRITIVO-BRI'!$E$2:$E$4000=\"Sim\",ROW('MEMORIAL DESCRITIVO-BRI'!$Q$2:$Q$4000)),ROW(B214))), \"\")","v":""}]
[null,{"$f":"IFERROR(INDEX('MEMORIAL DESCRITIVO-BRI'!B:B,SMALL(IF('MEMORIAL DESCRITIVO-BRI'!$E$2:$E$4000=\"Sim\",ROW('MEMORIAL DESCRITIVO-BRI'!$B$2:$B$4000)),ROW(B215))), \"\")","v":""},{"$f":"IFERROR(INDEX('MEMORIAL DESCRITIVO-BRI'!I:I,SMALL(IF('MEMORIAL DESCRITIVO-BRI'!$E$2:$E$4000=\"Sim\",ROW('MEMORIAL DESCRITIVO-BRI'!$I$2:$I$4000)),ROW(B215))), \"\")","v":""},{"$f":"IFERROR(INDEX('MEMORIAL DESCRITIVO-BRI'!F:F,SMALL(IF('MEMORIAL DESCRITIVO-BRI'!$E$2:$E$4000=\"Sim\",ROW('MEMORIAL DESCRITIVO-BRI'!$F$2:$F$4000)),ROW(B215))) & \" - \" & INDEX('MEMORIAL DESCRITIVO-BRI'!H:H,SMALL(IF('MEMORIAL DESCRITIVO-BRI'!$E$2:$E$4000=\"Sim\",ROW('MEMORIAL DESCRITIVO-BRI'!$H$2:$H$4000)),ROW(B215))), \"\")","v":""},null,{"$f":"IFERROR(INDEX('MEMORIAL DESCRITIVO-BRI'!S:S,SMALL(IF('MEMORIAL DESCRITIVO-BRI'!$E$2:$E$4000=\"Sim\",ROW('MEMORIAL DESCRITIVO-BRI'!$S$2:$S$4000)),ROW(B215))), \"\")","v":""},{"$f":"IFERROR(INDEX('MEMORIAL DESCRITIVO-BRI'!Z:Z,SMALL(IF('MEMORIAL DESCRITIVO-BRI'!$E$2:$E$4000=\"Sim\",ROW('MEMORIAL DESCRITIVO-BRI'!$Z$2:$Z$4000)),ROW(B215))), \"\")","v":""},{"$f":"IFERROR(INDEX('MEMORIAL DESCRITIVO-BRI'!W:W,SMALL(IF('MEMORIAL DESCRITIVO-BRI'!$E$2:$E$4000=\"Sim\",ROW('MEMORIAL DESCRITIVO-BRI'!$W$2:$W$4000)),ROW(B215))), \"\")","v":""},{"$f":"IFERROR(INDEX('MEMORIAL DESCRITIVO-BRI'!G:G,SMALL(IF('MEMORIAL DESCRITIVO-BRI'!$E$2:$E$4000=\"Sim\",ROW('MEMORIAL DESCRITIVO-BRI'!$G$2:$G$4000)),ROW(B215))), \"\")","v":""},{"$f":"IFERROR(INDEX('MEMORIAL DESCRITIVO-BRI'!P:P,SMALL(IF('MEMORIAL DESCRITIVO-BRI'!$E$2:$E$4000=\"Sim\",ROW('MEMORIAL DESCRITIVO-BRI'!$P$2:$P$4000)),ROW(B215))), \"\")","v":""},{"$f":"IFERROR(INDEX('MEMORIAL DESCRITIVO-BRI'!Q:Q,SMALL(IF('MEMORIAL DESCRITIVO-BRI'!$E$2:$E$4000=\"Sim\",ROW('MEMORIAL DESCRITIVO-BRI'!$Q$2:$Q$4000)),ROW(B215))), \"\")","v":""}]
[null,{"$f":"IFERROR(INDEX('MEMORIAL DESCRITIVO-BRI'!B:B,SMALL(IF('MEMORIAL DESCRITIVO-BRI'!$E$2:$E$4000=\"Sim\",ROW('MEMORIAL DESCRITIVO-BRI'!$B$2:$B$4000)),ROW(B216))), \"\")","v":""},{"$f":"IFERROR(INDEX('MEMORIAL DESCRITIVO-BRI'!I:I,SMALL(IF('MEMORIAL DESCRITIVO-BRI'!$E$2:$E$4000=\"Sim\",ROW('MEMORIAL DESCRITIVO-BRI'!$I$2:$I$4000)),ROW(B216))), \"\")","v":""},{"$f":"IFERROR(INDEX('MEMORIAL DESCRITIVO-BRI'!F:F,SMALL(IF('MEMORIAL DESCRITIVO-BRI'!$E$2:$E$4000=\"Sim\",ROW('MEMORIAL DESCRITIVO-BRI'!$F$2:$F$4000)),ROW(B216))) & \" - \" & INDEX('MEMORIAL DESCRITIVO-BRI'!H:H,SMALL(IF('MEMORIAL DESCRITIVO-BRI'!$E$2:$E$4000=\"Sim\",ROW('MEMORIAL DESCRITIVO-BRI'!$H$2:$H$4000)),ROW(B216))), \"\")","v":""},null,{"$f":"IFERROR(INDEX('MEMORIAL DESCRITIVO-BRI'!S:S,SMALL(IF('MEMORIAL DESCRITIVO-BRI'!$E$2:$E$4000=\"Sim\",ROW('MEMORIAL DESCRITIVO-BRI'!$S$2:$S$4000)),ROW(B216))), \"\")","v":""},{"$f":"IFERROR(INDEX('MEMORIAL DESCRITIVO-BRI'!Z:Z,SMALL(IF('MEMORIAL DESCRITIVO-BRI'!$E$2:$E$4000=\"Sim\",ROW('MEMORIAL DESCRITIVO-BRI'!$Z$2:$Z$4000)),ROW(B216))), \"\")","v":""},{"$f":"IFERROR(INDEX('MEMORIAL DESCRITIVO-BRI'!W:W,SMALL(IF('MEMORIAL DESCRITIVO-BRI'!$E$2:$E$4000=\"Sim\",ROW('MEMORIAL DESCRITIVO-BRI'!$W$2:$W$4000)),ROW(B216))), \"\")","v":""},{"$f":"IFERROR(INDEX('MEMORIAL DESCRITIVO-BRI'!G:G,SMALL(IF('MEMORIAL DESCRITIVO-BRI'!$E$2:$E$4000=\"Sim\",ROW('MEMORIAL DESCRITIVO-BRI'!$G$2:$G$4000)),ROW(B216))), \"\")","v":""},{"$f":"IFERROR(INDEX('MEMORIAL DESCRITIVO-BRI'!P:P,SMALL(IF('MEMORIAL DESCRITIVO-BRI'!$E$2:$E$4000=\"Sim\",ROW('MEMORIAL DESCRITIVO-BRI'!$P$2:$P$4000)),ROW(B216))), \"\")","v":""},{"$f":"IFERROR(INDEX('MEMORIAL DESCRITIVO-BRI'!Q:Q,SMALL(IF('MEMORIAL DESCRITIVO-BRI'!$E$2:$E$4000=\"Sim\",ROW('MEMORIAL DESCRITIVO-BRI'!$Q$2:$Q$4000)),ROW(B216))), \"\")","v":""}]
[null,{"$f":"IFERROR(INDEX('MEMORIAL DESCRITIVO-BRI'!B:B,SMALL(IF('MEMORIAL DESCRITIVO-BRI'!$E$2:$E$4000=\"Sim\",ROW('MEMORIAL DESCRITIVO-BRI'!$B$2:$B$4000)),ROW(B217))), \"\")","v":""},{"$f":"IFERROR(INDEX('MEMORIAL DESCRITIVO-BRI'!I:I,SMALL(IF('MEMORIAL DESCRITIVO-BRI'!$E$2:$E$4000=\"Sim\",ROW('MEMORIAL DESCRITIVO-BRI'!$I$2:$I$4000)),ROW(B217))), \"\")","v":""},{"$f":"IFERROR(INDEX('MEMORIAL DESCRITIVO-BRI'!F:F,SMALL(IF('MEMORIAL DESCRITIVO-BRI'!$E$2:$E$4000=\"Sim\",ROW('MEMORIAL DESCRITIVO-BRI'!$F$2:$F$4000)),ROW(B217))) & \" - \" & INDEX('MEMORIAL DESCRITIVO-BRI'!H:H,SMALL(IF('MEMORIAL DESCRITIVO-BRI'!$E$2:$E$4000=\"Sim\",ROW('MEMORIAL DESCRITIVO-BRI'!$H$2:$H$4000)),ROW(B217))), \"\")","v":""},null,{"$f":"IFERROR(INDEX('MEMORIAL DESCRITIVO-BRI'!S:S,SMALL(IF('MEMORIAL DESCRITIVO-BRI'!$E$2:$E$4000=\"Sim\",ROW('MEMORIAL DESCRITIVO-BRI'!$S$2:$S$4000)),ROW(B217))), \"\")","v":""},{"$f":"IFERROR(INDEX('MEMORIAL DESCRITIVO-BRI'!Z:Z,SMALL(IF('MEMORIAL DESCRITIVO-BRI'!$E$2:$E$4000=\"Sim\",ROW('MEMORIAL DESCRITIVO-BRI'!$Z$2:$Z$4000)),ROW(B217))), \"\")","v":""},{"$f":"IFERROR(INDEX('MEMORIAL DESCRITIVO-BRI'!W:W,SMALL(IF('MEMORIAL DESCRITIVO-BRI'!$E$2:$E$4000=\"Sim\",ROW('MEMORIAL DESCRITIVO-BRI'!$W$2:$W$4000)),ROW(B217))), \"\")","v":""},{"$f":"IFERROR(INDEX('MEMORIAL DESCRITIVO-BRI'!G:G,SMALL(IF('MEMORIAL DESCRITIVO-BRI'!$E$2:$E$4000=\"Sim\",ROW('MEMORIAL DESCRITIVO-BRI'!$G$2:$G$4000)),ROW(B217))), \"\")","v":""},{"$f":"IFERROR(INDEX('MEMORIAL DESCRITIVO-BRI'!P:P,SMALL(IF('MEMORIAL DESCRITIVO-BRI'!$E$2:$E$4000=\"Sim\",ROW('MEMORIAL DESCRITIVO-BRI'!$P$2:$P$4000)),ROW(B217))), \"\")","v":""},{"$f":"IFERROR(INDEX('MEMORIAL DESCRITIVO-BRI'!Q:Q,SMALL(IF('MEMORIAL DESCRITIVO-BRI'!$E$2:$E$4000=\"Sim\",ROW('MEMORIAL DESCRITIVO-BRI'!$Q$2:$Q$4000)),ROW(B217))), \"\")","v":""}]
[null,{"$f":"IFERROR(INDEX('MEMORIAL DESCRITIVO-BRI'!B:B,SMALL(IF('MEMORIAL DESCRITIVO-BRI'!$E$2:$E$4000=\"Sim\",ROW('MEMORIAL DESCRITIVO-BRI'!$B$2:$B$4000)),ROW(B218))), \"\")","v":""},{"$f":"IFERROR(INDEX('MEMORIAL DESCRITIVO-BRI'!I:I,SMALL(IF('MEMORIAL DESCRITIVO-BRI'!$E$2:$E$4000=\"Sim\",ROW('MEMORIAL DESCRITIVO-BRI'!$I$2:$I$4000)),ROW(B218))), \"\")","v":""},{"$f":"IFERROR(INDEX('MEMORIAL DESCRITIVO-BRI'!F:F,SMALL(IF('MEMORIAL DESCRITIVO-BRI'!$E$2:$E$4000=\"Sim\",ROW('MEMORIAL DESCRITIVO-BRI'!$F$2:$F$4000)),ROW(B218))) & \" - \" & INDEX('MEMORIAL DESCRITIVO-BRI'!H:H,SMALL(IF('MEMORIAL DESCRITIVO-BRI'!$E$2:$E$4000=\"Sim\",ROW('MEMORIAL DESCRITIVO-BRI'!$H$2:$H$4000)),ROW(B218))), \"\")","v":""},null,{"$f":"IFERROR(INDEX('MEMORIAL DESCRITIVO-BRI'!S:S,SMALL(IF('MEMORIAL DESCRITIVO-BRI'!$E$2:$E$4000=\"Sim\",ROW('MEMORIAL DESCRITIVO-BRI'!$S$2:$S$4000)),ROW(B218))), \"\")","v":""},{"$f":"IFERROR(INDEX('MEMORIAL DESCRITIVO-BRI'!Z:Z,SMALL(IF('MEMORIAL DESCRITIVO-BRI'!$E$2:$E$4000=\"Sim\",ROW('MEMORIAL DESCRITIVO-BRI'!$Z$2:$Z$4000)),ROW(B218))), \"\")","v":""},{"$f":"IFERROR(INDEX('MEMORIAL DESCRITIVO-BRI'!W:W,SMALL(IF('MEMORIAL DESCRITIVO-BRI'!$E$2:$E$4000=\"Sim\",ROW('MEMORIAL DESCRITIVO-BRI'!$W$2:$W$4000)),ROW(B218))), \"\")","v":""},{"$f":"IFERROR(INDEX('MEMORIAL DESCRITIVO-BRI'!G:G,SMALL(IF('MEMORIAL DESCRITIVO-BRI'!$E$2:$E$4000=\"Sim\",ROW('MEMORIAL DESCRITIVO-BRI'!$G$2:$G$4000)),ROW(B218))), \"\")","v":""},{"$f":"IFERROR(INDEX('MEMORIAL DESCRITIVO-BRI'!P:P,SMALL(IF('MEMORIAL DESCRITIVO-BRI'!$E$2:$E$4000=\"Sim\",ROW('MEMORIAL DESCRITIVO-BRI'!$P$2:$P$4000)),ROW(B218))), \"\")","v":""},{"$f":"IFERROR(INDEX('MEMORIAL DESCRITIVO-BRI'!Q:Q,SMALL(IF('MEMORIAL DESCRITIVO-BRI'!$E$2:$E$4000=\"Sim\",ROW('MEMORIAL DESCRITIVO-BRI'!$Q$2:$Q$4000)),ROW(B218))), \"\")","v":""}]
[null,{"$f":"IFERROR(INDEX('MEMORIAL DESCRITIVO-BRI'!B:B,SMALL(IF('MEMORIAL DESCRITIVO-BRI'!$E$2:$E$4000=\"Sim\",ROW('MEMORIAL DESCRITIVO-BRI'!$B$2:$B$4000)),ROW(B219))), \"\")","v":""},{"$f":"IFERROR(INDEX('MEMORIAL DESCRITIVO-BRI'!I:I,SMALL(IF('MEMORIAL DESCRITIVO-BRI'!$E$2:$E$4000=\"Sim\",ROW('MEMORIAL DESCRITIVO-BRI'!$I$2:$I$4000)),ROW(B219))), \"\")","v":""},{"$f":"IFERROR(INDEX('MEMORIAL DESCRITIVO-BRI'!F:F,SMALL(IF('MEMORIAL DESCRITIVO-BRI'!$E$2:$E$4000=\"Sim\",ROW('MEMORIAL DESCRITIVO-BRI'!$F$2:$F$4000)),ROW(B219))) & \" - \" & INDEX('MEMORIAL DESCRITIVO-BRI'!H:H,SMALL(IF('MEMORIAL DESCRITIVO-BRI'!$E$2:$E$4000=\"Sim\",ROW('MEMORIAL DESCRITIVO-BRI'!$H$2:$H$4000)),ROW(B219))), \"\")","v":""},null,{"$f":"IFERROR(INDEX('MEMORIAL DESCRITIVO-BRI'!S:S,SMALL(IF('MEMORIAL DESCRITIVO-BRI'!$E$2:$E$4000=\"Sim\",ROW('MEMORIAL DESCRITIVO-BRI'!$S$2:$S$4000)),ROW(B219))), \"\")","v":""},{"$f":"IFERROR(INDEX('MEMORIAL DESCRITIVO-BRI'!Z:Z,SMALL(IF('MEMORIAL DESCRITIVO-BRI'!$E$2:$E$4000=\"Sim\",ROW('MEMORIAL DESCRITIVO-BRI'!$Z$2:$Z$4000)),ROW(B219))), \"\")","v":""},{"$f":"IFERROR(INDEX('MEMORIAL DESCRITIVO-BRI'!W:W,SMALL(IF('MEMORIAL DESCRITIVO-BRI'!$E$2:$E$4000=\"Sim\",ROW('MEMORIAL DESCRITIVO-BRI'!$W$2:$W$4000)),ROW(B219))), \"\")","v":""},{"$f":"IFERROR(INDEX('MEMORIAL DESCRITIVO-BRI'!G:G,SMALL(IF('MEMORIAL DESCRITIVO-BRI'!$E$2:$E$4000=\"Sim\",ROW('MEMORIAL DESCRITIVO-BRI'!$G$2:$G$4000)),ROW(B219))), \"\")","v":""},{"$f":"IFERROR(INDEX('MEMORIAL DESCRITIVO-BRI'!P:P,SMALL(IF('MEMORIAL DESCRITIVO-BRI'!$E$2:$E$4000=\"Sim\",ROW('MEMORIAL DESCRITIVO-BRI'!$P$2:$P$4000)),ROW(B219))), \"\")","v":""},{"$f":"IFERROR(INDEX('MEMORIAL DESCRITIVO-BRI'!Q:Q,SMALL(IF('MEMORIAL DESCRITIVO-BRI'!$E$2:$E$4000=\"Sim\",ROW('MEMORIAL DESCRITIVO-BRI'!$Q$2:$Q$4000)),ROW(B219))), \"\")","v":""}]
[null,{"$f":"IFERROR(INDEX('MEMORIAL DESCRITIVO-BRI'!B:B,SMALL(IF('MEMORIAL DESCRITIVO-BRI'!$E$2:$E$4000=\"Sim\",ROW('MEMORIAL DESCRITIVO-BRI'!$B$2:$B$4000)),ROW(B220))), \"\")","v":""},{"$f":"IFERROR(INDEX('MEMORIAL DESCRITIVO-BRI'!I:I,SMALL(IF('MEMORIAL DESCRITIVO-BRI'!$E$2:$E$4000=\"Sim\",ROW('MEMORIAL DESCRITIVO-BRI'!$I$2:$I$4000)),ROW(B220))), \"\")","v":""},{"$f":"IFERROR(INDEX('MEMORIAL DESCRITIVO-BRI'!F:F,SMALL(IF('MEMORIAL DESCRITIVO-BRI'!$E$2:$E$4000=\"Sim\",ROW('MEMORIAL DESCRITIVO-BRI'!$F$2:$F$4000)),ROW(B220))) & \" - \" & INDEX('MEMORIAL DESCRITIVO-BRI'!H:H,SMALL(IF('MEMORIAL DESCRITIVO-BRI'!$E$2:$E$4000=\"Sim\",ROW('MEMORIAL DESCRITIVO-BRI'!$H$2:$H$4000)),ROW(B220))), \"\")","v":""},null,{"$f":"IFERROR(INDEX('MEMORIAL DESCRITIVO-BRI'!S:S,SMALL(IF('MEMORIAL DESCRITIVO-BRI'!$E$2:$E$4000=\"Sim\",ROW('MEMORIAL DESCRITIVO-BRI'!$S$2:$S$4000)),ROW(B220))), \"\")","v":""},{"$f":"IFERROR(INDEX('MEMORIAL DESCRITIVO-BRI'!Z:Z,SMALL(IF('MEMORIAL DESCRITIVO-BRI'!$E$2:$E$4000=\"Sim\",ROW('MEMORIAL DESCRITIVO-BRI'!$Z$2:$Z$4000)),ROW(B220))), \"\")","v":""},{"$f":"IFERROR(INDEX('MEMORIAL DESCRITIVO-BRI'!W:W,SMALL(IF('MEMORIAL DESCRITIVO-BRI'!$E$2:$E$4000=\"Sim\",ROW('MEMORIAL DESCRITIVO-BRI'!$W$2:$W$4000)),ROW(B220))), \"\")","v":""},{"$f":"IFERROR(INDEX('MEMORIAL DESCRITIVO-BRI'!G:G,SMALL(IF('MEMORIAL DESCRITIVO-BRI'!$E$2:$E$4000=\"Sim\",ROW('MEMORIAL DESCRITIVO-BRI'!$G$2:$G$4000)),ROW(B220))), \"\")","v":""},{"$f":"IFERROR(INDEX('MEMORIAL DESCRITIVO-BRI'!P:P,SMALL(IF('MEMORIAL DESCRITIVO-BRI'!$E$2:$E$4000=\"Sim\",ROW('MEMORIAL DESCRITIVO-BRI'!$P$2:$P$4000)),ROW(B220))), \"\")","v":""},{"$f":"IFERROR(INDEX('MEMORIAL DESCRITIVO-BRI'!Q:Q,SMALL(IF('MEMORIAL DESCRITIVO-BRI'!$E$2:$E$4000=\"Sim\",ROW('MEMORIAL DESCRITIVO-BRI'!$Q$2:$Q$4000)),ROW(B220))), \"\")","v":""}]
[null,{"$f":"IFERROR(INDEX('MEMORIAL DESCRITIVO-BRI'!B:B,SMALL(IF('MEMORIAL DESCRITIVO-BRI'!$E$2:$E$4000=\"Sim\",ROW('MEMORIAL DESCRITIVO-BRI'!$B$2:$B$4000)),ROW(B221))), \"\")","v":""},{"$f":"IFERROR(INDEX('MEMORIAL DESCRITIVO-BRI'!I:I,SMALL(IF('MEMORIAL DESCRITIVO-BRI'!$E$2:$E$4000=\"Sim\",ROW('MEMORIAL DESCRITIVO-BRI'!$I$2:$I$4000)),ROW(B221))), \"\")","v":""},{"$f":"IFERROR(INDEX('MEMORIAL DESCRITIVO-BRI'!F:F,SMALL(IF('MEMORIAL DESCRITIVO-BRI'!$E$2:$E$4000=\"Sim\",ROW('MEMORIAL DESCRITIVO-BRI'!$F$2:$F$4000)),ROW(B221))) & \" - \" & INDEX('MEMORIAL DESCRITIVO-BRI'!H:H,SMALL(IF('MEMORIAL DESCRITIVO-BRI'!$E$2:$E$4000=\"Sim\",ROW('MEMORIAL DESCRITIVO-BRI'!$H$2:$H$4000)),ROW(B221))), \"\")","v":""},null,{"$f":"IFERROR(INDEX('MEMORIAL DESCRITIVO-BRI'!S:S,SMALL(IF('MEMORIAL DESCRITIVO-BRI'!$E$2:$E$4000=\"Sim\",ROW('MEMORIAL DESCRITIVO-BRI'!$S$2:$S$4000)),ROW(B221))), \"\")","v":""},{"$f":"IFERROR(INDEX('MEMORIAL DESCRITIVO-BRI'!Z:Z,SMALL(IF('MEMORIAL DESCRITIVO-BRI'!$E$2:$E$4000=\"Sim\",ROW('MEMORIAL DESCRITIVO-BRI'!$Z$2:$Z$4000)),ROW(B221))), \"\")","v":""},{"$f":"IFERROR(INDEX('MEMORIAL DESCRITIVO-BRI'!W:W,SMALL(IF('MEMORIAL DESCRITIVO-BRI'!$E$2:$E$4000=\"Sim\",ROW('MEMORIAL DESCRITIVO-BRI'!$W$2:$W$4000)),ROW(B221))), \"\")","v":""},{"$f":"IFERROR(INDEX('MEMORIAL DESCRITIVO-BRI'!G:G,SMALL(IF('MEMORIAL DESCRITIVO-BRI'!$E$2:$E$4000=\"Sim\",ROW('MEMORIAL DESCRITIVO-BRI'!$G$2:$G$4000)),ROW(B221))), \"\")","v":""},{"$f":"IFERROR(INDEX('MEMORIAL DESCRITIVO-BRI'!P:P,SMALL(IF('MEMORIAL DESCRITIVO-BRI'!$E$2:$E$4000=\"Sim\",ROW('MEMORIAL DESCRITIVO-BRI'!$P$2:$P$4000)),ROW(B221))), \"\")","v":""},{"$f":"IFERROR(INDEX('MEMORIAL DESCRITIVO-BRI'!Q:Q,SMALL(IF('MEMORIAL DESCRITIVO-BRI'!$E$2:$E$4000=\"Sim\",ROW('MEMORIAL DESCRITIVO-BRI'!$Q$2:$Q$4000)),ROW(B221))), \"\")","v":""}]
[null,{"$f":"IFERROR(INDEX('MEMORIAL DESCRITIVO-BRI'!B:B,SMALL(IF('MEMORIAL DESCRITIVO-BRI'!$E$2:$E$4000=\"Sim\",ROW('MEMORIAL DESCRITIVO-BRI'!$B$2:$B$4000)),ROW(B222))), \"\")","v":""},{"$f":"IFERROR(INDEX('MEMORIAL DESCRITIVO-BRI'!I:I,SMALL(IF('MEMORIAL DESCRITIVO-BRI'!$E$2:$E$4000=\"Sim\",ROW('MEMORIAL DESCRITIVO-BRI'!$I$2:$I$4000)),ROW(B222))), \"\")","v":""},{"$f":"IFERROR(INDEX('MEMORIAL DESCRITIVO-BRI'!F:F,SMALL(IF('MEMORIAL DESCRITIVO-BRI'!$E$2:$E$4000=\"Sim\",ROW('MEMORIAL DESCRITIVO-BRI'!$F$2:$F$4000)),ROW(B222))) & \" - \" & INDEX('MEMORIAL DESCRITIVO-BRI'!H:H,SMALL(IF('MEMORIAL DESCRITIVO-BRI'!$E$2:$E$4000=\"Sim\",ROW('MEMORIAL DESCRITIVO-BRI'!$H$2:$H$4000)),ROW(B222))), \"\")","v":""},null,{"$f":"IFERROR(INDEX('MEMORIAL DESCRITIVO-BRI'!S:S,SMALL(IF('MEMORIAL DESCRITIVO-BRI'!$E$2:$E$4000=\"Sim\",ROW('MEMORIAL DESCRITIVO-BRI'!$S$2:$S$4000)),ROW(B222))), \"\")","v":""},{"$f":"IFERROR(INDEX('MEMORIAL DESCRITIVO-BRI'!Z:Z,SMALL(IF('MEMORIAL DESCRITIVO-BRI'!$E$2:$E$4000=\"Sim\",ROW('MEMORIAL DESCRITIVO-BRI'!$Z$2:$Z$4000)),ROW(B222))), \"\")","v":""},{"$f":"IFERROR(INDEX('MEMORIAL DESCRITIVO-BRI'!W:W,SMALL(IF('MEMORIAL DESCRITIVO-BRI'!$E$2:$E$4000=\"Sim\",ROW('MEMORIAL DESCRITIVO-BRI'!$W$2:$W$4000)),ROW(B222))), \"\")","v":""},{"$f":"IFERROR(INDEX('MEMORIAL DESCRITIVO-BRI'!G:G,SMALL(IF('MEMORIAL DESCRITIVO-BRI'!$E$2:$E$4000=\"Sim\",ROW('MEMORIAL DESCRITIVO-BRI'!$G$2:$G$4000)),ROW(B222))), \"\")","v":""},{"$f":"IFERROR(INDEX('MEMORIAL DESCRITIVO-BRI'!P:P,SMALL(IF('MEMORIAL DESCRITIVO-BRI'!$E$2:$E$4000=\"Sim\",ROW('MEMORIAL DESCRITIVO-BRI'!$P$2:$P$4000)),ROW(B222))), \"\")","v":""},{"$f":"IFERROR(INDEX('MEMORIAL DESCRITIVO-BRI'!Q:Q,SMALL(IF('MEMORIAL DESCRITIVO-BRI'!$E$2:$E$4000=\"Sim\",ROW('MEMORIAL DESCRITIVO-BRI'!$Q$2:$Q$4000)),ROW(B222))), \"\")","v":""}]
[null,{"$f":"IFERROR(INDEX('MEMORIAL DESCRITIVO-BRI'!B:B,SMALL(IF('MEMORIAL DESCRITIVO-BRI'!$E$2:$E$4000=\"Sim\",ROW('MEMORIAL DESCRITIVO-BRI'!$B$2:$B$4000)),ROW(B223))), \"\")","v":""},{"$f":"IFERROR(INDEX('MEMORIAL DESCRITIVO-BRI'!I:I,SMALL(IF('MEMORIAL DESCRITIVO-BRI'!$E$2:$E$4000=\"Sim\",ROW('MEMORIAL DESCRITIVO-BRI'!$I$2:$I$4000)),ROW(B223))), \"\")","v":""},{"$f":"IFERROR(INDEX('MEMORIAL DESCRITIVO-BRI'!F:F,SMALL(IF('MEMORIAL DESCRITIVO-BRI'!$E$2:$E$4000=\"Sim\",ROW('MEMORIAL DESCRITIVO-BRI'!$F$2:$F$4000)),ROW(B223))) & \" - \" & INDEX('MEMORIAL DESCRITIVO-BRI'!H:H,SMALL(IF('MEMORIAL DESCRITIVO-BRI'!$E$2:$E$4000=\"Sim\",ROW('MEMORIAL DESCRITIVO-BRI'!$H$2:$H$4000)),ROW(B223))), \"\")","v":""},null,{"$f":"IFERROR(INDEX('MEMORIAL DESCRITIVO-BRI'!S:S,SMALL(IF('MEMORIAL DESCRITIVO-BRI'!$E$2:$E$4000=\"Sim\",ROW('MEMORIAL DESCRITIVO-BRI'!$S$2:$S$4000)),ROW(B223))), \"\")","v":""},{"$f":"IFERROR(INDEX('MEMORIAL DESCRITIVO-BRI'!Z:Z,SMALL(IF('MEMORIAL DESCRITIVO-BRI'!$E$2:$E$4000=\"Sim\",ROW('MEMORIAL DESCRITIVO-BRI'!$Z$2:$Z$4000)),ROW(B223))), \"\")","v":""},{"$f":"IFERROR(INDEX('MEMORIAL DESCRITIVO-BRI'!W:W,SMALL(IF('MEMORIAL DESCRITIVO-BRI'!$E$2:$E$4000=\"Sim\",ROW('MEMORIAL DESCRITIVO-BRI'!$W$2:$W$4000)),ROW(B223))), \"\")","v":""},{"$f":"IFERROR(INDEX('MEMORIAL DESCRITIVO-BRI'!G:G,SMALL(IF('MEMORIAL DESCRITIVO-BRI'!$E$2:$E$4000=\"Sim\",ROW('MEMORIAL DESCRITIVO-BRI'!$G$2:$G$4000)),ROW(B223))), \"\")","v":""},{"$f":"IFERROR(INDEX('MEMORIAL DESCRITIVO-BRI'!P:P,SMALL(IF('MEMORIAL DESCRITIVO-BRI'!$E$2:$E$4000=\"Sim\",ROW('MEMORIAL DESCRITIVO-BRI'!$P$2:$P$4000)),ROW(B223))), \"\")","v":""},{"$f":"IFERROR(INDEX('MEMORIAL DESCRITIVO-BRI'!Q:Q,SMALL(IF('MEMORIAL DESCRITIVO-BRI'!$E$2:$E$4000=\"Sim\",ROW('MEMORIAL DESCRITIVO-BRI'!$Q$2:$Q$4000)),ROW(B223))), \"\")","v":""}]
[null,{"$f":"IFERROR(INDEX('MEMORIAL DESCRITIVO-BRI'!B:B,SMALL(IF('MEMORIAL DESCRITIVO-BRI'!$E$2:$E$4000=\"Sim\",ROW('MEMORIAL DESCRITIVO-BRI'!$B$2:$B$4000)),ROW(B224))), \"\")","v":""},{"$f":"IFERROR(INDEX('MEMORIAL DESCRITIVO-BRI'!I:I,SMALL(IF('MEMORIAL DESCRITIVO-BRI'!$E$2:$E$4000=\"Sim\",ROW('MEMORIAL DESCRITIVO-BRI'!$I$2:$I$4000)),ROW(B224))), \"\")","v":""},{"$f":"IFERROR(INDEX('MEMORIAL DESCRITIVO-BRI'!F:F,SMALL(IF('MEMORIAL DESCRITIVO-BRI'!$E$2:$E$4000=\"Sim\",ROW('MEMORIAL DESCRITIVO-BRI'!$F$2:$F$4000)),ROW(B224))) & \" - \" & INDEX('MEMORIAL DESCRITIVO-BRI'!H:H,SMALL(IF('MEMORIAL DESCRITIVO-BRI'!$E$2:$E$4000=\"Sim\",ROW('MEMORIAL DESCRITIVO-BRI'!$H$2:$H$4000)),ROW(B224))), \"\")","v":""},null,{"$f":"IFERROR(INDEX('MEMORIAL DESCRITIVO-BRI'!S:S,SMALL(IF('MEMORIAL DESCRITIVO-BRI'!$E$2:$E$4000=\"Sim\",ROW('MEMORIAL DESCRITIVO-BRI'!$S$2:$S$4000)),ROW(B224))), \"\")","v":""},{"$f":"IFERROR(INDEX('MEMORIAL DESCRITIVO-BRI'!Z:Z,SMALL(IF('MEMORIAL DESCRITIVO-BRI'!$E$2:$E$4000=\"Sim\",ROW('MEMORIAL DESCRITIVO-BRI'!$Z$2:$Z$4000)),ROW(B224))), \"\")","v":""},{"$f":"IFERROR(INDEX('MEMORIAL DESCRITIVO-BRI'!W:W,SMALL(IF('MEMORIAL DESCRITIVO-BRI'!$E$2:$E$4000=\"Sim\",ROW('MEMORIAL DESCRITIVO-BRI'!$W$2:$W$4000)),ROW(B224))), \"\")","v":""},{"$f":"IFERROR(INDEX('MEMORIAL DESCRITIVO-BRI'!G:G,SMALL(IF('MEMORIAL DESCRITIVO-BRI'!$E$2:$E$4000=\"Sim\",ROW('MEMORIAL DESCRITIVO-BRI'!$G$2:$G$4000)),ROW(B224))), \"\")","v":""},{"$f":"IFERROR(INDEX('MEMORIAL DESCRITIVO-BRI'!P:P,SMALL(IF('MEMORIAL DESCRITIVO-BRI'!$E$2:$E$4000=\"Sim\",ROW('MEMORIAL DESCRITIVO-BRI'!$P$2:$P$4000)),ROW(B224))), \"\")","v":""},{"$f":"IFERROR(INDEX('MEMORIAL DESCRITIVO-BRI'!Q:Q,SMALL(IF('MEMORIAL DESCRITIVO-BRI'!$E$2:$E$4000=\"Sim\",ROW('MEMORIAL DESCRITIVO-BRI'!$Q$2:$Q$4000)),ROW(B224))), \"\")","v":""}]
[null,{"$f":"IFERROR(INDEX('MEMORIAL DESCRITIVO-BRI'!B:B,SMALL(IF('MEMORIAL DESCRITIVO-BRI'!$E$2:$E$4000=\"Sim\",ROW('MEMORIAL DESCRITIVO-BRI'!$B$2:$B$4000)),ROW(B225))), \"\")","v":""},{"$f":"IFERROR(INDEX('MEMORIAL DESCRITIVO-BRI'!I:I,SMALL(IF('MEMORIAL DESCRITIVO-BRI'!$E$2:$E$4000=\"Sim\",ROW('MEMORIAL DESCRITIVO-BRI'!$I$2:$I$4000)),ROW(B225))), \"\")","v":""},{"$f":"IFERROR(INDEX('MEMORIAL DESCRITIVO-BRI'!F:F,SMALL(IF('MEMORIAL DESCRITIVO-BRI'!$E$2:$E$4000=\"Sim\",ROW('MEMORIAL DESCRITIVO-BRI'!$F$2:$F$4000)),ROW(B225))) & \" - \" & INDEX('MEMORIAL DESCRITIVO-BRI'!H:H,SMALL(IF('MEMORIAL DESCRITIVO-BRI'!$E$2:$E$4000=\"Sim\",ROW('MEMORIAL DESCRITIVO-BRI'!$H$2:$H$4000)),ROW(B225))), \"\")","v":""},null,{"$f":"IFERROR(INDEX('MEMORIAL DESCRITIVO-BRI'!S:S,SMALL(IF('MEMORIAL DESCRITIVO-BRI'!$E$2:$E$4000=\"Sim\",ROW('MEMORIAL DESCRITIVO-BRI'!$S$2:$S$4000)),ROW(B225))), \"\")","v":""},{"$f":"IFERROR(INDEX('MEMORIAL DESCRITIVO-BRI'!Z:Z,SMALL(IF('MEMORIAL DESCRITIVO-BRI'!$E$2:$E$4000=\"Sim\",ROW('MEMORIAL DESCRITIVO-BRI'!$Z$2:$Z$4000)),ROW(B225))), \"\")","v":""},{"$f":"IFERROR(INDEX('MEMORIAL DESCRITIVO-BRI'!W:W,SMALL(IF('MEMORIAL DESCRITIVO-BRI'!$E$2:$E$4000=\"Sim\",ROW('MEMORIAL DESCRITIVO-BRI'!$W$2:$W$4000)),ROW(B225))), \"\")","v":""},{"$f":"IFERROR(INDEX('MEMORIAL DESCRITIVO-BRI'!G:G,SMALL(IF('MEMORIAL DESCRITIVO-BRI'!$E$2:$E$4000=\"Sim\",ROW('MEMORIAL DESCRITIVO-BRI'!$G$2:$G$4000)),ROW(B225))), \"\")","v":""},{"$f":"IFERROR(INDEX('MEMORIAL DESCRITIVO-BRI'!P:P,SMALL(IF('MEMORIAL DESCRITIVO-BRI'!$E$2:$E$4000=\"Sim\",ROW('MEMORIAL DESCRITIVO-BRI'!$P$2:$P$4000)),ROW(B225))), \"\")","v":""},{"$f":"IFERROR(INDEX('MEMORIAL DESCRITIVO-BRI'!Q:Q,SMALL(IF('MEMORIAL DESCRITIVO-BRI'!$E$2:$E$4000=\"Sim\",ROW('MEMORIAL DESCRITIVO-BRI'!$Q$2:$Q$4000)),ROW(B225))), \"\")","v":""}]
[null,{"$f":"IFERROR(INDEX('MEMORIAL DESCRITIVO-BRI'!B:B,SMALL(IF('MEMORIAL DESCRITIVO-BRI'!$E$2:$E$4000=\"Sim\",ROW('MEMORIAL DESCRITIVO-BRI'!$B$2:$B$4000)),ROW(B226))), \"\")","v":""},{"$f":"IFERROR(INDEX('MEMORIAL DESCRITIVO-BRI'!I:I,SMALL(IF('MEMORIAL DESCRITIVO-BRI'!$E$2:$E$4000=\"Sim\",ROW('MEMORIAL DESCRITIVO-BRI'!$I$2:$I$4000)),ROW(B226))), \"\")","v":""},{"$f":"IFERROR(INDEX('MEMORIAL DESCRITIVO-BRI'!F:F,SMALL(IF('MEMORIAL DESCRITIVO-BRI'!$E$2:$E$4000=\"Sim\",ROW('MEMORIAL DESCRITIVO-BRI'!$F$2:$F$4000)),ROW(B226))) & \" - \" & INDEX('MEMORIAL DESCRITIVO-BRI'!H:H,SMALL(IF('MEMORIAL DESCRITIVO-BRI'!$E$2:$E$4000=\"Sim\",ROW('MEMORIAL DESCRITIVO-BRI'!$H$2:$H$4000)),ROW(B226))), \"\")","v":""},null,{"$f":"IFERROR(INDEX('MEMORIAL DESCRITIVO-BRI'!S:S,SMALL(IF('MEMORIAL DESCRITIVO-BRI'!$E$2:$E$4000=\"Sim\",ROW('MEMORIAL DESCRITIVO-BRI'!$S$2:$S$4000)),ROW(B226))), \"\")","v":""},{"$f":"IFERROR(INDEX('MEMORIAL DESCRITIVO-BRI'!Z:Z,SMALL(IF('MEMORIAL DESCRITIVO-BRI'!$E$2:$E$4000=\"Sim\",ROW('MEMORIAL DESCRITIVO-BRI'!$Z$2:$Z$4000)),ROW(B226))), \"\")","v":""},{"$f":"IFERROR(INDEX('MEMORIAL DESCRITIVO-BRI'!W:W,SMALL(IF('MEMORIAL DESCRITIVO-BRI'!$E$2:$E$4000=\"Sim\",ROW('MEMORIAL DESCRITIVO-BRI'!$W$2:$W$4000)),ROW(B226))), \"\")","v":""},{"$f":"IFERROR(INDEX('MEMORIAL DESCRITIVO-BRI'!G:G,SMALL(IF('MEMORIAL DESCRITIVO-BRI'!$E$2:$E$4000=\"Sim\",ROW('MEMORIAL DESCRITIVO-BRI'!$G$2:$G$4000)),ROW(B226))), \"\")","v":""},{"$f":"IFERROR(INDEX('MEMORIAL DESCRITIVO-BRI'!P:P,SMALL(IF('MEMORIAL DESCRITIVO-BRI'!$E$2:$E$4000=\"Sim\",ROW('MEMORIAL DESCRITIVO-BRI'!$P$2:$P$4000)),ROW(B226))), \"\")","v":""},{"$f":"IFERROR(INDEX('MEMORIAL DESCRITIVO-BRI'!Q:Q,SMALL(IF('MEMORIAL DESCRITIVO-BRI'!$E$2:$E$4000=\"Sim\",ROW('MEMORIAL DESCRITIVO-BRI'!$Q$2:$Q$4000)),ROW(B226))), \"\")","v":""}]
[null,{"$f":"IFERROR(INDEX('MEMORIAL DESCRITIVO-BRI'!B:B,SMALL(IF('MEMORIAL DESCRITIVO-BRI'!$E$2:$E$4000=\"Sim\",ROW('MEMORIAL DESCRITIVO-BRI'!$B$2:$B$4000)),ROW(B227))), \"\")","v":""},{"$f":"IFERROR(INDEX('MEMORIAL DESCRITIVO-BRI'!I:I,SMALL(IF('MEMORIAL DESCRITIVO-BRI'!$E$2:$E$4000=\"Sim\",ROW('MEMORIAL DESCRITIVO-BRI'!$I$2:$I$4000)),ROW(B227))), \"\")","v":""},{"$f":"IFERROR(INDEX('MEMORIAL DESCRITIVO-BRI'!F:F,SMALL(IF('MEMORIAL DESCRITIVO-BRI'!$E$2:$E$4000=\"Sim\",ROW('MEMORIAL DESCRITIVO-BRI'!$F$2:$F$4000)),ROW(B227))) & \" - \" & INDEX('MEMORIAL DESCRITIVO-BRI'!H:H,SMALL(IF('MEMORIAL DESCRITIVO-BRI'!$E$2:$E$4000=\"Sim\",ROW('MEMORIAL DESCRITIVO-BRI'!$H$2:$H$4000)),ROW(B227))), \"\")","v":""},null,{"$f":"IFERROR(INDEX('MEMORIAL DESCRITIVO-BRI'!S:S,SMALL(IF('MEMORIAL DESCRITIVO-BRI'!$E$2:$E$4000=\"Sim\",ROW('MEMORIAL DESCRITIVO-BRI'!$S$2:$S$4000)),ROW(B227))), \"\")","v":""},{"$f":"IFERROR(INDEX('MEMORIAL DESCRITIVO-BRI'!Z:Z,SMALL(IF('MEMORIAL DESCRITIVO-BRI'!$E$2:$E$4000=\"Sim\",ROW('MEMORIAL DESCRITIVO-BRI'!$Z$2:$Z$4000)),ROW(B227))), \"\")","v":""},{"$f":"IFERROR(INDEX('MEMORIAL DESCRITIVO-BRI'!W:W,SMALL(IF('MEMORIAL DESCRITIVO-BRI'!$E$2:$E$4000=\"Sim\",ROW('MEMORIAL DESCRITIVO-BRI'!$W$2:$W$4000)),ROW(B227))), \"\")","v":""},{"$f":"IFERROR(INDEX('MEMORIAL DESCRITIVO-BRI'!G:G,SMALL(IF('MEMORIAL DESCRITIVO-BRI'!$E$2:$E$4000=\"Sim\",ROW('MEMORIAL DESCRITIVO-BRI'!$G$2:$G$4000)),ROW(B227))), \"\")","v":""},{"$f":"IFERROR(INDEX('MEMORIAL DESCRITIVO-BRI'!P:P,SMALL(IF('MEMORIAL DESCRITIVO-BRI'!$E$2:$E$4000=\"Sim\",ROW('MEMORIAL DESCRITIVO-BRI'!$P$2:$P$4000)),ROW(B227))), \"\")","v":""},{"$f":"IFERROR(INDEX('MEMORIAL DESCRITIVO-BRI'!Q:Q,SMALL(IF('MEMORIAL DESCRITIVO-BRI'!$E$2:$E$4000=\"Sim\",ROW('MEMORIAL DESCRITIVO-BRI'!$Q$2:$Q$4000)),ROW(B227))), \"\")","v":""}]
[null,{"$f":"IFERROR(INDEX('MEMORIAL DESCRITIVO-BRI'!B:B,SMALL(IF('MEMORIAL DESCRITIVO-BRI'!$E$2:$E$4000=\"Sim\",ROW('MEMORIAL DESCRITIVO-BRI'!$B$2:$B$4000)),ROW(B228))), \"\")","v":""},{"$f":"IFERROR(INDEX('MEMORIAL DESCRITIVO-BRI'!I:I,SMALL(IF('MEMORIAL DESCRITIVO-BRI'!$E$2:$E$4000=\"Sim\",ROW('MEMORIAL DESCRITIVO-BRI'!$I$2:$I$4000)),ROW(B228))), \"\")","v":""},{"$f":"IFERROR(INDEX('MEMORIAL DESCRITIVO-BRI'!F:F,SMALL(IF('MEMORIAL DESCRITIVO-BRI'!$E$2:$E$4000=\"Sim\",ROW('MEMORIAL DESCRITIVO-BRI'!$F$2:$F$4000)),ROW(B228))) & \" - \" & INDEX('MEMORIAL DESCRITIVO-BRI'!H:H,SMALL(IF('MEMORIAL DESCRITIVO-BRI'!$E$2:$E$4000=\"Sim\",ROW('MEMORIAL DESCRITIVO-BRI'!$H$2:$H$4000)),ROW(B228))), \"\")","v":""},null,{"$f":"IFERROR(INDEX('MEMORIAL DESCRITIVO-BRI'!S:S,SMALL(IF('MEMORIAL DESCRITIVO-BRI'!$E$2:$E$4000=\"Sim\",ROW('MEMORIAL DESCRITIVO-BRI'!$S$2:$S$4000)),ROW(B228))), \"\")","v":""},{"$f":"IFERROR(INDEX('MEMORIAL DESCRITIVO-BRI'!Z:Z,SMALL(IF('MEMORIAL DESCRITIVO-BRI'!$E$2:$E$4000=\"Sim\",ROW('MEMORIAL DESCRITIVO-BRI'!$Z$2:$Z$4000)),ROW(B228))), \"\")","v":""},{"$f":"IFERROR(INDEX('MEMORIAL DESCRITIVO-BRI'!W:W,SMALL(IF('MEMORIAL DESCRITIVO-BRI'!$E$2:$E$4000=\"Sim\",ROW('MEMORIAL DESCRITIVO-BRI'!$W$2:$W$4000)),ROW(B228))), \"\")","v":""},{"$f":"IFERROR(INDEX('MEMORIAL DESCRITIVO-BRI'!G:G,SMALL(IF('MEMORIAL DESCRITIVO-BRI'!$E$2:$E$4000=\"Sim\",ROW('MEMORIAL DESCRITIVO-BRI'!$G$2:$G$4000)),ROW(B228))), \"\")","v":""},{"$f":"IFERROR(INDEX('MEMORIAL DESCRITIVO-BRI'!P:P,SMALL(IF('MEMORIAL DESCRITIVO-BRI'!$E$2:$E$4000=\"Sim\",ROW('MEMORIAL DESCRITIVO-BRI'!$P$2:$P$4000)),ROW(B228))), \"\")","v":""},{"$f":"IFERROR(INDEX('MEMORIAL DESCRITIVO-BRI'!Q:Q,SMALL(IF('MEMORIAL DESCRITIVO-BRI'!$E$2:$E$4000=\"Sim\",ROW('MEMORIAL DESCRITIVO-BRI'!$Q$2:$Q$4000)),ROW(B228))), \"\")","v":""}]
[null,{"$f":"IFERROR(INDEX('MEMORIAL DESCRITIVO-BRI'!B:B,SMALL(IF('MEMORIAL DESCRITIVO-BRI'!$E$2:$E$4000=\"Sim\",ROW('MEMORIAL DESCRITIVO-BRI'!$B$2:$B$4000)),ROW(B229))), \"\")","v":""},{"$f":"IFERROR(INDEX('MEMORIAL DESCRITIVO-BRI'!I:I,SMALL(IF('MEMORIAL DESCRITIVO-BRI'!$E$2:$E$4000=\"Sim\",ROW('MEMORIAL DESCRITIVO-BRI'!$I$2:$I$4000)),ROW(B229))), \"\")","v":""},{"$f":"IFERROR(INDEX('MEMORIAL DESCRITIVO-BRI'!F:F,SMALL(IF('MEMORIAL DESCRITIVO-BRI'!$E$2:$E$4000=\"Sim\",ROW('MEMORIAL DESCRITIVO-BRI'!$F$2:$F$4000)),ROW(B229))) & \" - \" & INDEX('MEMORIAL DESCRITIVO-BRI'!H:H,SMALL(IF('MEMORIAL DESCRITIVO-BRI'!$E$2:$E$4000=\"Sim\",ROW('MEMORIAL DESCRITIVO-BRI'!$H$2:$H$4000)),ROW(B229))), \"\")","v":""},null,{"$f":"IFERROR(INDEX('MEMORIAL DESCRITIVO-BRI'!S:S,SMALL(IF('MEMORIAL DESCRITIVO-BRI'!$E$2:$E$4000=\"Sim\",ROW('MEMORIAL DESCRITIVO-BRI'!$S$2:$S$4000)),ROW(B229))), \"\")","v":""},{"$f":"IFERROR(INDEX('MEMORIAL DESCRITIVO-BRI'!Z:Z,SMALL(IF('MEMORIAL DESCRITIVO-BRI'!$E$2:$E$4000=\"Sim\",ROW('MEMORIAL DESCRITIVO-BRI'!$Z$2:$Z$4000)),ROW(B229))), \"\")","v":""},{"$f":"IFERROR(INDEX('MEMORIAL DESCRITIVO-BRI'!W:W,SMALL(IF('MEMORIAL DESCRITIVO-BRI'!$E$2:$E$4000=\"Sim\",ROW('MEMORIAL DESCRITIVO-BRI'!$W$2:$W$4000)),ROW(B229))), \"\")","v":""},{"$f":"IFERROR(INDEX('MEMORIAL DESCRITIVO-BRI'!G:G,SMALL(IF('MEMORIAL DESCRITIVO-BRI'!$E$2:$E$4000=\"Sim\",ROW('MEMORIAL DESCRITIVO-BRI'!$G$2:$G$4000)),ROW(B229))), \"\")","v":""},{"$f":"IFERROR(INDEX('MEMORIAL DESCRITIVO-BRI'!P:P,SMALL(IF('MEMORIAL DESCRITIVO-BRI'!$E$2:$E$4000=\"Sim\",ROW('MEMORIAL DESCRITIVO-BRI'!$P$2:$P$4000)),ROW(B229))), \"\")","v":""},{"$f":"IFERROR(INDEX('MEMORIAL DESCRITIVO-BRI'!Q:Q,SMALL(IF('MEMORIAL DESCRITIVO-BRI'!$E$2:$E$4000=\"Sim\",ROW('MEMORIAL DESCRITIVO-BRI'!$Q$2:$Q$4000)),ROW(B229))), \"\")","v":""}]
[null,{"$f":"IFERROR(INDEX('MEMORIAL DESCRITIVO-BRI'!B:B,SMALL(IF('MEMORIAL DESCRITIVO-BRI'!$E$2:$E$4000=\"Sim\",ROW('MEMORIAL DESCRITIVO-BRI'!$B$2:$B$4000)),ROW(B230))), \"\")","v":""},{"$f":"IFERROR(INDEX('MEMORIAL DESCRITIVO-BRI'!I:I,SMALL(IF('MEMORIAL DESCRITIVO-BRI'!$E$2:$E$4000=\"Sim\",ROW('MEMORIAL DESCRITIVO-BRI'!$I$2:$I$4000)),ROW(B230))), \"\")","v":""},{"$f":"IFERROR(INDEX('MEMORIAL DESCRITIVO-BRI'!F:F,SMALL(IF('MEMORIAL DESCRITIVO-BRI'!$E$2:$E$4000=\"Sim\",ROW('MEMORIAL DESCRITIVO-BRI'!$F$2:$F$4000)),ROW(B230))) & \" - \" & INDEX('MEMORIAL DESCRITIVO-BRI'!H:H,SMALL(IF('MEMORIAL DESCRITIVO-BRI'!$E$2:$E$4000=\"Sim\",ROW('MEMORIAL DESCRITIVO-BRI'!$H$2:$H$4000)),ROW(B230))), \"\")","v":""},null,{"$f":"IFERROR(INDEX('MEMORIAL DESCRITIVO-BRI'!S:S,SMALL(IF('MEMORIAL DESCRITIVO-BRI'!$E$2:$E$4000=\"Sim\",ROW('MEMORIAL DESCRITIVO-BRI'!$S$2:$S$4000)),ROW(B230))), \"\")","v":""},{"$f":"IFERROR(INDEX('MEMORIAL DESCRITIVO-BRI'!Z:Z,SMALL(IF('MEMORIAL DESCRITIVO-BRI'!$E$2:$E$4000=\"Sim\",ROW('MEMORIAL DESCRITIVO-BRI'!$Z$2:$Z$4000)),ROW(B230))), \"\")","v":""},{"$f":"IFERROR(INDEX('MEMORIAL DESCRITIVO-BRI'!W:W,SMALL(IF('MEMORIAL DESCRITIVO-BRI'!$E$2:$E$4000=\"Sim\",ROW('MEMORIAL DESCRITIVO-BRI'!$W$2:$W$4000)),ROW(B230))), \"\")","v":""},{"$f":"IFERROR(INDEX('MEMORIAL DESCRITIVO-BRI'!G:G,SMALL(IF('MEMORIAL DESCRITIVO-BRI'!$E$2:$E$4000=\"Sim\",ROW('MEMORIAL DESCRITIVO-BRI'!$G$2:$G$4000)),ROW(B230))), \"\")","v":""},{"$f":"IFERROR(INDEX('MEMORIAL DESCRITIVO-BRI'!P:P,SMALL(IF('MEMORIAL DESCRITIVO-BRI'!$E$2:$E$4000=\"Sim\",ROW('MEMORIAL DESCRITIVO-BRI'!$P$2:$P$4000)),ROW(B230))), \"\")","v":""},{"$f":"IFERROR(INDEX('MEMORIAL DESCRITIVO-BRI'!Q:Q,SMALL(IF('MEMORIAL DESCRITIVO-BRI'!$E$2:$E$4000=\"Sim\",ROW('MEMORIAL DESCRITIVO-BRI'!$Q$2:$Q$4000)),ROW(B230))), \"\")","v":""}]
[null,{"$f":"IFERROR(INDEX('MEMORIAL DESCRITIVO-BRI'!B:B,SMALL(IF('MEMORIAL DESCRITIVO-BRI'!$E$2:$E$4000=\"Sim\",ROW('MEMORIAL DESCRITIVO-BRI'!$B$2:$B$4000)),ROW(B231))), \"\")","v":""},{"$f":"IFERROR(INDEX('MEMORIAL DESCRITIVO-BRI'!I:I,SMALL(IF('MEMORIAL DESCRITIVO-BRI'!$E$2:$E$4000=\"Sim\",ROW('MEMORIAL DESCRITIVO-BRI'!$I$2:$I$4000)),ROW(B231))), \"\")","v":""},{"$f":"IFERROR(INDEX('MEMORIAL DESCRITIVO-BRI'!F:F,SMALL(IF('MEMORIAL DESCRITIVO-BRI'!$E$2:$E$4000=\"Sim\",ROW('MEMORIAL DESCRITIVO-BRI'!$F$2:$F$4000)),ROW(B231))) & \" - \" & INDEX('MEMORIAL DESCRITIVO-BRI'!H:H,SMALL(IF('MEMORIAL DESCRITIVO-BRI'!$E$2:$E$4000=\"Sim\",ROW('MEMORIAL DESCRITIVO-BRI'!$H$2:$H$4000)),ROW(B231))), \"\")","v":""},null,{"$f":"IFERROR(INDEX('MEMORIAL DESCRITIVO-BRI'!S:S,SMALL(IF('MEMORIAL DESCRITIVO-BRI'!$E$2:$E$4000=\"Sim\",ROW('MEMORIAL DESCRITIVO-BRI'!$S$2:$S$4000)),ROW(B231))), \"\")","v":""},{"$f":"IFERROR(INDEX('MEMORIAL DESCRITIVO-BRI'!Z:Z,SMALL(IF('MEMORIAL DESCRITIVO-BRI'!$E$2:$E$4000=\"Sim\",ROW('MEMORIAL DESCRITIVO-BRI'!$Z$2:$Z$4000)),ROW(B231))), \"\")","v":""},{"$f":"IFERROR(INDEX('MEMORIAL DESCRITIVO-BRI'!W:W,SMALL(IF('MEMORIAL DESCRITIVO-BRI'!$E$2:$E$4000=\"Sim\",ROW('MEMORIAL DESCRITIVO-BRI'!$W$2:$W$4000)),ROW(B231))), \"\")","v":""},{"$f":"IFERROR(INDEX('MEMORIAL DESCRITIVO-BRI'!G:G,SMALL(IF('MEMORIAL DESCRITIVO-BRI'!$E$2:$E$4000=\"Sim\",ROW('MEMORIAL DESCRITIVO-BRI'!$G$2:$G$4000)),ROW(B231))), \"\")","v":""},{"$f":"IFERROR(INDEX('MEMORIAL DESCRITIVO-BRI'!P:P,SMALL(IF('MEMORIAL DESCRITIVO-BRI'!$E$2:$E$4000=\"Sim\",ROW('MEMORIAL DESCRITIVO-BRI'!$P$2:$P$4000)),ROW(B231))), \"\")","v":""},{"$f":"IFERROR(INDEX('MEMORIAL DESCRITIVO-BRI'!Q:Q,SMALL(IF('MEMORIAL DESCRITIVO-BRI'!$E$2:$E$4000=\"Sim\",ROW('MEMORIAL DESCRITIVO-BRI'!$Q$2:$Q$4000)),ROW(B231))), \"\")","v":""}]
[null,{"$f":"IFERROR(INDEX('MEMORIAL DESCRITIVO-BRI'!B:B,SMALL(IF('MEMORIAL DESCRITIVO-BRI'!$E$2:$E$4000=\"Sim\",ROW('MEMORIAL DESCRITIVO-BRI'!$B$2:$B$4000)),ROW(B232))), \"\")","v":""},{"$f":"IFERROR(INDEX('MEMORIAL DESCRITIVO-BRI'!I:I,SMALL(IF('MEMORIAL DESCRITIVO-BRI'!$E$2:$E$4000=\"Sim\",ROW('MEMORIAL DESCRITIVO-BRI'!$I$2:$I$4000)),ROW(B232))), \"\")","v":""},{"$f":"IFERROR(INDEX('MEMORIAL DESCRITIVO-BRI'!F:F,SMALL(IF('MEMORIAL DESCRITIVO-BRI'!$E$2:$E$4000=\"Sim\",ROW('MEMORIAL DESCRITIVO-BRI'!$F$2:$F$4000)),ROW(B232))) & \" - \" & INDEX('MEMORIAL DESCRITIVO-BRI'!H:H,SMALL(IF('MEMORIAL DESCRITIVO-BRI'!$E$2:$E$4000=\"Sim\",ROW('MEMORIAL DESCRITIVO-BRI'!$H$2:$H$4000)),ROW(B232))), \"\")","v":""},null,{"$f":"IFERROR(INDEX('MEMORIAL DESCRITIVO-BRI'!S:S,SMALL(IF('MEMORIAL DESCRITIVO-BRI'!$E$2:$E$4000=\"Sim\",ROW('MEMORIAL DESCRITIVO-BRI'!$S$2:$S$4000)),ROW(B232))), \"\")","v":""},{"$f":"IFERROR(INDEX('MEMORIAL DESCRITIVO-BRI'!Z:Z,SMALL(IF('MEMORIAL DESCRITIVO-BRI'!$E$2:$E$4000=\"Sim\",ROW('MEMORIAL DESCRITIVO-BRI'!$Z$2:$Z$4000)),ROW(B232))), \"\")","v":""},{"$f":"IFERROR(INDEX('MEMORIAL DESCRITIVO-BRI'!W:W,SMALL(IF('MEMORIAL DESCRITIVO-BRI'!$E$2:$E$4000=\"Sim\",ROW('MEMORIAL DESCRITIVO-BRI'!$W$2:$W$4000)),ROW(B232))), \"\")","v":""},{"$f":"IFERROR(INDEX('MEMORIAL DESCRITIVO-BRI'!G:G,SMALL(IF('MEMORIAL DESCRITIVO-BRI'!$E$2:$E$4000=\"Sim\",ROW('MEMORIAL DESCRITIVO-BRI'!$G$2:$G$4000)),ROW(B232))), \"\")","v":""},{"$f":"IFERROR(INDEX('MEMORIAL DESCRITIVO-BRI'!P:P,SMALL(IF('MEMORIAL DESCRITIVO-BRI'!$E$2:$E$4000=\"Sim\",ROW('MEMORIAL DESCRITIVO-BRI'!$P$2:$P$4000)),ROW(B232))), \"\")","v":""},{"$f":"IFERROR(INDEX('MEMORIAL DESCRITIVO-BRI'!Q:Q,SMALL(IF('MEMORIAL DESCRITIVO-BRI'!$E$2:$E$4000=\"Sim\",ROW('MEMORIAL DESCRITIVO-BRI'!$Q$2:$Q$4000)),ROW(B232))), \"\")","v":""}]
[null,{"$f":"IFERROR(INDEX('MEMORIAL DESCRITIVO-BRI'!B:B,SMALL(IF('MEMORIAL DESCRITIVO-BRI'!$E$2:$E$4000=\"Sim\",ROW('MEMORIAL DESCRITIVO-BRI'!$B$2:$B$4000)),ROW(B233))), \"\")","v":""},{"$f":"IFERROR(INDEX('MEMORIAL DESCRITIVO-BRI'!I:I,SMALL(IF('MEMORIAL DESCRITIVO-BRI'!$E$2:$E$4000=\"Sim\",ROW('MEMORIAL DESCRITIVO-BRI'!$I$2:$I$4000)),ROW(B233))), \"\")","v":""},{"$f":"IFERROR(INDEX('MEMORIAL DESCRITIVO-BRI'!F:F,SMALL(IF('MEMORIAL DESCRITIVO-BRI'!$E$2:$E$4000=\"Sim\",ROW('MEMORIAL DESCRITIVO-BRI'!$F$2:$F$4000)),ROW(B233))) & \" - \" & INDEX('MEMORIAL DESCRITIVO-BRI'!H:H,SMALL(IF('MEMORIAL DESCRITIVO-BRI'!$E$2:$E$4000=\"Sim\",ROW('MEMORIAL DESCRITIVO-BRI'!$H$2:$H$4000)),ROW(B233))), \"\")","v":""},null,{"$f":"IFERROR(INDEX('MEMORIAL DESCRITIVO-BRI'!S:S,SMALL(IF('MEMORIAL DESCRITIVO-BRI'!$E$2:$E$4000=\"Sim\",ROW('MEMORIAL DESCRITIVO-BRI'!$S$2:$S$4000)),ROW(B233))), \"\")","v":""},{"$f":"IFERROR(INDEX('MEMORIAL DESCRITIVO-BRI'!Z:Z,SMALL(IF('MEMORIAL DESCRITIVO-BRI'!$E$2:$E$4000=\"Sim\",ROW('MEMORIAL DESCRITIVO-BRI'!$Z$2:$Z$4000)),ROW(B233))), \"\")","v":""},{"$f":"IFERROR(INDEX('MEMORIAL DESCRITIVO-BRI'!W:W,SMALL(IF('MEMORIAL DESCRITIVO-BRI'!$E$2:$E$4000=\"Sim\",ROW('MEMORIAL DESCRITIVO-BRI'!$W$2:$W$4000)),ROW(B233))), \"\")","v":""},{"$f":"IFERROR(INDEX('MEMORIAL DESCRITIVO-BRI'!G:G,SMALL(IF('MEMORIAL DESCRITIVO-BRI'!$E$2:$E$4000=\"Sim\",ROW('MEMORIAL DESCRITIVO-BRI'!$G$2:$G$4000)),ROW(B233))), \"\")","v":""},{"$f":"IFERROR(INDEX('MEMORIAL DESCRITIVO-BRI'!P:P,SMALL(IF('MEMORIAL DESCRITIVO-BRI'!$E$2:$E$4000=\"Sim\",ROW('MEMORIAL DESCRITIVO-BRI'!$P$2:$P$4000)),ROW(B233))), \"\")","v":""},{"$f":"IFERROR(INDEX('MEMORIAL DESCRITIVO-BRI'!Q:Q,SMALL(IF('MEMORIAL DESCRITIVO-BRI'!$E$2:$E$4000=\"Sim\",ROW('MEMORIAL DESCRITIVO-BRI'!$Q$2:$Q$4000)),ROW(B233))), \"\")","v":""}]
[null,{"$f":"IFERROR(INDEX('MEMORIAL DESCRITIVO-BRI'!B:B,SMALL(IF('MEMORIAL DESCRITIVO-BRI'!$E$2:$E$4000=\"Sim\",ROW('MEMORIAL DESCRITIVO-BRI'!$B$2:$B$4000)),ROW(B234))), \"\")","v":""},{"$f":"IFERROR(INDEX('MEMORIAL DESCRITIVO-BRI'!I:I,SMALL(IF('MEMORIAL DESCRITIVO-BRI'!$E$2:$E$4000=\"Sim\",ROW('MEMORIAL DESCRITIVO-BRI'!$I$2:$I$4000)),ROW(B234))), \"\")","v":""},{"$f":"IFERROR(INDEX('MEMORIAL DESCRITIVO-BRI'!F:F,SMALL(IF('MEMORIAL DESCRITIVO-BRI'!$E$2:$E$4000=\"Sim\",ROW('MEMORIAL DESCRITIVO-BRI'!$F$2:$F$4000)),ROW(B234))) & \" - \" & INDEX('MEMORIAL DESCRITIVO-BRI'!H:H,SMALL(IF('MEMORIAL DESCRITIVO-BRI'!$E$2:$E$4000=\"Sim\",ROW('MEMORIAL DESCRITIVO-BRI'!$H$2:$H$4000)),ROW(B234))), \"\")","v":""},null,{"$f":"IFERROR(INDEX('MEMORIAL DESCRITIVO-BRI'!S:S,SMALL(IF('MEMORIAL DESCRITIVO-BRI'!$E$2:$E$4000=\"Sim\",ROW('MEMORIAL DESCRITIVO-BRI'!$S$2:$S$4000)),ROW(B234))), \"\")","v":""},{"$f":"IFERROR(INDEX('MEMORIAL DESCRITIVO-BRI'!Z:Z,SMALL(IF('MEMORIAL DESCRITIVO-BRI'!$E$2:$E$4000=\"Sim\",ROW('MEMORIAL DESCRITIVO-BRI'!$Z$2:$Z$4000)),ROW(B234))), \"\")","v":""},{"$f":"IFERROR(INDEX('MEMORIAL DESCRITIVO-BRI'!W:W,SMALL(IF('MEMORIAL DESCRITIVO-BRI'!$E$2:$E$4000=\"Sim\",ROW('MEMORIAL DESCRITIVO-BRI'!$W$2:$W$4000)),ROW(B234))), \"\")","v":""},{"$f":"IFERROR(INDEX('MEMORIAL DESCRITIVO-BRI'!G:G,SMALL(IF('MEMORIAL DESCRITIVO-BRI'!$E$2:$E$4000=\"Sim\",ROW('MEMORIAL DESCRITIVO-BRI'!$G$2:$G$4000)),ROW(B234))), \"\")","v":""},{"$f":"IFERROR(INDEX('MEMORIAL DESCRITIVO-BRI'!P:P,SMALL(IF('MEMORIAL DESCRITIVO-BRI'!$E$2:$E$4000=\"Sim\",ROW('MEMORIAL DESCRITIVO-BRI'!$P$2:$P$4000)),ROW(B234))), \"\")","v":""},{"$f":"IFERROR(INDEX('MEMORIAL DESCRITIVO-BRI'!Q:Q,SMALL(IF('MEMORIAL DESCRITIVO-BRI'!$E$2:$E$4000=\"Sim\",ROW('MEMORIAL DESCRITIVO-BRI'!$Q$2:$Q$4000)),ROW(B234))), \"\")","v":""}]
[null,{"$f":"IFERROR(INDEX('MEMORIAL DESCRITIVO-BRI'!B:B,SMALL(IF('MEMORIAL DESCRITIVO-BRI'!$E$2:$E$4000=\"Sim\",ROW('MEMORIAL DESCRITIVO-BRI'!$B$2:$B$4000)),ROW(B235))), \"\")","v":""},{"$f":"IFERROR(INDEX('MEMORIAL DESCRITIVO-BRI'!I:I,SMALL(IF('MEMORIAL DESCRITIVO-BRI'!$E$2:$E$4000=\"Sim\",ROW('MEMORIAL DESCRITIVO-BRI'!$I$2:$I$4000)),ROW(B235))), \"\")","v":""},{"$f":"IFERROR(INDEX('MEMORIAL DESCRITIVO-BRI'!F:F,SMALL(IF('MEMORIAL DESCRITIVO-BRI'!$E$2:$E$4000=\"Sim\",ROW('MEMORIAL DESCRITIVO-BRI'!$F$2:$F$4000)),ROW(B235))) & \" - \" & INDEX('MEMORIAL DESCRITIVO-BRI'!H:H,SMALL(IF('MEMORIAL DESCRITIVO-BRI'!$E$2:$E$4000=\"Sim\",ROW('MEMORIAL DESCRITIVO-BRI'!$H$2:$H$4000)),ROW(B235))), \"\")","v":""},null,{"$f":"IFERROR(INDEX('MEMORIAL DESCRITIVO-BRI'!S:S,SMALL(IF('MEMORIAL DESCRITIVO-BRI'!$E$2:$E$4000=\"Sim\",ROW('MEMORIAL DESCRITIVO-BRI'!$S$2:$S$4000)),ROW(B235))), \"\")","v":""},{"$f":"IFERROR(INDEX('MEMORIAL DESCRITIVO-BRI'!Z:Z,SMALL(IF('MEMORIAL DESCRITIVO-BRI'!$E$2:$E$4000=\"Sim\",ROW('MEMORIAL DESCRITIVO-BRI'!$Z$2:$Z$4000)),ROW(B235))), \"\")","v":""},{"$f":"IFERROR(INDEX('MEMORIAL DESCRITIVO-BRI'!W:W,SMALL(IF('MEMORIAL DESCRITIVO-BRI'!$E$2:$E$4000=\"Sim\",ROW('MEMORIAL DESCRITIVO-BRI'!$W$2:$W$4000)),ROW(B235))), \"\")","v":""},{"$f":"IFERROR(INDEX('MEMORIAL DESCRITIVO-BRI'!G:G,SMALL(IF('MEMORIAL DESCRITIVO-BRI'!$E$2:$E$4000=\"Sim\",ROW('MEMORIAL DESCRITIVO-BRI'!$G$2:$G$4000)),ROW(B235))), \"\")","v":""},{"$f":"IFERROR(INDEX('MEMORIAL DESCRITIVO-BRI'!P:P,SMALL(IF('MEMORIAL DESCRITIVO-BRI'!$E$2:$E$4000=\"Sim\",ROW('MEMORIAL DESCRITIVO-BRI'!$P$2:$P$4000)),ROW(B235))), \"\")","v":""},{"$f":"IFERROR(INDEX('MEMORIAL DESCRITIVO-BRI'!Q:Q,SMALL(IF('MEMORIAL DESCRITIVO-BRI'!$E$2:$E$4000=\"Sim\",ROW('MEMORIAL DESCRITIVO-BRI'!$Q$2:$Q$4000)),ROW(B235))), \"\")","v":""}]
[null,{"$f":"IFERROR(INDEX('MEMORIAL DESCRITIVO-BRI'!B:B,SMALL(IF('MEMORIAL DESCRITIVO-BRI'!$E$2:$E$4000=\"Sim\",ROW('MEMORIAL DESCRITIVO-BRI'!$B$2:$B$4000)),ROW(B236))), \"\")","v":""},{"$f":"IFERROR(INDEX('MEMORIAL DESCRITIVO-BRI'!I:I,SMALL(IF('MEMORIAL DESCRITIVO-BRI'!$E$2:$E$4000=\"Sim\",ROW('MEMORIAL DESCRITIVO-BRI'!$I$2:$I$4000)),ROW(B236))), \"\")","v":""},{"$f":"IFERROR(INDEX('MEMORIAL DESCRITIVO-BRI'!F:F,SMALL(IF('MEMORIAL DESCRITIVO-BRI'!$E$2:$E$4000=\"Sim\",ROW('MEMORIAL DESCRITIVO-BRI'!$F$2:$F$4000)),ROW(B236))) & \" - \" & INDEX('MEMORIAL DESCRITIVO-BRI'!H:H,SMALL(IF('MEMORIAL DESCRITIVO-BRI'!$E$2:$E$4000=\"Sim\",ROW('MEMORIAL DESCRITIVO-BRI'!$H$2:$H$4000)),ROW(B236))), \"\")","v":""},null,{"$f":"IFERROR(INDEX('MEMORIAL DESCRITIVO-BRI'!S:S,SMALL(IF('MEMORIAL DESCRITIVO-BRI'!$E$2:$E$4000=\"Sim\",ROW('MEMORIAL DESCRITIVO-BRI'!$S$2:$S$4000)),ROW(B236))), \"\")","v":""},{"$f":"IFERROR(INDEX('MEMORIAL DESCRITIVO-BRI'!Z:Z,SMALL(IF('MEMORIAL DESCRITIVO-BRI'!$E$2:$E$4000=\"Sim\",ROW('MEMORIAL DESCRITIVO-BRI'!$Z$2:$Z$4000)),ROW(B236))), \"\")","v":""},{"$f":"IFERROR(INDEX('MEMORIAL DESCRITIVO-BRI'!W:W,SMALL(IF('MEMORIAL DESCRITIVO-BRI'!$E$2:$E$4000=\"Sim\",ROW('MEMORIAL DESCRITIVO-BRI'!$W$2:$W$4000)),ROW(B236))), \"\")","v":""},{"$f":"IFERROR(INDEX('MEMORIAL DESCRITIVO-BRI'!G:G,SMALL(IF('MEMORIAL DESCRITIVO-BRI'!$E$2:$E$4000=\"Sim\",ROW('MEMORIAL DESCRITIVO-BRI'!$G$2:$G$4000)),ROW(B236))), \"\")","v":""},{"$f":"IFERROR(INDEX('MEMORIAL DESCRITIVO-BRI'!P:P,SMALL(IF('MEMORIAL DESCRITIVO-BRI'!$E$2:$E$4000=\"Sim\",ROW('MEMORIAL DESCRITIVO-BRI'!$P$2:$P$4000)),ROW(B236))), \"\")","v":""},{"$f":"IFERROR(INDEX('MEMORIAL DESCRITIVO-BRI'!Q:Q,SMALL(IF('MEMORIAL DESCRITIVO-BRI'!$E$2:$E$4000=\"Sim\",ROW('MEMORIAL DESCRITIVO-BRI'!$Q$2:$Q$4000)),ROW(B236))), \"\")","v":""}]
[null,{"$f":"IFERROR(INDEX('MEMORIAL DESCRITIVO-BRI'!B:B,SMALL(IF('MEMORIAL DESCRITIVO-BRI'!$E$2:$E$4000=\"Sim\",ROW('MEMORIAL DESCRITIVO-BRI'!$B$2:$B$4000)),ROW(B237))), \"\")","v":""},{"$f":"IFERROR(INDEX('MEMORIAL DESCRITIVO-BRI'!I:I,SMALL(IF('MEMORIAL DESCRITIVO-BRI'!$E$2:$E$4000=\"Sim\",ROW('MEMORIAL DESCRITIVO-BRI'!$I$2:$I$4000)),ROW(B237))), \"\")","v":""},{"$f":"IFERROR(INDEX('MEMORIAL DESCRITIVO-BRI'!F:F,SMALL(IF('MEMORIAL DESCRITIVO-BRI'!$E$2:$E$4000=\"Sim\",ROW('MEMORIAL DESCRITIVO-BRI'!$F$2:$F$4000)),ROW(B237))) & \" - \" & INDEX('MEMORIAL DESCRITIVO-BRI'!H:H,SMALL(IF('MEMORIAL DESCRITIVO-BRI'!$E$2:$E$4000=\"Sim\",ROW('MEMORIAL DESCRITIVO-BRI'!$H$2:$H$4000)),ROW(B237))), \"\")","v":""},null,{"$f":"IFERROR(INDEX('MEMORIAL DESCRITIVO-BRI'!S:S,SMALL(IF('MEMORIAL DESCRITIVO-BRI'!$E$2:$E$4000=\"Sim\",ROW('MEMORIAL DESCRITIVO-BRI'!$S$2:$S$4000)),ROW(B237))), \"\")","v":""},{"$f":"IFERROR(INDEX('MEMORIAL DESCRITIVO-BRI'!Z:Z,SMALL(IF('MEMORIAL DESCRITIVO-BRI'!$E$2:$E$4000=\"Sim\",ROW('MEMORIAL DESCRITIVO-BRI'!$Z$2:$Z$4000)),ROW(B237))), \"\")","v":""},{"$f":"IFERROR(INDEX('MEMORIAL DESCRITIVO-BRI'!W:W,SMALL(IF('MEMORIAL DESCRITIVO-BRI'!$E$2:$E$4000=\"Sim\",ROW('MEMORIAL DESCRITIVO-BRI'!$W$2:$W$4000)),ROW(B237))), \"\")","v":""},{"$f":"IFERROR(INDEX('MEMORIAL DESCRITIVO-BRI'!G:G,SMALL(IF('MEMORIAL DESCRITIVO-BRI'!$E$2:$E$4000=\"Sim\",ROW('MEMORIAL DESCRITIVO-BRI'!$G$2:$G$4000)),ROW(B237))), \"\")","v":""},{"$f":"IFERROR(INDEX('MEMORIAL DESCRITIVO-BRI'!P:P,SMALL(IF('MEMORIAL DESCRITIVO-BRI'!$E$2:$E$4000=\"Sim\",ROW('MEMORIAL DESCRITIVO-BRI'!$P$2:$P$4000)),ROW(B237))), \"\")","v":""},{"$f":"IFERROR(INDEX('MEMORIAL DESCRITIVO-BRI'!Q:Q,SMALL(IF('MEMORIAL DESCRITIVO-BRI'!$E$2:$E$4000=\"Sim\",ROW('MEMORIAL DESCRITIVO-BRI'!$Q$2:$Q$4000)),ROW(B237))), \"\")","v":""}]
[null,{"$f":"IFERROR(INDEX('MEMORIAL DESCRITIVO-BRI'!B:B,SMALL(IF('MEMORIAL DESCRITIVO-BRI'!$E$2:$E$4000=\"Sim\",ROW('MEMORIAL DESCRITIVO-BRI'!$B$2:$B$4000)),ROW(B238))), \"\")","v":""},{"$f":"IFERROR(INDEX('MEMORIAL DESCRITIVO-BRI'!I:I,SMALL(IF('MEMORIAL DESCRITIVO-BRI'!$E$2:$E$4000=\"Sim\",ROW('MEMORIAL DESCRITIVO-BRI'!$I$2:$I$4000)),ROW(B238))), \"\")","v":""},{"$f":"IFERROR(INDEX('MEMORIAL DESCRITIVO-BRI'!F:F,SMALL(IF('MEMORIAL DESCRITIVO-BRI'!$E$2:$E$4000=\"Sim\",ROW('MEMORIAL DESCRITIVO-BRI'!$F$2:$F$4000)),ROW(B238))) & \" - \" & INDEX('MEMORIAL DESCRITIVO-BRI'!H:H,SMALL(IF('MEMORIAL DESCRITIVO-BRI'!$E$2:$E$4000=\"Sim\",ROW('MEMORIAL DESCRITIVO-BRI'!$H$2:$H$4000)),ROW(B238))), \"\")","v":""},null,{"$f":"IFERROR(INDEX('MEMORIAL DESCRITIVO-BRI'!S:S,SMALL(IF('MEMORIAL DESCRITIVO-BRI'!$E$2:$E$4000=\"Sim\",ROW('MEMORIAL DESCRITIVO-BRI'!$S$2:$S$4000)),ROW(B238))), \"\")","v":""},{"$f":"IFERROR(INDEX('MEMORIAL DESCRITIVO-BRI'!Z:Z,SMALL(IF('MEMORIAL DESCRITIVO-BRI'!$E$2:$E$4000=\"Sim\",ROW('MEMORIAL DESCRITIVO-BRI'!$Z$2:$Z$4000)),ROW(B238))), \"\")","v":""},{"$f":"IFERROR(INDEX('MEMORIAL DESCRITIVO-BRI'!W:W,SMALL(IF('MEMORIAL DESCRITIVO-BRI'!$E$2:$E$4000=\"Sim\",ROW('MEMORIAL DESCRITIVO-BRI'!$W$2:$W$4000)),ROW(B238))), \"\")","v":""},{"$f":"IFERROR(INDEX('MEMORIAL DESCRITIVO-BRI'!G:G,SMALL(IF('MEMORIAL DESCRITIVO-BRI'!$E$2:$E$4000=\"Sim\",ROW('MEMORIAL DESCRITIVO-BRI'!$G$2:$G$4000)),ROW(B238))), \"\")","v":""},{"$f":"IFERROR(INDEX('MEMORIAL DESCRITIVO-BRI'!P:P,SMALL(IF('MEMORIAL DESCRITIVO-BRI'!$E$2:$E$4000=\"Sim\",ROW('MEMORIAL DESCRITIVO-BRI'!$P$2:$P$4000)),ROW(B238))), \"\")","v":""},{"$f":"IFERROR(INDEX('MEMORIAL DESCRITIVO-BRI'!Q:Q,SMALL(IF('MEMORIAL DESCRITIVO-BRI'!$E$2:$E$4000=\"Sim\",ROW('MEMORIAL DESCRITIVO-BRI'!$Q$2:$Q$4000)),ROW(B238))), \"\")","v":""}]
[null,{"$f":"IFERROR(INDEX('MEMORIAL DESCRITIVO-BRI'!B:B,SMALL(IF('MEMORIAL DESCRITIVO-BRI'!$E$2:$E$4000=\"Sim\",ROW('MEMORIAL DESCRITIVO-BRI'!$B$2:$B$4000)),ROW(B239))), \"\")","v":""},{"$f":"IFERROR(INDEX('MEMORIAL DESCRITIVO-BRI'!I:I,SMALL(IF('MEMORIAL DESCRITIVO-BRI'!$E$2:$E$4000=\"Sim\",ROW('MEMORIAL DESCRITIVO-BRI'!$I$2:$I$4000)),ROW(B239))), \"\")","v":""},{"$f":"IFERROR(INDEX('MEMORIAL DESCRITIVO-BRI'!F:F,SMALL(IF('MEMORIAL DESCRITIVO-BRI'!$E$2:$E$4000=\"Sim\",ROW('MEMORIAL DESCRITIVO-BRI'!$F$2:$F$4000)),ROW(B239))) & \" - \" & INDEX('MEMORIAL DESCRITIVO-BRI'!H:H,SMALL(IF('MEMORIAL DESCRITIVO-BRI'!$E$2:$E$4000=\"Sim\",ROW('MEMORIAL DESCRITIVO-BRI'!$H$2:$H$4000)),ROW(B239))), \"\")","v":""},null,{"$f":"IFERROR(INDEX('MEMORIAL DESCRITIVO-BRI'!S:S,SMALL(IF('MEMORIAL DESCRITIVO-BRI'!$E$2:$E$4000=\"Sim\",ROW('MEMORIAL DESCRITIVO-BRI'!$S$2:$S$4000)),ROW(B239))), \"\")","v":""},{"$f":"IFERROR(INDEX('MEMORIAL DESCRITIVO-BRI'!Z:Z,SMALL(IF('MEMORIAL DESCRITIVO-BRI'!$E$2:$E$4000=\"Sim\",ROW('MEMORIAL DESCRITIVO-BRI'!$Z$2:$Z$4000)),ROW(B239))), \"\")","v":""},{"$f":"IFERROR(INDEX('MEMORIAL DESCRITIVO-BRI'!W:W,SMALL(IF('MEMORIAL DESCRITIVO-BRI'!$E$2:$E$4000=\"Sim\",ROW('MEMORIAL DESCRITIVO-BRI'!$W$2:$W$4000)),ROW(B239))), \"\")","v":""},{"$f":"IFERROR(INDEX('MEMORIAL DESCRITIVO-BRI'!G:G,SMALL(IF('MEMORIAL DESCRITIVO-BRI'!$E$2:$E$4000=\"Sim\",ROW('MEMORIAL DESCRITIVO-BRI'!$G$2:$G$4000)),ROW(B239))), \"\")","v":""},{"$f":"IFERROR(INDEX('MEMORIAL DESCRITIVO-BRI'!P:P,SMALL(IF('MEMORIAL DESCRITIVO-BRI'!$E$2:$E$4000=\"Sim\",ROW('MEMORIAL DESCRITIVO-BRI'!$P$2:$P$4000)),ROW(B239))), \"\")","v":""},{"$f":"IFERROR(INDEX('MEMORIAL DESCRITIVO-BRI'!Q:Q,SMALL(IF('MEMORIAL DESCRITIVO-BRI'!$E$2:$E$4000=\"Sim\",ROW('MEMORIAL DESCRITIVO-BRI'!$Q$2:$Q$4000)),ROW(B239))), \"\")","v":""}]
[null,{"$f":"IFERROR(INDEX('MEMORIAL DESCRITIVO-BRI'!B:B,SMALL(IF('MEMORIAL DESCRITIVO-BRI'!$E$2:$E$4000=\"Sim\",ROW('MEMORIAL DESCRITIVO-BRI'!$B$2:$B$4000)),ROW(B240))), \"\")","v":""},{"$f":"IFERROR(INDEX('MEMORIAL DESCRITIVO-BRI'!I:I,SMALL(IF('MEMORIAL DESCRITIVO-BRI'!$E$2:$E$4000=\"Sim\",ROW('MEMORIAL DESCRITIVO-BRI'!$I$2:$I$4000)),ROW(B240))), \"\")","v":""},{"$f":"IFERROR(INDEX('MEMORIAL DESCRITIVO-BRI'!F:F,SMALL(IF('MEMORIAL DESCRITIVO-BRI'!$E$2:$E$4000=\"Sim\",ROW('MEMORIAL DESCRITIVO-BRI'!$F$2:$F$4000)),ROW(B240))) & \" - \" & INDEX('MEMORIAL DESCRITIVO-BRI'!H:H,SMALL(IF('MEMORIAL DESCRITIVO-BRI'!$E$2:$E$4000=\"Sim\",ROW('MEMORIAL DESCRITIVO-BRI'!$H$2:$H$4000)),ROW(B240))), \"\")","v":""},null,{"$f":"IFERROR(INDEX('MEMORIAL DESCRITIVO-BRI'!S:S,SMALL(IF('MEMORIAL DESCRITIVO-BRI'!$E$2:$E$4000=\"Sim\",ROW('MEMORIAL DESCRITIVO-BRI'!$S$2:$S$4000)),ROW(B240))), \"\")","v":""},{"$f":"IFERROR(INDEX('MEMORIAL DESCRITIVO-BRI'!Z:Z,SMALL(IF('MEMORIAL DESCRITIVO-BRI'!$E$2:$E$4000=\"Sim\",ROW('MEMORIAL DESCRITIVO-BRI'!$Z$2:$Z$4000)),ROW(B240))), \"\")","v":""},{"$f":"IFERROR(INDEX('MEMORIAL DESCRITIVO-BRI'!W:W,SMALL(IF('MEMORIAL DESCRITIVO-BRI'!$E$2:$E$4000=\"Sim\",ROW('MEMORIAL DESCRITIVO-BRI'!$W$2:$W$4000)),ROW(B240))), \"\")","v":""},{"$f":"IFERROR(INDEX('MEMORIAL DESCRITIVO-BRI'!G:G,SMALL(IF('MEMORIAL DESCRITIVO-BRI'!$E$2:$E$4000=\"Sim\",ROW('MEMORIAL DESCRITIVO-BRI'!$G$2:$G$4000)),ROW(B240))), \"\")","v":""},{"$f":"IFERROR(INDEX('MEMORIAL DESCRITIVO-BRI'!P:P,SMALL(IF('MEMORIAL DESCRITIVO-BRI'!$E$2:$E$4000=\"Sim\",ROW('MEMORIAL DESCRITIVO-BRI'!$P$2:$P$4000)),ROW(B240))), \"\")","v":""},{"$f":"IFERROR(INDEX('MEMORIAL DESCRITIVO-BRI'!Q:Q,SMALL(IF('MEMORIAL DESCRITIVO-BRI'!$E$2:$E$4000=\"Sim\",ROW('MEMORIAL DESCRITIVO-BRI'!$Q$2:$Q$4000)),ROW(B240))), \"\")","v":""}]
[null,{"$f":"IFERROR(INDEX('MEMORIAL DESCRITIVO-BRI'!B:B,SMALL(IF('MEMORIAL DESCRITIVO-BRI'!$E$2:$E$4000=\"Sim\",ROW('MEMORIAL DESCRITIVO-BRI'!$B$2:$B$4000)),ROW(B241))), \"\")","v":""},{"$f":"IFERROR(INDEX('MEMORIAL DESCRITIVO-BRI'!I:I,SMALL(IF('MEMORIAL DESCRITIVO-BRI'!$E$2:$E$4000=\"Sim\",ROW('MEMORIAL DESCRITIVO-BRI'!$I$2:$I$4000)),ROW(B241))), \"\")","v":""},{"$f":"IFERROR(INDEX('MEMORIAL DESCRITIVO-BRI'!F:F,SMALL(IF('MEMORIAL DESCRITIVO-BRI'!$E$2:$E$4000=\"Sim\",ROW('MEMORIAL DESCRITIVO-BRI'!$F$2:$F$4000)),ROW(B241))) & \" - \" & INDEX('MEMORIAL DESCRITIVO-BRI'!H:H,SMALL(IF('MEMORIAL DESCRITIVO-BRI'!$E$2:$E$4000=\"Sim\",ROW('MEMORIAL DESCRITIVO-BRI'!$H$2:$H$4000)),ROW(B241))), \"\")","v":""},null,{"$f":"IFERROR(INDEX('MEMORIAL DESCRITIVO-BRI'!S:S,SMALL(IF('MEMORIAL DESCRITIVO-BRI'!$E$2:$E$4000=\"Sim\",ROW('MEMORIAL DESCRITIVO-BRI'!$S$2:$S$4000)),ROW(B241))), \"\")","v":""},{"$f":"IFERROR(INDEX('MEMORIAL DESCRITIVO-BRI'!Z:Z,SMALL(IF('MEMORIAL DESCRITIVO-BRI'!$E$2:$E$4000=\"Sim\",ROW('MEMORIAL DESCRITIVO-BRI'!$Z$2:$Z$4000)),ROW(B241))), \"\")","v":""},{"$f":"IFERROR(INDEX('MEMORIAL DESCRITIVO-BRI'!W:W,SMALL(IF('MEMORIAL DESCRITIVO-BRI'!$E$2:$E$4000=\"Sim\",ROW('MEMORIAL DESCRITIVO-BRI'!$W$2:$W$4000)),ROW(B241))), \"\")","v":""},{"$f":"IFERROR(INDEX('MEMORIAL DESCRITIVO-BRI'!G:G,SMALL(IF('MEMORIAL DESCRITIVO-BRI'!$E$2:$E$4000=\"Sim\",ROW('MEMORIAL DESCRITIVO-BRI'!$G$2:$G$4000)),ROW(B241))), \"\")","v":""},{"$f":"IFERROR(INDEX('MEMORIAL DESCRITIVO-BRI'!P:P,SMALL(IF('MEMORIAL DESCRITIVO-BRI'!$E$2:$E$4000=\"Sim\",ROW('MEMORIAL DESCRITIVO-BRI'!$P$2:$P$4000)),ROW(B241))), \"\")","v":""},{"$f":"IFERROR(INDEX('MEMORIAL DESCRITIVO-BRI'!Q:Q,SMALL(IF('MEMORIAL DESCRITIVO-BRI'!$E$2:$E$4000=\"Sim\",ROW('MEMORIAL DESCRITIVO-BRI'!$Q$2:$Q$4000)),ROW(B241))), \"\")","v":""}]
[null,{"$f":"IFERROR(INDEX('MEMORIAL DESCRITIVO-BRI'!B:B,SMALL(IF('MEMORIAL DESCRITIVO-BRI'!$E$2:$E$4000=\"Sim\",ROW('MEMORIAL DESCRITIVO-BRI'!$B$2:$B$4000)),ROW(B242))), \"\")","v":""},{"$f":"IFERROR(INDEX('MEMORIAL DESCRITIVO-BRI'!I:I,SMALL(IF('MEMORIAL DESCRITIVO-BRI'!$E$2:$E$4000=\"Sim\",ROW('MEMORIAL DESCRITIVO-BRI'!$I$2:$I$4000)),ROW(B242))), \"\")","v":""},{"$f":"IFERROR(INDEX('MEMORIAL DESCRITIVO-BRI'!F:F,SMALL(IF('MEMORIAL DESCRITIVO-BRI'!$E$2:$E$4000=\"Sim\",ROW('MEMORIAL DESCRITIVO-BRI'!$F$2:$F$4000)),ROW(B242))) & \" - \" & INDEX('MEMORIAL DESCRITIVO-BRI'!H:H,SMALL(IF('MEMORIAL DESCRITIVO-BRI'!$E$2:$E$4000=\"Sim\",ROW('MEMORIAL DESCRITIVO-BRI'!$H$2:$H$4000)),ROW(B242))), \"\")","v":""},null,{"$f":"IFERROR(INDEX('MEMORIAL DESCRITIVO-BRI'!S:S,SMALL(IF('MEMORIAL DESCRITIVO-BRI'!$E$2:$E$4000=\"Sim\",ROW('MEMORIAL DESCRITIVO-BRI'!$S$2:$S$4000)),ROW(B242))), \"\")","v":""},{"$f":"IFERROR(INDEX('MEMORIAL DESCRITIVO-BRI'!Z:Z,SMALL(IF('MEMORIAL DESCRITIVO-BRI'!$E$2:$E$4000=\"Sim\",ROW('MEMORIAL DESCRITIVO-BRI'!$Z$2:$Z$4000)),ROW(B242))), \"\")","v":""},{"$f":"IFERROR(INDEX('MEMORIAL DESCRITIVO-BRI'!W:W,SMALL(IF('MEMORIAL DESCRITIVO-BRI'!$E$2:$E$4000=\"Sim\",ROW('MEMORIAL DESCRITIVO-BRI'!$W$2:$W$4000)),ROW(B242))), \"\")","v":""},{"$f":"IFERROR(INDEX('MEMORIAL DESCRITIVO-BRI'!G:G,SMALL(IF('MEMORIAL DESCRITIVO-BRI'!$E$2:$E$4000=\"Sim\",ROW('MEMORIAL DESCRITIVO-BRI'!$G$2:$G$4000)),ROW(B242))), \"\")","v":""},{"$f":"IFERROR(INDEX('MEMORIAL DESCRITIVO-BRI'!P:P,SMALL(IF('MEMORIAL DESCRITIVO-BRI'!$E$2:$E$4000=\"Sim\",ROW('MEMORIAL DESCRITIVO-BRI'!$P$2:$P$4000)),ROW(B242))), \"\")","v":""},{"$f":"IFERROR(INDEX('MEMORIAL DESCRITIVO-BRI'!Q:Q,SMALL(IF('MEMORIAL DESCRITIVO-BRI'!$E$2:$E$4000=\"Sim\",ROW('MEMORIAL DESCRITIVO-BRI'!$Q$2:$Q$4000)),ROW(B242))), \"\")","v":""}]
[null,{"$f":"IFERROR(INDEX('MEMORIAL DESCRITIVO-BRI'!B:B,SMALL(IF('MEMORIAL DESCRITIVO-BRI'!$E$2:$E$4000=\"Sim\",ROW('MEMORIAL DESCRITIVO-BRI'!$B$2:$B$4000)),ROW(B243))), \"\")","v":""},{"$f":"IFERROR(INDEX('MEMORIAL DESCRITIVO-BRI'!I:I,SMALL(IF('MEMORIAL DESCRITIVO-BRI'!$E$2:$E$4000=\"Sim\",ROW('MEMORIAL DESCRITIVO-BRI'!$I$2:$I$4000)),ROW(B243))), \"\")","v":""},{"$f":"IFERROR(INDEX('MEMORIAL DESCRITIVO-BRI'!F:F,SMALL(IF('MEMORIAL DESCRITIVO-BRI'!$E$2:$E$4000=\"Sim\",ROW('MEMORIAL DESCRITIVO-BRI'!$F$2:$F$4000)),ROW(B243))) & \" - \" & INDEX('MEMORIAL DESCRITIVO-BRI'!H:H,SMALL(IF('MEMORIAL DESCRITIVO-BRI'!$E$2:$E$4000=\"Sim\",ROW('MEMORIAL DESCRITIVO-BRI'!$H$2:$H$4000)),ROW(B243))), \"\")","v":""},null,{"$f":"IFERROR(INDEX('MEMORIAL DESCRITIVO-BRI'!S:S,SMALL(IF('MEMORIAL DESCRITIVO-BRI'!$E$2:$E$4000=\"Sim\",ROW('MEMORIAL DESCRITIVO-BRI'!$S$2:$S$4000)),ROW(B243))), \"\")","v":""},{"$f":"IFERROR(INDEX('MEMORIAL DESCRITIVO-BRI'!Z:Z,SMALL(IF('MEMORIAL DESCRITIVO-BRI'!$E$2:$E$4000=\"Sim\",ROW('MEMORIAL DESCRITIVO-BRI'!$Z$2:$Z$4000)),ROW(B243))), \"\")","v":""},{"$f":"IFERROR(INDEX('MEMORIAL DESCRITIVO-BRI'!W:W,SMALL(IF('MEMORIAL DESCRITIVO-BRI'!$E$2:$E$4000=\"Sim\",ROW('MEMORIAL DESCRITIVO-BRI'!$W$2:$W$4000)),ROW(B243))), \"\")","v":""},{"$f":"IFERROR(INDEX('MEMORIAL DESCRITIVO-BRI'!G:G,SMALL(IF('MEMORIAL DESCRITIVO-BRI'!$E$2:$E$4000=\"Sim\",ROW('MEMORIAL DESCRITIVO-BRI'!$G$2:$G$4000)),ROW(B243))), \"\")","v":""},{"$f":"IFERROR(INDEX('MEMORIAL DESCRITIVO-BRI'!P:P,SMALL(IF('MEMORIAL DESCRITIVO-BRI'!$E$2:$E$4000=\"Sim\",ROW('MEMORIAL DESCRITIVO-BRI'!$P$2:$P$4000)),ROW(B243))), \"\")","v":""},{"$f":"IFERROR(INDEX('MEMORIAL DESCRITIVO-BRI'!Q:Q,SMALL(IF('MEMORIAL DESCRITIVO-BRI'!$E$2:$E$4000=\"Sim\",ROW('MEMORIAL DESCRITIVO-BRI'!$Q$2:$Q$4000)),ROW(B243))), \"\")","v":""}]
[null,{"$f":"IFERROR(INDEX('MEMORIAL DESCRITIVO-BRI'!B:B,SMALL(IF('MEMORIAL DESCRITIVO-BRI'!$E$2:$E$4000=\"Sim\",ROW('MEMORIAL DESCRITIVO-BRI'!$B$2:$B$4000)),ROW(B244))), \"\")","v":""},{"$f":"IFERROR(INDEX('MEMORIAL DESCRITIVO-BRI'!I:I,SMALL(IF('MEMORIAL DESCRITIVO-BRI'!$E$2:$E$4000=\"Sim\",ROW('MEMORIAL DESCRITIVO-BRI'!$I$2:$I$4000)),ROW(B244))), \"\")","v":""},{"$f":"IFERROR(INDEX('MEMORIAL DESCRITIVO-BRI'!F:F,SMALL(IF('MEMORIAL DESCRITIVO-BRI'!$E$2:$E$4000=\"Sim\",ROW('MEMORIAL DESCRITIVO-BRI'!$F$2:$F$4000)),ROW(B244))) & \" - \" & INDEX('MEMORIAL DESCRITIVO-BRI'!H:H,SMALL(IF('MEMORIAL DESCRITIVO-BRI'!$E$2:$E$4000=\"Sim\",ROW('MEMORIAL DESCRITIVO-BRI'!$H$2:$H$4000)),ROW(B244))), \"\")","v":""},null,{"$f":"IFERROR(INDEX('MEMORIAL DESCRITIVO-BRI'!S:S,SMALL(IF('MEMORIAL DESCRITIVO-BRI'!$E$2:$E$4000=\"Sim\",ROW('MEMORIAL DESCRITIVO-BRI'!$S$2:$S$4000)),ROW(B244))), \"\")","v":""},{"$f":"IFERROR(INDEX('MEMORIAL DESCRITIVO-BRI'!Z:Z,SMALL(IF('MEMORIAL DESCRITIVO-BRI'!$E$2:$E$4000=\"Sim\",ROW('MEMORIAL DESCRITIVO-BRI'!$Z$2:$Z$4000)),ROW(B244))), \"\")","v":""},{"$f":"IFERROR(INDEX('MEMORIAL DESCRITIVO-BRI'!W:W,SMALL(IF('MEMORIAL DESCRITIVO-BRI'!$E$2:$E$4000=\"Sim\",ROW('MEMORIAL DESCRITIVO-BRI'!$W$2:$W$4000)),ROW(B244))), \"\")","v":""},{"$f":"IFERROR(INDEX('MEMORIAL DESCRITIVO-BRI'!G:G,SMALL(IF('MEMORIAL DESCRITIVO-BRI'!$E$2:$E$4000=\"Sim\",ROW('MEMORIAL DESCRITIVO-BRI'!$G$2:$G$4000)),ROW(B244))), \"\")","v":""},{"$f":"IFERROR(INDEX('MEMORIAL DESCRITIVO-BRI'!P:P,SMALL(IF('MEMORIAL DESCRITIVO-BRI'!$E$2:$E$4000=\"Sim\",ROW('MEMORIAL DESCRITIVO-BRI'!$P$2:$P$4000)),ROW(B244))), \"\")","v":""},{"$f":"IFERROR(INDEX('MEMORIAL DESCRITIVO-BRI'!Q:Q,SMALL(IF('MEMORIAL DESCRITIVO-BRI'!$E$2:$E$4000=\"Sim\",ROW('MEMORIAL DESCRITIVO-BRI'!$Q$2:$Q$4000)),ROW(B244))), \"\")","v":""}]
[null,{"$f":"IFERROR(INDEX('MEMORIAL DESCRITIVO-BRI'!B:B,SMALL(IF('MEMORIAL DESCRITIVO-BRI'!$E$2:$E$4000=\"Sim\",ROW('MEMORIAL DESCRITIVO-BRI'!$B$2:$B$4000)),ROW(B245))), \"\")","v":""},{"$f":"IFERROR(INDEX('MEMORIAL DESCRITIVO-BRI'!I:I,SMALL(IF('MEMORIAL DESCRITIVO-BRI'!$E$2:$E$4000=\"Sim\",ROW('MEMORIAL DESCRITIVO-BRI'!$I$2:$I$4000)),ROW(B245))), \"\")","v":""},{"$f":"IFERROR(INDEX('MEMORIAL DESCRITIVO-BRI'!F:F,SMALL(IF('MEMORIAL DESCRITIVO-BRI'!$E$2:$E$4000=\"Sim\",ROW('MEMORIAL DESCRITIVO-BRI'!$F$2:$F$4000)),ROW(B245))) & \" - \" & INDEX('MEMORIAL DESCRITIVO-BRI'!H:H,SMALL(IF('MEMORIAL DESCRITIVO-BRI'!$E$2:$E$4000=\"Sim\",ROW('MEMORIAL DESCRITIVO-BRI'!$H$2:$H$4000)),ROW(B245))), \"\")","v":""},null,{"$f":"IFERROR(INDEX('MEMORIAL DESCRITIVO-BRI'!S:S,SMALL(IF('MEMORIAL DESCRITIVO-BRI'!$E$2:$E$4000=\"Sim\",ROW('MEMORIAL DESCRITIVO-BRI'!$S$2:$S$4000)),ROW(B245))), \"\")","v":""},{"$f":"IFERROR(INDEX('MEMORIAL DESCRITIVO-BRI'!Z:Z,SMALL(IF('MEMORIAL DESCRITIVO-BRI'!$E$2:$E$4000=\"Sim\",ROW('MEMORIAL DESCRITIVO-BRI'!$Z$2:$Z$4000)),ROW(B245))), \"\")","v":""},{"$f":"IFERROR(INDEX('MEMORIAL DESCRITIVO-BRI'!W:W,SMALL(IF('MEMORIAL DESCRITIVO-BRI'!$E$2:$E$4000=\"Sim\",ROW('MEMORIAL DESCRITIVO-BRI'!$W$2:$W$4000)),ROW(B245))), \"\")","v":""},{"$f":"IFERROR(INDEX('MEMORIAL DESCRITIVO-BRI'!G:G,SMALL(IF('MEMORIAL DESCRITIVO-BRI'!$E$2:$E$4000=\"Sim\",ROW('MEMORIAL DESCRITIVO-BRI'!$G$2:$G$4000)),ROW(B245))), \"\")","v":""},{"$f":"IFERROR(INDEX('MEMORIAL DESCRITIVO-BRI'!P:P,SMALL(IF('MEMORIAL DESCRITIVO-BRI'!$E$2:$E$4000=\"Sim\",ROW('MEMORIAL DESCRITIVO-BRI'!$P$2:$P$4000)),ROW(B245))), \"\")","v":""},{"$f":"IFERROR(INDEX('MEMORIAL DESCRITIVO-BRI'!Q:Q,SMALL(IF('MEMORIAL DESCRITIVO-BRI'!$E$2:$E$4000=\"Sim\",ROW('MEMORIAL DESCRITIVO-BRI'!$Q$2:$Q$4000)),ROW(B245))), \"\")","v":""}]
[null,{"$f":"IFERROR(INDEX('MEMORIAL DESCRITIVO-BRI'!B:B,SMALL(IF('MEMORIAL DESCRITIVO-BRI'!$E$2:$E$4000=\"Sim\",ROW('MEMORIAL DESCRITIVO-BRI'!$B$2:$B$4000)),ROW(B246))), \"\")","v":""},{"$f":"IFERROR(INDEX('MEMORIAL DESCRITIVO-BRI'!I:I,SMALL(IF('MEMORIAL DESCRITIVO-BRI'!$E$2:$E$4000=\"Sim\",ROW('MEMORIAL DESCRITIVO-BRI'!$I$2:$I$4000)),ROW(B246))), \"\")","v":""},{"$f":"IFERROR(INDEX('MEMORIAL DESCRITIVO-BRI'!F:F,SMALL(IF('MEMORIAL DESCRITIVO-BRI'!$E$2:$E$4000=\"Sim\",ROW('MEMORIAL DESCRITIVO-BRI'!$F$2:$F$4000)),ROW(B246))) & \" - \" & INDEX('MEMORIAL DESCRITIVO-BRI'!H:H,SMALL(IF('MEMORIAL DESCRITIVO-BRI'!$E$2:$E$4000=\"Sim\",ROW('MEMORIAL DESCRITIVO-BRI'!$H$2:$H$4000)),ROW(B246))), \"\")","v":""},null,{"$f":"IFERROR(INDEX('MEMORIAL DESCRITIVO-BRI'!S:S,SMALL(IF('MEMORIAL DESCRITIVO-BRI'!$E$2:$E$4000=\"Sim\",ROW('MEMORIAL DESCRITIVO-BRI'!$S$2:$S$4000)),ROW(B246))), \"\")","v":""},{"$f":"IFERROR(INDEX('MEMORIAL DESCRITIVO-BRI'!Z:Z,SMALL(IF('MEMORIAL DESCRITIVO-BRI'!$E$2:$E$4000=\"Sim\",ROW('MEMORIAL DESCRITIVO-BRI'!$Z$2:$Z$4000)),ROW(B246))), \"\")","v":""},{"$f":"IFERROR(INDEX('MEMORIAL DESCRITIVO-BRI'!W:W,SMALL(IF('MEMORIAL DESCRITIVO-BRI'!$E$2:$E$4000=\"Sim\",ROW('MEMORIAL DESCRITIVO-BRI'!$W$2:$W$4000)),ROW(B246))), \"\")","v":""},{"$f":"IFERROR(INDEX('MEMORIAL DESCRITIVO-BRI'!G:G,SMALL(IF('MEMORIAL DESCRITIVO-BRI'!$E$2:$E$4000=\"Sim\",ROW('MEMORIAL DESCRITIVO-BRI'!$G$2:$G$4000)),ROW(B246))), \"\")","v":""},{"$f":"IFERROR(INDEX('MEMORIAL DESCRITIVO-BRI'!P:P,SMALL(IF('MEMORIAL DESCRITIVO-BRI'!$E$2:$E$4000=\"Sim\",ROW('MEMORIAL DESCRITIVO-BRI'!$P$2:$P$4000)),ROW(B246))), \"\")","v":""},{"$f":"IFERROR(INDEX('MEMORIAL DESCRITIVO-BRI'!Q:Q,SMALL(IF('MEMORIAL DESCRITIVO-BRI'!$E$2:$E$4000=\"Sim\",ROW('MEMORIAL DESCRITIVO-BRI'!$Q$2:$Q$4000)),ROW(B246))), \"\")","v":""}]
[null,{"$f":"IFERROR(INDEX('MEMORIAL DESCRITIVO-BRI'!B:B,SMALL(IF('MEMORIAL DESCRITIVO-BRI'!$E$2:$E$4000=\"Sim\",ROW('MEMORIAL DESCRITIVO-BRI'!$B$2:$B$4000)),ROW(B247))), \"\")","v":""},{"$f":"IFERROR(INDEX('MEMORIAL DESCRITIVO-BRI'!I:I,SMALL(IF('MEMORIAL DESCRITIVO-BRI'!$E$2:$E$4000=\"Sim\",ROW('MEMORIAL DESCRITIVO-BRI'!$I$2:$I$4000)),ROW(B247))), \"\")","v":""},{"$f":"IFERROR(INDEX('MEMORIAL DESCRITIVO-BRI'!F:F,SMALL(IF('MEMORIAL DESCRITIVO-BRI'!$E$2:$E$4000=\"Sim\",ROW('MEMORIAL DESCRITIVO-BRI'!$F$2:$F$4000)),ROW(B247))) & \" - \" & INDEX('MEMORIAL DESCRITIVO-BRI'!H:H,SMALL(IF('MEMORIAL DESCRITIVO-BRI'!$E$2:$E$4000=\"Sim\",ROW('MEMORIAL DESCRITIVO-BRI'!$H$2:$H$4000)),ROW(B247))), \"\")","v":""},null,{"$f":"IFERROR(INDEX('MEMORIAL DESCRITIVO-BRI'!S:S,SMALL(IF('MEMORIAL DESCRITIVO-BRI'!$E$2:$E$4000=\"Sim\",ROW('MEMORIAL DESCRITIVO-BRI'!$S$2:$S$4000)),ROW(B247))), \"\")","v":""},{"$f":"IFERROR(INDEX('MEMORIAL DESCRITIVO-BRI'!Z:Z,SMALL(IF('MEMORIAL DESCRITIVO-BRI'!$E$2:$E$4000=\"Sim\",ROW('MEMORIAL DESCRITIVO-BRI'!$Z$2:$Z$4000)),ROW(B247))), \"\")","v":""},{"$f":"IFERROR(INDEX('MEMORIAL DESCRITIVO-BRI'!W:W,SMALL(IF('MEMORIAL DESCRITIVO-BRI'!$E$2:$E$4000=\"Sim\",ROW('MEMORIAL DESCRITIVO-BRI'!$W$2:$W$4000)),ROW(B247))), \"\")","v":""},{"$f":"IFERROR(INDEX('MEMORIAL DESCRITIVO-BRI'!G:G,SMALL(IF('MEMORIAL DESCRITIVO-BRI'!$E$2:$E$4000=\"Sim\",ROW('MEMORIAL DESCRITIVO-BRI'!$G$2:$G$4000)),ROW(B247))), \"\")","v":""},{"$f":"IFERROR(INDEX('MEMORIAL DESCRITIVO-BRI'!P:P,SMALL(IF('MEMORIAL DESCRITIVO-BRI'!$E$2:$E$4000=\"Sim\",ROW('MEMORIAL DESCRITIVO-BRI'!$P$2:$P$4000)),ROW(B247))), \"\")","v":""},{"$f":"IFERROR(INDEX('MEMORIAL DESCRITIVO-BRI'!Q:Q,SMALL(IF('MEMORIAL DESCRITIVO-BRI'!$E$2:$E$4000=\"Sim\",ROW('MEMORIAL DESCRITIVO-BRI'!$Q$2:$Q$4000)),ROW(B247))), \"\")","v":""}]
[null,{"$f":"IFERROR(INDEX('MEMORIAL DESCRITIVO-BRI'!B:B,SMALL(IF('MEMORIAL DESCRITIVO-BRI'!$E$2:$E$4000=\"Sim\",ROW('MEMORIAL DESCRITIVO-BRI'!$B$2:$B$4000)),ROW(B248))), \"\")","v":""},{"$f":"IFERROR(INDEX('MEMORIAL DESCRITIVO-BRI'!I:I,SMALL(IF('MEMORIAL DESCRITIVO-BRI'!$E$2:$E$4000=\"Sim\",ROW('MEMORIAL DESCRITIVO-BRI'!$I$2:$I$4000)),ROW(B248))), \"\")","v":""},{"$f":"IFERROR(INDEX('MEMORIAL DESCRITIVO-BRI'!F:F,SMALL(IF('MEMORIAL DESCRITIVO-BRI'!$E$2:$E$4000=\"Sim\",ROW('MEMORIAL DESCRITIVO-BRI'!$F$2:$F$4000)),ROW(B248))) & \" - \" & INDEX('MEMORIAL DESCRITIVO-BRI'!H:H,SMALL(IF('MEMORIAL DESCRITIVO-BRI'!$E$2:$E$4000=\"Sim\",ROW('MEMORIAL DESCRITIVO-BRI'!$H$2:$H$4000)),ROW(B248))), \"\")","v":""},null,{"$f":"IFERROR(INDEX('MEMORIAL DESCRITIVO-BRI'!S:S,SMALL(IF('MEMORIAL DESCRITIVO-BRI'!$E$2:$E$4000=\"Sim\",ROW('MEMORIAL DESCRITIVO-BRI'!$S$2:$S$4000)),ROW(B248))), \"\")","v":""},{"$f":"IFERROR(INDEX('MEMORIAL DESCRITIVO-BRI'!Z:Z,SMALL(IF('MEMORIAL DESCRITIVO-BRI'!$E$2:$E$4000=\"Sim\",ROW('MEMORIAL DESCRITIVO-BRI'!$Z$2:$Z$4000)),ROW(B248))), \"\")","v":""},{"$f":"IFERROR(INDEX('MEMORIAL DESCRITIVO-BRI'!W:W,SMALL(IF('MEMORIAL DESCRITIVO-BRI'!$E$2:$E$4000=\"Sim\",ROW('MEMORIAL DESCRITIVO-BRI'!$W$2:$W$4000)),ROW(B248))), \"\")","v":""},{"$f":"IFERROR(INDEX('MEMORIAL DESCRITIVO-BRI'!G:G,SMALL(IF('MEMORIAL DESCRITIVO-BRI'!$E$2:$E$4000=\"Sim\",ROW('MEMORIAL DESCRITIVO-BRI'!$G$2:$G$4000)),ROW(B248))), \"\")","v":""},{"$f":"IFERROR(INDEX('MEMORIAL DESCRITIVO-BRI'!P:P,SMALL(IF('MEMORIAL DESCRITIVO-BRI'!$E$2:$E$4000=\"Sim\",ROW('MEMORIAL DESCRITIVO-BRI'!$P$2:$P$4000)),ROW(B248))), \"\")","v":""},{"$f":"IFERROR(INDEX('MEMORIAL DESCRITIVO-BRI'!Q:Q,SMALL(IF('MEMORIAL DESCRITIVO-BRI'!$E$2:$E$4000=\"Sim\",ROW('MEMORIAL DESCRITIVO-BRI'!$Q$2:$Q$4000)),ROW(B248))), \"\")","v":""}]
[null,{"$f":"IFERROR(INDEX('MEMORIAL DESCRITIVO-BRI'!B:B,SMALL(IF('MEMORIAL DESCRITIVO-BRI'!$E$2:$E$4000=\"Sim\",ROW('MEMORIAL DESCRITIVO-BRI'!$B$2:$B$4000)),ROW(B249))), \"\")","v":""},{"$f":"IFERROR(INDEX('MEMORIAL DESCRITIVO-BRI'!I:I,SMALL(IF('MEMORIAL DESCRITIVO-BRI'!$E$2:$E$4000=\"Sim\",ROW('MEMORIAL DESCRITIVO-BRI'!$I$2:$I$4000)),ROW(B249))), \"\")","v":""},{"$f":"IFERROR(INDEX('MEMORIAL DESCRITIVO-BRI'!F:F,SMALL(IF('MEMORIAL DESCRITIVO-BRI'!$E$2:$E$4000=\"Sim\",ROW('MEMORIAL DESCRITIVO-BRI'!$F$2:$F$4000)),ROW(B249))) & \" - \" & INDEX('MEMORIAL DESCRITIVO-BRI'!H:H,SMALL(IF('MEMORIAL DESCRITIVO-BRI'!$E$2:$E$4000=\"Sim\",ROW('MEMORIAL DESCRITIVO-BRI'!$H$2:$H$4000)),ROW(B249))), \"\")","v":""},null,{"$f":"IFERROR(INDEX('MEMORIAL DESCRITIVO-BRI'!S:S,SMALL(IF('MEMORIAL DESCRITIVO-BRI'!$E$2:$E$4000=\"Sim\",ROW('MEMORIAL DESCRITIVO-BRI'!$S$2:$S$4000)),ROW(B249))), \"\")","v":""},{"$f":"IFERROR(INDEX('MEMORIAL DESCRITIVO-BRI'!Z:Z,SMALL(IF('MEMORIAL DESCRITIVO-BRI'!$E$2:$E$4000=\"Sim\",ROW('MEMORIAL DESCRITIVO-BRI'!$Z$2:$Z$4000)),ROW(B249))), \"\")","v":""},{"$f":"IFERROR(INDEX('MEMORIAL DESCRITIVO-BRI'!W:W,SMALL(IF('MEMORIAL DESCRITIVO-BRI'!$E$2:$E$4000=\"Sim\",ROW('MEMORIAL DESCRITIVO-BRI'!$W$2:$W$4000)),ROW(B249))), \"\")","v":""},{"$f":"IFERROR(INDEX('MEMORIAL DESCRITIVO-BRI'!G:G,SMALL(IF('MEMORIAL DESCRITIVO-BRI'!$E$2:$E$4000=\"Sim\",ROW('MEMORIAL DESCRITIVO-BRI'!$G$2:$G$4000)),ROW(B249))), \"\")","v":""},{"$f":"IFERROR(INDEX('MEMORIAL DESCRITIVO-BRI'!P:P,SMALL(IF('MEMORIAL DESCRITIVO-BRI'!$E$2:$E$4000=\"Sim\",ROW('MEMORIAL DESCRITIVO-BRI'!$P$2:$P$4000)),ROW(B249))), \"\")","v":""},{"$f":"IFERROR(INDEX('MEMORIAL DESCRITIVO-BRI'!Q:Q,SMALL(IF('MEMORIAL DESCRITIVO-BRI'!$E$2:$E$4000=\"Sim\",ROW('MEMORIAL DESCRITIVO-BRI'!$Q$2:$Q$4000)),ROW(B249))), \"\")","v":""}]
[null,{"$f":"IFERROR(INDEX('MEMORIAL DESCRITIVO-BRI'!B:B,SMALL(IF('MEMORIAL DESCRITIVO-BRI'!$E$2:$E$4000=\"Sim\",ROW('MEMORIAL DESCRITIVO-BRI'!$B$2:$B$4000)),ROW(B250))), \"\")","v":""},{"$f":"IFERROR(INDEX('MEMORIAL DESCRITIVO-BRI'!I:I,SMALL(IF('MEMORIAL DESCRITIVO-BRI'!$E$2:$E$4000=\"Sim\",ROW('MEMORIAL DESCRITIVO-BRI'!$I$2:$I$4000)),ROW(B250))), \"\")","v":""},{"$f":"IFERROR(INDEX('MEMORIAL DESCRITIVO-BRI'!F:F,SMALL(IF('MEMORIAL DESCRITIVO-BRI'!$E$2:$E$4000=\"Sim\",ROW('MEMORIAL DESCRITIVO-BRI'!$F$2:$F$4000)),ROW(B250))) & \" - \" & INDEX('MEMORIAL DESCRITIVO-BRI'!H:H,SMALL(IF('MEMORIAL DESCRITIVO-BRI'!$E$2:$E$4000=\"Sim\",ROW('MEMORIAL DESCRITIVO-BRI'!$H$2:$H$4000)),ROW(B250))), \"\")","v":""},null,{"$f":"IFERROR(INDEX('MEMORIAL DESCRITIVO-BRI'!S:S,SMALL(IF('MEMORIAL DESCRITIVO-BRI'!$E$2:$E$4000=\"Sim\",ROW('MEMORIAL DESCRITIVO-BRI'!$S$2:$S$4000)),ROW(B250))), \"\")","v":""},{"$f":"IFERROR(INDEX('MEMORIAL DESCRITIVO-BRI'!Z:Z,SMALL(IF('MEMORIAL DESCRITIVO-BRI'!$E$2:$E$4000=\"Sim\",ROW('MEMORIAL DESCRITIVO-BRI'!$Z$2:$Z$4000)),ROW(B250))), \"\")","v":""},{"$f":"IFERROR(INDEX('MEMORIAL DESCRITIVO-BRI'!W:W,SMALL(IF('MEMORIAL DESCRITIVO-BRI'!$E$2:$E$4000=\"Sim\",ROW('MEMORIAL DESCRITIVO-BRI'!$W$2:$W$4000)),ROW(B250))), \"\")","v":""},{"$f":"IFERROR(INDEX('MEMORIAL DESCRITIVO-BRI'!G:G,SMALL(IF('MEMORIAL DESCRITIVO-BRI'!$E$2:$E$4000=\"Sim\",ROW('MEMORIAL DESCRITIVO-BRI'!$G$2:$G$4000)),ROW(B250))), \"\")","v":""},{"$f":"IFERROR(INDEX('MEMORIAL DESCRITIVO-BRI'!P:P,SMALL(IF('MEMORIAL DESCRITIVO-BRI'!$E$2:$E$4000=\"Sim\",ROW('MEMORIAL DESCRITIVO-BRI'!$P$2:$P$4000)),ROW(B250))), \"\")","v":""},{"$f":"IFERROR(INDEX('MEMORIAL DESCRITIVO-BRI'!Q:Q,SMALL(IF('MEMORIAL DESCRITIVO-BRI'!$E$2:$E$4000=\"Sim\",ROW('MEMORIAL DESCRITIVO-BRI'!$Q$2:$Q$4000)),ROW(B250))), \"\")","v":""}]
[null,{"$f":"IFERROR(INDEX('MEMORIAL DESCRITIVO-BRI'!B:B,SMALL(IF('MEMORIAL DESCRITIVO-BRI'!$E$2:$E$4000=\"Sim\",ROW('MEMORIAL DESCRITIVO-BRI'!$B$2:$B$4000)),ROW(B251))), \"\")","v":""},{"$f":"IFERROR(INDEX('MEMORIAL DESCRITIVO-BRI'!I:I,SMALL(IF('MEMORIAL DESCRITIVO-BRI'!$E$2:$E$4000=\"Sim\",ROW('MEMORIAL DESCRITIVO-BRI'!$I$2:$I$4000)),ROW(B251))), \"\")","v":""},{"$f":"IFERROR(INDEX('MEMORIAL DESCRITIVO-BRI'!F:F,SMALL(IF('MEMORIAL DESCRITIVO-BRI'!$E$2:$E$4000=\"Sim\",ROW('MEMORIAL DESCRITIVO-BRI'!$F$2:$F$4000)),ROW(B251))) & \" - \" & INDEX('MEMORIAL DESCRITIVO-BRI'!H:H,SMALL(IF('MEMORIAL DESCRITIVO-BRI'!$E$2:$E$4000=\"Sim\",ROW('MEMORIAL DESCRITIVO-BRI'!$H$2:$H$4000)),ROW(B251))), \"\")","v":""},null,{"$f":"IFERROR(INDEX('MEMORIAL DESCRITIVO-BRI'!S:S,SMALL(IF('MEMORIAL DESCRITIVO-BRI'!$E$2:$E$4000=\"Sim\",ROW('MEMORIAL DESCRITIVO-BRI'!$S$2:$S$4000)),ROW(B251))), \"\")","v":""},{"$f":"IFERROR(INDEX('MEMORIAL DESCRITIVO-BRI'!Z:Z,SMALL(IF('MEMORIAL DESCRITIVO-BRI'!$E$2:$E$4000=\"Sim\",ROW('MEMORIAL DESCRITIVO-BRI'!$Z$2:$Z$4000)),ROW(B251))), \"\")","v":""},{"$f":"IFERROR(INDEX('MEMORIAL DESCRITIVO-BRI'!W:W,SMALL(IF('MEMORIAL DESCRITIVO-BRI'!$E$2:$E$4000=\"Sim\",ROW('MEMORIAL DESCRITIVO-BRI'!$W$2:$W$4000)),ROW(B251))), \"\")","v":""},{"$f":"IFERROR(INDEX('MEMORIAL DESCRITIVO-BRI'!G:G,SMALL(IF('MEMORIAL DESCRITIVO-BRI'!$E$2:$E$4000=\"Sim\",ROW('MEMORIAL DESCRITIVO-BRI'!$G$2:$G$4000)),ROW(B251))), \"\")","v":""},{"$f":"IFERROR(INDEX('MEMORIAL DESCRITIVO-BRI'!P:P,SMALL(IF('MEMORIAL DESCRITIVO-BRI'!$E$2:$E$4000=\"Sim\",ROW('MEMORIAL DESCRITIVO-BRI'!$P$2:$P$4000)),ROW(B251))), \"\")","v":""},{"$f":"IFERROR(INDEX('MEMORIAL DESCRITIVO-BRI'!Q:Q,SMALL(IF('MEMORIAL DESCRITIVO-BRI'!$E$2:$E$4000=\"Sim\",ROW('MEMORIAL DESCRITIVO-BRI'!$Q$2:$Q$4000)),ROW(B251))), \"\")","v":""}]
[null,{"$f":"IFERROR(INDEX('MEMORIAL DESCRITIVO-BRI'!B:B,SMALL(IF('MEMORIAL DESCRITIVO-BRI'!$E$2:$E$4000=\"Sim\",ROW('MEMORIAL DESCRITIVO-BRI'!$B$2:$B$4000)),ROW(B252))), \"\")","v":""},{"$f":"IFERROR(INDEX('MEMORIAL DESCRITIVO-BRI'!I:I,SMALL(IF('MEMORIAL DESCRITIVO-BRI'!$E$2:$E$4000=\"Sim\",ROW('MEMORIAL DESCRITIVO-BRI'!$I$2:$I$4000)),ROW(B252))), \"\")","v":""},{"$f":"IFERROR(INDEX('MEMORIAL DESCRITIVO-BRI'!F:F,SMALL(IF('MEMORIAL DESCRITIVO-BRI'!$E$2:$E$4000=\"Sim\",ROW('MEMORIAL DESCRITIVO-BRI'!$F$2:$F$4000)),ROW(B252))) & \" - \" & INDEX('MEMORIAL DESCRITIVO-BRI'!H:H,SMALL(IF('MEMORIAL DESCRITIVO-BRI'!$E$2:$E$4000=\"Sim\",ROW('MEMORIAL DESCRITIVO-BRI'!$H$2:$H$4000)),ROW(B252))), \"\")","v":""},null,{"$f":"IFERROR(INDEX('MEMORIAL DESCRITIVO-BRI'!S:S,SMALL(IF('MEMORIAL DESCRITIVO-BRI'!$E$2:$E$4000=\"Sim\",ROW('MEMORIAL DESCRITIVO-BRI'!$S$2:$S$4000)),ROW(B252))), \"\")","v":""},{"$f":"IFERROR(INDEX('MEMORIAL DESCRITIVO-BRI'!Z:Z,SMALL(IF('MEMORIAL DESCRITIVO-BRI'!$E$2:$E$4000=\"Sim\",ROW('MEMORIAL DESCRITIVO-BRI'!$Z$2:$Z$4000)),ROW(B252))), \"\")","v":""},{"$f":"IFERROR(INDEX('MEMORIAL DESCRITIVO-BRI'!W:W,SMALL(IF('MEMORIAL DESCRITIVO-BRI'!$E$2:$E$4000=\"Sim\",ROW('MEMORIAL DESCRITIVO-BRI'!$W$2:$W$4000)),ROW(B252))), \"\")","v":""},{"$f":"IFERROR(INDEX('MEMORIAL DESCRITIVO-BRI'!G:G,SMALL(IF('MEMORIAL DESCRITIVO-BRI'!$E$2:$E$4000=\"Sim\",ROW('MEMORIAL DESCRITIVO-BRI'!$G$2:$G$4000)),ROW(B252))), \"\")","v":""},{"$f":"IFERROR(INDEX('MEMORIAL DESCRITIVO-BRI'!P:P,SMALL(IF('MEMORIAL DESCRITIVO-BRI'!$E$2:$E$4000=\"Sim\",ROW('MEMORIAL DESCRITIVO-BRI'!$P$2:$P$4000)),ROW(B252))), \"\")","v":""},{"$f":"IFERROR(INDEX('MEMORIAL DESCRITIVO-BRI'!Q:Q,SMALL(IF('MEMORIAL DESCRITIVO-BRI'!$E$2:$E$4000=\"Sim\",ROW('MEMORIAL DESCRITIVO-BRI'!$Q$2:$Q$4000)),ROW(B252))), \"\")","v":""}]
[null,{"$f":"IFERROR(INDEX('MEMORIAL DESCRITIVO-BRI'!B:B,SMALL(IF('MEMORIAL DESCRITIVO-BRI'!$E$2:$E$4000=\"Sim\",ROW('MEMORIAL DESCRITIVO-BRI'!$B$2:$B$4000)),ROW(B253))), \"\")","v":""},{"$f":"IFERROR(INDEX('MEMORIAL DESCRITIVO-BRI'!I:I,SMALL(IF('MEMORIAL DESCRITIVO-BRI'!$E$2:$E$4000=\"Sim\",ROW('MEMORIAL DESCRITIVO-BRI'!$I$2:$I$4000)),ROW(B253))), \"\")","v":""},{"$f":"IFERROR(INDEX('MEMORIAL DESCRITIVO-BRI'!F:F,SMALL(IF('MEMORIAL DESCRITIVO-BRI'!$E$2:$E$4000=\"Sim\",ROW('MEMORIAL DESCRITIVO-BRI'!$F$2:$F$4000)),ROW(B253))) & \" - \" & INDEX('MEMORIAL DESCRITIVO-BRI'!H:H,SMALL(IF('MEMORIAL DESCRITIVO-BRI'!$E$2:$E$4000=\"Sim\",ROW('MEMORIAL DESCRITIVO-BRI'!$H$2:$H$4000)),ROW(B253))), \"\")","v":""},null,{"$f":"IFERROR(INDEX('MEMORIAL DESCRITIVO-BRI'!S:S,SMALL(IF('MEMORIAL DESCRITIVO-BRI'!$E$2:$E$4000=\"Sim\",ROW('MEMORIAL DESCRITIVO-BRI'!$S$2:$S$4000)),ROW(B253))), \"\")","v":""},{"$f":"IFERROR(INDEX('MEMORIAL DESCRITIVO-BRI'!Z:Z,SMALL(IF('MEMORIAL DESCRITIVO-BRI'!$E$2:$E$4000=\"Sim\",ROW('MEMORIAL DESCRITIVO-BRI'!$Z$2:$Z$4000)),ROW(B253))), \"\")","v":""},{"$f":"IFERROR(INDEX('MEMORIAL DESCRITIVO-BRI'!W:W,SMALL(IF('MEMORIAL DESCRITIVO-BRI'!$E$2:$E$4000=\"Sim\",ROW('MEMORIAL DESCRITIVO-BRI'!$W$2:$W$4000)),ROW(B253))), \"\")","v":""},{"$f":"IFERROR(INDEX('MEMORIAL DESCRITIVO-BRI'!G:G,SMALL(IF('MEMORIAL DESCRITIVO-BRI'!$E$2:$E$4000=\"Sim\",ROW('MEMORIAL DESCRITIVO-BRI'!$G$2:$G$4000)),ROW(B253))), \"\")","v":""},{"$f":"IFERROR(INDEX('MEMORIAL DESCRITIVO-BRI'!P:P,SMALL(IF('MEMORIAL DESCRITIVO-BRI'!$E$2:$E$4000=\"Sim\",ROW('MEMORIAL DESCRITIVO-BRI'!$P$2:$P$4000)),ROW(B253))), \"\")","v":""},{"$f":"IFERROR(INDEX('MEMORIAL DESCRITIVO-BRI'!Q:Q,SMALL(IF('MEMORIAL DESCRITIVO-BRI'!$E$2:$E$4000=\"Sim\",ROW('MEMORIAL DESCRITIVO-BRI'!$Q$2:$Q$4000)),ROW(B253))), \"\")","v":""}]
[null,{"$f":"IFERROR(INDEX('MEMORIAL DESCRITIVO-BRI'!B:B,SMALL(IF('MEMORIAL DESCRITIVO-BRI'!$E$2:$E$4000=\"Sim\",ROW('MEMORIAL DESCRITIVO-BRI'!$B$2:$B$4000)),ROW(B254))), \"\")","v":""},{"$f":"IFERROR(INDEX('MEMORIAL DESCRITIVO-BRI'!I:I,SMALL(IF('MEMORIAL DESCRITIVO-BRI'!$E$2:$E$4000=\"Sim\",ROW('MEMORIAL DESCRITIVO-BRI'!$I$2:$I$4000)),ROW(B254))), \"\")","v":""},{"$f":"IFERROR(INDEX('MEMORIAL DESCRITIVO-BRI'!F:F,SMALL(IF('MEMORIAL DESCRITIVO-BRI'!$E$2:$E$4000=\"Sim\",ROW('MEMORIAL DESCRITIVO-BRI'!$F$2:$F$4000)),ROW(B254))) & \" - \" & INDEX('MEMORIAL DESCRITIVO-BRI'!H:H,SMALL(IF('MEMORIAL DESCRITIVO-BRI'!$E$2:$E$4000=\"Sim\",ROW('MEMORIAL DESCRITIVO-BRI'!$H$2:$H$4000)),ROW(B254))), \"\")","v":""},null,{"$f":"IFERROR(INDEX('MEMORIAL DESCRITIVO-BRI'!S:S,SMALL(IF('MEMORIAL DESCRITIVO-BRI'!$E$2:$E$4000=\"Sim\",ROW('MEMORIAL DESCRITIVO-BRI'!$S$2:$S$4000)),ROW(B254))), \"\")","v":""},{"$f":"IFERROR(INDEX('MEMORIAL DESCRITIVO-BRI'!Z:Z,SMALL(IF('MEMORIAL DESCRITIVO-BRI'!$E$2:$E$4000=\"Sim\",ROW('MEMORIAL DESCRITIVO-BRI'!$Z$2:$Z$4000)),ROW(B254))), \"\")","v":""},{"$f":"IFERROR(INDEX('MEMORIAL DESCRITIVO-BRI'!W:W,SMALL(IF('MEMORIAL DESCRITIVO-BRI'!$E$2:$E$4000=\"Sim\",ROW('MEMORIAL DESCRITIVO-BRI'!$W$2:$W$4000)),ROW(B254))), \"\")","v":""},{"$f":"IFERROR(INDEX('MEMORIAL DESCRITIVO-BRI'!G:G,SMALL(IF('MEMORIAL DESCRITIVO-BRI'!$E$2:$E$4000=\"Sim\",ROW('MEMORIAL DESCRITIVO-BRI'!$G$2:$G$4000)),ROW(B254))), \"\")","v":""},{"$f":"IFERROR(INDEX('MEMORIAL DESCRITIVO-BRI'!P:P,SMALL(IF('MEMORIAL DESCRITIVO-BRI'!$E$2:$E$4000=\"Sim\",ROW('MEMORIAL DESCRITIVO-BRI'!$P$2:$P$4000)),ROW(B254))), \"\")","v":""},{"$f":"IFERROR(INDEX('MEMORIAL DESCRITIVO-BRI'!Q:Q,SMALL(IF('MEMORIAL DESCRITIVO-BRI'!$E$2:$E$4000=\"Sim\",ROW('MEMORIAL DESCRITIVO-BRI'!$Q$2:$Q$4000)),ROW(B254))), \"\")","v":""}]
[null,{"$f":"IFERROR(INDEX('MEMORIAL DESCRITIVO-BRI'!B:B,SMALL(IF('MEMORIAL DESCRITIVO-BRI'!$E$2:$E$4000=\"Sim\",ROW('MEMORIAL DESCRITIVO-BRI'!$B$2:$B$4000)),ROW(B255))), \"\")","v":""},{"$f":"IFERROR(INDEX('MEMORIAL DESCRITIVO-BRI'!I:I,SMALL(IF('MEMORIAL DESCRITIVO-BRI'!$E$2:$E$4000=\"Sim\",ROW('MEMORIAL DESCRITIVO-BRI'!$I$2:$I$4000)),ROW(B255))), \"\")","v":""},{"$f":"IFERROR(INDEX('MEMORIAL DESCRITIVO-BRI'!F:F,SMALL(IF('MEMORIAL DESCRITIVO-BRI'!$E$2:$E$4000=\"Sim\",ROW('MEMORIAL DESCRITIVO-BRI'!$F$2:$F$4000)),ROW(B255))) & \" - \" & INDEX('MEMORIAL DESCRITIVO-BRI'!H:H,SMALL(IF('MEMORIAL DESCRITIVO-BRI'!$E$2:$E$4000=\"Sim\",ROW('MEMORIAL DESCRITIVO-BRI'!$H$2:$H$4000)),ROW(B255))), \"\")","v":""},null,{"$f":"IFERROR(INDEX('MEMORIAL DESCRITIVO-BRI'!S:S,SMALL(IF('MEMORIAL DESCRITIVO-BRI'!$E$2:$E$4000=\"Sim\",ROW('MEMORIAL DESCRITIVO-BRI'!$S$2:$S$4000)),ROW(B255))), \"\")","v":""},{"$f":"IFERROR(INDEX('MEMORIAL DESCRITIVO-BRI'!Z:Z,SMALL(IF('MEMORIAL DESCRITIVO-BRI'!$E$2:$E$4000=\"Sim\",ROW('MEMORIAL DESCRITIVO-BRI'!$Z$2:$Z$4000)),ROW(B255))), \"\")","v":""},{"$f":"IFERROR(INDEX('MEMORIAL DESCRITIVO-BRI'!W:W,SMALL(IF('MEMORIAL DESCRITIVO-BRI'!$E$2:$E$4000=\"Sim\",ROW('MEMORIAL DESCRITIVO-BRI'!$W$2:$W$4000)),ROW(B255))), \"\")","v":""},{"$f":"IFERROR(INDEX('MEMORIAL DESCRITIVO-BRI'!G:G,SMALL(IF('MEMORIAL DESCRITIVO-BRI'!$E$2:$E$4000=\"Sim\",ROW('MEMORIAL DESCRITIVO-BRI'!$G$2:$G$4000)),ROW(B255))), \"\")","v":""},{"$f":"IFERROR(INDEX('MEMORIAL DESCRITIVO-BRI'!P:P,SMALL(IF('MEMORIAL DESCRITIVO-BRI'!$E$2:$E$4000=\"Sim\",ROW('MEMORIAL DESCRITIVO-BRI'!$P$2:$P$4000)),ROW(B255))), \"\")","v":""},{"$f":"IFERROR(INDEX('MEMORIAL DESCRITIVO-BRI'!Q:Q,SMALL(IF('MEMORIAL DESCRITIVO-BRI'!$E$2:$E$4000=\"Sim\",ROW('MEMORIAL DESCRITIVO-BRI'!$Q$2:$Q$4000)),ROW(B255))), \"\")","v":""}]
[null,{"$f":"IFERROR(INDEX('MEMORIAL DESCRITIVO-BRI'!B:B,SMALL(IF('MEMORIAL DESCRITIVO-BRI'!$E$2:$E$4000=\"Sim\",ROW('MEMORIAL DESCRITIVO-BRI'!$B$2:$B$4000)),ROW(B256))), \"\")","v":""},{"$f":"IFERROR(INDEX('MEMORIAL DESCRITIVO-BRI'!I:I,SMALL(IF('MEMORIAL DESCRITIVO-BRI'!$E$2:$E$4000=\"Sim\",ROW('MEMORIAL DESCRITIVO-BRI'!$I$2:$I$4000)),ROW(B256))), \"\")","v":""},{"$f":"IFERROR(INDEX('MEMORIAL DESCRITIVO-BRI'!F:F,SMALL(IF('MEMORIAL DESCRITIVO-BRI'!$E$2:$E$4000=\"Sim\",ROW('MEMORIAL DESCRITIVO-BRI'!$F$2:$F$4000)),ROW(B256))) & \" - \" & INDEX('MEMORIAL DESCRITIVO-BRI'!H:H,SMALL(IF('MEMORIAL DESCRITIVO-BRI'!$E$2:$E$4000=\"Sim\",ROW('MEMORIAL DESCRITIVO-BRI'!$H$2:$H$4000)),ROW(B256))), \"\")","v":""},null,{"$f":"IFERROR(INDEX('MEMORIAL DESCRITIVO-BRI'!S:S,SMALL(IF('MEMORIAL DESCRITIVO-BRI'!$E$2:$E$4000=\"Sim\",ROW('MEMORIAL DESCRITIVO-BRI'!$S$2:$S$4000)),ROW(B256))), \"\")","v":""},{"$f":"IFERROR(INDEX('MEMORIAL DESCRITIVO-BRI'!Z:Z,SMALL(IF('MEMORIAL DESCRITIVO-BRI'!$E$2:$E$4000=\"Sim\",ROW('MEMORIAL DESCRITIVO-BRI'!$Z$2:$Z$4000)),ROW(B256))), \"\")","v":""},{"$f":"IFERROR(INDEX('MEMORIAL DESCRITIVO-BRI'!W:W,SMALL(IF('MEMORIAL DESCRITIVO-BRI'!$E$2:$E$4000=\"Sim\",ROW('MEMORIAL DESCRITIVO-BRI'!$W$2:$W$4000)),ROW(B256))), \"\")","v":""},{"$f":"IFERROR(INDEX('MEMORIAL DESCRITIVO-BRI'!G:G,SMALL(IF('MEMORIAL DESCRITIVO-BRI'!$E$2:$E$4000=\"Sim\",ROW('MEMORIAL DESCRITIVO-BRI'!$G$2:$G$4000)),ROW(B256))), \"\")","v":""},{"$f":"IFERROR(INDEX('MEMORIAL DESCRITIVO-BRI'!P:P,SMALL(IF('MEMORIAL DESCRITIVO-BRI'!$E$2:$E$4000=\"Sim\",ROW('MEMORIAL DESCRITIVO-BRI'!$P$2:$P$4000)),ROW(B256))), \"\")","v":""},{"$f":"IFERROR(INDEX('MEMORIAL DESCRITIVO-BRI'!Q:Q,SMALL(IF('MEMORIAL DESCRITIVO-BRI'!$E$2:$E$4000=\"Sim\",ROW('MEMORIAL DESCRITIVO-BRI'!$Q$2:$Q$4000)),ROW(B256))), \"\")","v":""}]
[null,{"$f":"IFERROR(INDEX('MEMORIAL DESCRITIVO-BRI'!B:B,SMALL(IF('MEMORIAL DESCRITIVO-BRI'!$E$2:$E$4000=\"Sim\",ROW('MEMORIAL DESCRITIVO-BRI'!$B$2:$B$4000)),ROW(B257))), \"\")","v":""},{"$f":"IFERROR(INDEX('MEMORIAL DESCRITIVO-BRI'!I:I,SMALL(IF('MEMORIAL DESCRITIVO-BRI'!$E$2:$E$4000=\"Sim\",ROW('MEMORIAL DESCRITIVO-BRI'!$I$2:$I$4000)),ROW(B257))), \"\")","v":""},{"$f":"IFERROR(INDEX('MEMORIAL DESCRITIVO-BRI'!F:F,SMALL(IF('MEMORIAL DESCRITIVO-BRI'!$E$2:$E$4000=\"Sim\",ROW('MEMORIAL DESCRITIVO-BRI'!$F$2:$F$4000)),ROW(B257))) & \" - \" & INDEX('MEMORIAL DESCRITIVO-BRI'!H:H,SMALL(IF('MEMORIAL DESCRITIVO-BRI'!$E$2:$E$4000=\"Sim\",ROW('MEMORIAL DESCRITIVO-BRI'!$H$2:$H$4000)),ROW(B257))), \"\")","v":""},null,{"$f":"IFERROR(INDEX('MEMORIAL DESCRITIVO-BRI'!S:S,SMALL(IF('MEMORIAL DESCRITIVO-BRI'!$E$2:$E$4000=\"Sim\",ROW('MEMORIAL DESCRITIVO-BRI'!$S$2:$S$4000)),ROW(B257))), \"\")","v":""},{"$f":"IFERROR(INDEX('MEMORIAL DESCRITIVO-BRI'!Z:Z,SMALL(IF('MEMORIAL DESCRITIVO-BRI'!$E$2:$E$4000=\"Sim\",ROW('MEMORIAL DESCRITIVO-BRI'!$Z$2:$Z$4000)),ROW(B257))), \"\")","v":""},{"$f":"IFERROR(INDEX('MEMORIAL DESCRITIVO-BRI'!W:W,SMALL(IF('MEMORIAL DESCRITIVO-BRI'!$E$2:$E$4000=\"Sim\",ROW('MEMORIAL DESCRITIVO-BRI'!$W$2:$W$4000)),ROW(B257))), \"\")","v":""},{"$f":"IFERROR(INDEX('MEMORIAL DESCRITIVO-BRI'!G:G,SMALL(IF('MEMORIAL DESCRITIVO-BRI'!$E$2:$E$4000=\"Sim\",ROW('MEMORIAL DESCRITIVO-BRI'!$G$2:$G$4000)),ROW(B257))), \"\")","v":""},{"$f":"IFERROR(INDEX('MEMORIAL DESCRITIVO-BRI'!P:P,SMALL(IF('MEMORIAL DESCRITIVO-BRI'!$E$2:$E$4000=\"Sim\",ROW('MEMORIAL DESCRITIVO-BRI'!$P$2:$P$4000)),ROW(B257))), \"\")","v":""},{"$f":"IFERROR(INDEX('MEMORIAL DESCRITIVO-BRI'!Q:Q,SMALL(IF('MEMORIAL DESCRITIVO-BRI'!$E$2:$E$4000=\"Sim\",ROW('MEMORIAL DESCRITIVO-BRI'!$Q$2:$Q$4000)),ROW(B257))), \"\")","v":""}]
[null,{"$f":"IFERROR(INDEX('MEMORIAL DESCRITIVO-BRI'!B:B,SMALL(IF('MEMORIAL DESCRITIVO-BRI'!$E$2:$E$4000=\"Sim\",ROW('MEMORIAL DESCRITIVO-BRI'!$B$2:$B$4000)),ROW(B258))), \"\")","v":""},{"$f":"IFERROR(INDEX('MEMORIAL DESCRITIVO-BRI'!I:I,SMALL(IF('MEMORIAL DESCRITIVO-BRI'!$E$2:$E$4000=\"Sim\",ROW('MEMORIAL DESCRITIVO-BRI'!$I$2:$I$4000)),ROW(B258))), \"\")","v":""},{"$f":"IFERROR(INDEX('MEMORIAL DESCRITIVO-BRI'!F:F,SMALL(IF('MEMORIAL DESCRITIVO-BRI'!$E$2:$E$4000=\"Sim\",ROW('MEMORIAL DESCRITIVO-BRI'!$F$2:$F$4000)),ROW(B258))) & \" - \" & INDEX('MEMORIAL DESCRITIVO-BRI'!H:H,SMALL(IF('MEMORIAL DESCRITIVO-BRI'!$E$2:$E$4000=\"Sim\",ROW('MEMORIAL DESCRITIVO-BRI'!$H$2:$H$4000)),ROW(B258))), \"\")","v":""},null,{"$f":"IFERROR(INDEX('MEMORIAL DESCRITIVO-BRI'!S:S,SMALL(IF('MEMORIAL DESCRITIVO-BRI'!$E$2:$E$4000=\"Sim\",ROW('MEMORIAL DESCRITIVO-BRI'!$S$2:$S$4000)),ROW(B258))), \"\")","v":""},{"$f":"IFERROR(INDEX('MEMORIAL DESCRITIVO-BRI'!Z:Z,SMALL(IF('MEMORIAL DESCRITIVO-BRI'!$E$2:$E$4000=\"Sim\",ROW('MEMORIAL DESCRITIVO-BRI'!$Z$2:$Z$4000)),ROW(B258))), \"\")","v":""},{"$f":"IFERROR(INDEX('MEMORIAL DESCRITIVO-BRI'!W:W,SMALL(IF('MEMORIAL DESCRITIVO-BRI'!$E$2:$E$4000=\"Sim\",ROW('MEMORIAL DESCRITIVO-BRI'!$W$2:$W$4000)),ROW(B258))), \"\")","v":""},{"$f":"IFERROR(INDEX('MEMORIAL DESCRITIVO-BRI'!G:G,SMALL(IF('MEMORIAL DESCRITIVO-BRI'!$E$2:$E$4000=\"Sim\",ROW('MEMORIAL DESCRITIVO-BRI'!$G$2:$G$4000)),ROW(B258))), \"\")","v":""},{"$f":"IFERROR(INDEX('MEMORIAL DESCRITIVO-BRI'!P:P,SMALL(IF('MEMORIAL DESCRITIVO-BRI'!$E$2:$E$4000=\"Sim\",ROW('MEMORIAL DESCRITIVO-BRI'!$P$2:$P$4000)),ROW(B258))), \"\")","v":""},{"$f":"IFERROR(INDEX('MEMORIAL DESCRITIVO-BRI'!Q:Q,SMALL(IF('MEMORIAL DESCRITIVO-BRI'!$E$2:$E$4000=\"Sim\",ROW('MEMORIAL DESCRITIVO-BRI'!$Q$2:$Q$4000)),ROW(B258))), \"\")","v":""}]
[null,{"$f":"IFERROR(INDEX('MEMORIAL DESCRITIVO-BRI'!B:B,SMALL(IF('MEMORIAL DESCRITIVO-BRI'!$E$2:$E$4000=\"Sim\",ROW('MEMORIAL DESCRITIVO-BRI'!$B$2:$B$4000)),ROW(B259))), \"\")","v":""},{"$f":"IFERROR(INDEX('MEMORIAL DESCRITIVO-BRI'!I:I,SMALL(IF('MEMORIAL DESCRITIVO-BRI'!$E$2:$E$4000=\"Sim\",ROW('MEMORIAL DESCRITIVO-BRI'!$I$2:$I$4000)),ROW(B259))), \"\")","v":""},{"$f":"IFERROR(INDEX('MEMORIAL DESCRITIVO-BRI'!F:F,SMALL(IF('MEMORIAL DESCRITIVO-BRI'!$E$2:$E$4000=\"Sim\",ROW('MEMORIAL DESCRITIVO-BRI'!$F$2:$F$4000)),ROW(B259))) & \" - \" & INDEX('MEMORIAL DESCRITIVO-BRI'!H:H,SMALL(IF('MEMORIAL DESCRITIVO-BRI'!$E$2:$E$4000=\"Sim\",ROW('MEMORIAL DESCRITIVO-BRI'!$H$2:$H$4000)),ROW(B259))), \"\")","v":""},null,{"$f":"IFERROR(INDEX('MEMORIAL DESCRITIVO-BRI'!S:S,SMALL(IF('MEMORIAL DESCRITIVO-BRI'!$E$2:$E$4000=\"Sim\",ROW('MEMORIAL DESCRITIVO-BRI'!$S$2:$S$4000)),ROW(B259))), \"\")","v":""},{"$f":"IFERROR(INDEX('MEMORIAL DESCRITIVO-BRI'!Z:Z,SMALL(IF('MEMORIAL DESCRITIVO-BRI'!$E$2:$E$4000=\"Sim\",ROW('MEMORIAL DESCRITIVO-BRI'!$Z$2:$Z$4000)),ROW(B259))), \"\")","v":""},{"$f":"IFERROR(INDEX('MEMORIAL DESCRITIVO-BRI'!W:W,SMALL(IF('MEMORIAL DESCRITIVO-BRI'!$E$2:$E$4000=\"Sim\",ROW('MEMORIAL DESCRITIVO-BRI'!$W$2:$W$4000)),ROW(B259))), \"\")","v":""},{"$f":"IFERROR(INDEX('MEMORIAL DESCRITIVO-BRI'!G:G,SMALL(IF('MEMORIAL DESCRITIVO-BRI'!$E$2:$E$4000=\"Sim\",ROW('MEMORIAL DESCRITIVO-BRI'!$G$2:$G$4000)),ROW(B259))), \"\")","v":""},{"$f":"IFERROR(INDEX('MEMORIAL DESCRITIVO-BRI'!P:P,SMALL(IF('MEMORIAL DESCRITIVO-BRI'!$E$2:$E$4000=\"Sim\",ROW('MEMORIAL DESCRITIVO-BRI'!$P$2:$P$4000)),ROW(B259))), \"\")","v":""},{"$f":"IFERROR(INDEX('MEMORIAL DESCRITIVO-BRI'!Q:Q,SMALL(IF('MEMORIAL DESCRITIVO-BRI'!$E$2:$E$4000=\"Sim\",ROW('MEMORIAL DESCRITIVO-BRI'!$Q$2:$Q$4000)),ROW(B259))), \"\")","v":""}]
[null,{"$f":"IFERROR(INDEX('MEMORIAL DESCRITIVO-BRI'!B:B,SMALL(IF('MEMORIAL DESCRITIVO-BRI'!$E$2:$E$4000=\"Sim\",ROW('MEMORIAL DESCRITIVO-BRI'!$B$2:$B$4000)),ROW(B260))), \"\")","v":""},{"$f":"IFERROR(INDEX('MEMORIAL DESCRITIVO-BRI'!I:I,SMALL(IF('MEMORIAL DESCRITIVO-BRI'!$E$2:$E$4000=\"Sim\",ROW('MEMORIAL DESCRITIVO-BRI'!$I$2:$I$4000)),ROW(B260))), \"\")","v":""},{"$f":"IFERROR(INDEX('MEMORIAL DESCRITIVO-BRI'!F:F,SMALL(IF('MEMORIAL DESCRITIVO-BRI'!$E$2:$E$4000=\"Sim\",ROW('MEMORIAL DESCRITIVO-BRI'!$F$2:$F$4000)),ROW(B260))) & \" - \" & INDEX('MEMORIAL DESCRITIVO-BRI'!H:H,SMALL(IF('MEMORIAL DESCRITIVO-BRI'!$E$2:$E$4000=\"Sim\",ROW('MEMORIAL DESCRITIVO-BRI'!$H$2:$H$4000)),ROW(B260))), \"\")","v":""},null,{"$f":"IFERROR(INDEX('MEMORIAL DESCRITIVO-BRI'!S:S,SMALL(IF('MEMORIAL DESCRITIVO-BRI'!$E$2:$E$4000=\"Sim\",ROW('MEMORIAL DESCRITIVO-BRI'!$S$2:$S$4000)),ROW(B260))), \"\")","v":""},{"$f":"IFERROR(INDEX('MEMORIAL DESCRITIVO-BRI'!Z:Z,SMALL(IF('MEMORIAL DESCRITIVO-BRI'!$E$2:$E$4000=\"Sim\",ROW('MEMORIAL DESCRITIVO-BRI'!$Z$2:$Z$4000)),ROW(B260))), \"\")","v":""},{"$f":"IFERROR(INDEX('MEMORIAL DESCRITIVO-BRI'!W:W,SMALL(IF('MEMORIAL DESCRITIVO-BRI'!$E$2:$E$4000=\"Sim\",ROW('MEMORIAL DESCRITIVO-BRI'!$W$2:$W$4000)),ROW(B260))), \"\")","v":""},{"$f":"IFERROR(INDEX('MEMORIAL DESCRITIVO-BRI'!G:G,SMALL(IF('MEMORIAL DESCRITIVO-BRI'!$E$2:$E$4000=\"Sim\",ROW('MEMORIAL DESCRITIVO-BRI'!$G$2:$G$4000)),ROW(B260))), \"\")","v":""},{"$f":"IFERROR(INDEX('MEMORIAL DESCRITIVO-BRI'!P:P,SMALL(IF('MEMORIAL DESCRITIVO-BRI'!$E$2:$E$4000=\"Sim\",ROW('MEMORIAL DESCRITIVO-BRI'!$P$2:$P$4000)),ROW(B260))), \"\")","v":""},{"$f":"IFERROR(INDEX('MEMORIAL DESCRITIVO-BRI'!Q:Q,SMALL(IF('MEMORIAL DESCRITIVO-BRI'!$E$2:$E$4000=\"Sim\",ROW('MEMORIAL DESCRITIVO-BRI'!$Q$2:$Q$4000)),ROW(B260))), \"\")","v":""}]
[null,{"$f":"IFERROR(INDEX('MEMORIAL DESCRITIVO-BRI'!B:B,SMALL(IF('MEMORIAL DESCRITIVO-BRI'!$E$2:$E$4000=\"Sim\",ROW('MEMORIAL DESCRITIVO-BRI'!$B$2:$B$4000)),ROW(B261))), \"\")","v":""},{"$f":"IFERROR(INDEX('MEMORIAL DESCRITIVO-BRI'!I:I,SMALL(IF('MEMORIAL DESCRITIVO-BRI'!$E$2:$E$4000=\"Sim\",ROW('MEMORIAL DESCRITIVO-BRI'!$I$2:$I$4000)),ROW(B261))), \"\")","v":""},{"$f":"IFERROR(INDEX('MEMORIAL DESCRITIVO-BRI'!F:F,SMALL(IF('MEMORIAL DESCRITIVO-BRI'!$E$2:$E$4000=\"Sim\",ROW('MEMORIAL DESCRITIVO-BRI'!$F$2:$F$4000)),ROW(B261))) & \" - \" & INDEX('MEMORIAL DESCRITIVO-BRI'!H:H,SMALL(IF('MEMORIAL DESCRITIVO-BRI'!$E$2:$E$4000=\"Sim\",ROW('MEMORIAL DESCRITIVO-BRI'!$H$2:$H$4000)),ROW(B261))), \"\")","v":""},null,{"$f":"IFERROR(INDEX('MEMORIAL DESCRITIVO-BRI'!S:S,SMALL(IF('MEMORIAL DESCRITIVO-BRI'!$E$2:$E$4000=\"Sim\",ROW('MEMORIAL DESCRITIVO-BRI'!$S$2:$S$4000)),ROW(B261))), \"\")","v":""},{"$f":"IFERROR(INDEX('MEMORIAL DESCRITIVO-BRI'!Z:Z,SMALL(IF('MEMORIAL DESCRITIVO-BRI'!$E$2:$E$4000=\"Sim\",ROW('MEMORIAL DESCRITIVO-BRI'!$Z$2:$Z$4000)),ROW(B261))), \"\")","v":""},{"$f":"IFERROR(INDEX('MEMORIAL DESCRITIVO-BRI'!W:W,SMALL(IF('MEMORIAL DESCRITIVO-BRI'!$E$2:$E$4000=\"Sim\",ROW('MEMORIAL DESCRITIVO-BRI'!$W$2:$W$4000)),ROW(B261))), \"\")","v":""},{"$f":"IFERROR(INDEX('MEMORIAL DESCRITIVO-BRI'!G:G,SMALL(IF('MEMORIAL DESCRITIVO-BRI'!$E$2:$E$4000=\"Sim\",ROW('MEMORIAL DESCRITIVO-BRI'!$G$2:$G$4000)),ROW(B261))), \"\")","v":""},{"$f":"IFERROR(INDEX('MEMORIAL DESCRITIVO-BRI'!P:P,SMALL(IF('MEMORIAL DESCRITIVO-BRI'!$E$2:$E$4000=\"Sim\",ROW('MEMORIAL DESCRITIVO-BRI'!$P$2:$P$4000)),ROW(B261))), \"\")","v":""},{"$f":"IFERROR(INDEX('MEMORIAL DESCRITIVO-BRI'!Q:Q,SMALL(IF('MEMORIAL DESCRITIVO-BRI'!$E$2:$E$4000=\"Sim\",ROW('MEMORIAL DESCRITIVO-BRI'!$Q$2:$Q$4000)),ROW(B261))), \"\")","v":""}]
[null,{"$f":"IFERROR(INDEX('MEMORIAL DESCRITIVO-BRI'!B:B,SMALL(IF('MEMORIAL DESCRITIVO-BRI'!$E$2:$E$4000=\"Sim\",ROW('MEMORIAL DESCRITIVO-BRI'!$B$2:$B$4000)),ROW(B262))), \"\")","v":""},{"$f":"IFERROR(INDEX('MEMORIAL DESCRITIVO-BRI'!I:I,SMALL(IF('MEMORIAL DESCRITIVO-BRI'!$E$2:$E$4000=\"Sim\",ROW('MEMORIAL DESCRITIVO-BRI'!$I$2:$I$4000)),ROW(B262))), \"\")","v":""},{"$f":"IFERROR(INDEX('MEMORIAL DESCRITIVO-BRI'!F:F,SMALL(IF('MEMORIAL DESCRITIVO-BRI'!$E$2:$E$4000=\"Sim\",ROW('MEMORIAL DESCRITIVO-BRI'!$F$2:$F$4000)),ROW(B262))) & \" - \" & INDEX('MEMORIAL DESCRITIVO-BRI'!H:H,SMALL(IF('MEMORIAL DESCRITIVO-BRI'!$E$2:$E$4000=\"Sim\",ROW('MEMORIAL DESCRITIVO-BRI'!$H$2:$H$4000)),ROW(B262))), \"\")","v":""},null,{"$f":"IFERROR(INDEX('MEMORIAL DESCRITIVO-BRI'!S:S,SMALL(IF('MEMORIAL DESCRITIVO-BRI'!$E$2:$E$4000=\"Sim\",ROW('MEMORIAL DESCRITIVO-BRI'!$S$2:$S$4000)),ROW(B262))), \"\")","v":""},{"$f":"IFERROR(INDEX('MEMORIAL DESCRITIVO-BRI'!Z:Z,SMALL(IF('MEMORIAL DESCRITIVO-BRI'!$E$2:$E$4000=\"Sim\",ROW('MEMORIAL DESCRITIVO-BRI'!$Z$2:$Z$4000)),ROW(B262))), \"\")","v":""},{"$f":"IFERROR(INDEX('MEMORIAL DESCRITIVO-BRI'!W:W,SMALL(IF('MEMORIAL DESCRITIVO-BRI'!$E$2:$E$4000=\"Sim\",ROW('MEMORIAL DESCRITIVO-BRI'!$W$2:$W$4000)),ROW(B262))), \"\")","v":""},{"$f":"IFERROR(INDEX('MEMORIAL DESCRITIVO-BRI'!G:G,SMALL(IF('MEMORIAL DESCRITIVO-BRI'!$E$2:$E$4000=\"Sim\",ROW('MEMORIAL DESCRITIVO-BRI'!$G$2:$G$4000)),ROW(B262))), \"\")","v":""},{"$f":"IFERROR(INDEX('MEMORIAL DESCRITIVO-BRI'!P:P,SMALL(IF('MEMORIAL DESCRITIVO-BRI'!$E$2:$E$4000=\"Sim\",ROW('MEMORIAL DESCRITIVO-BRI'!$P$2:$P$4000)),ROW(B262))), \"\")","v":""},{"$f":"IFERROR(INDEX('MEMORIAL DESCRITIVO-BRI'!Q:Q,SMALL(IF('MEMORIAL DESCRITIVO-BRI'!$E$2:$E$4000=\"Sim\",ROW('MEMORIAL DESCRITIVO-BRI'!$Q$2:$Q$4000)),ROW(B262))), \"\")","v":""}]
[null,{"$f":"IFERROR(INDEX('MEMORIAL DESCRITIVO-BRI'!B:B,SMALL(IF('MEMORIAL DESCRITIVO-BRI'!$E$2:$E$4000=\"Sim\",ROW('MEMORIAL DESCRITIVO-BRI'!$B$2:$B$4000)),ROW(B263))), \"\")","v":""},{"$f":"IFERROR(INDEX('MEMORIAL DESCRITIVO-BRI'!I:I,SMALL(IF('MEMORIAL DESCRITIVO-BRI'!$E$2:$E$4000=\"Sim\",ROW('MEMORIAL DESCRITIVO-BRI'!$I$2:$I$4000)),ROW(B263))), \"\")","v":""},{"$f":"IFERROR(INDEX('MEMORIAL DESCRITIVO-BRI'!F:F,SMALL(IF('MEMORIAL DESCRITIVO-BRI'!$E$2:$E$4000=\"Sim\",ROW('MEMORIAL DESCRITIVO-BRI'!$F$2:$F$4000)),ROW(B263))) & \" - \" & INDEX('MEMORIAL DESCRITIVO-BRI'!H:H,SMALL(IF('MEMORIAL DESCRITIVO-BRI'!$E$2:$E$4000=\"Sim\",ROW('MEMORIAL DESCRITIVO-BRI'!$H$2:$H$4000)),ROW(B263))), \"\")","v":""},null,{"$f":"IFERROR(INDEX('MEMORIAL DESCRITIVO-BRI'!S:S,SMALL(IF('MEMORIAL DESCRITIVO-BRI'!$E$2:$E$4000=\"Sim\",ROW('MEMORIAL DESCRITIVO-BRI'!$S$2:$S$4000)),ROW(B263))), \"\")","v":""},{"$f":"IFERROR(INDEX('MEMORIAL DESCRITIVO-BRI'!Z:Z,SMALL(IF('MEMORIAL DESCRITIVO-BRI'!$E$2:$E$4000=\"Sim\",ROW('MEMORIAL DESCRITIVO-BRI'!$Z$2:$Z$4000)),ROW(B263))), \"\")","v":""},{"$f":"IFERROR(INDEX('MEMORIAL DESCRITIVO-BRI'!W:W,SMALL(IF('MEMORIAL DESCRITIVO-BRI'!$E$2:$E$4000=\"Sim\",ROW('MEMORIAL DESCRITIVO-BRI'!$W$2:$W$4000)),ROW(B263))), \"\")","v":""},{"$f":"IFERROR(INDEX('MEMORIAL DESCRITIVO-BRI'!G:G,SMALL(IF('MEMORIAL DESCRITIVO-BRI'!$E$2:$E$4000=\"Sim\",ROW('MEMORIAL DESCRITIVO-BRI'!$G$2:$G$4000)),ROW(B263))), \"\")","v":""},{"$f":"IFERROR(INDEX('MEMORIAL DESCRITIVO-BRI'!P:P,SMALL(IF('MEMORIAL DESCRITIVO-BRI'!$E$2:$E$4000=\"Sim\",ROW('MEMORIAL DESCRITIVO-BRI'!$P$2:$P$4000)),ROW(B263))), \"\")","v":""},{"$f":"IFERROR(INDEX('MEMORIAL DESCRITIVO-BRI'!Q:Q,SMALL(IF('MEMORIAL DESCRITIVO-BRI'!$E$2:$E$4000=\"Sim\",ROW('MEMORIAL DESCRITIVO-BRI'!$Q$2:$Q$4000)),ROW(B263))), \"\")","v":""}]
[null,{"$f":"IFERROR(INDEX('MEMORIAL DESCRITIVO-BRI'!B:B,SMALL(IF('MEMORIAL DESCRITIVO-BRI'!$E$2:$E$4000=\"Sim\",ROW('MEMORIAL DESCRITIVO-BRI'!$B$2:$B$4000)),ROW(B264))), \"\")","v":""},{"$f":"IFERROR(INDEX('MEMORIAL DESCRITIVO-BRI'!I:I,SMALL(IF('MEMORIAL DESCRITIVO-BRI'!$E$2:$E$4000=\"Sim\",ROW('MEMORIAL DESCRITIVO-BRI'!$I$2:$I$4000)),ROW(B264))), \"\")","v":""},{"$f":"IFERROR(INDEX('MEMORIAL DESCRITIVO-BRI'!F:F,SMALL(IF('MEMORIAL DESCRITIVO-BRI'!$E$2:$E$4000=\"Sim\",ROW('MEMORIAL DESCRITIVO-BRI'!$F$2:$F$4000)),ROW(B264))) & \" - \" & INDEX('MEMORIAL DESCRITIVO-BRI'!H:H,SMALL(IF('MEMORIAL DESCRITIVO-BRI'!$E$2:$E$4000=\"Sim\",ROW('MEMORIAL DESCRITIVO-BRI'!$H$2:$H$4000)),ROW(B264))), \"\")","v":""},null,{"$f":"IFERROR(INDEX('MEMORIAL DESCRITIVO-BRI'!S:S,SMALL(IF('MEMORIAL DESCRITIVO-BRI'!$E$2:$E$4000=\"Sim\",ROW('MEMORIAL DESCRITIVO-BRI'!$S$2:$S$4000)),ROW(B264))), \"\")","v":""},{"$f":"IFERROR(INDEX('MEMORIAL DESCRITIVO-BRI'!Z:Z,SMALL(IF('MEMORIAL DESCRITIVO-BRI'!$E$2:$E$4000=\"Sim\",ROW('MEMORIAL DESCRITIVO-BRI'!$Z$2:$Z$4000)),ROW(B264))), \"\")","v":""},{"$f":"IFERROR(INDEX('MEMORIAL DESCRITIVO-BRI'!W:W,SMALL(IF('MEMORIAL DESCRITIVO-BRI'!$E$2:$E$4000=\"Sim\",ROW('MEMORIAL DESCRITIVO-BRI'!$W$2:$W$4000)),ROW(B264))), \"\")","v":""},{"$f":"IFERROR(INDEX('MEMORIAL DESCRITIVO-BRI'!G:G,SMALL(IF('MEMORIAL DESCRITIVO-BRI'!$E$2:$E$4000=\"Sim\",ROW('MEMORIAL DESCRITIVO-BRI'!$G$2:$G$4000)),ROW(B264))), \"\")","v":""},{"$f":"IFERROR(INDEX('MEMORIAL DESCRITIVO-BRI'!P:P,SMALL(IF('MEMORIAL DESCRITIVO-BRI'!$E$2:$E$4000=\"Sim\",ROW('MEMORIAL DESCRITIVO-BRI'!$P$2:$P$4000)),ROW(B264))), \"\")","v":""},{"$f":"IFERROR(INDEX('MEMORIAL DESCRITIVO-BRI'!Q:Q,SMALL(IF('MEMORIAL DESCRITIVO-BRI'!$E$2:$E$4000=\"Sim\",ROW('MEMORIAL DESCRITIVO-BRI'!$Q$2:$Q$4000)),ROW(B264))), \"\")","v":""}]
[null,{"$f":"IFERROR(INDEX('MEMORIAL DESCRITIVO-BRI'!B:B,SMALL(IF('MEMORIAL DESCRITIVO-BRI'!$E$2:$E$4000=\"Sim\",ROW('MEMORIAL DESCRITIVO-BRI'!$B$2:$B$4000)),ROW(B265))), \"\")","v":""},{"$f":"IFERROR(INDEX('MEMORIAL DESCRITIVO-BRI'!I:I,SMALL(IF('MEMORIAL DESCRITIVO-BRI'!$E$2:$E$4000=\"Sim\",ROW('MEMORIAL DESCRITIVO-BRI'!$I$2:$I$4000)),ROW(B265))), \"\")","v":""},{"$f":"IFERROR(INDEX('MEMORIAL DESCRITIVO-BRI'!F:F,SMALL(IF('MEMORIAL DESCRITIVO-BRI'!$E$2:$E$4000=\"Sim\",ROW('MEMORIAL DESCRITIVO-BRI'!$F$2:$F$4000)),ROW(B265))) & \" - \" & INDEX('MEMORIAL DESCRITIVO-BRI'!H:H,SMALL(IF('MEMORIAL DESCRITIVO-BRI'!$E$2:$E$4000=\"Sim\",ROW('MEMORIAL DESCRITIVO-BRI'!$H$2:$H$4000)),ROW(B265))), \"\")","v":""},null,{"$f":"IFERROR(INDEX('MEMORIAL DESCRITIVO-BRI'!S:S,SMALL(IF('MEMORIAL DESCRITIVO-BRI'!$E$2:$E$4000=\"Sim\",ROW('MEMORIAL DESCRITIVO-BRI'!$S$2:$S$4000)),ROW(B265))), \"\")","v":""},{"$f":"IFERROR(INDEX('MEMORIAL DESCRITIVO-BRI'!Z:Z,SMALL(IF('MEMORIAL DESCRITIVO-BRI'!$E$2:$E$4000=\"Sim\",ROW('MEMORIAL DESCRITIVO-BRI'!$Z$2:$Z$4000)),ROW(B265))), \"\")","v":""},{"$f":"IFERROR(INDEX('MEMORIAL DESCRITIVO-BRI'!W:W,SMALL(IF('MEMORIAL DESCRITIVO-BRI'!$E$2:$E$4000=\"Sim\",ROW('MEMORIAL DESCRITIVO-BRI'!$W$2:$W$4000)),ROW(B265))), \"\")","v":""},{"$f":"IFERROR(INDEX('MEMORIAL DESCRITIVO-BRI'!G:G,SMALL(IF('MEMORIAL DESCRITIVO-BRI'!$E$2:$E$4000=\"Sim\",ROW('MEMORIAL DESCRITIVO-BRI'!$G$2:$G$4000)),ROW(B265))), \"\")","v":""},{"$f":"IFERROR(INDEX('MEMORIAL DESCRITIVO-BRI'!P:P,SMALL(IF('MEMORIAL DESCRITIVO-BRI'!$E$2:$E$4000=\"Sim\",ROW('MEMORIAL DESCRITIVO-BRI'!$P$2:$P$4000)),ROW(B265))), \"\")","v":""},{"$f":"IFERROR(INDEX('MEMORIAL DESCRITIVO-BRI'!Q:Q,SMALL(IF('MEMORIAL DESCRITIVO-BRI'!$E$2:$E$4000=\"Sim\",ROW('MEMORIAL DESCRITIVO-BRI'!$Q$2:$Q$4000)),ROW(B265))), \"\")","v":""}]
[null,{"$f":"IFERROR(INDEX('MEMORIAL DESCRITIVO-BRI'!B:B,SMALL(IF('MEMORIAL DESCRITIVO-BRI'!$E$2:$E$4000=\"Sim\",ROW('MEMORIAL DESCRITIVO-BRI'!$B$2:$B$4000)),ROW(B266))), \"\")","v":""},{"$f":"IFERROR(INDEX('MEMORIAL DESCRITIVO-BRI'!I:I,SMALL(IF('MEMORIAL DESCRITIVO-BRI'!$E$2:$E$4000=\"Sim\",ROW('MEMORIAL DESCRITIVO-BRI'!$I$2:$I$4000)),ROW(B266))), \"\")","v":""},{"$f":"IFERROR(INDEX('MEMORIAL DESCRITIVO-BRI'!F:F,SMALL(IF('MEMORIAL DESCRITIVO-BRI'!$E$2:$E$4000=\"Sim\",ROW('MEMORIAL DESCRITIVO-BRI'!$F$2:$F$4000)),ROW(B266))) & \" - \" & INDEX('MEMORIAL DESCRITIVO-BRI'!H:H,SMALL(IF('MEMORIAL DESCRITIVO-BRI'!$E$2:$E$4000=\"Sim\",ROW('MEMORIAL DESCRITIVO-BRI'!$H$2:$H$4000)),ROW(B266))), \"\")","v":""},null,{"$f":"IFERROR(INDEX('MEMORIAL DESCRITIVO-BRI'!S:S,SMALL(IF('MEMORIAL DESCRITIVO-BRI'!$E$2:$E$4000=\"Sim\",ROW('MEMORIAL DESCRITIVO-BRI'!$S$2:$S$4000)),ROW(B266))), \"\")","v":""},{"$f":"IFERROR(INDEX('MEMORIAL DESCRITIVO-BRI'!Z:Z,SMALL(IF('MEMORIAL DESCRITIVO-BRI'!$E$2:$E$4000=\"Sim\",ROW('MEMORIAL DESCRITIVO-BRI'!$Z$2:$Z$4000)),ROW(B266))), \"\")","v":""},{"$f":"IFERROR(INDEX('MEMORIAL DESCRITIVO-BRI'!W:W,SMALL(IF('MEMORIAL DESCRITIVO-BRI'!$E$2:$E$4000=\"Sim\",ROW('MEMORIAL DESCRITIVO-BRI'!$W$2:$W$4000)),ROW(B266))), \"\")","v":""},{"$f":"IFERROR(INDEX('MEMORIAL DESCRITIVO-BRI'!G:G,SMALL(IF('MEMORIAL DESCRITIVO-BRI'!$E$2:$E$4000=\"Sim\",ROW('MEMORIAL DESCRITIVO-BRI'!$G$2:$G$4000)),ROW(B266))), \"\")","v":""},{"$f":"IFERROR(INDEX('MEMORIAL DESCRITIVO-BRI'!P:P,SMALL(IF('MEMORIAL DESCRITIVO-BRI'!$E$2:$E$4000=\"Sim\",ROW('MEMORIAL DESCRITIVO-BRI'!$P$2:$P$4000)),ROW(B266))), \"\")","v":""},{"$f":"IFERROR(INDEX('MEMORIAL DESCRITIVO-BRI'!Q:Q,SMALL(IF('MEMORIAL DESCRITIVO-BRI'!$E$2:$E$4000=\"Sim\",ROW('MEMORIAL DESCRITIVO-BRI'!$Q$2:$Q$4000)),ROW(B266))), \"\")","v":""}]
[null,{"$f":"IFERROR(INDEX('MEMORIAL DESCRITIVO-BRI'!B:B,SMALL(IF('MEMORIAL DESCRITIVO-BRI'!$E$2:$E$4000=\"Sim\",ROW('MEMORIAL DESCRITIVO-BRI'!$B$2:$B$4000)),ROW(B267))), \"\")","v":""},{"$f":"IFERROR(INDEX('MEMORIAL DESCRITIVO-BRI'!I:I,SMALL(IF('MEMORIAL DESCRITIVO-BRI'!$E$2:$E$4000=\"Sim\",ROW('MEMORIAL DESCRITIVO-BRI'!$I$2:$I$4000)),ROW(B267))), \"\")","v":""},{"$f":"IFERROR(INDEX('MEMORIAL DESCRITIVO-BRI'!F:F,SMALL(IF('MEMORIAL DESCRITIVO-BRI'!$E$2:$E$4000=\"Sim\",ROW('MEMORIAL DESCRITIVO-BRI'!$F$2:$F$4000)),ROW(B267))) & \" - \" & INDEX('MEMORIAL DESCRITIVO-BRI'!H:H,SMALL(IF('MEMORIAL DESCRITIVO-BRI'!$E$2:$E$4000=\"Sim\",ROW('MEMORIAL DESCRITIVO-BRI'!$H$2:$H$4000)),ROW(B267))), \"\")","v":""},null,{"$f":"IFERROR(INDEX('MEMORIAL DESCRITIVO-BRI'!S:S,SMALL(IF('MEMORIAL DESCRITIVO-BRI'!$E$2:$E$4000=\"Sim\",ROW('MEMORIAL DESCRITIVO-BRI'!$S$2:$S$4000)),ROW(B267))), \"\")","v":""},{"$f":"IFERROR(INDEX('MEMORIAL DESCRITIVO-BRI'!Z:Z,SMALL(IF('MEMORIAL DESCRITIVO-BRI'!$E$2:$E$4000=\"Sim\",ROW('MEMORIAL DESCRITIVO-BRI'!$Z$2:$Z$4000)),ROW(B267))), \"\")","v":""},{"$f":"IFERROR(INDEX('MEMORIAL DESCRITIVO-BRI'!W:W,SMALL(IF('MEMORIAL DESCRITIVO-BRI'!$E$2:$E$4000=\"Sim\",ROW('MEMORIAL DESCRITIVO-BRI'!$W$2:$W$4000)),ROW(B267))), \"\")","v":""},{"$f":"IFERROR(INDEX('MEMORIAL DESCRITIVO-BRI'!G:G,SMALL(IF('MEMORIAL DESCRITIVO-BRI'!$E$2:$E$4000=\"Sim\",ROW('MEMORIAL DESCRITIVO-BRI'!$G$2:$G$4000)),ROW(B267))), \"\")","v":""},{"$f":"IFERROR(INDEX('MEMORIAL DESCRITIVO-BRI'!P:P,SMALL(IF('MEMORIAL DESCRITIVO-BRI'!$E$2:$E$4000=\"Sim\",ROW('MEMORIAL DESCRITIVO-BRI'!$P$2:$P$4000)),ROW(B267))), \"\")","v":""},{"$f":"IFERROR(INDEX('MEMORIAL DESCRITIVO-BRI'!Q:Q,SMALL(IF('MEMORIAL DESCRITIVO-BRI'!$E$2:$E$4000=\"Sim\",ROW('MEMORIAL DESCRITIVO-BRI'!$Q$2:$Q$4000)),ROW(B267))), \"\")","v":""}]
[null,{"$f":"IFERROR(INDEX('MEMORIAL DESCRITIVO-BRI'!B:B,SMALL(IF('MEMORIAL DESCRITIVO-BRI'!$E$2:$E$4000=\"Sim\",ROW('MEMORIAL DESCRITIVO-BRI'!$B$2:$B$4000)),ROW(B268))), \"\")","v":""},{"$f":"IFERROR(INDEX('MEMORIAL DESCRITIVO-BRI'!I:I,SMALL(IF('MEMORIAL DESCRITIVO-BRI'!$E$2:$E$4000=\"Sim\",ROW('MEMORIAL DESCRITIVO-BRI'!$I$2:$I$4000)),ROW(B268))), \"\")","v":""},{"$f":"IFERROR(INDEX('MEMORIAL DESCRITIVO-BRI'!F:F,SMALL(IF('MEMORIAL DESCRITIVO-BRI'!$E$2:$E$4000=\"Sim\",ROW('MEMORIAL DESCRITIVO-BRI'!$F$2:$F$4000)),ROW(B268))) & \" - \" & INDEX('MEMORIAL DESCRITIVO-BRI'!H:H,SMALL(IF('MEMORIAL DESCRITIVO-BRI'!$E$2:$E$4000=\"Sim\",ROW('MEMORIAL DESCRITIVO-BRI'!$H$2:$H$4000)),ROW(B268))), \"\")","v":""},null,{"$f":"IFERROR(INDEX('MEMORIAL DESCRITIVO-BRI'!S:S,SMALL(IF('MEMORIAL DESCRITIVO-BRI'!$E$2:$E$4000=\"Sim\",ROW('MEMORIAL DESCRITIVO-BRI'!$S$2:$S$4000)),ROW(B268))), \"\")","v":""},{"$f":"IFERROR(INDEX('MEMORIAL DESCRITIVO-BRI'!Z:Z,SMALL(IF('MEMORIAL DESCRITIVO-BRI'!$E$2:$E$4000=\"Sim\",ROW('MEMORIAL DESCRITIVO-BRI'!$Z$2:$Z$4000)),ROW(B268))), \"\")","v":""},{"$f":"IFERROR(INDEX('MEMORIAL DESCRITIVO-BRI'!W:W,SMALL(IF('MEMORIAL DESCRITIVO-BRI'!$E$2:$E$4000=\"Sim\",ROW('MEMORIAL DESCRITIVO-BRI'!$W$2:$W$4000)),ROW(B268))), \"\")","v":""},{"$f":"IFERROR(INDEX('MEMORIAL DESCRITIVO-BRI'!G:G,SMALL(IF('MEMORIAL DESCRITIVO-BRI'!$E$2:$E$4000=\"Sim\",ROW('MEMORIAL DESCRITIVO-BRI'!$G$2:$G$4000)),ROW(B268))), \"\")","v":""},{"$f":"IFERROR(INDEX('MEMORIAL DESCRITIVO-BRI'!P:P,SMALL(IF('MEMORIAL DESCRITIVO-BRI'!$E$2:$E$4000=\"Sim\",ROW('MEMORIAL DESCRITIVO-BRI'!$P$2:$P$4000)),ROW(B268))), \"\")","v":""},{"$f":"IFERROR(INDEX('MEMORIAL DESCRITIVO-BRI'!Q:Q,SMALL(IF('MEMORIAL DESCRITIVO-BRI'!$E$2:$E$4000=\"Sim\",ROW('MEMORIAL DESCRITIVO-BRI'!$Q$2:$Q$4000)),ROW(B268))), \"\")","v":""}]
[null,{"$f":"IFERROR(INDEX('MEMORIAL DESCRITIVO-BRI'!B:B,SMALL(IF('MEMORIAL DESCRITIVO-BRI'!$E$2:$E$4000=\"Sim\",ROW('MEMORIAL DESCRITIVO-BRI'!$B$2:$B$4000)),ROW(B269))), \"\")","v":""},{"$f":"IFERROR(INDEX('MEMORIAL DESCRITIVO-BRI'!I:I,SMALL(IF('MEMORIAL DESCRITIVO-BRI'!$E$2:$E$4000=\"Sim\",ROW('MEMORIAL DESCRITIVO-BRI'!$I$2:$I$4000)),ROW(B269))), \"\")","v":""},{"$f":"IFERROR(INDEX('MEMORIAL DESCRITIVO-BRI'!F:F,SMALL(IF('MEMORIAL DESCRITIVO-BRI'!$E$2:$E$4000=\"Sim\",ROW('MEMORIAL DESCRITIVO-BRI'!$F$2:$F$4000)),ROW(B269))) & \" - \" & INDEX('MEMORIAL DESCRITIVO-BRI'!H:H,SMALL(IF('MEMORIAL DESCRITIVO-BRI'!$E$2:$E$4000=\"Sim\",ROW('MEMORIAL DESCRITIVO-BRI'!$H$2:$H$4000)),ROW(B269))), \"\")","v":""},null,{"$f":"IFERROR(INDEX('MEMORIAL DESCRITIVO-BRI'!S:S,SMALL(IF('MEMORIAL DESCRITIVO-BRI'!$E$2:$E$4000=\"Sim\",ROW('MEMORIAL DESCRITIVO-BRI'!$S$2:$S$4000)),ROW(B269))), \"\")","v":""},{"$f":"IFERROR(INDEX('MEMORIAL DESCRITIVO-BRI'!Z:Z,SMALL(IF('MEMORIAL DESCRITIVO-BRI'!$E$2:$E$4000=\"Sim\",ROW('MEMORIAL DESCRITIVO-BRI'!$Z$2:$Z$4000)),ROW(B269))), \"\")","v":""},{"$f":"IFERROR(INDEX('MEMORIAL DESCRITIVO-BRI'!W:W,SMALL(IF('MEMORIAL DESCRITIVO-BRI'!$E$2:$E$4000=\"Sim\",ROW('MEMORIAL DESCRITIVO-BRI'!$W$2:$W$4000)),ROW(B269))), \"\")","v":""},{"$f":"IFERROR(INDEX('MEMORIAL DESCRITIVO-BRI'!G:G,SMALL(IF('MEMORIAL DESCRITIVO-BRI'!$E$2:$E$4000=\"Sim\",ROW('MEMORIAL DESCRITIVO-BRI'!$G$2:$G$4000)),ROW(B269))), \"\")","v":""},{"$f":"IFERROR(INDEX('MEMORIAL DESCRITIVO-BRI'!P:P,SMALL(IF('MEMORIAL DESCRITIVO-BRI'!$E$2:$E$4000=\"Sim\",ROW('MEMORIAL DESCRITIVO-BRI'!$P$2:$P$4000)),ROW(B269))), \"\")","v":""},{"$f":"IFERROR(INDEX('MEMORIAL DESCRITIVO-BRI'!Q:Q,SMALL(IF('MEMORIAL DESCRITIVO-BRI'!$E$2:$E$4000=\"Sim\",ROW('MEMORIAL DESCRITIVO-BRI'!$Q$2:$Q$4000)),ROW(B269))), \"\")","v":""}]
[null,{"$f":"IFERROR(INDEX('MEMORIAL DESCRITIVO-BRI'!B:B,SMALL(IF('MEMORIAL DESCRITIVO-BRI'!$E$2:$E$4000=\"Sim\",ROW('MEMORIAL DESCRITIVO-BRI'!$B$2:$B$4000)),ROW(B270))), \"\")","v":""},{"$f":"IFERROR(INDEX('MEMORIAL DESCRITIVO-BRI'!I:I,SMALL(IF('MEMORIAL DESCRITIVO-BRI'!$E$2:$E$4000=\"Sim\",ROW('MEMORIAL DESCRITIVO-BRI'!$I$2:$I$4000)),ROW(B270))), \"\")","v":""},{"$f":"IFERROR(INDEX('MEMORIAL DESCRITIVO-BRI'!F:F,SMALL(IF('MEMORIAL DESCRITIVO-BRI'!$E$2:$E$4000=\"Sim\",ROW('MEMORIAL DESCRITIVO-BRI'!$F$2:$F$4000)),ROW(B270))) & \" - \" & INDEX('MEMORIAL DESCRITIVO-BRI'!H:H,SMALL(IF('MEMORIAL DESCRITIVO-BRI'!$E$2:$E$4000=\"Sim\",ROW('MEMORIAL DESCRITIVO-BRI'!$H$2:$H$4000)),ROW(B270))), \"\")","v":""},null,{"$f":"IFERROR(INDEX('MEMORIAL DESCRITIVO-BRI'!S:S,SMALL(IF('MEMORIAL DESCRITIVO-BRI'!$E$2:$E$4000=\"Sim\",ROW('MEMORIAL DESCRITIVO-BRI'!$S$2:$S$4000)),ROW(B270))), \"\")","v":""},{"$f":"IFERROR(INDEX('MEMORIAL DESCRITIVO-BRI'!Z:Z,SMALL(IF('MEMORIAL DESCRITIVO-BRI'!$E$2:$E$4000=\"Sim\",ROW('MEMORIAL DESCRITIVO-BRI'!$Z$2:$Z$4000)),ROW(B270))), \"\")","v":""},{"$f":"IFERROR(INDEX('MEMORIAL DESCRITIVO-BRI'!W:W,SMALL(IF('MEMORIAL DESCRITIVO-BRI'!$E$2:$E$4000=\"Sim\",ROW('MEMORIAL DESCRITIVO-BRI'!$W$2:$W$4000)),ROW(B270))), \"\")","v":""},{"$f":"IFERROR(INDEX('MEMORIAL DESCRITIVO-BRI'!G:G,SMALL(IF('MEMORIAL DESCRITIVO-BRI'!$E$2:$E$4000=\"Sim\",ROW('MEMORIAL DESCRITIVO-BRI'!$G$2:$G$4000)),ROW(B270))), \"\")","v":""},{"$f":"IFERROR(INDEX('MEMORIAL DESCRITIVO-BRI'!P:P,SMALL(IF('MEMORIAL DESCRITIVO-BRI'!$E$2:$E$4000=\"Sim\",ROW('MEMORIAL DESCRITIVO-BRI'!$P$2:$P$4000)),ROW(B270))), \"\")","v":""},{"$f":"IFERROR(INDEX('MEMORIAL DESCRITIVO-BRI'!Q:Q,SMALL(IF('MEMORIAL DESCRITIVO-BRI'!$E$2:$E$4000=\"Sim\",ROW('MEMORIAL DESCRITIVO-BRI'!$Q$2:$Q$4000)),ROW(B270))), \"\")","v":""}]
[null,{"$f":"IFERROR(INDEX('MEMORIAL DESCRITIVO-BRI'!B:B,SMALL(IF('MEMORIAL DESCRITIVO-BRI'!$E$2:$E$4000=\"Sim\",ROW('MEMORIAL DESCRITIVO-BRI'!$B$2:$B$4000)),ROW(B271))), \"\")","v":""},{"$f":"IFERROR(INDEX('MEMORIAL DESCRITIVO-BRI'!I:I,SMALL(IF('MEMORIAL DESCRITIVO-BRI'!$E$2:$E$4000=\"Sim\",ROW('MEMORIAL DESCRITIVO-BRI'!$I$2:$I$4000)),ROW(B271))), \"\")","v":""},{"$f":"IFERROR(INDEX('MEMORIAL DESCRITIVO-BRI'!F:F,SMALL(IF('MEMORIAL DESCRITIVO-BRI'!$E$2:$E$4000=\"Sim\",ROW('MEMORIAL DESCRITIVO-BRI'!$F$2:$F$4000)),ROW(B271))) & \" - \" & INDEX('MEMORIAL DESCRITIVO-BRI'!H:H,SMALL(IF('MEMORIAL DESCRITIVO-BRI'!$E$2:$E$4000=\"Sim\",ROW('MEMORIAL DESCRITIVO-BRI'!$H$2:$H$4000)),ROW(B271))), \"\")","v":""},null,{"$f":"IFERROR(INDEX('MEMORIAL DESCRITIVO-BRI'!S:S,SMALL(IF('MEMORIAL DESCRITIVO-BRI'!$E$2:$E$4000=\"Sim\",ROW('MEMORIAL DESCRITIVO-BRI'!$S$2:$S$4000)),ROW(B271))), \"\")","v":""},{"$f":"IFERROR(INDEX('MEMORIAL DESCRITIVO-BRI'!Z:Z,SMALL(IF('MEMORIAL DESCRITIVO-BRI'!$E$2:$E$4000=\"Sim\",ROW('MEMORIAL DESCRITIVO-BRI'!$Z$2:$Z$4000)),ROW(B271))), \"\")","v":""},{"$f":"IFERROR(INDEX('MEMORIAL DESCRITIVO-BRI'!W:W,SMALL(IF('MEMORIAL DESCRITIVO-BRI'!$E$2:$E$4000=\"Sim\",ROW('MEMORIAL DESCRITIVO-BRI'!$W$2:$W$4000)),ROW(B271))), \"\")","v":""},{"$f":"IFERROR(INDEX('MEMORIAL DESCRITIVO-BRI'!G:G,SMALL(IF('MEMORIAL DESCRITIVO-BRI'!$E$2:$E$4000=\"Sim\",ROW('MEMORIAL DESCRITIVO-BRI'!$G$2:$G$4000)),ROW(B271))), \"\")","v":""},{"$f":"IFERROR(INDEX('MEMORIAL DESCRITIVO-BRI'!P:P,SMALL(IF('MEMORIAL DESCRITIVO-BRI'!$E$2:$E$4000=\"Sim\",ROW('MEMORIAL DESCRITIVO-BRI'!$P$2:$P$4000)),ROW(B271))), \"\")","v":""},{"$f":"IFERROR(INDEX('MEMORIAL DESCRITIVO-BRI'!Q:Q,SMALL(IF('MEMORIAL DESCRITIVO-BRI'!$E$2:$E$4000=\"Sim\",ROW('MEMORIAL DESCRITIVO-BRI'!$Q$2:$Q$4000)),ROW(B271))), \"\")","v":""}]
[null,{"$f":"IFERROR(INDEX('MEMORIAL DESCRITIVO-BRI'!B:B,SMALL(IF('MEMORIAL DESCRITIVO-BRI'!$E$2:$E$4000=\"Sim\",ROW('MEMORIAL DESCRITIVO-BRI'!$B$2:$B$4000)),ROW(B272))), \"\")","v":""},{"$f":"IFERROR(INDEX('MEMORIAL DESCRITIVO-BRI'!I:I,SMALL(IF('MEMORIAL DESCRITIVO-BRI'!$E$2:$E$4000=\"Sim\",ROW('MEMORIAL DESCRITIVO-BRI'!$I$2:$I$4000)),ROW(B272))), \"\")","v":""},{"$f":"IFERROR(INDEX('MEMORIAL DESCRITIVO-BRI'!F:F,SMALL(IF('MEMORIAL DESCRITIVO-BRI'!$E$2:$E$4000=\"Sim\",ROW('MEMORIAL DESCRITIVO-BRI'!$F$2:$F$4000)),ROW(B272))) & \" - \" & INDEX('MEMORIAL DESCRITIVO-BRI'!H:H,SMALL(IF('MEMORIAL DESCRITIVO-BRI'!$E$2:$E$4000=\"Sim\",ROW('MEMORIAL DESCRITIVO-BRI'!$H$2:$H$4000)),ROW(B272))), \"\")","v":""},null,{"$f":"IFERROR(INDEX('MEMORIAL DESCRITIVO-BRI'!S:S,SMALL(IF('MEMORIAL DESCRITIVO-BRI'!$E$2:$E$4000=\"Sim\",ROW('MEMORIAL DESCRITIVO-BRI'!$S$2:$S$4000)),ROW(B272))), \"\")","v":""},{"$f":"IFERROR(INDEX('MEMORIAL DESCRITIVO-BRI'!Z:Z,SMALL(IF('MEMORIAL DESCRITIVO-BRI'!$E$2:$E$4000=\"Sim\",ROW('MEMORIAL DESCRITIVO-BRI'!$Z$2:$Z$4000)),ROW(B272))), \"\")","v":""},{"$f":"IFERROR(INDEX('MEMORIAL DESCRITIVO-BRI'!W:W,SMALL(IF('MEMORIAL DESCRITIVO-BRI'!$E$2:$E$4000=\"Sim\",ROW('MEMORIAL DESCRITIVO-BRI'!$W$2:$W$4000)),ROW(B272))), \"\")","v":""},{"$f":"IFERROR(INDEX('MEMORIAL DESCRITIVO-BRI'!G:G,SMALL(IF('MEMORIAL DESCRITIVO-BRI'!$E$2:$E$4000=\"Sim\",ROW('MEMORIAL DESCRITIVO-BRI'!$G$2:$G$4000)),ROW(B272))), \"\")","v":""},{"$f":"IFERROR(INDEX('MEMORIAL DESCRITIVO-BRI'!P:P,SMALL(IF('MEMORIAL DESCRITIVO-BRI'!$E$2:$E$4000=\"Sim\",ROW('MEMORIAL DESCRITIVO-BRI'!$P$2:$P$4000)),ROW(B272))), \"\")","v":""},{"$f":"IFERROR(INDEX('MEMORIAL DESCRITIVO-BRI'!Q:Q,SMALL(IF('MEMORIAL DESCRITIVO-BRI'!$E$2:$E$4000=\"Sim\",ROW('MEMORIAL DESCRITIVO-BRI'!$Q$2:$Q$4000)),ROW(B272))), \"\")","v":""}]
[null,{"$f":"IFERROR(INDEX('MEMORIAL DESCRITIVO-BRI'!B:B,SMALL(IF('MEMORIAL DESCRITIVO-BRI'!$E$2:$E$4000=\"Sim\",ROW('MEMORIAL DESCRITIVO-BRI'!$B$2:$B$4000)),ROW(B273))), \"\")","v":""},{"$f":"IFERROR(INDEX('MEMORIAL DESCRITIVO-BRI'!I:I,SMALL(IF('MEMORIAL DESCRITIVO-BRI'!$E$2:$E$4000=\"Sim\",ROW('MEMORIAL DESCRITIVO-BRI'!$I$2:$I$4000)),ROW(B273))), \"\")","v":""},{"$f":"IFERROR(INDEX('MEMORIAL DESCRITIVO-BRI'!F:F,SMALL(IF('MEMORIAL DESCRITIVO-BRI'!$E$2:$E$4000=\"Sim\",ROW('MEMORIAL DESCRITIVO-BRI'!$F$2:$F$4000)),ROW(B273))) & \" - \" & INDEX('MEMORIAL DESCRITIVO-BRI'!H:H,SMALL(IF('MEMORIAL DESCRITIVO-BRI'!$E$2:$E$4000=\"Sim\",ROW('MEMORIAL DESCRITIVO-BRI'!$H$2:$H$4000)),ROW(B273))), \"\")","v":""},null,{"$f":"IFERROR(INDEX('MEMORIAL DESCRITIVO-BRI'!S:S,SMALL(IF('MEMORIAL DESCRITIVO-BRI'!$E$2:$E$4000=\"Sim\",ROW('MEMORIAL DESCRITIVO-BRI'!$S$2:$S$4000)),ROW(B273))), \"\")","v":""},{"$f":"IFERROR(INDEX('MEMORIAL DESCRITIVO-BRI'!Z:Z,SMALL(IF('MEMORIAL DESCRITIVO-BRI'!$E$2:$E$4000=\"Sim\",ROW('MEMORIAL DESCRITIVO-BRI'!$Z$2:$Z$4000)),ROW(B273))), \"\")","v":""},{"$f":"IFERROR(INDEX('MEMORIAL DESCRITIVO-BRI'!W:W,SMALL(IF('MEMORIAL DESCRITIVO-BRI'!$E$2:$E$4000=\"Sim\",ROW('MEMORIAL DESCRITIVO-BRI'!$W$2:$W$4000)),ROW(B273))), \"\")","v":""},{"$f":"IFERROR(INDEX('MEMORIAL DESCRITIVO-BRI'!G:G,SMALL(IF('MEMORIAL DESCRITIVO-BRI'!$E$2:$E$4000=\"Sim\",ROW('MEMORIAL DESCRITIVO-BRI'!$G$2:$G$4000)),ROW(B273))), \"\")","v":""},{"$f":"IFERROR(INDEX('MEMORIAL DESCRITIVO-BRI'!P:P,SMALL(IF('MEMORIAL DESCRITIVO-BRI'!$E$2:$E$4000=\"Sim\",ROW('MEMORIAL DESCRITIVO-BRI'!$P$2:$P$4000)),ROW(B273))), \"\")","v":""},{"$f":"IFERROR(INDEX('MEMORIAL DESCRITIVO-BRI'!Q:Q,SMALL(IF('MEMORIAL DESCRITIVO-BRI'!$E$2:$E$4000=\"Sim\",ROW('MEMORIAL DESCRITIVO-BRI'!$Q$2:$Q$4000)),ROW(B273))), \"\")","v":""}]
[null,{"$f":"IFERROR(INDEX('MEMORIAL DESCRITIVO-BRI'!B:B,SMALL(IF('MEMORIAL DESCRITIVO-BRI'!$E$2:$E$4000=\"Sim\",ROW('MEMORIAL DESCRITIVO-BRI'!$B$2:$B$4000)),ROW(B274))), \"\")","v":""},{"$f":"IFERROR(INDEX('MEMORIAL DESCRITIVO-BRI'!I:I,SMALL(IF('MEMORIAL DESCRITIVO-BRI'!$E$2:$E$4000=\"Sim\",ROW('MEMORIAL DESCRITIVO-BRI'!$I$2:$I$4000)),ROW(B274))), \"\")","v":""},{"$f":"IFERROR(INDEX('MEMORIAL DESCRITIVO-BRI'!F:F,SMALL(IF('MEMORIAL DESCRITIVO-BRI'!$E$2:$E$4000=\"Sim\",ROW('MEMORIAL DESCRITIVO-BRI'!$F$2:$F$4000)),ROW(B274))) & \" - \" & INDEX('MEMORIAL DESCRITIVO-BRI'!H:H,SMALL(IF('MEMORIAL DESCRITIVO-BRI'!$E$2:$E$4000=\"Sim\",ROW('MEMORIAL DESCRITIVO-BRI'!$H$2:$H$4000)),ROW(B274))), \"\")","v":""},null,{"$f":"IFERROR(INDEX('MEMORIAL DESCRITIVO-BRI'!S:S,SMALL(IF('MEMORIAL DESCRITIVO-BRI'!$E$2:$E$4000=\"Sim\",ROW('MEMORIAL DESCRITIVO-BRI'!$S$2:$S$4000)),ROW(B274))), \"\")","v":""},{"$f":"IFERROR(INDEX('MEMORIAL DESCRITIVO-BRI'!Z:Z,SMALL(IF('MEMORIAL DESCRITIVO-BRI'!$E$2:$E$4000=\"Sim\",ROW('MEMORIAL DESCRITIVO-BRI'!$Z$2:$Z$4000)),ROW(B274))), \"\")","v":""},{"$f":"IFERROR(INDEX('MEMORIAL DESCRITIVO-BRI'!W:W,SMALL(IF('MEMORIAL DESCRITIVO-BRI'!$E$2:$E$4000=\"Sim\",ROW('MEMORIAL DESCRITIVO-BRI'!$W$2:$W$4000)),ROW(B274))), \"\")","v":""},{"$f":"IFERROR(INDEX('MEMORIAL DESCRITIVO-BRI'!G:G,SMALL(IF('MEMORIAL DESCRITIVO-BRI'!$E$2:$E$4000=\"Sim\",ROW('MEMORIAL DESCRITIVO-BRI'!$G$2:$G$4000)),ROW(B274))), \"\")","v":""},{"$f":"IFERROR(INDEX('MEMORIAL DESCRITIVO-BRI'!P:P,SMALL(IF('MEMORIAL DESCRITIVO-BRI'!$E$2:$E$4000=\"Sim\",ROW('MEMORIAL DESCRITIVO-BRI'!$P$2:$P$4000)),ROW(B274))), \"\")","v":""},{"$f":"IFERROR(INDEX('MEMORIAL DESCRITIVO-BRI'!Q:Q,SMALL(IF('MEMORIAL DESCRITIVO-BRI'!$E$2:$E$4000=\"Sim\",ROW('MEMORIAL DESCRITIVO-BRI'!$Q$2:$Q$4000)),ROW(B274))), \"\")","v":""}]
[null,{"$f":"IFERROR(INDEX('MEMORIAL DESCRITIVO-BRI'!B:B,SMALL(IF('MEMORIAL DESCRITIVO-BRI'!$E$2:$E$4000=\"Sim\",ROW('MEMORIAL DESCRITIVO-BRI'!$B$2:$B$4000)),ROW(B275))), \"\")","v":""},{"$f":"IFERROR(INDEX('MEMORIAL DESCRITIVO-BRI'!I:I,SMALL(IF('MEMORIAL DESCRITIVO-BRI'!$E$2:$E$4000=\"Sim\",ROW('MEMORIAL DESCRITIVO-BRI'!$I$2:$I$4000)),ROW(B275))), \"\")","v":""},{"$f":"IFERROR(INDEX('MEMORIAL DESCRITIVO-BRI'!F:F,SMALL(IF('MEMORIAL DESCRITIVO-BRI'!$E$2:$E$4000=\"Sim\",ROW('MEMORIAL DESCRITIVO-BRI'!$F$2:$F$4000)),ROW(B275))) & \" - \" & INDEX('MEMORIAL DESCRITIVO-BRI'!H:H,SMALL(IF('MEMORIAL DESCRITIVO-BRI'!$E$2:$E$4000=\"Sim\",ROW('MEMORIAL DESCRITIVO-BRI'!$H$2:$H$4000)),ROW(B275))), \"\")","v":""},null,{"$f":"IFERROR(INDEX('MEMORIAL DESCRITIVO-BRI'!S:S,SMALL(IF('MEMORIAL DESCRITIVO-BRI'!$E$2:$E$4000=\"Sim\",ROW('MEMORIAL DESCRITIVO-BRI'!$S$2:$S$4000)),ROW(B275))), \"\")","v":""},{"$f":"IFERROR(INDEX('MEMORIAL DESCRITIVO-BRI'!Z:Z,SMALL(IF('MEMORIAL DESCRITIVO-BRI'!$E$2:$E$4000=\"Sim\",ROW('MEMORIAL DESCRITIVO-BRI'!$Z$2:$Z$4000)),ROW(B275))), \"\")","v":""},{"$f":"IFERROR(INDEX('MEMORIAL DESCRITIVO-BRI'!W:W,SMALL(IF('MEMORIAL DESCRITIVO-BRI'!$E$2:$E$4000=\"Sim\",ROW('MEMORIAL DESCRITIVO-BRI'!$W$2:$W$4000)),ROW(B275))), \"\")","v":""},{"$f":"IFERROR(INDEX('MEMORIAL DESCRITIVO-BRI'!G:G,SMALL(IF('MEMORIAL DESCRITIVO-BRI'!$E$2:$E$4000=\"Sim\",ROW('MEMORIAL DESCRITIVO-BRI'!$G$2:$G$4000)),ROW(B275))), \"\")","v":""},{"$f":"IFERROR(INDEX('MEMORIAL DESCRITIVO-BRI'!P:P,SMALL(IF('MEMORIAL DESCRITIVO-BRI'!$E$2:$E$4000=\"Sim\",ROW('MEMORIAL DESCRITIVO-BRI'!$P$2:$P$4000)),ROW(B275))), \"\")","v":""},{"$f":"IFERROR(INDEX('MEMORIAL DESCRITIVO-BRI'!Q:Q,SMALL(IF('MEMORIAL DESCRITIVO-BRI'!$E$2:$E$4000=\"Sim\",ROW('MEMORIAL DESCRITIVO-BRI'!$Q$2:$Q$4000)),ROW(B275))), \"\")","v":""}]
[null,{"$f":"IFERROR(INDEX('MEMORIAL DESCRITIVO-BRI'!B:B,SMALL(IF('MEMORIAL DESCRITIVO-BRI'!$E$2:$E$4000=\"Sim\",ROW('MEMORIAL DESCRITIVO-BRI'!$B$2:$B$4000)),ROW(B276))), \"\")","v":""},{"$f":"IFERROR(INDEX('MEMORIAL DESCRITIVO-BRI'!I:I,SMALL(IF('MEMORIAL DESCRITIVO-BRI'!$E$2:$E$4000=\"Sim\",ROW('MEMORIAL DESCRITIVO-BRI'!$I$2:$I$4000)),ROW(B276))), \"\")","v":""},{"$f":"IFERROR(INDEX('MEMORIAL DESCRITIVO-BRI'!F:F,SMALL(IF('MEMORIAL DESCRITIVO-BRI'!$E$2:$E$4000=\"Sim\",ROW('MEMORIAL DESCRITIVO-BRI'!$F$2:$F$4000)),ROW(B276))) & \" - \" & INDEX('MEMORIAL DESCRITIVO-BRI'!H:H,SMALL(IF('MEMORIAL DESCRITIVO-BRI'!$E$2:$E$4000=\"Sim\",ROW('MEMORIAL DESCRITIVO-BRI'!$H$2:$H$4000)),ROW(B276))), \"\")","v":""},null,{"$f":"IFERROR(INDEX('MEMORIAL DESCRITIVO-BRI'!S:S,SMALL(IF('MEMORIAL DESCRITIVO-BRI'!$E$2:$E$4000=\"Sim\",ROW('MEMORIAL DESCRITIVO-BRI'!$S$2:$S$4000)),ROW(B276))), \"\")","v":""},{"$f":"IFERROR(INDEX('MEMORIAL DESCRITIVO-BRI'!Z:Z,SMALL(IF('MEMORIAL DESCRITIVO-BRI'!$E$2:$E$4000=\"Sim\",ROW('MEMORIAL DESCRITIVO-BRI'!$Z$2:$Z$4000)),ROW(B276))), \"\")","v":""},{"$f":"IFERROR(INDEX('MEMORIAL DESCRITIVO-BRI'!W:W,SMALL(IF('MEMORIAL DESCRITIVO-BRI'!$E$2:$E$4000=\"Sim\",ROW('MEMORIAL DESCRITIVO-BRI'!$W$2:$W$4000)),ROW(B276))), \"\")","v":""},{"$f":"IFERROR(INDEX('MEMORIAL DESCRITIVO-BRI'!G:G,SMALL(IF('MEMORIAL DESCRITIVO-BRI'!$E$2:$E$4000=\"Sim\",ROW('MEMORIAL DESCRITIVO-BRI'!$G$2:$G$4000)),ROW(B276))), \"\")","v":""},{"$f":"IFERROR(INDEX('MEMORIAL DESCRITIVO-BRI'!P:P,SMALL(IF('MEMORIAL DESCRITIVO-BRI'!$E$2:$E$4000=\"Sim\",ROW('MEMORIAL DESCRITIVO-BRI'!$P$2:$P$4000)),ROW(B276))), \"\")","v":""},{"$f":"IFERROR(INDEX('MEMORIAL DESCRITIVO-BRI'!Q:Q,SMALL(IF('MEMORIAL DESCRITIVO-BRI'!$E$2:$E$4000=\"Sim\",ROW('MEMORIAL DESCRITIVO-BRI'!$Q$2:$Q$4000)),ROW(B276))), \"\")","v":""}]
[null,{"$f":"IFERROR(INDEX('MEMORIAL DESCRITIVO-BRI'!B:B,SMALL(IF('MEMORIAL DESCRITIVO-BRI'!$E$2:$E$4000=\"Sim\",ROW('MEMORIAL DESCRITIVO-BRI'!$B$2:$B$4000)),ROW(B277))), \"\")","v":""},{"$f":"IFERROR(INDEX('MEMORIAL DESCRITIVO-BRI'!I:I,SMALL(IF('MEMORIAL DESCRITIVO-BRI'!$E$2:$E$4000=\"Sim\",ROW('MEMORIAL DESCRITIVO-BRI'!$I$2:$I$4000)),ROW(B277))), \"\")","v":""},{"$f":"IFERROR(INDEX('MEMORIAL DESCRITIVO-BRI'!F:F,SMALL(IF('MEMORIAL DESCRITIVO-BRI'!$E$2:$E$4000=\"Sim\",ROW('MEMORIAL DESCRITIVO-BRI'!$F$2:$F$4000)),ROW(B277))) & \" - \" & INDEX('MEMORIAL DESCRITIVO-BRI'!H:H,SMALL(IF('MEMORIAL DESCRITIVO-BRI'!$E$2:$E$4000=\"Sim\",ROW('MEMORIAL DESCRITIVO-BRI'!$H$2:$H$4000)),ROW(B277))), \"\")","v":""},null,{"$f":"IFERROR(INDEX('MEMORIAL DESCRITIVO-BRI'!S:S,SMALL(IF('MEMORIAL DESCRITIVO-BRI'!$E$2:$E$4000=\"Sim\",ROW('MEMORIAL DESCRITIVO-BRI'!$S$2:$S$4000)),ROW(B277))), \"\")","v":""},{"$f":"IFERROR(INDEX('MEMORIAL DESCRITIVO-BRI'!Z:Z,SMALL(IF('MEMORIAL DESCRITIVO-BRI'!$E$2:$E$4000=\"Sim\",ROW('MEMORIAL DESCRITIVO-BRI'!$Z$2:$Z$4000)),ROW(B277))), \"\")","v":""},{"$f":"IFERROR(INDEX('MEMORIAL DESCRITIVO-BRI'!W:W,SMALL(IF('MEMORIAL DESCRITIVO-BRI'!$E$2:$E$4000=\"Sim\",ROW('MEMORIAL DESCRITIVO-BRI'!$W$2:$W$4000)),ROW(B277))), \"\")","v":""},{"$f":"IFERROR(INDEX('MEMORIAL DESCRITIVO-BRI'!G:G,SMALL(IF('MEMORIAL DESCRITIVO-BRI'!$E$2:$E$4000=\"Sim\",ROW('MEMORIAL DESCRITIVO-BRI'!$G$2:$G$4000)),ROW(B277))), \"\")","v":""},{"$f":"IFERROR(INDEX('MEMORIAL DESCRITIVO-BRI'!P:P,SMALL(IF('MEMORIAL DESCRITIVO-BRI'!$E$2:$E$4000=\"Sim\",ROW('MEMORIAL DESCRITIVO-BRI'!$P$2:$P$4000)),ROW(B277))), \"\")","v":""},{"$f":"IFERROR(INDEX('MEMORIAL DESCRITIVO-BRI'!Q:Q,SMALL(IF('MEMORIAL DESCRITIVO-BRI'!$E$2:$E$4000=\"Sim\",ROW('MEMORIAL DESCRITIVO-BRI'!$Q$2:$Q$4000)),ROW(B277))), \"\")","v":""}]
[null,{"$f":"IFERROR(INDEX('MEMORIAL DESCRITIVO-BRI'!B:B,SMALL(IF('MEMORIAL DESCRITIVO-BRI'!$E$2:$E$4000=\"Sim\",ROW('MEMORIAL DESCRITIVO-BRI'!$B$2:$B$4000)),ROW(B278))), \"\")","v":""},{"$f":"IFERROR(INDEX('MEMORIAL DESCRITIVO-BRI'!I:I,SMALL(IF('MEMORIAL DESCRITIVO-BRI'!$E$2:$E$4000=\"Sim\",ROW('MEMORIAL DESCRITIVO-BRI'!$I$2:$I$4000)),ROW(B278))), \"\")","v":""},{"$f":"IFERROR(INDEX('MEMORIAL DESCRITIVO-BRI'!F:F,SMALL(IF('MEMORIAL DESCRITIVO-BRI'!$E$2:$E$4000=\"Sim\",ROW('MEMORIAL DESCRITIVO-BRI'!$F$2:$F$4000)),ROW(B278))) & \" - \" & INDEX('MEMORIAL DESCRITIVO-BRI'!H:H,SMALL(IF('MEMORIAL DESCRITIVO-BRI'!$E$2:$E$4000=\"Sim\",ROW('MEMORIAL DESCRITIVO-BRI'!$H$2:$H$4000)),ROW(B278))), \"\")","v":""},null,{"$f":"IFERROR(INDEX('MEMORIAL DESCRITIVO-BRI'!S:S,SMALL(IF('MEMORIAL DESCRITIVO-BRI'!$E$2:$E$4000=\"Sim\",ROW('MEMORIAL DESCRITIVO-BRI'!$S$2:$S$4000)),ROW(B278))), \"\")","v":""},{"$f":"IFERROR(INDEX('MEMORIAL DESCRITIVO-BRI'!Z:Z,SMALL(IF('MEMORIAL DESCRITIVO-BRI'!$E$2:$E$4000=\"Sim\",ROW('MEMORIAL DESCRITIVO-BRI'!$Z$2:$Z$4000)),ROW(B278))), \"\")","v":""},{"$f":"IFERROR(INDEX('MEMORIAL DESCRITIVO-BRI'!W:W,SMALL(IF('MEMORIAL DESCRITIVO-BRI'!$E$2:$E$4000=\"Sim\",ROW('MEMORIAL DESCRITIVO-BRI'!$W$2:$W$4000)),ROW(B278))), \"\")","v":""},{"$f":"IFERROR(INDEX('MEMORIAL DESCRITIVO-BRI'!G:G,SMALL(IF('MEMORIAL DESCRITIVO-BRI'!$E$2:$E$4000=\"Sim\",ROW('MEMORIAL DESCRITIVO-BRI'!$G$2:$G$4000)),ROW(B278))), \"\")","v":""},{"$f":"IFERROR(INDEX('MEMORIAL DESCRITIVO-BRI'!P:P,SMALL(IF('MEMORIAL DESCRITIVO-BRI'!$E$2:$E$4000=\"Sim\",ROW('MEMORIAL DESCRITIVO-BRI'!$P$2:$P$4000)),ROW(B278))), \"\")","v":""},{"$f":"IFERROR(INDEX('MEMORIAL DESCRITIVO-BRI'!Q:Q,SMALL(IF('MEMORIAL DESCRITIVO-BRI'!$E$2:$E$4000=\"Sim\",ROW('MEMORIAL DESCRITIVO-BRI'!$Q$2:$Q$4000)),ROW(B278))), \"\")","v":""}]
[null,{"$f":"IFERROR(INDEX('MEMORIAL DESCRITIVO-BRI'!B:B,SMALL(IF('MEMORIAL DESCRITIVO-BRI'!$E$2:$E$4000=\"Sim\",ROW('MEMORIAL DESCRITIVO-BRI'!$B$2:$B$4000)),ROW(B279))), \"\")","v":""},{"$f":"IFERROR(INDEX('MEMORIAL DESCRITIVO-BRI'!I:I,SMALL(IF('MEMORIAL DESCRITIVO-BRI'!$E$2:$E$4000=\"Sim\",ROW('MEMORIAL DESCRITIVO-BRI'!$I$2:$I$4000)),ROW(B279))), \"\")","v":""},{"$f":"IFERROR(INDEX('MEMORIAL DESCRITIVO-BRI'!F:F,SMALL(IF('MEMORIAL DESCRITIVO-BRI'!$E$2:$E$4000=\"Sim\",ROW('MEMORIAL DESCRITIVO-BRI'!$F$2:$F$4000)),ROW(B279))) & \" - \" & INDEX('MEMORIAL DESCRITIVO-BRI'!H:H,SMALL(IF('MEMORIAL DESCRITIVO-BRI'!$E$2:$E$4000=\"Sim\",ROW('MEMORIAL DESCRITIVO-BRI'!$H$2:$H$4000)),ROW(B279))), \"\")","v":""},null,{"$f":"IFERROR(INDEX('MEMORIAL DESCRITIVO-BRI'!S:S,SMALL(IF('MEMORIAL DESCRITIVO-BRI'!$E$2:$E$4000=\"Sim\",ROW('MEMORIAL DESCRITIVO-BRI'!$S$2:$S$4000)),ROW(B279))), \"\")","v":""},{"$f":"IFERROR(INDEX('MEMORIAL DESCRITIVO-BRI'!Z:Z,SMALL(IF('MEMORIAL DESCRITIVO-BRI'!$E$2:$E$4000=\"Sim\",ROW('MEMORIAL DESCRITIVO-BRI'!$Z$2:$Z$4000)),ROW(B279))), \"\")","v":""},{"$f":"IFERROR(INDEX('MEMORIAL DESCRITIVO-BRI'!W:W,SMALL(IF('MEMORIAL DESCRITIVO-BRI'!$E$2:$E$4000=\"Sim\",ROW('MEMORIAL DESCRITIVO-BRI'!$W$2:$W$4000)),ROW(B279))), \"\")","v":""},{"$f":"IFERROR(INDEX('MEMORIAL DESCRITIVO-BRI'!G:G,SMALL(IF('MEMORIAL DESCRITIVO-BRI'!$E$2:$E$4000=\"Sim\",ROW('MEMORIAL DESCRITIVO-BRI'!$G$2:$G$4000)),ROW(B279))), \"\")","v":""},{"$f":"IFERROR(INDEX('MEMORIAL DESCRITIVO-BRI'!P:P,SMALL(IF('MEMORIAL DESCRITIVO-BRI'!$E$2:$E$4000=\"Sim\",ROW('MEMORIAL DESCRITIVO-BRI'!$P$2:$P$4000)),ROW(B279))), \"\")","v":""},{"$f":"IFERROR(INDEX('MEMORIAL DESCRITIVO-BRI'!Q:Q,SMALL(IF('MEMORIAL DESCRITIVO-BRI'!$E$2:$E$4000=\"Sim\",ROW('MEMORIAL DESCRITIVO-BRI'!$Q$2:$Q$4000)),ROW(B279))), \"\")","v":""}]
[null,{"$f":"IFERROR(INDEX('MEMORIAL DESCRITIVO-BRI'!B:B,SMALL(IF('MEMORIAL DESCRITIVO-BRI'!$E$2:$E$4000=\"Sim\",ROW('MEMORIAL DESCRITIVO-BRI'!$B$2:$B$4000)),ROW(B280))), \"\")","v":""},{"$f":"IFERROR(INDEX('MEMORIAL DESCRITIVO-BRI'!I:I,SMALL(IF('MEMORIAL DESCRITIVO-BRI'!$E$2:$E$4000=\"Sim\",ROW('MEMORIAL DESCRITIVO-BRI'!$I$2:$I$4000)),ROW(B280))), \"\")","v":""},{"$f":"IFERROR(INDEX('MEMORIAL DESCRITIVO-BRI'!F:F,SMALL(IF('MEMORIAL DESCRITIVO-BRI'!$E$2:$E$4000=\"Sim\",ROW('MEMORIAL DESCRITIVO-BRI'!$F$2:$F$4000)),ROW(B280))) & \" - \" & INDEX('MEMORIAL DESCRITIVO-BRI'!H:H,SMALL(IF('MEMORIAL DESCRITIVO-BRI'!$E$2:$E$4000=\"Sim\",ROW('MEMORIAL DESCRITIVO-BRI'!$H$2:$H$4000)),ROW(B280))), \"\")","v":""},null,{"$f":"IFERROR(INDEX('MEMORIAL DESCRITIVO-BRI'!S:S,SMALL(IF('MEMORIAL DESCRITIVO-BRI'!$E$2:$E$4000=\"Sim\",ROW('MEMORIAL DESCRITIVO-BRI'!$S$2:$S$4000)),ROW(B280))), \"\")","v":""},{"$f":"IFERROR(INDEX('MEMORIAL DESCRITIVO-BRI'!Z:Z,SMALL(IF('MEMORIAL DESCRITIVO-BRI'!$E$2:$E$4000=\"Sim\",ROW('MEMORIAL DESCRITIVO-BRI'!$Z$2:$Z$4000)),ROW(B280))), \"\")","v":""},{"$f":"IFERROR(INDEX('MEMORIAL DESCRITIVO-BRI'!W:W,SMALL(IF('MEMORIAL DESCRITIVO-BRI'!$E$2:$E$4000=\"Sim\",ROW('MEMORIAL DESCRITIVO-BRI'!$W$2:$W$4000)),ROW(B280))), \"\")","v":""},{"$f":"IFERROR(INDEX('MEMORIAL DESCRITIVO-BRI'!G:G,SMALL(IF('MEMORIAL DESCRITIVO-BRI'!$E$2:$E$4000=\"Sim\",ROW('MEMORIAL DESCRITIVO-BRI'!$G$2:$G$4000)),ROW(B280))), \"\")","v":""},{"$f":"IFERROR(INDEX('MEMORIAL DESCRITIVO-BRI'!P:P,SMALL(IF('MEMORIAL DESCRITIVO-BRI'!$E$2:$E$4000=\"Sim\",ROW('MEMORIAL DESCRITIVO-BRI'!$P$2:$P$4000)),ROW(B280))), \"\")","v":""},{"$f":"IFERROR(INDEX('MEMORIAL DESCRITIVO-BRI'!Q:Q,SMALL(IF('MEMORIAL DESCRITIVO-BRI'!$E$2:$E$4000=\"Sim\",ROW('MEMORIAL DESCRITIVO-BRI'!$Q$2:$Q$4000)),ROW(B280))), \"\")","v":""}]
[null,{"$f":"IFERROR(INDEX('MEMORIAL DESCRITIVO-BRI'!B:B,SMALL(IF('MEMORIAL DESCRITIVO-BRI'!$E$2:$E$4000=\"Sim\",ROW('MEMORIAL DESCRITIVO-BRI'!$B$2:$B$4000)),ROW(B281))), \"\")","v":""},{"$f":"IFERROR(INDEX('MEMORIAL DESCRITIVO-BRI'!I:I,SMALL(IF('MEMORIAL DESCRITIVO-BRI'!$E$2:$E$4000=\"Sim\",ROW('MEMORIAL DESCRITIVO-BRI'!$I$2:$I$4000)),ROW(B281))), \"\")","v":""},{"$f":"IFERROR(INDEX('MEMORIAL DESCRITIVO-BRI'!F:F,SMALL(IF('MEMORIAL DESCRITIVO-BRI'!$E$2:$E$4000=\"Sim\",ROW('MEMORIAL DESCRITIVO-BRI'!$F$2:$F$4000)),ROW(B281))) & \" - \" & INDEX('MEMORIAL DESCRITIVO-BRI'!H:H,SMALL(IF('MEMORIAL DESCRITIVO-BRI'!$E$2:$E$4000=\"Sim\",ROW('MEMORIAL DESCRITIVO-BRI'!$H$2:$H$4000)),ROW(B281))), \"\")","v":""},null,{"$f":"IFERROR(INDEX('MEMORIAL DESCRITIVO-BRI'!S:S,SMALL(IF('MEMORIAL DESCRITIVO-BRI'!$E$2:$E$4000=\"Sim\",ROW('MEMORIAL DESCRITIVO-BRI'!$S$2:$S$4000)),ROW(B281))), \"\")","v":""},{"$f":"IFERROR(INDEX('MEMORIAL DESCRITIVO-BRI'!Z:Z,SMALL(IF('MEMORIAL DESCRITIVO-BRI'!$E$2:$E$4000=\"Sim\",ROW('MEMORIAL DESCRITIVO-BRI'!$Z$2:$Z$4000)),ROW(B281))), \"\")","v":""},{"$f":"IFERROR(INDEX('MEMORIAL DESCRITIVO-BRI'!W:W,SMALL(IF('MEMORIAL DESCRITIVO-BRI'!$E$2:$E$4000=\"Sim\",ROW('MEMORIAL DESCRITIVO-BRI'!$W$2:$W$4000)),ROW(B281))), \"\")","v":""},{"$f":"IFERROR(INDEX('MEMORIAL DESCRITIVO-BRI'!G:G,SMALL(IF('MEMORIAL DESCRITIVO-BRI'!$E$2:$E$4000=\"Sim\",ROW('MEMORIAL DESCRITIVO-BRI'!$G$2:$G$4000)),ROW(B281))), \"\")","v":""},{"$f":"IFERROR(INDEX('MEMORIAL DESCRITIVO-BRI'!P:P,SMALL(IF('MEMORIAL DESCRITIVO-BRI'!$E$2:$E$4000=\"Sim\",ROW('MEMORIAL DESCRITIVO-BRI'!$P$2:$P$4000)),ROW(B281))), \"\")","v":""},{"$f":"IFERROR(INDEX('MEMORIAL DESCRITIVO-BRI'!Q:Q,SMALL(IF('MEMORIAL DESCRITIVO-BRI'!$E$2:$E$4000=\"Sim\",ROW('MEMORIAL DESCRITIVO-BRI'!$Q$2:$Q$4000)),ROW(B281))), \"\")","v":""}]
[null,{"$f":"IFERROR(INDEX('MEMORIAL DESCRITIVO-BRI'!B:B,SMALL(IF('MEMORIAL DESCRITIVO-BRI'!$E$2:$E$4000=\"Sim\",ROW('MEMORIAL DESCRITIVO-BRI'!$B$2:$B$4000)),ROW(B282))), \"\")","v":""},{"$f":"IFERROR(INDEX('MEMORIAL DESCRITIVO-BRI'!I:I,SMALL(IF('MEMORIAL DESCRITIVO-BRI'!$E$2:$E$4000=\"Sim\",ROW('MEMORIAL DESCRITIVO-BRI'!$I$2:$I$4000)),ROW(B282))), \"\")","v":""},{"$f":"IFERROR(INDEX('MEMORIAL DESCRITIVO-BRI'!F:F,SMALL(IF('MEMORIAL DESCRITIVO-BRI'!$E$2:$E$4000=\"Sim\",ROW('MEMORIAL DESCRITIVO-BRI'!$F$2:$F$4000)),ROW(B282))) & \" - \" & INDEX('MEMORIAL DESCRITIVO-BRI'!H:H,SMALL(IF('MEMORIAL DESCRITIVO-BRI'!$E$2:$E$4000=\"Sim\",ROW('MEMORIAL DESCRITIVO-BRI'!$H$2:$H$4000)),ROW(B282))), \"\")","v":""},null,{"$f":"IFERROR(INDEX('MEMORIAL DESCRITIVO-BRI'!S:S,SMALL(IF('MEMORIAL DESCRITIVO-BRI'!$E$2:$E$4000=\"Sim\",ROW('MEMORIAL DESCRITIVO-BRI'!$S$2:$S$4000)),ROW(B282))), \"\")","v":""},{"$f":"IFERROR(INDEX('MEMORIAL DESCRITIVO-BRI'!Z:Z,SMALL(IF('MEMORIAL DESCRITIVO-BRI'!$E$2:$E$4000=\"Sim\",ROW('MEMORIAL DESCRITIVO-BRI'!$Z$2:$Z$4000)),ROW(B282))), \"\")","v":""},{"$f":"IFERROR(INDEX('MEMORIAL DESCRITIVO-BRI'!W:W,SMALL(IF('MEMORIAL DESCRITIVO-BRI'!$E$2:$E$4000=\"Sim\",ROW('MEMORIAL DESCRITIVO-BRI'!$W$2:$W$4000)),ROW(B282))), \"\")","v":""},{"$f":"IFERROR(INDEX('MEMORIAL DESCRITIVO-BRI'!G:G,SMALL(IF('MEMORIAL DESCRITIVO-BRI'!$E$2:$E$4000=\"Sim\",ROW('MEMORIAL DESCRITIVO-BRI'!$G$2:$G$4000)),ROW(B282))), \"\")","v":""},{"$f":"IFERROR(INDEX('MEMORIAL DESCRITIVO-BRI'!P:P,SMALL(IF('MEMORIAL DESCRITIVO-BRI'!$E$2:$E$4000=\"Sim\",ROW('MEMORIAL DESCRITIVO-BRI'!$P$2:$P$4000)),ROW(B282))), \"\")","v":""},{"$f":"IFERROR(INDEX('MEMORIAL DESCRITIVO-BRI'!Q:Q,SMALL(IF('MEMORIAL DESCRITIVO-BRI'!$E$2:$E$4000=\"Sim\",ROW('MEMORIAL DESCRITIVO-BRI'!$Q$2:$Q$4000)),ROW(B282))), \"\")","v":""}]
[null,{"$f":"IFERROR(INDEX('MEMORIAL DESCRITIVO-BRI'!B:B,SMALL(IF('MEMORIAL DESCRITIVO-BRI'!$E$2:$E$4000=\"Sim\",ROW('MEMORIAL DESCRITIVO-BRI'!$B$2:$B$4000)),ROW(B283))), \"\")","v":""},{"$f":"IFERROR(INDEX('MEMORIAL DESCRITIVO-BRI'!I:I,SMALL(IF('MEMORIAL DESCRITIVO-BRI'!$E$2:$E$4000=\"Sim\",ROW('MEMORIAL DESCRITIVO-BRI'!$I$2:$I$4000)),ROW(B283))), \"\")","v":""},{"$f":"IFERROR(INDEX('MEMORIAL DESCRITIVO-BRI'!F:F,SMALL(IF('MEMORIAL DESCRITIVO-BRI'!$E$2:$E$4000=\"Sim\",ROW('MEMORIAL DESCRITIVO-BRI'!$F$2:$F$4000)),ROW(B283))) & \" - \" & INDEX('MEMORIAL DESCRITIVO-BRI'!H:H,SMALL(IF('MEMORIAL DESCRITIVO-BRI'!$E$2:$E$4000=\"Sim\",ROW('MEMORIAL DESCRITIVO-BRI'!$H$2:$H$4000)),ROW(B283))), \"\")","v":""},null,{"$f":"IFERROR(INDEX('MEMORIAL DESCRITIVO-BRI'!S:S,SMALL(IF('MEMORIAL DESCRITIVO-BRI'!$E$2:$E$4000=\"Sim\",ROW('MEMORIAL DESCRITIVO-BRI'!$S$2:$S$4000)),ROW(B283))), \"\")","v":""},{"$f":"IFERROR(INDEX('MEMORIAL DESCRITIVO-BRI'!Z:Z,SMALL(IF('MEMORIAL DESCRITIVO-BRI'!$E$2:$E$4000=\"Sim\",ROW('MEMORIAL DESCRITIVO-BRI'!$Z$2:$Z$4000)),ROW(B283))), \"\")","v":""},{"$f":"IFERROR(INDEX('MEMORIAL DESCRITIVO-BRI'!W:W,SMALL(IF('MEMORIAL DESCRITIVO-BRI'!$E$2:$E$4000=\"Sim\",ROW('MEMORIAL DESCRITIVO-BRI'!$W$2:$W$4000)),ROW(B283))), \"\")","v":""},{"$f":"IFERROR(INDEX('MEMORIAL DESCRITIVO-BRI'!G:G,SMALL(IF('MEMORIAL DESCRITIVO-BRI'!$E$2:$E$4000=\"Sim\",ROW('MEMORIAL DESCRITIVO-BRI'!$G$2:$G$4000)),ROW(B283))), \"\")","v":""},{"$f":"IFERROR(INDEX('MEMORIAL DESCRITIVO-BRI'!P:P,SMALL(IF('MEMORIAL DESCRITIVO-BRI'!$E$2:$E$4000=\"Sim\",ROW('MEMORIAL DESCRITIVO-BRI'!$P$2:$P$4000)),ROW(B283))), \"\")","v":""},{"$f":"IFERROR(INDEX('MEMORIAL DESCRITIVO-BRI'!Q:Q,SMALL(IF('MEMORIAL DESCRITIVO-BRI'!$E$2:$E$4000=\"Sim\",ROW('MEMORIAL DESCRITIVO-BRI'!$Q$2:$Q$4000)),ROW(B283))), \"\")","v":""}]
[null,{"$f":"IFERROR(INDEX('MEMORIAL DESCRITIVO-BRI'!B:B,SMALL(IF('MEMORIAL DESCRITIVO-BRI'!$E$2:$E$4000=\"Sim\",ROW('MEMORIAL DESCRITIVO-BRI'!$B$2:$B$4000)),ROW(B284))), \"\")","v":""},{"$f":"IFERROR(INDEX('MEMORIAL DESCRITIVO-BRI'!I:I,SMALL(IF('MEMORIAL DESCRITIVO-BRI'!$E$2:$E$4000=\"Sim\",ROW('MEMORIAL DESCRITIVO-BRI'!$I$2:$I$4000)),ROW(B284))), \"\")","v":""},{"$f":"IFERROR(INDEX('MEMORIAL DESCRITIVO-BRI'!F:F,SMALL(IF('MEMORIAL DESCRITIVO-BRI'!$E$2:$E$4000=\"Sim\",ROW('MEMORIAL DESCRITIVO-BRI'!$F$2:$F$4000)),ROW(B284))) & \" - \" & INDEX('MEMORIAL DESCRITIVO-BRI'!H:H,SMALL(IF('MEMORIAL DESCRITIVO-BRI'!$E$2:$E$4000=\"Sim\",ROW('MEMORIAL DESCRITIVO-BRI'!$H$2:$H$4000)),ROW(B284))), \"\")","v":""},null,{"$f":"IFERROR(INDEX('MEMORIAL DESCRITIVO-BRI'!S:S,SMALL(IF('MEMORIAL DESCRITIVO-BRI'!$E$2:$E$4000=\"Sim\",ROW('MEMORIAL DESCRITIVO-BRI'!$S$2:$S$4000)),ROW(B284))), \"\")","v":""},{"$f":"IFERROR(INDEX('MEMORIAL DESCRITIVO-BRI'!Z:Z,SMALL(IF('MEMORIAL DESCRITIVO-BRI'!$E$2:$E$4000=\"Sim\",ROW('MEMORIAL DESCRITIVO-BRI'!$Z$2:$Z$4000)),ROW(B284))), \"\")","v":""},{"$f":"IFERROR(INDEX('MEMORIAL DESCRITIVO-BRI'!W:W,SMALL(IF('MEMORIAL DESCRITIVO-BRI'!$E$2:$E$4000=\"Sim\",ROW('MEMORIAL DESCRITIVO-BRI'!$W$2:$W$4000)),ROW(B284))), \"\")","v":""},{"$f":"IFERROR(INDEX('MEMORIAL DESCRITIVO-BRI'!G:G,SMALL(IF('MEMORIAL DESCRITIVO-BRI'!$E$2:$E$4000=\"Sim\",ROW('MEMORIAL DESCRITIVO-BRI'!$G$2:$G$4000)),ROW(B284))), \"\")","v":""},{"$f":"IFERROR(INDEX('MEMORIAL DESCRITIVO-BRI'!P:P,SMALL(IF('MEMORIAL DESCRITIVO-BRI'!$E$2:$E$4000=\"Sim\",ROW('MEMORIAL DESCRITIVO-BRI'!$P$2:$P$4000)),ROW(B284))), \"\")","v":""},{"$f":"IFERROR(INDEX('MEMORIAL DESCRITIVO-BRI'!Q:Q,SMALL(IF('MEMORIAL DESCRITIVO-BRI'!$E$2:$E$4000=\"Sim\",ROW('MEMORIAL DESCRITIVO-BRI'!$Q$2:$Q$4000)),ROW(B284))), \"\")","v":""}]
[null,{"$f":"IFERROR(INDEX('MEMORIAL DESCRITIVO-BRI'!B:B,SMALL(IF('MEMORIAL DESCRITIVO-BRI'!$E$2:$E$4000=\"Sim\",ROW('MEMORIAL DESCRITIVO-BRI'!$B$2:$B$4000)),ROW(B285))), \"\")","v":""},{"$f":"IFERROR(INDEX('MEMORIAL DESCRITIVO-BRI'!I:I,SMALL(IF('MEMORIAL DESCRITIVO-BRI'!$E$2:$E$4000=\"Sim\",ROW('MEMORIAL DESCRITIVO-BRI'!$I$2:$I$4000)),ROW(B285))), \"\")","v":""},{"$f":"IFERROR(INDEX('MEMORIAL DESCRITIVO-BRI'!F:F,SMALL(IF('MEMORIAL DESCRITIVO-BRI'!$E$2:$E$4000=\"Sim\",ROW('MEMORIAL DESCRITIVO-BRI'!$F$2:$F$4000)),ROW(B285))) & \" - \" & INDEX('MEMORIAL DESCRITIVO-BRI'!H:H,SMALL(IF('MEMORIAL DESCRITIVO-BRI'!$E$2:$E$4000=\"Sim\",ROW('MEMORIAL DESCRITIVO-BRI'!$H$2:$H$4000)),ROW(B285))), \"\")","v":""},null,{"$f":"IFERROR(INDEX('MEMORIAL DESCRITIVO-BRI'!S:S,SMALL(IF('MEMORIAL DESCRITIVO-BRI'!$E$2:$E$4000=\"Sim\",ROW('MEMORIAL DESCRITIVO-BRI'!$S$2:$S$4000)),ROW(B285))), \"\")","v":""},{"$f":"IFERROR(INDEX('MEMORIAL DESCRITIVO-BRI'!Z:Z,SMALL(IF('MEMORIAL DESCRITIVO-BRI'!$E$2:$E$4000=\"Sim\",ROW('MEMORIAL DESCRITIVO-BRI'!$Z$2:$Z$4000)),ROW(B285))), \"\")","v":""},{"$f":"IFERROR(INDEX('MEMORIAL DESCRITIVO-BRI'!W:W,SMALL(IF('MEMORIAL DESCRITIVO-BRI'!$E$2:$E$4000=\"Sim\",ROW('MEMORIAL DESCRITIVO-BRI'!$W$2:$W$4000)),ROW(B285))), \"\")","v":""},{"$f":"IFERROR(INDEX('MEMORIAL DESCRITIVO-BRI'!G:G,SMALL(IF('MEMORIAL DESCRITIVO-BRI'!$E$2:$E$4000=\"Sim\",ROW('MEMORIAL DESCRITIVO-BRI'!$G$2:$G$4000)),ROW(B285))), \"\")","v":""},{"$f":"IFERROR(INDEX('MEMORIAL DESCRITIVO-BRI'!P:P,SMALL(IF('MEMORIAL DESCRITIVO-BRI'!$E$2:$E$4000=\"Sim\",ROW('MEMORIAL DESCRITIVO-BRI'!$P$2:$P$4000)),ROW(B285))), \"\")","v":""},{"$f":"IFERROR(INDEX('MEMORIAL DESCRITIVO-BRI'!Q:Q,SMALL(IF('MEMORIAL DESCRITIVO-BRI'!$E$2:$E$4000=\"Sim\",ROW('MEMORIAL DESCRITIVO-BRI'!$Q$2:$Q$4000)),ROW(B285))), \"\")","v":""}]
[null,{"$f":"IFERROR(INDEX('MEMORIAL DESCRITIVO-BRI'!B:B,SMALL(IF('MEMORIAL DESCRITIVO-BRI'!$E$2:$E$4000=\"Sim\",ROW('MEMORIAL DESCRITIVO-BRI'!$B$2:$B$4000)),ROW(B286))), \"\")","v":""},{"$f":"IFERROR(INDEX('MEMORIAL DESCRITIVO-BRI'!I:I,SMALL(IF('MEMORIAL DESCRITIVO-BRI'!$E$2:$E$4000=\"Sim\",ROW('MEMORIAL DESCRITIVO-BRI'!$I$2:$I$4000)),ROW(B286))), \"\")","v":""},{"$f":"IFERROR(INDEX('MEMORIAL DESCRITIVO-BRI'!F:F,SMALL(IF('MEMORIAL DESCRITIVO-BRI'!$E$2:$E$4000=\"Sim\",ROW('MEMORIAL DESCRITIVO-BRI'!$F$2:$F$4000)),ROW(B286))) & \" - \" & INDEX('MEMORIAL DESCRITIVO-BRI'!H:H,SMALL(IF('MEMORIAL DESCRITIVO-BRI'!$E$2:$E$4000=\"Sim\",ROW('MEMORIAL DESCRITIVO-BRI'!$H$2:$H$4000)),ROW(B286))), \"\")","v":""},null,{"$f":"IFERROR(INDEX('MEMORIAL DESCRITIVO-BRI'!S:S,SMALL(IF('MEMORIAL DESCRITIVO-BRI'!$E$2:$E$4000=\"Sim\",ROW('MEMORIAL DESCRITIVO-BRI'!$S$2:$S$4000)),ROW(B286))), \"\")","v":""},{"$f":"IFERROR(INDEX('MEMORIAL DESCRITIVO-BRI'!Z:Z,SMALL(IF('MEMORIAL DESCRITIVO-BRI'!$E$2:$E$4000=\"Sim\",ROW('MEMORIAL DESCRITIVO-BRI'!$Z$2:$Z$4000)),ROW(B286))), \"\")","v":""},{"$f":"IFERROR(INDEX('MEMORIAL DESCRITIVO-BRI'!W:W,SMALL(IF('MEMORIAL DESCRITIVO-BRI'!$E$2:$E$4000=\"Sim\",ROW('MEMORIAL DESCRITIVO-BRI'!$W$2:$W$4000)),ROW(B286))), \"\")","v":""},{"$f":"IFERROR(INDEX('MEMORIAL DESCRITIVO-BRI'!G:G,SMALL(IF('MEMORIAL DESCRITIVO-BRI'!$E$2:$E$4000=\"Sim\",ROW('MEMORIAL DESCRITIVO-BRI'!$G$2:$G$4000)),ROW(B286))), \"\")","v":""},{"$f":"IFERROR(INDEX('MEMORIAL DESCRITIVO-BRI'!P:P,SMALL(IF('MEMORIAL DESCRITIVO-BRI'!$E$2:$E$4000=\"Sim\",ROW('MEMORIAL DESCRITIVO-BRI'!$P$2:$P$4000)),ROW(B286))), \"\")","v":""},{"$f":"IFERROR(INDEX('MEMORIAL DESCRITIVO-BRI'!Q:Q,SMALL(IF('MEMORIAL DESCRITIVO-BRI'!$E$2:$E$4000=\"Sim\",ROW('MEMORIAL DESCRITIVO-BRI'!$Q$2:$Q$4000)),ROW(B286))), \"\")","v":""}]
[null,{"$f":"IFERROR(INDEX('MEMORIAL DESCRITIVO-BRI'!B:B,SMALL(IF('MEMORIAL DESCRITIVO-BRI'!$E$2:$E$4000=\"Sim\",ROW('MEMORIAL DESCRITIVO-BRI'!$B$2:$B$4000)),ROW(B287))), \"\")","v":""},{"$f":"IFERROR(INDEX('MEMORIAL DESCRITIVO-BRI'!I:I,SMALL(IF('MEMORIAL DESCRITIVO-BRI'!$E$2:$E$4000=\"Sim\",ROW('MEMORIAL DESCRITIVO-BRI'!$I$2:$I$4000)),ROW(B287))), \"\")","v":""},{"$f":"IFERROR(INDEX('MEMORIAL DESCRITIVO-BRI'!F:F,SMALL(IF('MEMORIAL DESCRITIVO-BRI'!$E$2:$E$4000=\"Sim\",ROW('MEMORIAL DESCRITIVO-BRI'!$F$2:$F$4000)),ROW(B287))) & \" - \" & INDEX('MEMORIAL DESCRITIVO-BRI'!H:H,SMALL(IF('MEMORIAL DESCRITIVO-BRI'!$E$2:$E$4000=\"Sim\",ROW('MEMORIAL DESCRITIVO-BRI'!$H$2:$H$4000)),ROW(B287))), \"\")","v":""},null,{"$f":"IFERROR(INDEX('MEMORIAL DESCRITIVO-BRI'!S:S,SMALL(IF('MEMORIAL DESCRITIVO-BRI'!$E$2:$E$4000=\"Sim\",ROW('MEMORIAL DESCRITIVO-BRI'!$S$2:$S$4000)),ROW(B287))), \"\")","v":""},{"$f":"IFERROR(INDEX('MEMORIAL DESCRITIVO-BRI'!Z:Z,SMALL(IF('MEMORIAL DESCRITIVO-BRI'!$E$2:$E$4000=\"Sim\",ROW('MEMORIAL DESCRITIVO-BRI'!$Z$2:$Z$4000)),ROW(B287))), \"\")","v":""},{"$f":"IFERROR(INDEX('MEMORIAL DESCRITIVO-BRI'!W:W,SMALL(IF('MEMORIAL DESCRITIVO-BRI'!$E$2:$E$4000=\"Sim\",ROW('MEMORIAL DESCRITIVO-BRI'!$W$2:$W$4000)),ROW(B287))), \"\")","v":""},{"$f":"IFERROR(INDEX('MEMORIAL DESCRITIVO-BRI'!G:G,SMALL(IF('MEMORIAL DESCRITIVO-BRI'!$E$2:$E$4000=\"Sim\",ROW('MEMORIAL DESCRITIVO-BRI'!$G$2:$G$4000)),ROW(B287))), \"\")","v":""},{"$f":"IFERROR(INDEX('MEMORIAL DESCRITIVO-BRI'!P:P,SMALL(IF('MEMORIAL DESCRITIVO-BRI'!$E$2:$E$4000=\"Sim\",ROW('MEMORIAL DESCRITIVO-BRI'!$P$2:$P$4000)),ROW(B287))), \"\")","v":""},{"$f":"IFERROR(INDEX('MEMORIAL DESCRITIVO-BRI'!Q:Q,SMALL(IF('MEMORIAL DESCRITIVO-BRI'!$E$2:$E$4000=\"Sim\",ROW('MEMORIAL DESCRITIVO-BRI'!$Q$2:$Q$4000)),ROW(B287))), \"\")","v":""}]
[null,{"$f":"IFERROR(INDEX('MEMORIAL DESCRITIVO-BRI'!B:B,SMALL(IF('MEMORIAL DESCRITIVO-BRI'!$E$2:$E$4000=\"Sim\",ROW('MEMORIAL DESCRITIVO-BRI'!$B$2:$B$4000)),ROW(B288))), \"\")","v":""},{"$f":"IFERROR(INDEX('MEMORIAL DESCRITIVO-BRI'!I:I,SMALL(IF('MEMORIAL DESCRITIVO-BRI'!$E$2:$E$4000=\"Sim\",ROW('MEMORIAL DESCRITIVO-BRI'!$I$2:$I$4000)),ROW(B288))), \"\")","v":""},{"$f":"IFERROR(INDEX('MEMORIAL DESCRITIVO-BRI'!F:F,SMALL(IF('MEMORIAL DESCRITIVO-BRI'!$E$2:$E$4000=\"Sim\",ROW('MEMORIAL DESCRITIVO-BRI'!$F$2:$F$4000)),ROW(B288))) & \" - \" & INDEX('MEMORIAL DESCRITIVO-BRI'!H:H,SMALL(IF('MEMORIAL DESCRITIVO-BRI'!$E$2:$E$4000=\"Sim\",ROW('MEMORIAL DESCRITIVO-BRI'!$H$2:$H$4000)),ROW(B288))), \"\")","v":""},null,{"$f":"IFERROR(INDEX('MEMORIAL DESCRITIVO-BRI'!S:S,SMALL(IF('MEMORIAL DESCRITIVO-BRI'!$E$2:$E$4000=\"Sim\",ROW('MEMORIAL DESCRITIVO-BRI'!$S$2:$S$4000)),ROW(B288))), \"\")","v":""},{"$f":"IFERROR(INDEX('MEMORIAL DESCRITIVO-BRI'!Z:Z,SMALL(IF('MEMORIAL DESCRITIVO-BRI'!$E$2:$E$4000=\"Sim\",ROW('MEMORIAL DESCRITIVO-BRI'!$Z$2:$Z$4000)),ROW(B288))), \"\")","v":""},{"$f":"IFERROR(INDEX('MEMORIAL DESCRITIVO-BRI'!W:W,SMALL(IF('MEMORIAL DESCRITIVO-BRI'!$E$2:$E$4000=\"Sim\",ROW('MEMORIAL DESCRITIVO-BRI'!$W$2:$W$4000)),ROW(B288))), \"\")","v":""},{"$f":"IFERROR(INDEX('MEMORIAL DESCRITIVO-BRI'!G:G,SMALL(IF('MEMORIAL DESCRITIVO-BRI'!$E$2:$E$4000=\"Sim\",ROW('MEMORIAL DESCRITIVO-BRI'!$G$2:$G$4000)),ROW(B288))), \"\")","v":""},{"$f":"IFERROR(INDEX('MEMORIAL DESCRITIVO-BRI'!P:P,SMALL(IF('MEMORIAL DESCRITIVO-BRI'!$E$2:$E$4000=\"Sim\",ROW('MEMORIAL DESCRITIVO-BRI'!$P$2:$P$4000)),ROW(B288))), \"\")","v":""},{"$f":"IFERROR(INDEX('MEMORIAL DESCRITIVO-BRI'!Q:Q,SMALL(IF('MEMORIAL DESCRITIVO-BRI'!$E$2:$E$4000=\"Sim\",ROW('MEMORIAL DESCRITIVO-BRI'!$Q$2:$Q$4000)),ROW(B288))), \"\")","v":""}]
[null,{"$f":"IFERROR(INDEX('MEMORIAL DESCRITIVO-BRI'!B:B,SMALL(IF('MEMORIAL DESCRITIVO-BRI'!$E$2:$E$4000=\"Sim\",ROW('MEMORIAL DESCRITIVO-BRI'!$B$2:$B$4000)),ROW(B289))), \"\")","v":""},{"$f":"IFERROR(INDEX('MEMORIAL DESCRITIVO-BRI'!I:I,SMALL(IF('MEMORIAL DESCRITIVO-BRI'!$E$2:$E$4000=\"Sim\",ROW('MEMORIAL DESCRITIVO-BRI'!$I$2:$I$4000)),ROW(B289))), \"\")","v":""},{"$f":"IFERROR(INDEX('MEMORIAL DESCRITIVO-BRI'!F:F,SMALL(IF('MEMORIAL DESCRITIVO-BRI'!$E$2:$E$4000=\"Sim\",ROW('MEMORIAL DESCRITIVO-BRI'!$F$2:$F$4000)),ROW(B289))) & \" - \" & INDEX('MEMORIAL DESCRITIVO-BRI'!H:H,SMALL(IF('MEMORIAL DESCRITIVO-BRI'!$E$2:$E$4000=\"Sim\",ROW('MEMORIAL DESCRITIVO-BRI'!$H$2:$H$4000)),ROW(B289))), \"\")","v":""},null,{"$f":"IFERROR(INDEX('MEMORIAL DESCRITIVO-BRI'!S:S,SMALL(IF('MEMORIAL DESCRITIVO-BRI'!$E$2:$E$4000=\"Sim\",ROW('MEMORIAL DESCRITIVO-BRI'!$S$2:$S$4000)),ROW(B289))), \"\")","v":""},{"$f":"IFERROR(INDEX('MEMORIAL DESCRITIVO-BRI'!Z:Z,SMALL(IF('MEMORIAL DESCRITIVO-BRI'!$E$2:$E$4000=\"Sim\",ROW('MEMORIAL DESCRITIVO-BRI'!$Z$2:$Z$4000)),ROW(B289))), \"\")","v":""},{"$f":"IFERROR(INDEX('MEMORIAL DESCRITIVO-BRI'!W:W,SMALL(IF('MEMORIAL DESCRITIVO-BRI'!$E$2:$E$4000=\"Sim\",ROW('MEMORIAL DESCRITIVO-BRI'!$W$2:$W$4000)),ROW(B289))), \"\")","v":""},{"$f":"IFERROR(INDEX('MEMORIAL DESCRITIVO-BRI'!G:G,SMALL(IF('MEMORIAL DESCRITIVO-BRI'!$E$2:$E$4000=\"Sim\",ROW('MEMORIAL DESCRITIVO-BRI'!$G$2:$G$4000)),ROW(B289))), \"\")","v":""},{"$f":"IFERROR(INDEX('MEMORIAL DESCRITIVO-BRI'!P:P,SMALL(IF('MEMORIAL DESCRITIVO-BRI'!$E$2:$E$4000=\"Sim\",ROW('MEMORIAL DESCRITIVO-BRI'!$P$2:$P$4000)),ROW(B289))), \"\")","v":""},{"$f":"IFERROR(INDEX('MEMORIAL DESCRITIVO-BRI'!Q:Q,SMALL(IF('MEMORIAL DESCRITIVO-BRI'!$E$2:$E$4000=\"Sim\",ROW('MEMORIAL DESCRITIVO-BRI'!$Q$2:$Q$4000)),ROW(B289))), \"\")","v":""}]
[null,{"$f":"IFERROR(INDEX('MEMORIAL DESCRITIVO-BRI'!B:B,SMALL(IF('MEMORIAL DESCRITIVO-BRI'!$E$2:$E$4000=\"Sim\",ROW('MEMORIAL DESCRITIVO-BRI'!$B$2:$B$4000)),ROW(B290))), \"\")","v":""},{"$f":"IFERROR(INDEX('MEMORIAL DESCRITIVO-BRI'!I:I,SMALL(IF('MEMORIAL DESCRITIVO-BRI'!$E$2:$E$4000=\"Sim\",ROW('MEMORIAL DESCRITIVO-BRI'!$I$2:$I$4000)),ROW(B290))), \"\")","v":""},{"$f":"IFERROR(INDEX('MEMORIAL DESCRITIVO-BRI'!F:F,SMALL(IF('MEMORIAL DESCRITIVO-BRI'!$E$2:$E$4000=\"Sim\",ROW('MEMORIAL DESCRITIVO-BRI'!$F$2:$F$4000)),ROW(B290))) & \" - \" & INDEX('MEMORIAL DESCRITIVO-BRI'!H:H,SMALL(IF('MEMORIAL DESCRITIVO-BRI'!$E$2:$E$4000=\"Sim\",ROW('MEMORIAL DESCRITIVO-BRI'!$H$2:$H$4000)),ROW(B290))), \"\")","v":""},null,{"$f":"IFERROR(INDEX('MEMORIAL DESCRITIVO-BRI'!S:S,SMALL(IF('MEMORIAL DESCRITIVO-BRI'!$E$2:$E$4000=\"Sim\",ROW('MEMORIAL DESCRITIVO-BRI'!$S$2:$S$4000)),ROW(B290))), \"\")","v":""},{"$f":"IFERROR(INDEX('MEMORIAL DESCRITIVO-BRI'!Z:Z,SMALL(IF('MEMORIAL DESCRITIVO-BRI'!$E$2:$E$4000=\"Sim\",ROW('MEMORIAL DESCRITIVO-BRI'!$Z$2:$Z$4000)),ROW(B290))), \"\")","v":""},{"$f":"IFERROR(INDEX('MEMORIAL DESCRITIVO-BRI'!W:W,SMALL(IF('MEMORIAL DESCRITIVO-BRI'!$E$2:$E$4000=\"Sim\",ROW('MEMORIAL DESCRITIVO-BRI'!$W$2:$W$4000)),ROW(B290))), \"\")","v":""},{"$f":"IFERROR(INDEX('MEMORIAL DESCRITIVO-BRI'!G:G,SMALL(IF('MEMORIAL DESCRITIVO-BRI'!$E$2:$E$4000=\"Sim\",ROW('MEMORIAL DESCRITIVO-BRI'!$G$2:$G$4000)),ROW(B290))), \"\")","v":""},{"$f":"IFERROR(INDEX('MEMORIAL DESCRITIVO-BRI'!P:P,SMALL(IF('MEMORIAL DESCRITIVO-BRI'!$E$2:$E$4000=\"Sim\",ROW('MEMORIAL DESCRITIVO-BRI'!$P$2:$P$4000)),ROW(B290))), \"\")","v":""},{"$f":"IFERROR(INDEX('MEMORIAL DESCRITIVO-BRI'!Q:Q,SMALL(IF('MEMORIAL DESCRITIVO-BRI'!$E$2:$E$4000=\"Sim\",ROW('MEMORIAL DESCRITIVO-BRI'!$Q$2:$Q$4000)),ROW(B290))), \"\")","v":""}]
[null,{"$f":"IFERROR(INDEX('MEMORIAL DESCRITIVO-BRI'!B:B,SMALL(IF('MEMORIAL DESCRITIVO-BRI'!$E$2:$E$4000=\"Sim\",ROW('MEMORIAL DESCRITIVO-BRI'!$B$2:$B$4000)),ROW(B291))), \"\")","v":""},{"$f":"IFERROR(INDEX('MEMORIAL DESCRITIVO-BRI'!I:I,SMALL(IF('MEMORIAL DESCRITIVO-BRI'!$E$2:$E$4000=\"Sim\",ROW('MEMORIAL DESCRITIVO-BRI'!$I$2:$I$4000)),ROW(B291))), \"\")","v":""},{"$f":"IFERROR(INDEX('MEMORIAL DESCRITIVO-BRI'!F:F,SMALL(IF('MEMORIAL DESCRITIVO-BRI'!$E$2:$E$4000=\"Sim\",ROW('MEMORIAL DESCRITIVO-BRI'!$F$2:$F$4000)),ROW(B291))) & \" - \" & INDEX('MEMORIAL DESCRITIVO-BRI'!H:H,SMALL(IF('MEMORIAL DESCRITIVO-BRI'!$E$2:$E$4000=\"Sim\",ROW('MEMORIAL DESCRITIVO-BRI'!$H$2:$H$4000)),ROW(B291))), \"\")","v":""},null,{"$f":"IFERROR(INDEX('MEMORIAL DESCRITIVO-BRI'!S:S,SMALL(IF('MEMORIAL DESCRITIVO-BRI'!$E$2:$E$4000=\"Sim\",ROW('MEMORIAL DESCRITIVO-BRI'!$S$2:$S$4000)),ROW(B291))), \"\")","v":""},{"$f":"IFERROR(INDEX('MEMORIAL DESCRITIVO-BRI'!Z:Z,SMALL(IF('MEMORIAL DESCRITIVO-BRI'!$E$2:$E$4000=\"Sim\",ROW('MEMORIAL DESCRITIVO-BRI'!$Z$2:$Z$4000)),ROW(B291))), \"\")","v":""},{"$f":"IFERROR(INDEX('MEMORIAL DESCRITIVO-BRI'!W:W,SMALL(IF('MEMORIAL DESCRITIVO-BRI'!$E$2:$E$4000=\"Sim\",ROW('MEMORIAL DESCRITIVO-BRI'!$W$2:$W$4000)),ROW(B291))), \"\")","v":""},{"$f":"IFERROR(INDEX('MEMORIAL DESCRITIVO-BRI'!G:G,SMALL(IF('MEMORIAL DESCRITIVO-BRI'!$E$2:$E$4000=\"Sim\",ROW('MEMORIAL DESCRITIVO-BRI'!$G$2:$G$4000)),ROW(B291))), \"\")","v":""},{"$f":"IFERROR(INDEX('MEMORIAL DESCRITIVO-BRI'!P:P,SMALL(IF('MEMORIAL DESCRITIVO-BRI'!$E$2:$E$4000=\"Sim\",ROW('MEMORIAL DESCRITIVO-BRI'!$P$2:$P$4000)),ROW(B291))), \"\")","v":""},{"$f":"IFERROR(INDEX('MEMORIAL DESCRITIVO-BRI'!Q:Q,SMALL(IF('MEMORIAL DESCRITIVO-BRI'!$E$2:$E$4000=\"Sim\",ROW('MEMORIAL DESCRITIVO-BRI'!$Q$2:$Q$4000)),ROW(B291))), \"\")","v":""}]
[null,{"$f":"IFERROR(INDEX('MEMORIAL DESCRITIVO-BRI'!B:B,SMALL(IF('MEMORIAL DESCRITIVO-BRI'!$E$2:$E$4000=\"Sim\",ROW('MEMORIAL DESCRITIVO-BRI'!$B$2:$B$4000)),ROW(B292))), \"\")","v":""},{"$f":"IFERROR(INDEX('MEMORIAL DESCRITIVO-BRI'!I:I,SMALL(IF('MEMORIAL DESCRITIVO-BRI'!$E$2:$E$4000=\"Sim\",ROW('MEMORIAL DESCRITIVO-BRI'!$I$2:$I$4000)),ROW(B292))), \"\")","v":""},{"$f":"IFERROR(INDEX('MEMORIAL DESCRITIVO-BRI'!F:F,SMALL(IF('MEMORIAL DESCRITIVO-BRI'!$E$2:$E$4000=\"Sim\",ROW('MEMORIAL DESCRITIVO-BRI'!$F$2:$F$4000)),ROW(B292))) & \" - \" & INDEX('MEMORIAL DESCRITIVO-BRI'!H:H,SMALL(IF('MEMORIAL DESCRITIVO-BRI'!$E$2:$E$4000=\"Sim\",ROW('MEMORIAL DESCRITIVO-BRI'!$H$2:$H$4000)),ROW(B292))), \"\")","v":""},null,{"$f":"IFERROR(INDEX('MEMORIAL DESCRITIVO-BRI'!S:S,SMALL(IF('MEMORIAL DESCRITIVO-BRI'!$E$2:$E$4000=\"Sim\",ROW('MEMORIAL DESCRITIVO-BRI'!$S$2:$S$4000)),ROW(B292))), \"\")","v":""},{"$f":"IFERROR(INDEX('MEMORIAL DESCRITIVO-BRI'!Z:Z,SMALL(IF('MEMORIAL DESCRITIVO-BRI'!$E$2:$E$4000=\"Sim\",ROW('MEMORIAL DESCRITIVO-BRI'!$Z$2:$Z$4000)),ROW(B292))), \"\")","v":""},{"$f":"IFERROR(INDEX('MEMORIAL DESCRITIVO-BRI'!W:W,SMALL(IF('MEMORIAL DESCRITIVO-BRI'!$E$2:$E$4000=\"Sim\",ROW('MEMORIAL DESCRITIVO-BRI'!$W$2:$W$4000)),ROW(B292))), \"\")","v":""},{"$f":"IFERROR(INDEX('MEMORIAL DESCRITIVO-BRI'!G:G,SMALL(IF('MEMORIAL DESCRITIVO-BRI'!$E$2:$E$4000=\"Sim\",ROW('MEMORIAL DESCRITIVO-BRI'!$G$2:$G$4000)),ROW(B292))), \"\")","v":""},{"$f":"IFERROR(INDEX('MEMORIAL DESCRITIVO-BRI'!P:P,SMALL(IF('MEMORIAL DESCRITIVO-BRI'!$E$2:$E$4000=\"Sim\",ROW('MEMORIAL DESCRITIVO-BRI'!$P$2:$P$4000)),ROW(B292))), \"\")","v":""},{"$f":"IFERROR(INDEX('MEMORIAL DESCRITIVO-BRI'!Q:Q,SMALL(IF('MEMORIAL DESCRITIVO-BRI'!$E$2:$E$4000=\"Sim\",ROW('MEMORIAL DESCRITIVO-BRI'!$Q$2:$Q$4000)),ROW(B292))), \"\")","v":""}]
[null,{"$f":"IFERROR(INDEX('MEMORIAL DESCRITIVO-BRI'!B:B,SMALL(IF('MEMORIAL DESCRITIVO-BRI'!$E$2:$E$4000=\"Sim\",ROW('MEMORIAL DESCRITIVO-BRI'!$B$2:$B$4000)),ROW(B293))), \"\")","v":""},{"$f":"IFERROR(INDEX('MEMORIAL DESCRITIVO-BRI'!I:I,SMALL(IF('MEMORIAL DESCRITIVO-BRI'!$E$2:$E$4000=\"Sim\",ROW('MEMORIAL DESCRITIVO-BRI'!$I$2:$I$4000)),ROW(B293))), \"\")","v":""},{"$f":"IFERROR(INDEX('MEMORIAL DESCRITIVO-BRI'!F:F,SMALL(IF('MEMORIAL DESCRITIVO-BRI'!$E$2:$E$4000=\"Sim\",ROW('MEMORIAL DESCRITIVO-BRI'!$F$2:$F$4000)),ROW(B293))) & \" - \" & INDEX('MEMORIAL DESCRITIVO-BRI'!H:H,SMALL(IF('MEMORIAL DESCRITIVO-BRI'!$E$2:$E$4000=\"Sim\",ROW('MEMORIAL DESCRITIVO-BRI'!$H$2:$H$4000)),ROW(B293))), \"\")","v":""},null,{"$f":"IFERROR(INDEX('MEMORIAL DESCRITIVO-BRI'!S:S,SMALL(IF('MEMORIAL DESCRITIVO-BRI'!$E$2:$E$4000=\"Sim\",ROW('MEMORIAL DESCRITIVO-BRI'!$S$2:$S$4000)),ROW(B293))), \"\")","v":""},{"$f":"IFERROR(INDEX('MEMORIAL DESCRITIVO-BRI'!Z:Z,SMALL(IF('MEMORIAL DESCRITIVO-BRI'!$E$2:$E$4000=\"Sim\",ROW('MEMORIAL DESCRITIVO-BRI'!$Z$2:$Z$4000)),ROW(B293))), \"\")","v":""},{"$f":"IFERROR(INDEX('MEMORIAL DESCRITIVO-BRI'!W:W,SMALL(IF('MEMORIAL DESCRITIVO-BRI'!$E$2:$E$4000=\"Sim\",ROW('MEMORIAL DESCRITIVO-BRI'!$W$2:$W$4000)),ROW(B293))), \"\")","v":""},{"$f":"IFERROR(INDEX('MEMORIAL DESCRITIVO-BRI'!G:G,SMALL(IF('MEMORIAL DESCRITIVO-BRI'!$E$2:$E$4000=\"Sim\",ROW('MEMORIAL DESCRITIVO-BRI'!$G$2:$G$4000)),ROW(B293))), \"\")","v":""},{"$f":"IFERROR(INDEX('MEMORIAL DESCRITIVO-BRI'!P:P,SMALL(IF('MEMORIAL DESCRITIVO-BRI'!$E$2:$E$4000=\"Sim\",ROW('MEMORIAL DESCRITIVO-BRI'!$P$2:$P$4000)),ROW(B293))), \"\")","v":""},{"$f":"IFERROR(INDEX('MEMORIAL DESCRITIVO-BRI'!Q:Q,SMALL(IF('MEMORIAL DESCRITIVO-BRI'!$E$2:$E$4000=\"Sim\",ROW('MEMORIAL DESCRITIVO-BRI'!$Q$2:$Q$4000)),ROW(B293))), \"\")","v":""}]
[null,{"$f":"IFERROR(INDEX('MEMORIAL DESCRITIVO-BRI'!B:B,SMALL(IF('MEMORIAL DESCRITIVO-BRI'!$E$2:$E$4000=\"Sim\",ROW('MEMORIAL DESCRITIVO-BRI'!$B$2:$B$4000)),ROW(B294))), \"\")","v":""},{"$f":"IFERROR(INDEX('MEMORIAL DESCRITIVO-BRI'!I:I,SMALL(IF('MEMORIAL DESCRITIVO-BRI'!$E$2:$E$4000=\"Sim\",ROW('MEMORIAL DESCRITIVO-BRI'!$I$2:$I$4000)),ROW(B294))), \"\")","v":""},{"$f":"IFERROR(INDEX('MEMORIAL DESCRITIVO-BRI'!F:F,SMALL(IF('MEMORIAL DESCRITIVO-BRI'!$E$2:$E$4000=\"Sim\",ROW('MEMORIAL DESCRITIVO-BRI'!$F$2:$F$4000)),ROW(B294))) & \" - \" & INDEX('MEMORIAL DESCRITIVO-BRI'!H:H,SMALL(IF('MEMORIAL DESCRITIVO-BRI'!$E$2:$E$4000=\"Sim\",ROW('MEMORIAL DESCRITIVO-BRI'!$H$2:$H$4000)),ROW(B294))), \"\")","v":""},null,{"$f":"IFERROR(INDEX('MEMORIAL DESCRITIVO-BRI'!S:S,SMALL(IF('MEMORIAL DESCRITIVO-BRI'!$E$2:$E$4000=\"Sim\",ROW('MEMORIAL DESCRITIVO-BRI'!$S$2:$S$4000)),ROW(B294))), \"\")","v":""},{"$f":"IFERROR(INDEX('MEMORIAL DESCRITIVO-BRI'!Z:Z,SMALL(IF('MEMORIAL DESCRITIVO-BRI'!$E$2:$E$4000=\"Sim\",ROW('MEMORIAL DESCRITIVO-BRI'!$Z$2:$Z$4000)),ROW(B294))), \"\")","v":""},{"$f":"IFERROR(INDEX('MEMORIAL DESCRITIVO-BRI'!W:W,SMALL(IF('MEMORIAL DESCRITIVO-BRI'!$E$2:$E$4000=\"Sim\",ROW('MEMORIAL DESCRITIVO-BRI'!$W$2:$W$4000)),ROW(B294))), \"\")","v":""},{"$f":"IFERROR(INDEX('MEMORIAL DESCRITIVO-BRI'!G:G,SMALL(IF('MEMORIAL DESCRITIVO-BRI'!$E$2:$E$4000=\"Sim\",ROW('MEMORIAL DESCRITIVO-BRI'!$G$2:$G$4000)),ROW(B294))), \"\")","v":""},{"$f":"IFERROR(INDEX('MEMORIAL DESCRITIVO-BRI'!P:P,SMALL(IF('MEMORIAL DESCRITIVO-BRI'!$E$2:$E$4000=\"Sim\",ROW('MEMORIAL DESCRITIVO-BRI'!$P$2:$P$4000)),ROW(B294))), \"\")","v":""},{"$f":"IFERROR(INDEX('MEMORIAL DESCRITIVO-BRI'!Q:Q,SMALL(IF('MEMORIAL DESCRITIVO-BRI'!$E$2:$E$4000=\"Sim\",ROW('MEMORIAL DESCRITIVO-BRI'!$Q$2:$Q$4000)),ROW(B294))), \"\")","v":""}]
[null,{"$f":"IFERROR(INDEX('MEMORIAL DESCRITIVO-BRI'!B:B,SMALL(IF('MEMORIAL DESCRITIVO-BRI'!$E$2:$E$4000=\"Sim\",ROW('MEMORIAL DESCRITIVO-BRI'!$B$2:$B$4000)),ROW(B295))), \"\")","v":""},{"$f":"IFERROR(INDEX('MEMORIAL DESCRITIVO-BRI'!I:I,SMALL(IF('MEMORIAL DESCRITIVO-BRI'!$E$2:$E$4000=\"Sim\",ROW('MEMORIAL DESCRITIVO-BRI'!$I$2:$I$4000)),ROW(B295))), \"\")","v":""},{"$f":"IFERROR(INDEX('MEMORIAL DESCRITIVO-BRI'!F:F,SMALL(IF('MEMORIAL DESCRITIVO-BRI'!$E$2:$E$4000=\"Sim\",ROW('MEMORIAL DESCRITIVO-BRI'!$F$2:$F$4000)),ROW(B295))) & \" - \" & INDEX('MEMORIAL DESCRITIVO-BRI'!H:H,SMALL(IF('MEMORIAL DESCRITIVO-BRI'!$E$2:$E$4000=\"Sim\",ROW('MEMORIAL DESCRITIVO-BRI'!$H$2:$H$4000)),ROW(B295))), \"\")","v":""},null,{"$f":"IFERROR(INDEX('MEMORIAL DESCRITIVO-BRI'!S:S,SMALL(IF('MEMORIAL DESCRITIVO-BRI'!$E$2:$E$4000=\"Sim\",ROW('MEMORIAL DESCRITIVO-BRI'!$S$2:$S$4000)),ROW(B295))), \"\")","v":""},{"$f":"IFERROR(INDEX('MEMORIAL DESCRITIVO-BRI'!Z:Z,SMALL(IF('MEMORIAL DESCRITIVO-BRI'!$E$2:$E$4000=\"Sim\",ROW('MEMORIAL DESCRITIVO-BRI'!$Z$2:$Z$4000)),ROW(B295))), \"\")","v":""},{"$f":"IFERROR(INDEX('MEMORIAL DESCRITIVO-BRI'!W:W,SMALL(IF('MEMORIAL DESCRITIVO-BRI'!$E$2:$E$4000=\"Sim\",ROW('MEMORIAL DESCRITIVO-BRI'!$W$2:$W$4000)),ROW(B295))), \"\")","v":""},{"$f":"IFERROR(INDEX('MEMORIAL DESCRITIVO-BRI'!G:G,SMALL(IF('MEMORIAL DESCRITIVO-BRI'!$E$2:$E$4000=\"Sim\",ROW('MEMORIAL DESCRITIVO-BRI'!$G$2:$G$4000)),ROW(B295))), \"\")","v":""},{"$f":"IFERROR(INDEX('MEMORIAL DESCRITIVO-BRI'!P:P,SMALL(IF('MEMORIAL DESCRITIVO-BRI'!$E$2:$E$4000=\"Sim\",ROW('MEMORIAL DESCRITIVO-BRI'!$P$2:$P$4000)),ROW(B295))), \"\")","v":""},{"$f":"IFERROR(INDEX('MEMORIAL DESCRITIVO-BRI'!Q:Q,SMALL(IF('MEMORIAL DESCRITIVO-BRI'!$E$2:$E$4000=\"Sim\",ROW('MEMORIAL DESCRITIVO-BRI'!$Q$2:$Q$4000)),ROW(B295))), \"\")","v":""}]
[null,{"$f":"IFERROR(INDEX('MEMORIAL DESCRITIVO-BRI'!B:B,SMALL(IF('MEMORIAL DESCRITIVO-BRI'!$E$2:$E$4000=\"Sim\",ROW('MEMORIAL DESCRITIVO-BRI'!$B$2:$B$4000)),ROW(B296))), \"\")","v":""},{"$f":"IFERROR(INDEX('MEMORIAL DESCRITIVO-BRI'!I:I,SMALL(IF('MEMORIAL DESCRITIVO-BRI'!$E$2:$E$4000=\"Sim\",ROW('MEMORIAL DESCRITIVO-BRI'!$I$2:$I$4000)),ROW(B296))), \"\")","v":""},{"$f":"IFERROR(INDEX('MEMORIAL DESCRITIVO-BRI'!F:F,SMALL(IF('MEMORIAL DESCRITIVO-BRI'!$E$2:$E$4000=\"Sim\",ROW('MEMORIAL DESCRITIVO-BRI'!$F$2:$F$4000)),ROW(B296))) & \" - \" & INDEX('MEMORIAL DESCRITIVO-BRI'!H:H,SMALL(IF('MEMORIAL DESCRITIVO-BRI'!$E$2:$E$4000=\"Sim\",ROW('MEMORIAL DESCRITIVO-BRI'!$H$2:$H$4000)),ROW(B296))), \"\")","v":""},null,{"$f":"IFERROR(INDEX('MEMORIAL DESCRITIVO-BRI'!S:S,SMALL(IF('MEMORIAL DESCRITIVO-BRI'!$E$2:$E$4000=\"Sim\",ROW('MEMORIAL DESCRITIVO-BRI'!$S$2:$S$4000)),ROW(B296))), \"\")","v":""},{"$f":"IFERROR(INDEX('MEMORIAL DESCRITIVO-BRI'!Z:Z,SMALL(IF('MEMORIAL DESCRITIVO-BRI'!$E$2:$E$4000=\"Sim\",ROW('MEMORIAL DESCRITIVO-BRI'!$Z$2:$Z$4000)),ROW(B296))), \"\")","v":""},{"$f":"IFERROR(INDEX('MEMORIAL DESCRITIVO-BRI'!W:W,SMALL(IF('MEMORIAL DESCRITIVO-BRI'!$E$2:$E$4000=\"Sim\",ROW('MEMORIAL DESCRITIVO-BRI'!$W$2:$W$4000)),ROW(B296))), \"\")","v":""},{"$f":"IFERROR(INDEX('MEMORIAL DESCRITIVO-BRI'!G:G,SMALL(IF('MEMORIAL DESCRITIVO-BRI'!$E$2:$E$4000=\"Sim\",ROW('MEMORIAL DESCRITIVO-BRI'!$G$2:$G$4000)),ROW(B296))), \"\")","v":""},{"$f":"IFERROR(INDEX('MEMORIAL DESCRITIVO-BRI'!P:P,SMALL(IF('MEMORIAL DESCRITIVO-BRI'!$E$2:$E$4000=\"Sim\",ROW('MEMORIAL DESCRITIVO-BRI'!$P$2:$P$4000)),ROW(B296))), \"\")","v":""},{"$f":"IFERROR(INDEX('MEMORIAL DESCRITIVO-BRI'!Q:Q,SMALL(IF('MEMORIAL DESCRITIVO-BRI'!$E$2:$E$4000=\"Sim\",ROW('MEMORIAL DESCRITIVO-BRI'!$Q$2:$Q$4000)),ROW(B296))), \"\")","v":""}]
[null,{"$f":"IFERROR(INDEX('MEMORIAL DESCRITIVO-BRI'!B:B,SMALL(IF('MEMORIAL DESCRITIVO-BRI'!$E$2:$E$4000=\"Sim\",ROW('MEMORIAL DESCRITIVO-BRI'!$B$2:$B$4000)),ROW(B297))), \"\")","v":""},{"$f":"IFERROR(INDEX('MEMORIAL DESCRITIVO-BRI'!I:I,SMALL(IF('MEMORIAL DESCRITIVO-BRI'!$E$2:$E$4000=\"Sim\",ROW('MEMORIAL DESCRITIVO-BRI'!$I$2:$I$4000)),ROW(B297))), \"\")","v":""},{"$f":"IFERROR(INDEX('MEMORIAL DESCRITIVO-BRI'!F:F,SMALL(IF('MEMORIAL DESCRITIVO-BRI'!$E$2:$E$4000=\"Sim\",ROW('MEMORIAL DESCRITIVO-BRI'!$F$2:$F$4000)),ROW(B297))) & \" - \" & INDEX('MEMORIAL DESCRITIVO-BRI'!H:H,SMALL(IF('MEMORIAL DESCRITIVO-BRI'!$E$2:$E$4000=\"Sim\",ROW('MEMORIAL DESCRITIVO-BRI'!$H$2:$H$4000)),ROW(B297))), \"\")","v":""},null,{"$f":"IFERROR(INDEX('MEMORIAL DESCRITIVO-BRI'!S:S,SMALL(IF('MEMORIAL DESCRITIVO-BRI'!$E$2:$E$4000=\"Sim\",ROW('MEMORIAL DESCRITIVO-BRI'!$S$2:$S$4000)),ROW(B297))), \"\")","v":""},{"$f":"IFERROR(INDEX('MEMORIAL DESCRITIVO-BRI'!Z:Z,SMALL(IF('MEMORIAL DESCRITIVO-BRI'!$E$2:$E$4000=\"Sim\",ROW('MEMORIAL DESCRITIVO-BRI'!$Z$2:$Z$4000)),ROW(B297))), \"\")","v":""},{"$f":"IFERROR(INDEX('MEMORIAL DESCRITIVO-BRI'!W:W,SMALL(IF('MEMORIAL DESCRITIVO-BRI'!$E$2:$E$4000=\"Sim\",ROW('MEMORIAL DESCRITIVO-BRI'!$W$2:$W$4000)),ROW(B297))), \"\")","v":""},{"$f":"IFERROR(INDEX('MEMORIAL DESCRITIVO-BRI'!G:G,SMALL(IF('MEMORIAL DESCRITIVO-BRI'!$E$2:$E$4000=\"Sim\",ROW('MEMORIAL DESCRITIVO-BRI'!$G$2:$G$4000)),ROW(B297))), \"\")","v":""},{"$f":"IFERROR(INDEX('MEMORIAL DESCRITIVO-BRI'!P:P,SMALL(IF('MEMORIAL DESCRITIVO-BRI'!$E$2:$E$4000=\"Sim\",ROW('MEMORIAL DESCRITIVO-BRI'!$P$2:$P$4000)),ROW(B297))), \"\")","v":""},{"$f":"IFERROR(INDEX('MEMORIAL DESCRITIVO-BRI'!Q:Q,SMALL(IF('MEMORIAL DESCRITIVO-BRI'!$E$2:$E$4000=\"Sim\",ROW('MEMORIAL DESCRITIVO-BRI'!$Q$2:$Q$4000)),ROW(B297))), \"\")","v":""}]
[null,{"$f":"IFERROR(INDEX('MEMORIAL DESCRITIVO-BRI'!B:B,SMALL(IF('MEMORIAL DESCRITIVO-BRI'!$E$2:$E$4000=\"Sim\",ROW('MEMORIAL DESCRITIVO-BRI'!$B$2:$B$4000)),ROW(B298))), \"\")","v":""},{"$f":"IFERROR(INDEX('MEMORIAL DESCRITIVO-BRI'!I:I,SMALL(IF('MEMORIAL DESCRITIVO-BRI'!$E$2:$E$4000=\"Sim\",ROW('MEMORIAL DESCRITIVO-BRI'!$I$2:$I$4000)),ROW(B298))), \"\")","v":""},{"$f":"IFERROR(INDEX('MEMORIAL DESCRITIVO-BRI'!F:F,SMALL(IF('MEMORIAL DESCRITIVO-BRI'!$E$2:$E$4000=\"Sim\",ROW('MEMORIAL DESCRITIVO-BRI'!$F$2:$F$4000)),ROW(B298))) & \" - \" & INDEX('MEMORIAL DESCRITIVO-BRI'!H:H,SMALL(IF('MEMORIAL DESCRITIVO-BRI'!$E$2:$E$4000=\"Sim\",ROW('MEMORIAL DESCRITIVO-BRI'!$H$2:$H$4000)),ROW(B298))), \"\")","v":""},null,{"$f":"IFERROR(INDEX('MEMORIAL DESCRITIVO-BRI'!S:S,SMALL(IF('MEMORIAL DESCRITIVO-BRI'!$E$2:$E$4000=\"Sim\",ROW('MEMORIAL DESCRITIVO-BRI'!$S$2:$S$4000)),ROW(B298))), \"\")","v":""},{"$f":"IFERROR(INDEX('MEMORIAL DESCRITIVO-BRI'!Z:Z,SMALL(IF('MEMORIAL DESCRITIVO-BRI'!$E$2:$E$4000=\"Sim\",ROW('MEMORIAL DESCRITIVO-BRI'!$Z$2:$Z$4000)),ROW(B298))), \"\")","v":""},{"$f":"IFERROR(INDEX('MEMORIAL DESCRITIVO-BRI'!W:W,SMALL(IF('MEMORIAL DESCRITIVO-BRI'!$E$2:$E$4000=\"Sim\",ROW('MEMORIAL DESCRITIVO-BRI'!$W$2:$W$4000)),ROW(B298))), \"\")","v":""},{"$f":"IFERROR(INDEX('MEMORIAL DESCRITIVO-BRI'!G:G,SMALL(IF('MEMORIAL DESCRITIVO-BRI'!$E$2:$E$4000=\"Sim\",ROW('MEMORIAL DESCRITIVO-BRI'!$G$2:$G$4000)),ROW(B298))), \"\")","v":""},{"$f":"IFERROR(INDEX('MEMORIAL DESCRITIVO-BRI'!P:P,SMALL(IF('MEMORIAL DESCRITIVO-BRI'!$E$2:$E$4000=\"Sim\",ROW('MEMORIAL DESCRITIVO-BRI'!$P$2:$P$4000)),ROW(B298))), \"\")","v":""},{"$f":"IFERROR(INDEX('MEMORIAL DESCRITIVO-BRI'!Q:Q,SMALL(IF('MEMORIAL DESCRITIVO-BRI'!$E$2:$E$4000=\"Sim\",ROW('MEMORIAL DESCRITIVO-BRI'!$Q$2:$Q$4000)),ROW(B298))), \"\")","v":""}]
[null,{"$f":"IFERROR(INDEX('MEMORIAL DESCRITIVO-BRI'!B:B,SMALL(IF('MEMORIAL DESCRITIVO-BRI'!$E$2:$E$4000=\"Sim\",ROW('MEMORIAL DESCRITIVO-BRI'!$B$2:$B$4000)),ROW(B299))), \"\")","v":""},{"$f":"IFERROR(INDEX('MEMORIAL DESCRITIVO-BRI'!I:I,SMALL(IF('MEMORIAL DESCRITIVO-BRI'!$E$2:$E$4000=\"Sim\",ROW('MEMORIAL DESCRITIVO-BRI'!$I$2:$I$4000)),ROW(B299))), \"\")","v":""},{"$f":"IFERROR(INDEX('MEMORIAL DESCRITIVO-BRI'!F:F,SMALL(IF('MEMORIAL DESCRITIVO-BRI'!$E$2:$E$4000=\"Sim\",ROW('MEMORIAL DESCRITIVO-BRI'!$F$2:$F$4000)),ROW(B299))) & \" - \" & INDEX('MEMORIAL DESCRITIVO-BRI'!H:H,SMALL(IF('MEMORIAL DESCRITIVO-BRI'!$E$2:$E$4000=\"Sim\",ROW('MEMORIAL DESCRITIVO-BRI'!$H$2:$H$4000)),ROW(B299))), \"\")","v":""},null,{"$f":"IFERROR(INDEX('MEMORIAL DESCRITIVO-BRI'!S:S,SMALL(IF('MEMORIAL DESCRITIVO-BRI'!$E$2:$E$4000=\"Sim\",ROW('MEMORIAL DESCRITIVO-BRI'!$S$2:$S$4000)),ROW(B299))), \"\")","v":""},{"$f":"IFERROR(INDEX('MEMORIAL DESCRITIVO-BRI'!Z:Z,SMALL(IF('MEMORIAL DESCRITIVO-BRI'!$E$2:$E$4000=\"Sim\",ROW('MEMORIAL DESCRITIVO-BRI'!$Z$2:$Z$4000)),ROW(B299))), \"\")","v":""},{"$f":"IFERROR(INDEX('MEMORIAL DESCRITIVO-BRI'!W:W,SMALL(IF('MEMORIAL DESCRITIVO-BRI'!$E$2:$E$4000=\"Sim\",ROW('MEMORIAL DESCRITIVO-BRI'!$W$2:$W$4000)),ROW(B299))), \"\")","v":""},{"$f":"IFERROR(INDEX('MEMORIAL DESCRITIVO-BRI'!G:G,SMALL(IF('MEMORIAL DESCRITIVO-BRI'!$E$2:$E$4000=\"Sim\",ROW('MEMORIAL DESCRITIVO-BRI'!$G$2:$G$4000)),ROW(B299))), \"\")","v":""},{"$f":"IFERROR(INDEX('MEMORIAL DESCRITIVO-BRI'!P:P,SMALL(IF('MEMORIAL DESCRITIVO-BRI'!$E$2:$E$4000=\"Sim\",ROW('MEMORIAL DESCRITIVO-BRI'!$P$2:$P$4000)),ROW(B299))), \"\")","v":""},{"$f":"IFERROR(INDEX('MEMORIAL DESCRITIVO-BRI'!Q:Q,SMALL(IF('MEMORIAL DESCRITIVO-BRI'!$E$2:$E$4000=\"Sim\",ROW('MEMORIAL DESCRITIVO-BRI'!$Q$2:$Q$4000)),ROW(B299))), \"\")","v":""}]
[null,{"$f":"IFERROR(INDEX('MEMORIAL DESCRITIVO-BRI'!B:B,SMALL(IF('MEMORIAL DESCRITIVO-BRI'!$E$2:$E$4000=\"Sim\",ROW('MEMORIAL DESCRITIVO-BRI'!$B$2:$B$4000)),ROW(B300))), \"\")","v":""},{"$f":"IFERROR(INDEX('MEMORIAL DESCRITIVO-BRI'!I:I,SMALL(IF('MEMORIAL DESCRITIVO-BRI'!$E$2:$E$4000=\"Sim\",ROW('MEMORIAL DESCRITIVO-BRI'!$I$2:$I$4000)),ROW(B300))), \"\")","v":""},{"$f":"IFERROR(INDEX('MEMORIAL DESCRITIVO-BRI'!F:F,SMALL(IF('MEMORIAL DESCRITIVO-BRI'!$E$2:$E$4000=\"Sim\",ROW('MEMORIAL DESCRITIVO-BRI'!$F$2:$F$4000)),ROW(B300))) & \" - \" & INDEX('MEMORIAL DESCRITIVO-BRI'!H:H,SMALL(IF('MEMORIAL DESCRITIVO-BRI'!$E$2:$E$4000=\"Sim\",ROW('MEMORIAL DESCRITIVO-BRI'!$H$2:$H$4000)),ROW(B300))), \"\")","v":""},null,{"$f":"IFERROR(INDEX('MEMORIAL DESCRITIVO-BRI'!S:S,SMALL(IF('MEMORIAL DESCRITIVO-BRI'!$E$2:$E$4000=\"Sim\",ROW('MEMORIAL DESCRITIVO-BRI'!$S$2:$S$4000)),ROW(B300))), \"\")","v":""},{"$f":"IFERROR(INDEX('MEMORIAL DESCRITIVO-BRI'!Z:Z,SMALL(IF('MEMORIAL DESCRITIVO-BRI'!$E$2:$E$4000=\"Sim\",ROW('MEMORIAL DESCRITIVO-BRI'!$Z$2:$Z$4000)),ROW(B300))), \"\")","v":""},{"$f":"IFERROR(INDEX('MEMORIAL DESCRITIVO-BRI'!W:W,SMALL(IF('MEMORIAL DESCRITIVO-BRI'!$E$2:$E$4000=\"Sim\",ROW('MEMORIAL DESCRITIVO-BRI'!$W$2:$W$4000)),ROW(B300))), \"\")","v":""},{"$f":"IFERROR(INDEX('MEMORIAL DESCRITIVO-BRI'!G:G,SMALL(IF('MEMORIAL DESCRITIVO-BRI'!$E$2:$E$4000=\"Sim\",ROW('MEMORIAL DESCRITIVO-BRI'!$G$2:$G$4000)),ROW(B300))), \"\")","v":""},{"$f":"IFERROR(INDEX('MEMORIAL DESCRITIVO-BRI'!P:P,SMALL(IF('MEMORIAL DESCRITIVO-BRI'!$E$2:$E$4000=\"Sim\",ROW('MEMORIAL DESCRITIVO-BRI'!$P$2:$P$4000)),ROW(B300))), \"\")","v":""},{"$f":"IFERROR(INDEX('MEMORIAL DESCRITIVO-BRI'!Q:Q,SMALL(IF('MEMORIAL DESCRITIVO-BRI'!$E$2:$E$4000=\"Sim\",ROW('MEMORIAL DESCRITIVO-BRI'!$Q$2:$Q$4000)),ROW(B300))), \"\")","v":""}]
[null,{"$f":"IFERROR(INDEX('MEMORIAL DESCRITIVO-BRI'!B:B,SMALL(IF('MEMORIAL DESCRITIVO-BRI'!$E$2:$E$4000=\"Sim\",ROW('MEMORIAL DESCRITIVO-BRI'!$B$2:$B$4000)),ROW(B301))), \"\")","v":""},{"$f":"IFERROR(INDEX('MEMORIAL DESCRITIVO-BRI'!I:I,SMALL(IF('MEMORIAL DESCRITIVO-BRI'!$E$2:$E$4000=\"Sim\",ROW('MEMORIAL DESCRITIVO-BRI'!$I$2:$I$4000)),ROW(B301))), \"\")","v":""},{"$f":"IFERROR(INDEX('MEMORIAL DESCRITIVO-BRI'!F:F,SMALL(IF('MEMORIAL DESCRITIVO-BRI'!$E$2:$E$4000=\"Sim\",ROW('MEMORIAL DESCRITIVO-BRI'!$F$2:$F$4000)),ROW(B301))) & \" - \" & INDEX('MEMORIAL DESCRITIVO-BRI'!H:H,SMALL(IF('MEMORIAL DESCRITIVO-BRI'!$E$2:$E$4000=\"Sim\",ROW('MEMORIAL DESCRITIVO-BRI'!$H$2:$H$4000)),ROW(B301))), \"\")","v":""},null,{"$f":"IFERROR(INDEX('MEMORIAL DESCRITIVO-BRI'!S:S,SMALL(IF('MEMORIAL DESCRITIVO-BRI'!$E$2:$E$4000=\"Sim\",ROW('MEMORIAL DESCRITIVO-BRI'!$S$2:$S$4000)),ROW(B301))), \"\")","v":""},{"$f":"IFERROR(INDEX('MEMORIAL DESCRITIVO-BRI'!Z:Z,SMALL(IF('MEMORIAL DESCRITIVO-BRI'!$E$2:$E$4000=\"Sim\",ROW('MEMORIAL DESCRITIVO-BRI'!$Z$2:$Z$4000)),ROW(B301))), \"\")","v":""},{"$f":"IFERROR(INDEX('MEMORIAL DESCRITIVO-BRI'!W:W,SMALL(IF('MEMORIAL DESCRITIVO-BRI'!$E$2:$E$4000=\"Sim\",ROW('MEMORIAL DESCRITIVO-BRI'!$W$2:$W$4000)),ROW(B301))), \"\")","v":""},{"$f":"IFERROR(INDEX('MEMORIAL DESCRITIVO-BRI'!G:G,SMALL(IF('MEMORIAL DESCRITIVO-BRI'!$E$2:$E$4000=\"Sim\",ROW('MEMORIAL DESCRITIVO-BRI'!$G$2:$G$4000)),ROW(B301))), \"\")","v":""},{"$f":"IFERROR(INDEX('MEMORIAL DESCRITIVO-BRI'!P:P,SMALL(IF('MEMORIAL DESCRITIVO-BRI'!$E$2:$E$4000=\"Sim\",ROW('MEMORIAL DESCRITIVO-BRI'!$P$2:$P$4000)),ROW(B301))), \"\")","v":""},{"$f":"IFERROR(INDEX('MEMORIAL DESCRITIVO-BRI'!Q:Q,SMALL(IF('MEMORIAL DESCRITIVO-BRI'!$E$2:$E$4000=\"Sim\",ROW('MEMORIAL DESCRITIVO-BRI'!$Q$2:$Q$4000)),ROW(B301))), \"\")","v":""}]
[null,{"$f":"IFERROR(INDEX('MEMORIAL DESCRITIVO-BRI'!B:B,SMALL(IF('MEMORIAL DESCRITIVO-BRI'!$E$2:$E$4000=\"Sim\",ROW('MEMORIAL DESCRITIVO-BRI'!$B$2:$B$4000)),ROW(B302))), \"\")","v":""},{"$f":"IFERROR(INDEX('MEMORIAL DESCRITIVO-BRI'!I:I,SMALL(IF('MEMORIAL DESCRITIVO-BRI'!$E$2:$E$4000=\"Sim\",ROW('MEMORIAL DESCRITIVO-BRI'!$I$2:$I$4000)),ROW(B302))), \"\")","v":""},{"$f":"IFERROR(INDEX('MEMORIAL DESCRITIVO-BRI'!F:F,SMALL(IF('MEMORIAL DESCRITIVO-BRI'!$E$2:$E$4000=\"Sim\",ROW('MEMORIAL DESCRITIVO-BRI'!$F$2:$F$4000)),ROW(B302))) & \" - \" & INDEX('MEMORIAL DESCRITIVO-BRI'!H:H,SMALL(IF('MEMORIAL DESCRITIVO-BRI'!$E$2:$E$4000=\"Sim\",ROW('MEMORIAL DESCRITIVO-BRI'!$H$2:$H$4000)),ROW(B302))), \"\")","v":""},null,{"$f":"IFERROR(INDEX('MEMORIAL DESCRITIVO-BRI'!S:S,SMALL(IF('MEMORIAL DESCRITIVO-BRI'!$E$2:$E$4000=\"Sim\",ROW('MEMORIAL DESCRITIVO-BRI'!$S$2:$S$4000)),ROW(B302))), \"\")","v":""},{"$f":"IFERROR(INDEX('MEMORIAL DESCRITIVO-BRI'!Z:Z,SMALL(IF('MEMORIAL DESCRITIVO-BRI'!$E$2:$E$4000=\"Sim\",ROW('MEMORIAL DESCRITIVO-BRI'!$Z$2:$Z$4000)),ROW(B302))), \"\")","v":""},{"$f":"IFERROR(INDEX('MEMORIAL DESCRITIVO-BRI'!W:W,SMALL(IF('MEMORIAL DESCRITIVO-BRI'!$E$2:$E$4000=\"Sim\",ROW('MEMORIAL DESCRITIVO-BRI'!$W$2:$W$4000)),ROW(B302))), \"\")","v":""},{"$f":"IFERROR(INDEX('MEMORIAL DESCRITIVO-BRI'!G:G,SMALL(IF('MEMORIAL DESCRITIVO-BRI'!$E$2:$E$4000=\"Sim\",ROW('MEMORIAL DESCRITIVO-BRI'!$G$2:$G$4000)),ROW(B302))), \"\")","v":""},{"$f":"IFERROR(INDEX('MEMORIAL DESCRITIVO-BRI'!P:P,SMALL(IF('MEMORIAL DESCRITIVO-BRI'!$E$2:$E$4000=\"Sim\",ROW('MEMORIAL DESCRITIVO-BRI'!$P$2:$P$4000)),ROW(B302))), \"\")","v":""},{"$f":"IFERROR(INDEX('MEMORIAL DESCRITIVO-BRI'!Q:Q,SMALL(IF('MEMORIAL DESCRITIVO-BRI'!$E$2:$E$4000=\"Sim\",ROW('MEMORIAL DESCRITIVO-BRI'!$Q$2:$Q$4000)),ROW(B302))), \"\")","v":""}]
[null,{"$f":"IFERROR(INDEX('MEMORIAL DESCRITIVO-BRI'!B:B,SMALL(IF('MEMORIAL DESCRITIVO-BRI'!$E$2:$E$4000=\"Sim\",ROW('MEMORIAL DESCRITIVO-BRI'!$B$2:$B$4000)),ROW(B303))), \"\")","v":""},{"$f":"IFERROR(INDEX('MEMORIAL DESCRITIVO-BRI'!I:I,SMALL(IF('MEMORIAL DESCRITIVO-BRI'!$E$2:$E$4000=\"Sim\",ROW('MEMORIAL DESCRITIVO-BRI'!$I$2:$I$4000)),ROW(B303))), \"\")","v":""},{"$f":"IFERROR(INDEX('MEMORIAL DESCRITIVO-BRI'!F:F,SMALL(IF('MEMORIAL DESCRITIVO-BRI'!$E$2:$E$4000=\"Sim\",ROW('MEMORIAL DESCRITIVO-BRI'!$F$2:$F$4000)),ROW(B303))) & \" - \" & INDEX('MEMORIAL DESCRITIVO-BRI'!H:H,SMALL(IF('MEMORIAL DESCRITIVO-BRI'!$E$2:$E$4000=\"Sim\",ROW('MEMORIAL DESCRITIVO-BRI'!$H$2:$H$4000)),ROW(B303))), \"\")","v":""},null,{"$f":"IFERROR(INDEX('MEMORIAL DESCRITIVO-BRI'!S:S,SMALL(IF('MEMORIAL DESCRITIVO-BRI'!$E$2:$E$4000=\"Sim\",ROW('MEMORIAL DESCRITIVO-BRI'!$S$2:$S$4000)),ROW(B303))), \"\")","v":""},{"$f":"IFERROR(INDEX('MEMORIAL DESCRITIVO-BRI'!Z:Z,SMALL(IF('MEMORIAL DESCRITIVO-BRI'!$E$2:$E$4000=\"Sim\",ROW('MEMORIAL DESCRITIVO-BRI'!$Z$2:$Z$4000)),ROW(B303))), \"\")","v":""},{"$f":"IFERROR(INDEX('MEMORIAL DESCRITIVO-BRI'!W:W,SMALL(IF('MEMORIAL DESCRITIVO-BRI'!$E$2:$E$4000=\"Sim\",ROW('MEMORIAL DESCRITIVO-BRI'!$W$2:$W$4000)),ROW(B303))), \"\")","v":""},{"$f":"IFERROR(INDEX('MEMORIAL DESCRITIVO-BRI'!G:G,SMALL(IF('MEMORIAL DESCRITIVO-BRI'!$E$2:$E$4000=\"Sim\",ROW('MEMORIAL DESCRITIVO-BRI'!$G$2:$G$4000)),ROW(B303))), \"\")","v":""},{"$f":"IFERROR(INDEX('MEMORIAL DESCRITIVO-BRI'!P:P,SMALL(IF('MEMORIAL DESCRITIVO-BRI'!$E$2:$E$4000=\"Sim\",ROW('MEMORIAL DESCRITIVO-BRI'!$P$2:$P$4000)),ROW(B303))), \"\")","v":""},{"$f":"IFERROR(INDEX('MEMORIAL DESCRITIVO-BRI'!Q:Q,SMALL(IF('MEMORIAL DESCRITIVO-BRI'!$E$2:$E$4000=\"Sim\",ROW('MEMORIAL DESCRITIVO-BRI'!$Q$2:$Q$4000)),ROW(B303))), \"\")","v":""}]
[null,{"$f":"IFERROR(INDEX('MEMORIAL DESCRITIVO-BRI'!B:B,SMALL(IF('MEMORIAL DESCRITIVO-BRI'!$E$2:$E$4000=\"Sim\",ROW('MEMORIAL DESCRITIVO-BRI'!$B$2:$B$4000)),ROW(B304))), \"\")","v":""},{"$f":"IFERROR(INDEX('MEMORIAL DESCRITIVO-BRI'!I:I,SMALL(IF('MEMORIAL DESCRITIVO-BRI'!$E$2:$E$4000=\"Sim\",ROW('MEMORIAL DESCRITIVO-BRI'!$I$2:$I$4000)),ROW(B304))), \"\")","v":""},{"$f":"IFERROR(INDEX('MEMORIAL DESCRITIVO-BRI'!F:F,SMALL(IF('MEMORIAL DESCRITIVO-BRI'!$E$2:$E$4000=\"Sim\",ROW('MEMORIAL DESCRITIVO-BRI'!$F$2:$F$4000)),ROW(B304))) & \" - \" & INDEX('MEMORIAL DESCRITIVO-BRI'!H:H,SMALL(IF('MEMORIAL DESCRITIVO-BRI'!$E$2:$E$4000=\"Sim\",ROW('MEMORIAL DESCRITIVO-BRI'!$H$2:$H$4000)),ROW(B304))), \"\")","v":""},null,{"$f":"IFERROR(INDEX('MEMORIAL DESCRITIVO-BRI'!S:S,SMALL(IF('MEMORIAL DESCRITIVO-BRI'!$E$2:$E$4000=\"Sim\",ROW('MEMORIAL DESCRITIVO-BRI'!$S$2:$S$4000)),ROW(B304))), \"\")","v":""},{"$f":"IFERROR(INDEX('MEMORIAL DESCRITIVO-BRI'!Z:Z,SMALL(IF('MEMORIAL DESCRITIVO-BRI'!$E$2:$E$4000=\"Sim\",ROW('MEMORIAL DESCRITIVO-BRI'!$Z$2:$Z$4000)),ROW(B304))), \"\")","v":""},{"$f":"IFERROR(INDEX('MEMORIAL DESCRITIVO-BRI'!W:W,SMALL(IF('MEMORIAL DESCRITIVO-BRI'!$E$2:$E$4000=\"Sim\",ROW('MEMORIAL DESCRITIVO-BRI'!$W$2:$W$4000)),ROW(B304))), \"\")","v":""},{"$f":"IFERROR(INDEX('MEMORIAL DESCRITIVO-BRI'!G:G,SMALL(IF('MEMORIAL DESCRITIVO-BRI'!$E$2:$E$4000=\"Sim\",ROW('MEMORIAL DESCRITIVO-BRI'!$G$2:$G$4000)),ROW(B304))), \"\")","v":""},{"$f":"IFERROR(INDEX('MEMORIAL DESCRITIVO-BRI'!P:P,SMALL(IF('MEMORIAL DESCRITIVO-BRI'!$E$2:$E$4000=\"Sim\",ROW('MEMORIAL DESCRITIVO-BRI'!$P$2:$P$4000)),ROW(B304))), \"\")","v":""},{"$f":"IFERROR(INDEX('MEMORIAL DESCRITIVO-BRI'!Q:Q,SMALL(IF('MEMORIAL DESCRITIVO-BRI'!$E$2:$E$4000=\"Sim\",ROW('MEMORIAL DESCRITIVO-BRI'!$Q$2:$Q$4000)),ROW(B304))), \"\")","v":""}]
[null,{"$f":"IFERROR(INDEX('MEMORIAL DESCRITIVO-BRI'!B:B,SMALL(IF('MEMORIAL DESCRITIVO-BRI'!$E$2:$E$4000=\"Sim\",ROW('MEMORIAL DESCRITIVO-BRI'!$B$2:$B$4000)),ROW(B305))), \"\")","v":""},{"$f":"IFERROR(INDEX('MEMORIAL DESCRITIVO-BRI'!I:I,SMALL(IF('MEMORIAL DESCRITIVO-BRI'!$E$2:$E$4000=\"Sim\",ROW('MEMORIAL DESCRITIVO-BRI'!$I$2:$I$4000)),ROW(B305))), \"\")","v":""},{"$f":"IFERROR(INDEX('MEMORIAL DESCRITIVO-BRI'!F:F,SMALL(IF('MEMORIAL DESCRITIVO-BRI'!$E$2:$E$4000=\"Sim\",ROW('MEMORIAL DESCRITIVO-BRI'!$F$2:$F$4000)),ROW(B305))) & \" - \" & INDEX('MEMORIAL DESCRITIVO-BRI'!H:H,SMALL(IF('MEMORIAL DESCRITIVO-BRI'!$E$2:$E$4000=\"Sim\",ROW('MEMORIAL DESCRITIVO-BRI'!$H$2:$H$4000)),ROW(B305))), \"\")","v":""},null,{"$f":"IFERROR(INDEX('MEMORIAL DESCRITIVO-BRI'!S:S,SMALL(IF('MEMORIAL DESCRITIVO-BRI'!$E$2:$E$4000=\"Sim\",ROW('MEMORIAL DESCRITIVO-BRI'!$S$2:$S$4000)),ROW(B305))), \"\")","v":""},{"$f":"IFERROR(INDEX('MEMORIAL DESCRITIVO-BRI'!Z:Z,SMALL(IF('MEMORIAL DESCRITIVO-BRI'!$E$2:$E$4000=\"Sim\",ROW('MEMORIAL DESCRITIVO-BRI'!$Z$2:$Z$4000)),ROW(B305))), \"\")","v":""},{"$f":"IFERROR(INDEX('MEMORIAL DESCRITIVO-BRI'!W:W,SMALL(IF('MEMORIAL DESCRITIVO-BRI'!$E$2:$E$4000=\"Sim\",ROW('MEMORIAL DESCRITIVO-BRI'!$W$2:$W$4000)),ROW(B305))), \"\")","v":""},{"$f":"IFERROR(INDEX('MEMORIAL DESCRITIVO-BRI'!G:G,SMALL(IF('MEMORIAL DESCRITIVO-BRI'!$E$2:$E$4000=\"Sim\",ROW('MEMORIAL DESCRITIVO-BRI'!$G$2:$G$4000)),ROW(B305))), \"\")","v":""},{"$f":"IFERROR(INDEX('MEMORIAL DESCRITIVO-BRI'!P:P,SMALL(IF('MEMORIAL DESCRITIVO-BRI'!$E$2:$E$4000=\"Sim\",ROW('MEMORIAL DESCRITIVO-BRI'!$P$2:$P$4000)),ROW(B305))), \"\")","v":""},{"$f":"IFERROR(INDEX('MEMORIAL DESCRITIVO-BRI'!Q:Q,SMALL(IF('MEMORIAL DESCRITIVO-BRI'!$E$2:$E$4000=\"Sim\",ROW('MEMORIAL DESCRITIVO-BRI'!$Q$2:$Q$4000)),ROW(B305))), \"\")","v":""}]
[null,{"$f":"IFERROR(INDEX('MEMORIAL DESCRITIVO-BRI'!B:B,SMALL(IF('MEMORIAL DESCRITIVO-BRI'!$E$2:$E$4000=\"Sim\",ROW('MEMORIAL DESCRITIVO-BRI'!$B$2:$B$4000)),ROW(B306))), \"\")","v":""},{"$f":"IFERROR(INDEX('MEMORIAL DESCRITIVO-BRI'!I:I,SMALL(IF('MEMORIAL DESCRITIVO-BRI'!$E$2:$E$4000=\"Sim\",ROW('MEMORIAL DESCRITIVO-BRI'!$I$2:$I$4000)),ROW(B306))), \"\")","v":""},{"$f":"IFERROR(INDEX('MEMORIAL DESCRITIVO-BRI'!F:F,SMALL(IF('MEMORIAL DESCRITIVO-BRI'!$E$2:$E$4000=\"Sim\",ROW('MEMORIAL DESCRITIVO-BRI'!$F$2:$F$4000)),ROW(B306))) & \" - \" & INDEX('MEMORIAL DESCRITIVO-BRI'!H:H,SMALL(IF('MEMORIAL DESCRITIVO-BRI'!$E$2:$E$4000=\"Sim\",ROW('MEMORIAL DESCRITIVO-BRI'!$H$2:$H$4000)),ROW(B306))), \"\")","v":""},null,{"$f":"IFERROR(INDEX('MEMORIAL DESCRITIVO-BRI'!S:S,SMALL(IF('MEMORIAL DESCRITIVO-BRI'!$E$2:$E$4000=\"Sim\",ROW('MEMORIAL DESCRITIVO-BRI'!$S$2:$S$4000)),ROW(B306))), \"\")","v":""},{"$f":"IFERROR(INDEX('MEMORIAL DESCRITIVO-BRI'!Z:Z,SMALL(IF('MEMORIAL DESCRITIVO-BRI'!$E$2:$E$4000=\"Sim\",ROW('MEMORIAL DESCRITIVO-BRI'!$Z$2:$Z$4000)),ROW(B306))), \"\")","v":""},{"$f":"IFERROR(INDEX('MEMORIAL DESCRITIVO-BRI'!W:W,SMALL(IF('MEMORIAL DESCRITIVO-BRI'!$E$2:$E$4000=\"Sim\",ROW('MEMORIAL DESCRITIVO-BRI'!$W$2:$W$4000)),ROW(B306))), \"\")","v":""},{"$f":"IFERROR(INDEX('MEMORIAL DESCRITIVO-BRI'!G:G,SMALL(IF('MEMORIAL DESCRITIVO-BRI'!$E$2:$E$4000=\"Sim\",ROW('MEMORIAL DESCRITIVO-BRI'!$G$2:$G$4000)),ROW(B306))), \"\")","v":""},{"$f":"IFERROR(INDEX('MEMORIAL DESCRITIVO-BRI'!P:P,SMALL(IF('MEMORIAL DESCRITIVO-BRI'!$E$2:$E$4000=\"Sim\",ROW('MEMORIAL DESCRITIVO-BRI'!$P$2:$P$4000)),ROW(B306))), \"\")","v":""},{"$f":"IFERROR(INDEX('MEMORIAL DESCRITIVO-BRI'!Q:Q,SMALL(IF('MEMORIAL DESCRITIVO-BRI'!$E$2:$E$4000=\"Sim\",ROW('MEMORIAL DESCRITIVO-BRI'!$Q$2:$Q$4000)),ROW(B306))), \"\")","v":""}]
[null,{"$f":"IFERROR(INDEX('MEMORIAL DESCRITIVO-BRI'!B:B,SMALL(IF('MEMORIAL DESCRITIVO-BRI'!$E$2:$E$4000=\"Sim\",ROW('MEMORIAL DESCRITIVO-BRI'!$B$2:$B$4000)),ROW(B307))), \"\")","v":""},{"$f":"IFERROR(INDEX('MEMORIAL DESCRITIVO-BRI'!I:I,SMALL(IF('MEMORIAL DESCRITIVO-BRI'!$E$2:$E$4000=\"Sim\",ROW('MEMORIAL DESCRITIVO-BRI'!$I$2:$I$4000)),ROW(B307))), \"\")","v":""},{"$f":"IFERROR(INDEX('MEMORIAL DESCRITIVO-BRI'!F:F,SMALL(IF('MEMORIAL DESCRITIVO-BRI'!$E$2:$E$4000=\"Sim\",ROW('MEMORIAL DESCRITIVO-BRI'!$F$2:$F$4000)),ROW(B307))) & \" - \" & INDEX('MEMORIAL DESCRITIVO-BRI'!H:H,SMALL(IF('MEMORIAL DESCRITIVO-BRI'!$E$2:$E$4000=\"Sim\",ROW('MEMORIAL DESCRITIVO-BRI'!$H$2:$H$4000)),ROW(B307))), \"\")","v":""},null,{"$f":"IFERROR(INDEX('MEMORIAL DESCRITIVO-BRI'!S:S,SMALL(IF('MEMORIAL DESCRITIVO-BRI'!$E$2:$E$4000=\"Sim\",ROW('MEMORIAL DESCRITIVO-BRI'!$S$2:$S$4000)),ROW(B307))), \"\")","v":""},{"$f":"IFERROR(INDEX('MEMORIAL DESCRITIVO-BRI'!Z:Z,SMALL(IF('MEMORIAL DESCRITIVO-BRI'!$E$2:$E$4000=\"Sim\",ROW('MEMORIAL DESCRITIVO-BRI'!$Z$2:$Z$4000)),ROW(B307))), \"\")","v":""},{"$f":"IFERROR(INDEX('MEMORIAL DESCRITIVO-BRI'!W:W,SMALL(IF('MEMORIAL DESCRITIVO-BRI'!$E$2:$E$4000=\"Sim\",ROW('MEMORIAL DESCRITIVO-BRI'!$W$2:$W$4000)),ROW(B307))), \"\")","v":""},{"$f":"IFERROR(INDEX('MEMORIAL DESCRITIVO-BRI'!G:G,SMALL(IF('MEMORIAL DESCRITIVO-BRI'!$E$2:$E$4000=\"Sim\",ROW('MEMORIAL DESCRITIVO-BRI'!$G$2:$G$4000)),ROW(B307))), \"\")","v":""},{"$f":"IFERROR(INDEX('MEMORIAL DESCRITIVO-BRI'!P:P,SMALL(IF('MEMORIAL DESCRITIVO-BRI'!$E$2:$E$4000=\"Sim\",ROW('MEMORIAL DESCRITIVO-BRI'!$P$2:$P$4000)),ROW(B307))), \"\")","v":""},{"$f":"IFERROR(INDEX('MEMORIAL DESCRITIVO-BRI'!Q:Q,SMALL(IF('MEMORIAL DESCRITIVO-BRI'!$E$2:$E$4000=\"Sim\",ROW('MEMORIAL DESCRITIVO-BRI'!$Q$2:$Q$4000)),ROW(B307))), \"\")","v":""}]
[null,{"$f":"IFERROR(INDEX('MEMORIAL DESCRITIVO-BRI'!B:B,SMALL(IF('MEMORIAL DESCRITIVO-BRI'!$E$2:$E$4000=\"Sim\",ROW('MEMORIAL DESCRITIVO-BRI'!$B$2:$B$4000)),ROW(B308))), \"\")","v":""},{"$f":"IFERROR(INDEX('MEMORIAL DESCRITIVO-BRI'!I:I,SMALL(IF('MEMORIAL DESCRITIVO-BRI'!$E$2:$E$4000=\"Sim\",ROW('MEMORIAL DESCRITIVO-BRI'!$I$2:$I$4000)),ROW(B308))), \"\")","v":""},{"$f":"IFERROR(INDEX('MEMORIAL DESCRITIVO-BRI'!F:F,SMALL(IF('MEMORIAL DESCRITIVO-BRI'!$E$2:$E$4000=\"Sim\",ROW('MEMORIAL DESCRITIVO-BRI'!$F$2:$F$4000)),ROW(B308))) & \" - \" & INDEX('MEMORIAL DESCRITIVO-BRI'!H:H,SMALL(IF('MEMORIAL DESCRITIVO-BRI'!$E$2:$E$4000=\"Sim\",ROW('MEMORIAL DESCRITIVO-BRI'!$H$2:$H$4000)),ROW(B308))), \"\")","v":""},null,{"$f":"IFERROR(INDEX('MEMORIAL DESCRITIVO-BRI'!S:S,SMALL(IF('MEMORIAL DESCRITIVO-BRI'!$E$2:$E$4000=\"Sim\",ROW('MEMORIAL DESCRITIVO-BRI'!$S$2:$S$4000)),ROW(B308))), \"\")","v":""},{"$f":"IFERROR(INDEX('MEMORIAL DESCRITIVO-BRI'!Z:Z,SMALL(IF('MEMORIAL DESCRITIVO-BRI'!$E$2:$E$4000=\"Sim\",ROW('MEMORIAL DESCRITIVO-BRI'!$Z$2:$Z$4000)),ROW(B308))), \"\")","v":""},{"$f":"IFERROR(INDEX('MEMORIAL DESCRITIVO-BRI'!W:W,SMALL(IF('MEMORIAL DESCRITIVO-BRI'!$E$2:$E$4000=\"Sim\",ROW('MEMORIAL DESCRITIVO-BRI'!$W$2:$W$4000)),ROW(B308))), \"\")","v":""},{"$f":"IFERROR(INDEX('MEMORIAL DESCRITIVO-BRI'!G:G,SMALL(IF('MEMORIAL DESCRITIVO-BRI'!$E$2:$E$4000=\"Sim\",ROW('MEMORIAL DESCRITIVO-BRI'!$G$2:$G$4000)),ROW(B308))), \"\")","v":""},{"$f":"IFERROR(INDEX('MEMORIAL DESCRITIVO-BRI'!P:P,SMALL(IF('MEMORIAL DESCRITIVO-BRI'!$E$2:$E$4000=\"Sim\",ROW('MEMORIAL DESCRITIVO-BRI'!$P$2:$P$4000)),ROW(B308))), \"\")","v":""},{"$f":"IFERROR(INDEX('MEMORIAL DESCRITIVO-BRI'!Q:Q,SMALL(IF('MEMORIAL DESCRITIVO-BRI'!$E$2:$E$4000=\"Sim\",ROW('MEMORIAL DESCRITIVO-BRI'!$Q$2:$Q$4000)),ROW(B308))), \"\")","v":""}]
[null,{"$f":"IFERROR(INDEX('MEMORIAL DESCRITIVO-BRI'!B:B,SMALL(IF('MEMORIAL DESCRITIVO-BRI'!$E$2:$E$4000=\"Sim\",ROW('MEMORIAL DESCRITIVO-BRI'!$B$2:$B$4000)),ROW(B309))), \"\")","v":""},{"$f":"IFERROR(INDEX('MEMORIAL DESCRITIVO-BRI'!I:I,SMALL(IF('MEMORIAL DESCRITIVO-BRI'!$E$2:$E$4000=\"Sim\",ROW('MEMORIAL DESCRITIVO-BRI'!$I$2:$I$4000)),ROW(B309))), \"\")","v":""},{"$f":"IFERROR(INDEX('MEMORIAL DESCRITIVO-BRI'!F:F,SMALL(IF('MEMORIAL DESCRITIVO-BRI'!$E$2:$E$4000=\"Sim\",ROW('MEMORIAL DESCRITIVO-BRI'!$F$2:$F$4000)),ROW(B309))) & \" - \" & INDEX('MEMORIAL DESCRITIVO-BRI'!H:H,SMALL(IF('MEMORIAL DESCRITIVO-BRI'!$E$2:$E$4000=\"Sim\",ROW('MEMORIAL DESCRITIVO-BRI'!$H$2:$H$4000)),ROW(B309))), \"\")","v":""},null,{"$f":"IFERROR(INDEX('MEMORIAL DESCRITIVO-BRI'!S:S,SMALL(IF('MEMORIAL DESCRITIVO-BRI'!$E$2:$E$4000=\"Sim\",ROW('MEMORIAL DESCRITIVO-BRI'!$S$2:$S$4000)),ROW(B309))), \"\")","v":""},{"$f":"IFERROR(INDEX('MEMORIAL DESCRITIVO-BRI'!Z:Z,SMALL(IF('MEMORIAL DESCRITIVO-BRI'!$E$2:$E$4000=\"Sim\",ROW('MEMORIAL DESCRITIVO-BRI'!$Z$2:$Z$4000)),ROW(B309))), \"\")","v":""},{"$f":"IFERROR(INDEX('MEMORIAL DESCRITIVO-BRI'!W:W,SMALL(IF('MEMORIAL DESCRITIVO-BRI'!$E$2:$E$4000=\"Sim\",ROW('MEMORIAL DESCRITIVO-BRI'!$W$2:$W$4000)),ROW(B309))), \"\")","v":""},{"$f":"IFERROR(INDEX('MEMORIAL DESCRITIVO-BRI'!G:G,SMALL(IF('MEMORIAL DESCRITIVO-BRI'!$E$2:$E$4000=\"Sim\",ROW('MEMORIAL DESCRITIVO-BRI'!$G$2:$G$4000)),ROW(B309))), \"\")","v":""},{"$f":"IFERROR(INDEX('MEMORIAL DESCRITIVO-BRI'!P:P,SMALL(IF('MEMORIAL DESCRITIVO-BRI'!$E$2:$E$4000=\"Sim\",ROW('MEMORIAL DESCRITIVO-BRI'!$P$2:$P$4000)),ROW(B309))), \"\")","v":""},{"$f":"IFERROR(INDEX('MEMORIAL DESCRITIVO-BRI'!Q:Q,SMALL(IF('MEMORIAL DESCRITIVO-BRI'!$E$2:$E$4000=\"Sim\",ROW('MEMORIAL DESCRITIVO-BRI'!$Q$2:$Q$4000)),ROW(B309))), \"\")","v":""}]
[null,{"$f":"IFERROR(INDEX('MEMORIAL DESCRITIVO-BRI'!B:B,SMALL(IF('MEMORIAL DESCRITIVO-BRI'!$E$2:$E$4000=\"Sim\",ROW('MEMORIAL DESCRITIVO-BRI'!$B$2:$B$4000)),ROW(B310))), \"\")","v":""},{"$f":"IFERROR(INDEX('MEMORIAL DESCRITIVO-BRI'!I:I,SMALL(IF('MEMORIAL DESCRITIVO-BRI'!$E$2:$E$4000=\"Sim\",ROW('MEMORIAL DESCRITIVO-BRI'!$I$2:$I$4000)),ROW(B310))), \"\")","v":""},{"$f":"IFERROR(INDEX('MEMORIAL DESCRITIVO-BRI'!F:F,SMALL(IF('MEMORIAL DESCRITIVO-BRI'!$E$2:$E$4000=\"Sim\",ROW('MEMORIAL DESCRITIVO-BRI'!$F$2:$F$4000)),ROW(B310))) & \" - \" & INDEX('MEMORIAL DESCRITIVO-BRI'!H:H,SMALL(IF('MEMORIAL DESCRITIVO-BRI'!$E$2:$E$4000=\"Sim\",ROW('MEMORIAL DESCRITIVO-BRI'!$H$2:$H$4000)),ROW(B310))), \"\")","v":""},null,{"$f":"IFERROR(INDEX('MEMORIAL DESCRITIVO-BRI'!S:S,SMALL(IF('MEMORIAL DESCRITIVO-BRI'!$E$2:$E$4000=\"Sim\",ROW('MEMORIAL DESCRITIVO-BRI'!$S$2:$S$4000)),ROW(B310))), \"\")","v":""},{"$f":"IFERROR(INDEX('MEMORIAL DESCRITIVO-BRI'!Z:Z,SMALL(IF('MEMORIAL DESCRITIVO-BRI'!$E$2:$E$4000=\"Sim\",ROW('MEMORIAL DESCRITIVO-BRI'!$Z$2:$Z$4000)),ROW(B310))), \"\")","v":""},{"$f":"IFERROR(INDEX('MEMORIAL DESCRITIVO-BRI'!W:W,SMALL(IF('MEMORIAL DESCRITIVO-BRI'!$E$2:$E$4000=\"Sim\",ROW('MEMORIAL DESCRITIVO-BRI'!$W$2:$W$4000)),ROW(B310))), \"\")","v":""},{"$f":"IFERROR(INDEX('MEMORIAL DESCRITIVO-BRI'!G:G,SMALL(IF('MEMORIAL DESCRITIVO-BRI'!$E$2:$E$4000=\"Sim\",ROW('MEMORIAL DESCRITIVO-BRI'!$G$2:$G$4000)),ROW(B310))), \"\")","v":""},{"$f":"IFERROR(INDEX('MEMORIAL DESCRITIVO-BRI'!P:P,SMALL(IF('MEMORIAL DESCRITIVO-BRI'!$E$2:$E$4000=\"Sim\",ROW('MEMORIAL DESCRITIVO-BRI'!$P$2:$P$4000)),ROW(B310))), \"\")","v":""},{"$f":"IFERROR(INDEX('MEMORIAL DESCRITIVO-BRI'!Q:Q,SMALL(IF('MEMORIAL DESCRITIVO-BRI'!$E$2:$E$4000=\"Sim\",ROW('MEMORIAL DESCRITIVO-BRI'!$Q$2:$Q$4000)),ROW(B310))), \"\")","v":""}]
[null,{"$f":"IFERROR(INDEX('MEMORIAL DESCRITIVO-BRI'!B:B,SMALL(IF('MEMORIAL DESCRITIVO-BRI'!$E$2:$E$4000=\"Sim\",ROW('MEMORIAL DESCRITIVO-BRI'!$B$2:$B$4000)),ROW(B311))), \"\")","v":""},{"$f":"IFERROR(INDEX('MEMORIAL DESCRITIVO-BRI'!I:I,SMALL(IF('MEMORIAL DESCRITIVO-BRI'!$E$2:$E$4000=\"Sim\",ROW('MEMORIAL DESCRITIVO-BRI'!$I$2:$I$4000)),ROW(B311))), \"\")","v":""},{"$f":"IFERROR(INDEX('MEMORIAL DESCRITIVO-BRI'!F:F,SMALL(IF('MEMORIAL DESCRITIVO-BRI'!$E$2:$E$4000=\"Sim\",ROW('MEMORIAL DESCRITIVO-BRI'!$F$2:$F$4000)),ROW(B311))) & \" - \" & INDEX('MEMORIAL DESCRITIVO-BRI'!H:H,SMALL(IF('MEMORIAL DESCRITIVO-BRI'!$E$2:$E$4000=\"Sim\",ROW('MEMORIAL DESCRITIVO-BRI'!$H$2:$H$4000)),ROW(B311))), \"\")","v":""},null,{"$f":"IFERROR(INDEX('MEMORIAL DESCRITIVO-BRI'!S:S,SMALL(IF('MEMORIAL DESCRITIVO-BRI'!$E$2:$E$4000=\"Sim\",ROW('MEMORIAL DESCRITIVO-BRI'!$S$2:$S$4000)),ROW(B311))), \"\")","v":""},{"$f":"IFERROR(INDEX('MEMORIAL DESCRITIVO-BRI'!Z:Z,SMALL(IF('MEMORIAL DESCRITIVO-BRI'!$E$2:$E$4000=\"Sim\",ROW('MEMORIAL DESCRITIVO-BRI'!$Z$2:$Z$4000)),ROW(B311))), \"\")","v":""},{"$f":"IFERROR(INDEX('MEMORIAL DESCRITIVO-BRI'!W:W,SMALL(IF('MEMORIAL DESCRITIVO-BRI'!$E$2:$E$4000=\"Sim\",ROW('MEMORIAL DESCRITIVO-BRI'!$W$2:$W$4000)),ROW(B311))), \"\")","v":""},{"$f":"IFERROR(INDEX('MEMORIAL DESCRITIVO-BRI'!G:G,SMALL(IF('MEMORIAL DESCRITIVO-BRI'!$E$2:$E$4000=\"Sim\",ROW('MEMORIAL DESCRITIVO-BRI'!$G$2:$G$4000)),ROW(B311))), \"\")","v":""},{"$f":"IFERROR(INDEX('MEMORIAL DESCRITIVO-BRI'!P:P,SMALL(IF('MEMORIAL DESCRITIVO-BRI'!$E$2:$E$4000=\"Sim\",ROW('MEMORIAL DESCRITIVO-BRI'!$P$2:$P$4000)),ROW(B311))), \"\")","v":""},{"$f":"IFERROR(INDEX('MEMORIAL DESCRITIVO-BRI'!Q:Q,SMALL(IF('MEMORIAL DESCRITIVO-BRI'!$E$2:$E$4000=\"Sim\",ROW('MEMORIAL DESCRITIVO-BRI'!$Q$2:$Q$4000)),ROW(B311))), \"\")","v":""}]
[null,{"$f":"IFERROR(INDEX('MEMORIAL DESCRITIVO-BRI'!B:B,SMALL(IF('MEMORIAL DESCRITIVO-BRI'!$E$2:$E$4000=\"Sim\",ROW('MEMORIAL DESCRITIVO-BRI'!$B$2:$B$4000)),ROW(B312))), \"\")","v":""},{"$f":"IFERROR(INDEX('MEMORIAL DESCRITIVO-BRI'!I:I,SMALL(IF('MEMORIAL DESCRITIVO-BRI'!$E$2:$E$4000=\"Sim\",ROW('MEMORIAL DESCRITIVO-BRI'!$I$2:$I$4000)),ROW(B312))), \"\")","v":""},{"$f":"IFERROR(INDEX('MEMORIAL DESCRITIVO-BRI'!F:F,SMALL(IF('MEMORIAL DESCRITIVO-BRI'!$E$2:$E$4000=\"Sim\",ROW('MEMORIAL DESCRITIVO-BRI'!$F$2:$F$4000)),ROW(B312))) & \" - \" & INDEX('MEMORIAL DESCRITIVO-BRI'!H:H,SMALL(IF('MEMORIAL DESCRITIVO-BRI'!$E$2:$E$4000=\"Sim\",ROW('MEMORIAL DESCRITIVO-BRI'!$H$2:$H$4000)),ROW(B312))), \"\")","v":""},null,{"$f":"IFERROR(INDEX('MEMORIAL DESCRITIVO-BRI'!S:S,SMALL(IF('MEMORIAL DESCRITIVO-BRI'!$E$2:$E$4000=\"Sim\",ROW('MEMORIAL DESCRITIVO-BRI'!$S$2:$S$4000)),ROW(B312))), \"\")","v":""},{"$f":"IFERROR(INDEX('MEMORIAL DESCRITIVO-BRI'!Z:Z,SMALL(IF('MEMORIAL DESCRITIVO-BRI'!$E$2:$E$4000=\"Sim\",ROW('MEMORIAL DESCRITIVO-BRI'!$Z$2:$Z$4000)),ROW(B312))), \"\")","v":""},{"$f":"IFERROR(INDEX('MEMORIAL DESCRITIVO-BRI'!W:W,SMALL(IF('MEMORIAL DESCRITIVO-BRI'!$E$2:$E$4000=\"Sim\",ROW('MEMORIAL DESCRITIVO-BRI'!$W$2:$W$4000)),ROW(B312))), \"\")","v":""},{"$f":"IFERROR(INDEX('MEMORIAL DESCRITIVO-BRI'!G:G,SMALL(IF('MEMORIAL DESCRITIVO-BRI'!$E$2:$E$4000=\"Sim\",ROW('MEMORIAL DESCRITIVO-BRI'!$G$2:$G$4000)),ROW(B312))), \"\")","v":""},{"$f":"IFERROR(INDEX('MEMORIAL DESCRITIVO-BRI'!P:P,SMALL(IF('MEMORIAL DESCRITIVO-BRI'!$E$2:$E$4000=\"Sim\",ROW('MEMORIAL DESCRITIVO-BRI'!$P$2:$P$4000)),ROW(B312))), \"\")","v":""},{"$f":"IFERROR(INDEX('MEMORIAL DESCRITIVO-BRI'!Q:Q,SMALL(IF('MEMORIAL DESCRITIVO-BRI'!$E$2:$E$4000=\"Sim\",ROW('MEMORIAL DESCRITIVO-BRI'!$Q$2:$Q$4000)),ROW(B312))), \"\")","v":""}]
[null,{"$f":"IFERROR(INDEX('MEMORIAL DESCRITIVO-BRI'!B:B,SMALL(IF('MEMORIAL DESCRITIVO-BRI'!$E$2:$E$4000=\"Sim\",ROW('MEMORIAL DESCRITIVO-BRI'!$B$2:$B$4000)),ROW(B313))), \"\")","v":""},{"$f":"IFERROR(INDEX('MEMORIAL DESCRITIVO-BRI'!I:I,SMALL(IF('MEMORIAL DESCRITIVO-BRI'!$E$2:$E$4000=\"Sim\",ROW('MEMORIAL DESCRITIVO-BRI'!$I$2:$I$4000)),ROW(B313))), \"\")","v":""},{"$f":"IFERROR(INDEX('MEMORIAL DESCRITIVO-BRI'!F:F,SMALL(IF('MEMORIAL DESCRITIVO-BRI'!$E$2:$E$4000=\"Sim\",ROW('MEMORIAL DESCRITIVO-BRI'!$F$2:$F$4000)),ROW(B313))) & \" - \" & INDEX('MEMORIAL DESCRITIVO-BRI'!H:H,SMALL(IF('MEMORIAL DESCRITIVO-BRI'!$E$2:$E$4000=\"Sim\",ROW('MEMORIAL DESCRITIVO-BRI'!$H$2:$H$4000)),ROW(B313))), \"\")","v":""},null,{"$f":"IFERROR(INDEX('MEMORIAL DESCRITIVO-BRI'!S:S,SMALL(IF('MEMORIAL DESCRITIVO-BRI'!$E$2:$E$4000=\"Sim\",ROW('MEMORIAL DESCRITIVO-BRI'!$S$2:$S$4000)),ROW(B313))), \"\")","v":""},{"$f":"IFERROR(INDEX('MEMORIAL DESCRITIVO-BRI'!Z:Z,SMALL(IF('MEMORIAL DESCRITIVO-BRI'!$E$2:$E$4000=\"Sim\",ROW('MEMORIAL DESCRITIVO-BRI'!$Z$2:$Z$4000)),ROW(B313))), \"\")","v":""},{"$f":"IFERROR(INDEX('MEMORIAL DESCRITIVO-BRI'!W:W,SMALL(IF('MEMORIAL DESCRITIVO-BRI'!$E$2:$E$4000=\"Sim\",ROW('MEMORIAL DESCRITIVO-BRI'!$W$2:$W$4000)),ROW(B313))), \"\")","v":""},{"$f":"IFERROR(INDEX('MEMORIAL DESCRITIVO-BRI'!G:G,SMALL(IF('MEMORIAL DESCRITIVO-BRI'!$E$2:$E$4000=\"Sim\",ROW('MEMORIAL DESCRITIVO-BRI'!$G$2:$G$4000)),ROW(B313))), \"\")","v":""},{"$f":"IFERROR(INDEX('MEMORIAL DESCRITIVO-BRI'!P:P,SMALL(IF('MEMORIAL DESCRITIVO-BRI'!$E$2:$E$4000=\"Sim\",ROW('MEMORIAL DESCRITIVO-BRI'!$P$2:$P$4000)),ROW(B313))), \"\")","v":""},{"$f":"IFERROR(INDEX('MEMORIAL DESCRITIVO-BRI'!Q:Q,SMALL(IF('MEMORIAL DESCRITIVO-BRI'!$E$2:$E$4000=\"Sim\",ROW('MEMORIAL DESCRITIVO-BRI'!$Q$2:$Q$4000)),ROW(B313))), \"\")","v":""}]
[null,{"$f":"IFERROR(INDEX('MEMORIAL DESCRITIVO-BRI'!B:B,SMALL(IF('MEMORIAL DESCRITIVO-BRI'!$E$2:$E$4000=\"Sim\",ROW('MEMORIAL DESCRITIVO-BRI'!$B$2:$B$4000)),ROW(B314))), \"\")","v":""},{"$f":"IFERROR(INDEX('MEMORIAL DESCRITIVO-BRI'!I:I,SMALL(IF('MEMORIAL DESCRITIVO-BRI'!$E$2:$E$4000=\"Sim\",ROW('MEMORIAL DESCRITIVO-BRI'!$I$2:$I$4000)),ROW(B314))), \"\")","v":""},{"$f":"IFERROR(INDEX('MEMORIAL DESCRITIVO-BRI'!F:F,SMALL(IF('MEMORIAL DESCRITIVO-BRI'!$E$2:$E$4000=\"Sim\",ROW('MEMORIAL DESCRITIVO-BRI'!$F$2:$F$4000)),ROW(B314))) & \" - \" & INDEX('MEMORIAL DESCRITIVO-BRI'!H:H,SMALL(IF('MEMORIAL DESCRITIVO-BRI'!$E$2:$E$4000=\"Sim\",ROW('MEMORIAL DESCRITIVO-BRI'!$H$2:$H$4000)),ROW(B314))), \"\")","v":""},null,{"$f":"IFERROR(INDEX('MEMORIAL DESCRITIVO-BRI'!S:S,SMALL(IF('MEMORIAL DESCRITIVO-BRI'!$E$2:$E$4000=\"Sim\",ROW('MEMORIAL DESCRITIVO-BRI'!$S$2:$S$4000)),ROW(B314))), \"\")","v":""},{"$f":"IFERROR(INDEX('MEMORIAL DESCRITIVO-BRI'!Z:Z,SMALL(IF('MEMORIAL DESCRITIVO-BRI'!$E$2:$E$4000=\"Sim\",ROW('MEMORIAL DESCRITIVO-BRI'!$Z$2:$Z$4000)),ROW(B314))), \"\")","v":""},{"$f":"IFERROR(INDEX('MEMORIAL DESCRITIVO-BRI'!W:W,SMALL(IF('MEMORIAL DESCRITIVO-BRI'!$E$2:$E$4000=\"Sim\",ROW('MEMORIAL DESCRITIVO-BRI'!$W$2:$W$4000)),ROW(B314))), \"\")","v":""},{"$f":"IFERROR(INDEX('MEMORIAL DESCRITIVO-BRI'!G:G,SMALL(IF('MEMORIAL DESCRITIVO-BRI'!$E$2:$E$4000=\"Sim\",ROW('MEMORIAL DESCRITIVO-BRI'!$G$2:$G$4000)),ROW(B314))), \"\")","v":""},{"$f":"IFERROR(INDEX('MEMORIAL DESCRITIVO-BRI'!P:P,SMALL(IF('MEMORIAL DESCRITIVO-BRI'!$E$2:$E$4000=\"Sim\",ROW('MEMORIAL DESCRITIVO-BRI'!$P$2:$P$4000)),ROW(B314))), \"\")","v":""},{"$f":"IFERROR(INDEX('MEMORIAL DESCRITIVO-BRI'!Q:Q,SMALL(IF('MEMORIAL DESCRITIVO-BRI'!$E$2:$E$4000=\"Sim\",ROW('MEMORIAL DESCRITIVO-BRI'!$Q$2:$Q$4000)),ROW(B314))), \"\")","v":""}]
[null,{"$f":"IFERROR(INDEX('MEMORIAL DESCRITIVO-BRI'!B:B,SMALL(IF('MEMORIAL DESCRITIVO-BRI'!$E$2:$E$4000=\"Sim\",ROW('MEMORIAL DESCRITIVO-BRI'!$B$2:$B$4000)),ROW(B315))), \"\")","v":""},{"$f":"IFERROR(INDEX('MEMORIAL DESCRITIVO-BRI'!I:I,SMALL(IF('MEMORIAL DESCRITIVO-BRI'!$E$2:$E$4000=\"Sim\",ROW('MEMORIAL DESCRITIVO-BRI'!$I$2:$I$4000)),ROW(B315))), \"\")","v":""},{"$f":"IFERROR(INDEX('MEMORIAL DESCRITIVO-BRI'!F:F,SMALL(IF('MEMORIAL DESCRITIVO-BRI'!$E$2:$E$4000=\"Sim\",ROW('MEMORIAL DESCRITIVO-BRI'!$F$2:$F$4000)),ROW(B315))) & \" - \" & INDEX('MEMORIAL DESCRITIVO-BRI'!H:H,SMALL(IF('MEMORIAL DESCRITIVO-BRI'!$E$2:$E$4000=\"Sim\",ROW('MEMORIAL DESCRITIVO-BRI'!$H$2:$H$4000)),ROW(B315))), \"\")","v":""},null,{"$f":"IFERROR(INDEX('MEMORIAL DESCRITIVO-BRI'!S:S,SMALL(IF('MEMORIAL DESCRITIVO-BRI'!$E$2:$E$4000=\"Sim\",ROW('MEMORIAL DESCRITIVO-BRI'!$S$2:$S$4000)),ROW(B315))), \"\")","v":""},{"$f":"IFERROR(INDEX('MEMORIAL DESCRITIVO-BRI'!Z:Z,SMALL(IF('MEMORIAL DESCRITIVO-BRI'!$E$2:$E$4000=\"Sim\",ROW('MEMORIAL DESCRITIVO-BRI'!$Z$2:$Z$4000)),ROW(B315))), \"\")","v":""},{"$f":"IFERROR(INDEX('MEMORIAL DESCRITIVO-BRI'!W:W,SMALL(IF('MEMORIAL DESCRITIVO-BRI'!$E$2:$E$4000=\"Sim\",ROW('MEMORIAL DESCRITIVO-BRI'!$W$2:$W$4000)),ROW(B315))), \"\")","v":""},{"$f":"IFERROR(INDEX('MEMORIAL DESCRITIVO-BRI'!G:G,SMALL(IF('MEMORIAL DESCRITIVO-BRI'!$E$2:$E$4000=\"Sim\",ROW('MEMORIAL DESCRITIVO-BRI'!$G$2:$G$4000)),ROW(B315))), \"\")","v":""},{"$f":"IFERROR(INDEX('MEMORIAL DESCRITIVO-BRI'!P:P,SMALL(IF('MEMORIAL DESCRITIVO-BRI'!$E$2:$E$4000=\"Sim\",ROW('MEMORIAL DESCRITIVO-BRI'!$P$2:$P$4000)),ROW(B315))), \"\")","v":""},{"$f":"IFERROR(INDEX('MEMORIAL DESCRITIVO-BRI'!Q:Q,SMALL(IF('MEMORIAL DESCRITIVO-BRI'!$E$2:$E$4000=\"Sim\",ROW('MEMORIAL DESCRITIVO-BRI'!$Q$2:$Q$4000)),ROW(B315))), \"\")","v":""}]
[null,{"$f":"IFERROR(INDEX('MEMORIAL DESCRITIVO-BRI'!B:B,SMALL(IF('MEMORIAL DESCRITIVO-BRI'!$E$2:$E$4000=\"Sim\",ROW('MEMORIAL DESCRITIVO-BRI'!$B$2:$B$4000)),ROW(B316))), \"\")","v":""},{"$f":"IFERROR(INDEX('MEMORIAL DESCRITIVO-BRI'!I:I,SMALL(IF('MEMORIAL DESCRITIVO-BRI'!$E$2:$E$4000=\"Sim\",ROW('MEMORIAL DESCRITIVO-BRI'!$I$2:$I$4000)),ROW(B316))), \"\")","v":""},{"$f":"IFERROR(INDEX('MEMORIAL DESCRITIVO-BRI'!F:F,SMALL(IF('MEMORIAL DESCRITIVO-BRI'!$E$2:$E$4000=\"Sim\",ROW('MEMORIAL DESCRITIVO-BRI'!$F$2:$F$4000)),ROW(B316))) & \" - \" & INDEX('MEMORIAL DESCRITIVO-BRI'!H:H,SMALL(IF('MEMORIAL DESCRITIVO-BRI'!$E$2:$E$4000=\"Sim\",ROW('MEMORIAL DESCRITIVO-BRI'!$H$2:$H$4000)),ROW(B316))), \"\")","v":""},null,{"$f":"IFERROR(INDEX('MEMORIAL DESCRITIVO-BRI'!S:S,SMALL(IF('MEMORIAL DESCRITIVO-BRI'!$E$2:$E$4000=\"Sim\",ROW('MEMORIAL DESCRITIVO-BRI'!$S$2:$S$4000)),ROW(B316))), \"\")","v":""},{"$f":"IFERROR(INDEX('MEMORIAL DESCRITIVO-BRI'!Z:Z,SMALL(IF('MEMORIAL DESCRITIVO-BRI'!$E$2:$E$4000=\"Sim\",ROW('MEMORIAL DESCRITIVO-BRI'!$Z$2:$Z$4000)),ROW(B316))), \"\")","v":""},{"$f":"IFERROR(INDEX('MEMORIAL DESCRITIVO-BRI'!W:W,SMALL(IF('MEMORIAL DESCRITIVO-BRI'!$E$2:$E$4000=\"Sim\",ROW('MEMORIAL DESCRITIVO-BRI'!$W$2:$W$4000)),ROW(B316))), \"\")","v":""},{"$f":"IFERROR(INDEX('MEMORIAL DESCRITIVO-BRI'!G:G,SMALL(IF('MEMORIAL DESCRITIVO-BRI'!$E$2:$E$4000=\"Sim\",ROW('MEMORIAL DESCRITIVO-BRI'!$G$2:$G$4000)),ROW(B316))), \"\")","v":""},{"$f":"IFERROR(INDEX('MEMORIAL DESCRITIVO-BRI'!P:P,SMALL(IF('MEMORIAL DESCRITIVO-BRI'!$E$2:$E$4000=\"Sim\",ROW('MEMORIAL DESCRITIVO-BRI'!$P$2:$P$4000)),ROW(B316))), \"\")","v":""},{"$f":"IFERROR(INDEX('MEMORIAL DESCRITIVO-BRI'!Q:Q,SMALL(IF('MEMORIAL DESCRITIVO-BRI'!$E$2:$E$4000=\"Sim\",ROW('MEMORIAL DESCRITIVO-BRI'!$Q$2:$Q$4000)),ROW(B316))), \"\")","v":""}]
[null,{"$f":"IFERROR(INDEX('MEMORIAL DESCRITIVO-BRI'!B:B,SMALL(IF('MEMORIAL DESCRITIVO-BRI'!$E$2:$E$4000=\"Sim\",ROW('MEMORIAL DESCRITIVO-BRI'!$B$2:$B$4000)),ROW(B317))), \"\")","v":""},{"$f":"IFERROR(INDEX('MEMORIAL DESCRITIVO-BRI'!I:I,SMALL(IF('MEMORIAL DESCRITIVO-BRI'!$E$2:$E$4000=\"Sim\",ROW('MEMORIAL DESCRITIVO-BRI'!$I$2:$I$4000)),ROW(B317))), \"\")","v":""},{"$f":"IFERROR(INDEX('MEMORIAL DESCRITIVO-BRI'!F:F,SMALL(IF('MEMORIAL DESCRITIVO-BRI'!$E$2:$E$4000=\"Sim\",ROW('MEMORIAL DESCRITIVO-BRI'!$F$2:$F$4000)),ROW(B317))) & \" - \" & INDEX('MEMORIAL DESCRITIVO-BRI'!H:H,SMALL(IF('MEMORIAL DESCRITIVO-BRI'!$E$2:$E$4000=\"Sim\",ROW('MEMORIAL DESCRITIVO-BRI'!$H$2:$H$4000)),ROW(B317))), \"\")","v":""},null,{"$f":"IFERROR(INDEX('MEMORIAL DESCRITIVO-BRI'!S:S,SMALL(IF('MEMORIAL DESCRITIVO-BRI'!$E$2:$E$4000=\"Sim\",ROW('MEMORIAL DESCRITIVO-BRI'!$S$2:$S$4000)),ROW(B317))), \"\")","v":""},{"$f":"IFERROR(INDEX('MEMORIAL DESCRITIVO-BRI'!Z:Z,SMALL(IF('MEMORIAL DESCRITIVO-BRI'!$E$2:$E$4000=\"Sim\",ROW('MEMORIAL DESCRITIVO-BRI'!$Z$2:$Z$4000)),ROW(B317))), \"\")","v":""},{"$f":"IFERROR(INDEX('MEMORIAL DESCRITIVO-BRI'!W:W,SMALL(IF('MEMORIAL DESCRITIVO-BRI'!$E$2:$E$4000=\"Sim\",ROW('MEMORIAL DESCRITIVO-BRI'!$W$2:$W$4000)),ROW(B317))), \"\")","v":""},{"$f":"IFERROR(INDEX('MEMORIAL DESCRITIVO-BRI'!G:G,SMALL(IF('MEMORIAL DESCRITIVO-BRI'!$E$2:$E$4000=\"Sim\",ROW('MEMORIAL DESCRITIVO-BRI'!$G$2:$G$4000)),ROW(B317))), \"\")","v":""},{"$f":"IFERROR(INDEX('MEMORIAL DESCRITIVO-BRI'!P:P,SMALL(IF('MEMORIAL DESCRITIVO-BRI'!$E$2:$E$4000=\"Sim\",ROW('MEMORIAL DESCRITIVO-BRI'!$P$2:$P$4000)),ROW(B317))), \"\")","v":""},{"$f":"IFERROR(INDEX('MEMORIAL DESCRITIVO-BRI'!Q:Q,SMALL(IF('MEMORIAL DESCRITIVO-BRI'!$E$2:$E$4000=\"Sim\",ROW('MEMORIAL DESCRITIVO-BRI'!$Q$2:$Q$4000)),ROW(B317))), \"\")","v":""}]
[null,{"$f":"IFERROR(INDEX('MEMORIAL DESCRITIVO-BRI'!B:B,SMALL(IF('MEMORIAL DESCRITIVO-BRI'!$E$2:$E$4000=\"Sim\",ROW('MEMORIAL DESCRITIVO-BRI'!$B$2:$B$4000)),ROW(B318))), \"\")","v":""},{"$f":"IFERROR(INDEX('MEMORIAL DESCRITIVO-BRI'!I:I,SMALL(IF('MEMORIAL DESCRITIVO-BRI'!$E$2:$E$4000=\"Sim\",ROW('MEMORIAL DESCRITIVO-BRI'!$I$2:$I$4000)),ROW(B318))), \"\")","v":""},{"$f":"IFERROR(INDEX('MEMORIAL DESCRITIVO-BRI'!F:F,SMALL(IF('MEMORIAL DESCRITIVO-BRI'!$E$2:$E$4000=\"Sim\",ROW('MEMORIAL DESCRITIVO-BRI'!$F$2:$F$4000)),ROW(B318))) & \" - \" & INDEX('MEMORIAL DESCRITIVO-BRI'!H:H,SMALL(IF('MEMORIAL DESCRITIVO-BRI'!$E$2:$E$4000=\"Sim\",ROW('MEMORIAL DESCRITIVO-BRI'!$H$2:$H$4000)),ROW(B318))), \"\")","v":""},null,{"$f":"IFERROR(INDEX('MEMORIAL DESCRITIVO-BRI'!S:S,SMALL(IF('MEMORIAL DESCRITIVO-BRI'!$E$2:$E$4000=\"Sim\",ROW('MEMORIAL DESCRITIVO-BRI'!$S$2:$S$4000)),ROW(B318))), \"\")","v":""},{"$f":"IFERROR(INDEX('MEMORIAL DESCRITIVO-BRI'!Z:Z,SMALL(IF('MEMORIAL DESCRITIVO-BRI'!$E$2:$E$4000=\"Sim\",ROW('MEMORIAL DESCRITIVO-BRI'!$Z$2:$Z$4000)),ROW(B318))), \"\")","v":""},{"$f":"IFERROR(INDEX('MEMORIAL DESCRITIVO-BRI'!W:W,SMALL(IF('MEMORIAL DESCRITIVO-BRI'!$E$2:$E$4000=\"Sim\",ROW('MEMORIAL DESCRITIVO-BRI'!$W$2:$W$4000)),ROW(B318))), \"\")","v":""},{"$f":"IFERROR(INDEX('MEMORIAL DESCRITIVO-BRI'!G:G,SMALL(IF('MEMORIAL DESCRITIVO-BRI'!$E$2:$E$4000=\"Sim\",ROW('MEMORIAL DESCRITIVO-BRI'!$G$2:$G$4000)),ROW(B318))), \"\")","v":""},{"$f":"IFERROR(INDEX('MEMORIAL DESCRITIVO-BRI'!P:P,SMALL(IF('MEMORIAL DESCRITIVO-BRI'!$E$2:$E$4000=\"Sim\",ROW('MEMORIAL DESCRITIVO-BRI'!$P$2:$P$4000)),ROW(B318))), \"\")","v":""},{"$f":"IFERROR(INDEX('MEMORIAL DESCRITIVO-BRI'!Q:Q,SMALL(IF('MEMORIAL DESCRITIVO-BRI'!$E$2:$E$4000=\"Sim\",ROW('MEMORIAL DESCRITIVO-BRI'!$Q$2:$Q$4000)),ROW(B318))), \"\")","v":""}]
[null,{"$f":"IFERROR(INDEX('MEMORIAL DESCRITIVO-BRI'!B:B,SMALL(IF('MEMORIAL DESCRITIVO-BRI'!$E$2:$E$4000=\"Sim\",ROW('MEMORIAL DESCRITIVO-BRI'!$B$2:$B$4000)),ROW(B319))), \"\")","v":""},{"$f":"IFERROR(INDEX('MEMORIAL DESCRITIVO-BRI'!I:I,SMALL(IF('MEMORIAL DESCRITIVO-BRI'!$E$2:$E$4000=\"Sim\",ROW('MEMORIAL DESCRITIVO-BRI'!$I$2:$I$4000)),ROW(B319))), \"\")","v":""},{"$f":"IFERROR(INDEX('MEMORIAL DESCRITIVO-BRI'!F:F,SMALL(IF('MEMORIAL DESCRITIVO-BRI'!$E$2:$E$4000=\"Sim\",ROW('MEMORIAL DESCRITIVO-BRI'!$F$2:$F$4000)),ROW(B319))) & \" - \" & INDEX('MEMORIAL DESCRITIVO-BRI'!H:H,SMALL(IF('MEMORIAL DESCRITIVO-BRI'!$E$2:$E$4000=\"Sim\",ROW('MEMORIAL DESCRITIVO-BRI'!$H$2:$H$4000)),ROW(B319))), \"\")","v":""},null,{"$f":"IFERROR(INDEX('MEMORIAL DESCRITIVO-BRI'!S:S,SMALL(IF('MEMORIAL DESCRITIVO-BRI'!$E$2:$E$4000=\"Sim\",ROW('MEMORIAL DESCRITIVO-BRI'!$S$2:$S$4000)),ROW(B319))), \"\")","v":""},{"$f":"IFERROR(INDEX('MEMORIAL DESCRITIVO-BRI'!Z:Z,SMALL(IF('MEMORIAL DESCRITIVO-BRI'!$E$2:$E$4000=\"Sim\",ROW('MEMORIAL DESCRITIVO-BRI'!$Z$2:$Z$4000)),ROW(B319))), \"\")","v":""},{"$f":"IFERROR(INDEX('MEMORIAL DESCRITIVO-BRI'!W:W,SMALL(IF('MEMORIAL DESCRITIVO-BRI'!$E$2:$E$4000=\"Sim\",ROW('MEMORIAL DESCRITIVO-BRI'!$W$2:$W$4000)),ROW(B319))), \"\")","v":""},{"$f":"IFERROR(INDEX('MEMORIAL DESCRITIVO-BRI'!G:G,SMALL(IF('MEMORIAL DESCRITIVO-BRI'!$E$2:$E$4000=\"Sim\",ROW('MEMORIAL DESCRITIVO-BRI'!$G$2:$G$4000)),ROW(B319))), \"\")","v":""},{"$f":"IFERROR(INDEX('MEMORIAL DESCRITIVO-BRI'!P:P,SMALL(IF('MEMORIAL DESCRITIVO-BRI'!$E$2:$E$4000=\"Sim\",ROW('MEMORIAL DESCRITIVO-BRI'!$P$2:$P$4000)),ROW(B319))), \"\")","v":""},{"$f":"IFERROR(INDEX('MEMORIAL DESCRITIVO-BRI'!Q:Q,SMALL(IF('MEMORIAL DESCRITIVO-BRI'!$E$2:$E$4000=\"Sim\",ROW('MEMORIAL DESCRITIVO-BRI'!$Q$2:$Q$4000)),ROW(B319))), \"\")","v":""}]
[null,{"$f":"IFERROR(INDEX('MEMORIAL DESCRITIVO-BRI'!B:B,SMALL(IF('MEMORIAL DESCRITIVO-BRI'!$E$2:$E$4000=\"Sim\",ROW('MEMORIAL DESCRITIVO-BRI'!$B$2:$B$4000)),ROW(B320))), \"\")","v":""},{"$f":"IFERROR(INDEX('MEMORIAL DESCRITIVO-BRI'!I:I,SMALL(IF('MEMORIAL DESCRITIVO-BRI'!$E$2:$E$4000=\"Sim\",ROW('MEMORIAL DESCRITIVO-BRI'!$I$2:$I$4000)),ROW(B320))), \"\")","v":""},{"$f":"IFERROR(INDEX('MEMORIAL DESCRITIVO-BRI'!F:F,SMALL(IF('MEMORIAL DESCRITIVO-BRI'!$E$2:$E$4000=\"Sim\",ROW('MEMORIAL DESCRITIVO-BRI'!$F$2:$F$4000)),ROW(B320))) & \" - \" & INDEX('MEMORIAL DESCRITIVO-BRI'!H:H,SMALL(IF('MEMORIAL DESCRITIVO-BRI'!$E$2:$E$4000=\"Sim\",ROW('MEMORIAL DESCRITIVO-BRI'!$H$2:$H$4000)),ROW(B320))), \"\")","v":""},null,{"$f":"IFERROR(INDEX('MEMORIAL DESCRITIVO-BRI'!S:S,SMALL(IF('MEMORIAL DESCRITIVO-BRI'!$E$2:$E$4000=\"Sim\",ROW('MEMORIAL DESCRITIVO-BRI'!$S$2:$S$4000)),ROW(B320))), \"\")","v":""},{"$f":"IFERROR(INDEX('MEMORIAL DESCRITIVO-BRI'!Z:Z,SMALL(IF('MEMORIAL DESCRITIVO-BRI'!$E$2:$E$4000=\"Sim\",ROW('MEMORIAL DESCRITIVO-BRI'!$Z$2:$Z$4000)),ROW(B320))), \"\")","v":""},{"$f":"IFERROR(INDEX('MEMORIAL DESCRITIVO-BRI'!W:W,SMALL(IF('MEMORIAL DESCRITIVO-BRI'!$E$2:$E$4000=\"Sim\",ROW('MEMORIAL DESCRITIVO-BRI'!$W$2:$W$4000)),ROW(B320))), \"\")","v":""},{"$f":"IFERROR(INDEX('MEMORIAL DESCRITIVO-BRI'!G:G,SMALL(IF('MEMORIAL DESCRITIVO-BRI'!$E$2:$E$4000=\"Sim\",ROW('MEMORIAL DESCRITIVO-BRI'!$G$2:$G$4000)),ROW(B320))), \"\")","v":""},{"$f":"IFERROR(INDEX('MEMORIAL DESCRITIVO-BRI'!P:P,SMALL(IF('MEMORIAL DESCRITIVO-BRI'!$E$2:$E$4000=\"Sim\",ROW('MEMORIAL DESCRITIVO-BRI'!$P$2:$P$4000)),ROW(B320))), \"\")","v":""},{"$f":"IFERROR(INDEX('MEMORIAL DESCRITIVO-BRI'!Q:Q,SMALL(IF('MEMORIAL DESCRITIVO-BRI'!$E$2:$E$4000=\"Sim\",ROW('MEMORIAL DESCRITIVO-BRI'!$Q$2:$Q$4000)),ROW(B320))), \"\")","v":""}]
[null,{"$f":"IFERROR(INDEX('MEMORIAL DESCRITIVO-BRI'!B:B,SMALL(IF('MEMORIAL DESCRITIVO-BRI'!$E$2:$E$4000=\"Sim\",ROW('MEMORIAL DESCRITIVO-BRI'!$B$2:$B$4000)),ROW(B321))), \"\")","v":""},{"$f":"IFERROR(INDEX('MEMORIAL DESCRITIVO-BRI'!I:I,SMALL(IF('MEMORIAL DESCRITIVO-BRI'!$E$2:$E$4000=\"Sim\",ROW('MEMORIAL DESCRITIVO-BRI'!$I$2:$I$4000)),ROW(B321))), \"\")","v":""},{"$f":"IFERROR(INDEX('MEMORIAL DESCRITIVO-BRI'!F:F,SMALL(IF('MEMORIAL DESCRITIVO-BRI'!$E$2:$E$4000=\"Sim\",ROW('MEMORIAL DESCRITIVO-BRI'!$F$2:$F$4000)),ROW(B321))) & \" - \" & INDEX('MEMORIAL DESCRITIVO-BRI'!H:H,SMALL(IF('MEMORIAL DESCRITIVO-BRI'!$E$2:$E$4000=\"Sim\",ROW('MEMORIAL DESCRITIVO-BRI'!$H$2:$H$4000)),ROW(B321))), \"\")","v":""},null,{"$f":"IFERROR(INDEX('MEMORIAL DESCRITIVO-BRI'!S:S,SMALL(IF('MEMORIAL DESCRITIVO-BRI'!$E$2:$E$4000=\"Sim\",ROW('MEMORIAL DESCRITIVO-BRI'!$S$2:$S$4000)),ROW(B321))), \"\")","v":""},{"$f":"IFERROR(INDEX('MEMORIAL DESCRITIVO-BRI'!Z:Z,SMALL(IF('MEMORIAL DESCRITIVO-BRI'!$E$2:$E$4000=\"Sim\",ROW('MEMORIAL DESCRITIVO-BRI'!$Z$2:$Z$4000)),ROW(B321))), \"\")","v":""},{"$f":"IFERROR(INDEX('MEMORIAL DESCRITIVO-BRI'!W:W,SMALL(IF('MEMORIAL DESCRITIVO-BRI'!$E$2:$E$4000=\"Sim\",ROW('MEMORIAL DESCRITIVO-BRI'!$W$2:$W$4000)),ROW(B321))), \"\")","v":""},{"$f":"IFERROR(INDEX('MEMORIAL DESCRITIVO-BRI'!G:G,SMALL(IF('MEMORIAL DESCRITIVO-BRI'!$E$2:$E$4000=\"Sim\",ROW('MEMORIAL DESCRITIVO-BRI'!$G$2:$G$4000)),ROW(B321))), \"\")","v":""},{"$f":"IFERROR(INDEX('MEMORIAL DESCRITIVO-BRI'!P:P,SMALL(IF('MEMORIAL DESCRITIVO-BRI'!$E$2:$E$4000=\"Sim\",ROW('MEMORIAL DESCRITIVO-BRI'!$P$2:$P$4000)),ROW(B321))), \"\")","v":""},{"$f":"IFERROR(INDEX('MEMORIAL DESCRITIVO-BRI'!Q:Q,SMALL(IF('MEMORIAL DESCRITIVO-BRI'!$E$2:$E$4000=\"Sim\",ROW('MEMORIAL DESCRITIVO-BRI'!$Q$2:$Q$4000)),ROW(B321))), \"\")","v":""}]
[null,{"$f":"IFERROR(INDEX('MEMORIAL DESCRITIVO-BRI'!B:B,SMALL(IF('MEMORIAL DESCRITIVO-BRI'!$E$2:$E$4000=\"Sim\",ROW('MEMORIAL DESCRITIVO-BRI'!$B$2:$B$4000)),ROW(B322))), \"\")","v":""},{"$f":"IFERROR(INDEX('MEMORIAL DESCRITIVO-BRI'!I:I,SMALL(IF('MEMORIAL DESCRITIVO-BRI'!$E$2:$E$4000=\"Sim\",ROW('MEMORIAL DESCRITIVO-BRI'!$I$2:$I$4000)),ROW(B322))), \"\")","v":""},{"$f":"IFERROR(INDEX('MEMORIAL DESCRITIVO-BRI'!F:F,SMALL(IF('MEMORIAL DESCRITIVO-BRI'!$E$2:$E$4000=\"Sim\",ROW('MEMORIAL DESCRITIVO-BRI'!$F$2:$F$4000)),ROW(B322))) & \" - \" & INDEX('MEMORIAL DESCRITIVO-BRI'!H:H,SMALL(IF('MEMORIAL DESCRITIVO-BRI'!$E$2:$E$4000=\"Sim\",ROW('MEMORIAL DESCRITIVO-BRI'!$H$2:$H$4000)),ROW(B322))), \"\")","v":""},null,{"$f":"IFERROR(INDEX('MEMORIAL DESCRITIVO-BRI'!S:S,SMALL(IF('MEMORIAL DESCRITIVO-BRI'!$E$2:$E$4000=\"Sim\",ROW('MEMORIAL DESCRITIVO-BRI'!$S$2:$S$4000)),ROW(B322))), \"\")","v":""},{"$f":"IFERROR(INDEX('MEMORIAL DESCRITIVO-BRI'!Z:Z,SMALL(IF('MEMORIAL DESCRITIVO-BRI'!$E$2:$E$4000=\"Sim\",ROW('MEMORIAL DESCRITIVO-BRI'!$Z$2:$Z$4000)),ROW(B322))), \"\")","v":""},{"$f":"IFERROR(INDEX('MEMORIAL DESCRITIVO-BRI'!W:W,SMALL(IF('MEMORIAL DESCRITIVO-BRI'!$E$2:$E$4000=\"Sim\",ROW('MEMORIAL DESCRITIVO-BRI'!$W$2:$W$4000)),ROW(B322))), \"\")","v":""},{"$f":"IFERROR(INDEX('MEMORIAL DESCRITIVO-BRI'!G:G,SMALL(IF('MEMORIAL DESCRITIVO-BRI'!$E$2:$E$4000=\"Sim\",ROW('MEMORIAL DESCRITIVO-BRI'!$G$2:$G$4000)),ROW(B322))), \"\")","v":""},{"$f":"IFERROR(INDEX('MEMORIAL DESCRITIVO-BRI'!P:P,SMALL(IF('MEMORIAL DESCRITIVO-BRI'!$E$2:$E$4000=\"Sim\",ROW('MEMORIAL DESCRITIVO-BRI'!$P$2:$P$4000)),ROW(B322))), \"\")","v":""},{"$f":"IFERROR(INDEX('MEMORIAL DESCRITIVO-BRI'!Q:Q,SMALL(IF('MEMORIAL DESCRITIVO-BRI'!$E$2:$E$4000=\"Sim\",ROW('MEMORIAL DESCRITIVO-BRI'!$Q$2:$Q$4000)),ROW(B322))), \"\")","v":""}]
[null,{"$f":"IFERROR(INDEX('MEMORIAL DESCRITIVO-BRI'!B:B,SMALL(IF('MEMORIAL DESCRITIVO-BRI'!$E$2:$E$4000=\"Sim\",ROW('MEMORIAL DESCRITIVO-BRI'!$B$2:$B$4000)),ROW(B323))), \"\")","v":""},{"$f":"IFERROR(INDEX('MEMORIAL DESCRITIVO-BRI'!I:I,SMALL(IF('MEMORIAL DESCRITIVO-BRI'!$E$2:$E$4000=\"Sim\",ROW('MEMORIAL DESCRITIVO-BRI'!$I$2:$I$4000)),ROW(B323))), \"\")","v":""},{"$f":"IFERROR(INDEX('MEMORIAL DESCRITIVO-BRI'!F:F,SMALL(IF('MEMORIAL DESCRITIVO-BRI'!$E$2:$E$4000=\"Sim\",ROW('MEMORIAL DESCRITIVO-BRI'!$F$2:$F$4000)),ROW(B323))) & \" - \" & INDEX('MEMORIAL DESCRITIVO-BRI'!H:H,SMALL(IF('MEMORIAL DESCRITIVO-BRI'!$E$2:$E$4000=\"Sim\",ROW('MEMORIAL DESCRITIVO-BRI'!$H$2:$H$4000)),ROW(B323))), \"\")","v":""},null,{"$f":"IFERROR(INDEX('MEMORIAL DESCRITIVO-BRI'!S:S,SMALL(IF('MEMORIAL DESCRITIVO-BRI'!$E$2:$E$4000=\"Sim\",ROW('MEMORIAL DESCRITIVO-BRI'!$S$2:$S$4000)),ROW(B323))), \"\")","v":""},{"$f":"IFERROR(INDEX('MEMORIAL DESCRITIVO-BRI'!Z:Z,SMALL(IF('MEMORIAL DESCRITIVO-BRI'!$E$2:$E$4000=\"Sim\",ROW('MEMORIAL DESCRITIVO-BRI'!$Z$2:$Z$4000)),ROW(B323))), \"\")","v":""},{"$f":"IFERROR(INDEX('MEMORIAL DESCRITIVO-BRI'!W:W,SMALL(IF('MEMORIAL DESCRITIVO-BRI'!$E$2:$E$4000=\"Sim\",ROW('MEMORIAL DESCRITIVO-BRI'!$W$2:$W$4000)),ROW(B323))), \"\")","v":""},{"$f":"IFERROR(INDEX('MEMORIAL DESCRITIVO-BRI'!G:G,SMALL(IF('MEMORIAL DESCRITIVO-BRI'!$E$2:$E$4000=\"Sim\",ROW('MEMORIAL DESCRITIVO-BRI'!$G$2:$G$4000)),ROW(B323))), \"\")","v":""},{"$f":"IFERROR(INDEX('MEMORIAL DESCRITIVO-BRI'!P:P,SMALL(IF('MEMORIAL DESCRITIVO-BRI'!$E$2:$E$4000=\"Sim\",ROW('MEMORIAL DESCRITIVO-BRI'!$P$2:$P$4000)),ROW(B323))), \"\")","v":""},{"$f":"IFERROR(INDEX('MEMORIAL DESCRITIVO-BRI'!Q:Q,SMALL(IF('MEMORIAL DESCRITIVO-BRI'!$E$2:$E$4000=\"Sim\",ROW('MEMORIAL DESCRITIVO-BRI'!$Q$2:$Q$4000)),ROW(B323))), \"\")","v":""}]
[null,{"$f":"IFERROR(INDEX('MEMORIAL DESCRITIVO-BRI'!B:B,SMALL(IF('MEMORIAL DESCRITIVO-BRI'!$E$2:$E$4000=\"Sim\",ROW('MEMORIAL DESCRITIVO-BRI'!$B$2:$B$4000)),ROW(B324))), \"\")","v":""},{"$f":"IFERROR(INDEX('MEMORIAL DESCRITIVO-BRI'!I:I,SMALL(IF('MEMORIAL DESCRITIVO-BRI'!$E$2:$E$4000=\"Sim\",ROW('MEMORIAL DESCRITIVO-BRI'!$I$2:$I$4000)),ROW(B324))), \"\")","v":""},{"$f":"IFERROR(INDEX('MEMORIAL DESCRITIVO-BRI'!F:F,SMALL(IF('MEMORIAL DESCRITIVO-BRI'!$E$2:$E$4000=\"Sim\",ROW('MEMORIAL DESCRITIVO-BRI'!$F$2:$F$4000)),ROW(B324))) & \" - \" & INDEX('MEMORIAL DESCRITIVO-BRI'!H:H,SMALL(IF('MEMORIAL DESCRITIVO-BRI'!$E$2:$E$4000=\"Sim\",ROW('MEMORIAL DESCRITIVO-BRI'!$H$2:$H$4000)),ROW(B324))), \"\")","v":""},null,{"$f":"IFERROR(INDEX('MEMORIAL DESCRITIVO-BRI'!S:S,SMALL(IF('MEMORIAL DESCRITIVO-BRI'!$E$2:$E$4000=\"Sim\",ROW('MEMORIAL DESCRITIVO-BRI'!$S$2:$S$4000)),ROW(B324))), \"\")","v":""},{"$f":"IFERROR(INDEX('MEMORIAL DESCRITIVO-BRI'!Z:Z,SMALL(IF('MEMORIAL DESCRITIVO-BRI'!$E$2:$E$4000=\"Sim\",ROW('MEMORIAL DESCRITIVO-BRI'!$Z$2:$Z$4000)),ROW(B324))), \"\")","v":""},{"$f":"IFERROR(INDEX('MEMORIAL DESCRITIVO-BRI'!W:W,SMALL(IF('MEMORIAL DESCRITIVO-BRI'!$E$2:$E$4000=\"Sim\",ROW('MEMORIAL DESCRITIVO-BRI'!$W$2:$W$4000)),ROW(B324))), \"\")","v":""},{"$f":"IFERROR(INDEX('MEMORIAL DESCRITIVO-BRI'!G:G,SMALL(IF('MEMORIAL DESCRITIVO-BRI'!$E$2:$E$4000=\"Sim\",ROW('MEMORIAL DESCRITIVO-BRI'!$G$2:$G$4000)),ROW(B324))), \"\")","v":""},{"$f":"IFERROR(INDEX('MEMORIAL DESCRITIVO-BRI'!P:P,SMALL(IF('MEMORIAL DESCRITIVO-BRI'!$E$2:$E$4000=\"Sim\",ROW('MEMORIAL DESCRITIVO-BRI'!$P$2:$P$4000)),ROW(B324))), \"\")","v":""},{"$f":"IFERROR(INDEX('MEMORIAL DESCRITIVO-BRI'!Q:Q,SMALL(IF('MEMORIAL DESCRITIVO-BRI'!$E$2:$E$4000=\"Sim\",ROW('MEMORIAL DESCRITIVO-BRI'!$Q$2:$Q$4000)),ROW(B324))), \"\")","v":""}]
[null,{"$f":"IFERROR(INDEX('MEMORIAL DESCRITIVO-BRI'!B:B,SMALL(IF('MEMORIAL DESCRITIVO-BRI'!$E$2:$E$4000=\"Sim\",ROW('MEMORIAL DESCRITIVO-BRI'!$B$2:$B$4000)),ROW(B325))), \"\")","v":""},{"$f":"IFERROR(INDEX('MEMORIAL DESCRITIVO-BRI'!I:I,SMALL(IF('MEMORIAL DESCRITIVO-BRI'!$E$2:$E$4000=\"Sim\",ROW('MEMORIAL DESCRITIVO-BRI'!$I$2:$I$4000)),ROW(B325))), \"\")","v":""},{"$f":"IFERROR(INDEX('MEMORIAL DESCRITIVO-BRI'!F:F,SMALL(IF('MEMORIAL DESCRITIVO-BRI'!$E$2:$E$4000=\"Sim\",ROW('MEMORIAL DESCRITIVO-BRI'!$F$2:$F$4000)),ROW(B325))) & \" - \" & INDEX('MEMORIAL DESCRITIVO-BRI'!H:H,SMALL(IF('MEMORIAL DESCRITIVO-BRI'!$E$2:$E$4000=\"Sim\",ROW('MEMORIAL DESCRITIVO-BRI'!$H$2:$H$4000)),ROW(B325))), \"\")","v":""},null,{"$f":"IFERROR(INDEX('MEMORIAL DESCRITIVO-BRI'!S:S,SMALL(IF('MEMORIAL DESCRITIVO-BRI'!$E$2:$E$4000=\"Sim\",ROW('MEMORIAL DESCRITIVO-BRI'!$S$2:$S$4000)),ROW(B325))), \"\")","v":""},{"$f":"IFERROR(INDEX('MEMORIAL DESCRITIVO-BRI'!Z:Z,SMALL(IF('MEMORIAL DESCRITIVO-BRI'!$E$2:$E$4000=\"Sim\",ROW('MEMORIAL DESCRITIVO-BRI'!$Z$2:$Z$4000)),ROW(B325))), \"\")","v":""},{"$f":"IFERROR(INDEX('MEMORIAL DESCRITIVO-BRI'!W:W,SMALL(IF('MEMORIAL DESCRITIVO-BRI'!$E$2:$E$4000=\"Sim\",ROW('MEMORIAL DESCRITIVO-BRI'!$W$2:$W$4000)),ROW(B325))), \"\")","v":""},{"$f":"IFERROR(INDEX('MEMORIAL DESCRITIVO-BRI'!G:G,SMALL(IF('MEMORIAL DESCRITIVO-BRI'!$E$2:$E$4000=\"Sim\",ROW('MEMORIAL DESCRITIVO-BRI'!$G$2:$G$4000)),ROW(B325))), \"\")","v":""},{"$f":"IFERROR(INDEX('MEMORIAL DESCRITIVO-BRI'!P:P,SMALL(IF('MEMORIAL DESCRITIVO-BRI'!$E$2:$E$4000=\"Sim\",ROW('MEMORIAL DESCRITIVO-BRI'!$P$2:$P$4000)),ROW(B325))), \"\")","v":""},{"$f":"IFERROR(INDEX('MEMORIAL DESCRITIVO-BRI'!Q:Q,SMALL(IF('MEMORIAL DESCRITIVO-BRI'!$E$2:$E$4000=\"Sim\",ROW('MEMORIAL DESCRITIVO-BRI'!$Q$2:$Q$4000)),ROW(B325))), \"\")","v":""}]
[null,{"$f":"IFERROR(INDEX('MEMORIAL DESCRITIVO-BRI'!B:B,SMALL(IF('MEMORIAL DESCRITIVO-BRI'!$E$2:$E$4000=\"Sim\",ROW('MEMORIAL DESCRITIVO-BRI'!$B$2:$B$4000)),ROW(B326))), \"\")","v":""},{"$f":"IFERROR(INDEX('MEMORIAL DESCRITIVO-BRI'!I:I,SMALL(IF('MEMORIAL DESCRITIVO-BRI'!$E$2:$E$4000=\"Sim\",ROW('MEMORIAL DESCRITIVO-BRI'!$I$2:$I$4000)),ROW(B326))), \"\")","v":""},{"$f":"IFERROR(INDEX('MEMORIAL DESCRITIVO-BRI'!F:F,SMALL(IF('MEMORIAL DESCRITIVO-BRI'!$E$2:$E$4000=\"Sim\",ROW('MEMORIAL DESCRITIVO-BRI'!$F$2:$F$4000)),ROW(B326))) & \" - \" & INDEX('MEMORIAL DESCRITIVO-BRI'!H:H,SMALL(IF('MEMORIAL DESCRITIVO-BRI'!$E$2:$E$4000=\"Sim\",ROW('MEMORIAL DESCRITIVO-BRI'!$H$2:$H$4000)),ROW(B326))), \"\")","v":""},null,{"$f":"IFERROR(INDEX('MEMORIAL DESCRITIVO-BRI'!S:S,SMALL(IF('MEMORIAL DESCRITIVO-BRI'!$E$2:$E$4000=\"Sim\",ROW('MEMORIAL DESCRITIVO-BRI'!$S$2:$S$4000)),ROW(B326))), \"\")","v":""},{"$f":"IFERROR(INDEX('MEMORIAL DESCRITIVO-BRI'!Z:Z,SMALL(IF('MEMORIAL DESCRITIVO-BRI'!$E$2:$E$4000=\"Sim\",ROW('MEMORIAL DESCRITIVO-BRI'!$Z$2:$Z$4000)),ROW(B326))), \"\")","v":""},{"$f":"IFERROR(INDEX('MEMORIAL DESCRITIVO-BRI'!W:W,SMALL(IF('MEMORIAL DESCRITIVO-BRI'!$E$2:$E$4000=\"Sim\",ROW('MEMORIAL DESCRITIVO-BRI'!$W$2:$W$4000)),ROW(B326))), \"\")","v":""},{"$f":"IFERROR(INDEX('MEMORIAL DESCRITIVO-BRI'!G:G,SMALL(IF('MEMORIAL DESCRITIVO-BRI'!$E$2:$E$4000=\"Sim\",ROW('MEMORIAL DESCRITIVO-BRI'!$G$2:$G$4000)),ROW(B326))), \"\")","v":""},{"$f":"IFERROR(INDEX('MEMORIAL DESCRITIVO-BRI'!P:P,SMALL(IF('MEMORIAL DESCRITIVO-BRI'!$E$2:$E$4000=\"Sim\",ROW('MEMORIAL DESCRITIVO-BRI'!$P$2:$P$4000)),ROW(B326))), \"\")","v":""},{"$f":"IFERROR(INDEX('MEMORIAL DESCRITIVO-BRI'!Q:Q,SMALL(IF('MEMORIAL DESCRITIVO-BRI'!$E$2:$E$4000=\"Sim\",ROW('MEMORIAL DESCRITIVO-BRI'!$Q$2:$Q$4000)),ROW(B326))), \"\")","v":""}]
[null,{"$f":"IFERROR(INDEX('MEMORIAL DESCRITIVO-BRI'!B:B,SMALL(IF('MEMORIAL DESCRITIVO-BRI'!$E$2:$E$4000=\"Sim\",ROW('MEMORIAL DESCRITIVO-BRI'!$B$2:$B$4000)),ROW(B327))), \"\")","v":""},{"$f":"IFERROR(INDEX('MEMORIAL DESCRITIVO-BRI'!I:I,SMALL(IF('MEMORIAL DESCRITIVO-BRI'!$E$2:$E$4000=\"Sim\",ROW('MEMORIAL DESCRITIVO-BRI'!$I$2:$I$4000)),ROW(B327))), \"\")","v":""},{"$f":"IFERROR(INDEX('MEMORIAL DESCRITIVO-BRI'!F:F,SMALL(IF('MEMORIAL DESCRITIVO-BRI'!$E$2:$E$4000=\"Sim\",ROW('MEMORIAL DESCRITIVO-BRI'!$F$2:$F$4000)),ROW(B327))) & \" - \" & INDEX('MEMORIAL DESCRITIVO-BRI'!H:H,SMALL(IF('MEMORIAL DESCRITIVO-BRI'!$E$2:$E$4000=\"Sim\",ROW('MEMORIAL DESCRITIVO-BRI'!$H$2:$H$4000)),ROW(B327))), \"\")","v":""},null,{"$f":"IFERROR(INDEX('MEMORIAL DESCRITIVO-BRI'!S:S,SMALL(IF('MEMORIAL DESCRITIVO-BRI'!$E$2:$E$4000=\"Sim\",ROW('MEMORIAL DESCRITIVO-BRI'!$S$2:$S$4000)),ROW(B327))), \"\")","v":""},{"$f":"IFERROR(INDEX('MEMORIAL DESCRITIVO-BRI'!Z:Z,SMALL(IF('MEMORIAL DESCRITIVO-BRI'!$E$2:$E$4000=\"Sim\",ROW('MEMORIAL DESCRITIVO-BRI'!$Z$2:$Z$4000)),ROW(B327))), \"\")","v":""},{"$f":"IFERROR(INDEX('MEMORIAL DESCRITIVO-BRI'!W:W,SMALL(IF('MEMORIAL DESCRITIVO-BRI'!$E$2:$E$4000=\"Sim\",ROW('MEMORIAL DESCRITIVO-BRI'!$W$2:$W$4000)),ROW(B327))), \"\")","v":""},{"$f":"IFERROR(INDEX('MEMORIAL DESCRITIVO-BRI'!G:G,SMALL(IF('MEMORIAL DESCRITIVO-BRI'!$E$2:$E$4000=\"Sim\",ROW('MEMORIAL DESCRITIVO-BRI'!$G$2:$G$4000)),ROW(B327))), \"\")","v":""},{"$f":"IFERROR(INDEX('MEMORIAL DESCRITIVO-BRI'!P:P,SMALL(IF('MEMORIAL DESCRITIVO-BRI'!$E$2:$E$4000=\"Sim\",ROW('MEMORIAL DESCRITIVO-BRI'!$P$2:$P$4000)),ROW(B327))), \"\")","v":""},{"$f":"IFERROR(INDEX('MEMORIAL DESCRITIVO-BRI'!Q:Q,SMALL(IF('MEMORIAL DESCRITIVO-BRI'!$E$2:$E$4000=\"Sim\",ROW('MEMORIAL DESCRITIVO-BRI'!$Q$2:$Q$4000)),ROW(B327))), \"\")","v":""}]
[null,{"$f":"IFERROR(INDEX('MEMORIAL DESCRITIVO-BRI'!B:B,SMALL(IF('MEMORIAL DESCRITIVO-BRI'!$E$2:$E$4000=\"Sim\",ROW('MEMORIAL DESCRITIVO-BRI'!$B$2:$B$4000)),ROW(B328))), \"\")","v":""},{"$f":"IFERROR(INDEX('MEMORIAL DESCRITIVO-BRI'!I:I,SMALL(IF('MEMORIAL DESCRITIVO-BRI'!$E$2:$E$4000=\"Sim\",ROW('MEMORIAL DESCRITIVO-BRI'!$I$2:$I$4000)),ROW(B328))), \"\")","v":""},{"$f":"IFERROR(INDEX('MEMORIAL DESCRITIVO-BRI'!F:F,SMALL(IF('MEMORIAL DESCRITIVO-BRI'!$E$2:$E$4000=\"Sim\",ROW('MEMORIAL DESCRITIVO-BRI'!$F$2:$F$4000)),ROW(B328))) & \" - \" & INDEX('MEMORIAL DESCRITIVO-BRI'!H:H,SMALL(IF('MEMORIAL DESCRITIVO-BRI'!$E$2:$E$4000=\"Sim\",ROW('MEMORIAL DESCRITIVO-BRI'!$H$2:$H$4000)),ROW(B328))), \"\")","v":""},null,{"$f":"IFERROR(INDEX('MEMORIAL DESCRITIVO-BRI'!S:S,SMALL(IF('MEMORIAL DESCRITIVO-BRI'!$E$2:$E$4000=\"Sim\",ROW('MEMORIAL DESCRITIVO-BRI'!$S$2:$S$4000)),ROW(B328))), \"\")","v":""},{"$f":"IFERROR(INDEX('MEMORIAL DESCRITIVO-BRI'!Z:Z,SMALL(IF('MEMORIAL DESCRITIVO-BRI'!$E$2:$E$4000=\"Sim\",ROW('MEMORIAL DESCRITIVO-BRI'!$Z$2:$Z$4000)),ROW(B328))), \"\")","v":""},{"$f":"IFERROR(INDEX('MEMORIAL DESCRITIVO-BRI'!W:W,SMALL(IF('MEMORIAL DESCRITIVO-BRI'!$E$2:$E$4000=\"Sim\",ROW('MEMORIAL DESCRITIVO-BRI'!$W$2:$W$4000)),ROW(B328))), \"\")","v":""},{"$f":"IFERROR(INDEX('MEMORIAL DESCRITIVO-BRI'!G:G,SMALL(IF('MEMORIAL DESCRITIVO-BRI'!$E$2:$E$4000=\"Sim\",ROW('MEMORIAL DESCRITIVO-BRI'!$G$2:$G$4000)),ROW(B328))), \"\")","v":""},{"$f":"IFERROR(INDEX('MEMORIAL DESCRITIVO-BRI'!P:P,SMALL(IF('MEMORIAL DESCRITIVO-BRI'!$E$2:$E$4000=\"Sim\",ROW('MEMORIAL DESCRITIVO-BRI'!$P$2:$P$4000)),ROW(B328))), \"\")","v":""},{"$f":"IFERROR(INDEX('MEMORIAL DESCRITIVO-BRI'!Q:Q,SMALL(IF('MEMORIAL DESCRITIVO-BRI'!$E$2:$E$4000=\"Sim\",ROW('MEMORIAL DESCRITIVO-BRI'!$Q$2:$Q$4000)),ROW(B328))), \"\")","v":""}]
[null,{"$f":"IFERROR(INDEX('MEMORIAL DESCRITIVO-BRI'!B:B,SMALL(IF('MEMORIAL DESCRITIVO-BRI'!$E$2:$E$4000=\"Sim\",ROW('MEMORIAL DESCRITIVO-BRI'!$B$2:$B$4000)),ROW(B329))), \"\")","v":""},{"$f":"IFERROR(INDEX('MEMORIAL DESCRITIVO-BRI'!I:I,SMALL(IF('MEMORIAL DESCRITIVO-BRI'!$E$2:$E$4000=\"Sim\",ROW('MEMORIAL DESCRITIVO-BRI'!$I$2:$I$4000)),ROW(B329))), \"\")","v":""},{"$f":"IFERROR(INDEX('MEMORIAL DESCRITIVO-BRI'!F:F,SMALL(IF('MEMORIAL DESCRITIVO-BRI'!$E$2:$E$4000=\"Sim\",ROW('MEMORIAL DESCRITIVO-BRI'!$F$2:$F$4000)),ROW(B329))) & \" - \" & INDEX('MEMORIAL DESCRITIVO-BRI'!H:H,SMALL(IF('MEMORIAL DESCRITIVO-BRI'!$E$2:$E$4000=\"Sim\",ROW('MEMORIAL DESCRITIVO-BRI'!$H$2:$H$4000)),ROW(B329))), \"\")","v":""},null,{"$f":"IFERROR(INDEX('MEMORIAL DESCRITIVO-BRI'!S:S,SMALL(IF('MEMORIAL DESCRITIVO-BRI'!$E$2:$E$4000=\"Sim\",ROW('MEMORIAL DESCRITIVO-BRI'!$S$2:$S$4000)),ROW(B329))), \"\")","v":""},{"$f":"IFERROR(INDEX('MEMORIAL DESCRITIVO-BRI'!Z:Z,SMALL(IF('MEMORIAL DESCRITIVO-BRI'!$E$2:$E$4000=\"Sim\",ROW('MEMORIAL DESCRITIVO-BRI'!$Z$2:$Z$4000)),ROW(B329))), \"\")","v":""},{"$f":"IFERROR(INDEX('MEMORIAL DESCRITIVO-BRI'!W:W,SMALL(IF('MEMORIAL DESCRITIVO-BRI'!$E$2:$E$4000=\"Sim\",ROW('MEMORIAL DESCRITIVO-BRI'!$W$2:$W$4000)),ROW(B329))), \"\")","v":""},{"$f":"IFERROR(INDEX('MEMORIAL DESCRITIVO-BRI'!G:G,SMALL(IF('MEMORIAL DESCRITIVO-BRI'!$E$2:$E$4000=\"Sim\",ROW('MEMORIAL DESCRITIVO-BRI'!$G$2:$G$4000)),ROW(B329))), \"\")","v":""},{"$f":"IFERROR(INDEX('MEMORIAL DESCRITIVO-BRI'!P:P,SMALL(IF('MEMORIAL DESCRITIVO-BRI'!$E$2:$E$4000=\"Sim\",ROW('MEMORIAL DESCRITIVO-BRI'!$P$2:$P$4000)),ROW(B329))), \"\")","v":""},{"$f":"IFERROR(INDEX('MEMORIAL DESCRITIVO-BRI'!Q:Q,SMALL(IF('MEMORIAL DESCRITIVO-BRI'!$E$2:$E$4000=\"Sim\",ROW('MEMORIAL DESCRITIVO-BRI'!$Q$2:$Q$4000)),ROW(B329))), \"\")","v":""}]
[null,{"$f":"IFERROR(INDEX('MEMORIAL DESCRITIVO-BRI'!B:B,SMALL(IF('MEMORIAL DESCRITIVO-BRI'!$E$2:$E$4000=\"Sim\",ROW('MEMORIAL DESCRITIVO-BRI'!$B$2:$B$4000)),ROW(B330))), \"\")","v":""},{"$f":"IFERROR(INDEX('MEMORIAL DESCRITIVO-BRI'!I:I,SMALL(IF('MEMORIAL DESCRITIVO-BRI'!$E$2:$E$4000=\"Sim\",ROW('MEMORIAL DESCRITIVO-BRI'!$I$2:$I$4000)),ROW(B330))), \"\")","v":""},{"$f":"IFERROR(INDEX('MEMORIAL DESCRITIVO-BRI'!F:F,SMALL(IF('MEMORIAL DESCRITIVO-BRI'!$E$2:$E$4000=\"Sim\",ROW('MEMORIAL DESCRITIVO-BRI'!$F$2:$F$4000)),ROW(B330))) & \" - \" & INDEX('MEMORIAL DESCRITIVO-BRI'!H:H,SMALL(IF('MEMORIAL DESCRITIVO-BRI'!$E$2:$E$4000=\"Sim\",ROW('MEMORIAL DESCRITIVO-BRI'!$H$2:$H$4000)),ROW(B330))), \"\")","v":""},null,{"$f":"IFERROR(INDEX('MEMORIAL DESCRITIVO-BRI'!S:S,SMALL(IF('MEMORIAL DESCRITIVO-BRI'!$E$2:$E$4000=\"Sim\",ROW('MEMORIAL DESCRITIVO-BRI'!$S$2:$S$4000)),ROW(B330))), \"\")","v":""},{"$f":"IFERROR(INDEX('MEMORIAL DESCRITIVO-BRI'!Z:Z,SMALL(IF('MEMORIAL DESCRITIVO-BRI'!$E$2:$E$4000=\"Sim\",ROW('MEMORIAL DESCRITIVO-BRI'!$Z$2:$Z$4000)),ROW(B330))), \"\")","v":""},{"$f":"IFERROR(INDEX('MEMORIAL DESCRITIVO-BRI'!W:W,SMALL(IF('MEMORIAL DESCRITIVO-BRI'!$E$2:$E$4000=\"Sim\",ROW('MEMORIAL DESCRITIVO-BRI'!$W$2:$W$4000)),ROW(B330))), \"\")","v":""},{"$f":"IFERROR(INDEX('MEMORIAL DESCRITIVO-BRI'!G:G,SMALL(IF('MEMORIAL DESCRITIVO-BRI'!$E$2:$E$4000=\"Sim\",ROW('MEMORIAL DESCRITIVO-BRI'!$G$2:$G$4000)),ROW(B330))), \"\")","v":""},{"$f":"IFERROR(INDEX('MEMORIAL DESCRITIVO-BRI'!P:P,SMALL(IF('MEMORIAL DESCRITIVO-BRI'!$E$2:$E$4000=\"Sim\",ROW('MEMORIAL DESCRITIVO-BRI'!$P$2:$P$4000)),ROW(B330))), \"\")","v":""},{"$f":"IFERROR(INDEX('MEMORIAL DESCRITIVO-BRI'!Q:Q,SMALL(IF('MEMORIAL DESCRITIVO-BRI'!$E$2:$E$4000=\"Sim\",ROW('MEMORIAL DESCRITIVO-BRI'!$Q$2:$Q$4000)),ROW(B330))), \"\")","v":""}]
[null,{"$f":"IFERROR(INDEX('MEMORIAL DESCRITIVO-BRI'!B:B,SMALL(IF('MEMORIAL DESCRITIVO-BRI'!$E$2:$E$4000=\"Sim\",ROW('MEMORIAL DESCRITIVO-BRI'!$B$2:$B$4000)),ROW(B331))), \"\")","v":""},{"$f":"IFERROR(INDEX('MEMORIAL DESCRITIVO-BRI'!I:I,SMALL(IF('MEMORIAL DESCRITIVO-BRI'!$E$2:$E$4000=\"Sim\",ROW('MEMORIAL DESCRITIVO-BRI'!$I$2:$I$4000)),ROW(B331))), \"\")","v":""},{"$f":"IFERROR(INDEX('MEMORIAL DESCRITIVO-BRI'!F:F,SMALL(IF('MEMORIAL DESCRITIVO-BRI'!$E$2:$E$4000=\"Sim\",ROW('MEMORIAL DESCRITIVO-BRI'!$F$2:$F$4000)),ROW(B331))) & \" - \" & INDEX('MEMORIAL DESCRITIVO-BRI'!H:H,SMALL(IF('MEMORIAL DESCRITIVO-BRI'!$E$2:$E$4000=\"Sim\",ROW('MEMORIAL DESCRITIVO-BRI'!$H$2:$H$4000)),ROW(B331))), \"\")","v":""},null,{"$f":"IFERROR(INDEX('MEMORIAL DESCRITIVO-BRI'!S:S,SMALL(IF('MEMORIAL DESCRITIVO-BRI'!$E$2:$E$4000=\"Sim\",ROW('MEMORIAL DESCRITIVO-BRI'!$S$2:$S$4000)),ROW(B331))), \"\")","v":""},{"$f":"IFERROR(INDEX('MEMORIAL DESCRITIVO-BRI'!Z:Z,SMALL(IF('MEMORIAL DESCRITIVO-BRI'!$E$2:$E$4000=\"Sim\",ROW('MEMORIAL DESCRITIVO-BRI'!$Z$2:$Z$4000)),ROW(B331))), \"\")","v":""},{"$f":"IFERROR(INDEX('MEMORIAL DESCRITIVO-BRI'!W:W,SMALL(IF('MEMORIAL DESCRITIVO-BRI'!$E$2:$E$4000=\"Sim\",ROW('MEMORIAL DESCRITIVO-BRI'!$W$2:$W$4000)),ROW(B331))), \"\")","v":""},{"$f":"IFERROR(INDEX('MEMORIAL DESCRITIVO-BRI'!G:G,SMALL(IF('MEMORIAL DESCRITIVO-BRI'!$E$2:$E$4000=\"Sim\",ROW('MEMORIAL DESCRITIVO-BRI'!$G$2:$G$4000)),ROW(B331))), \"\")","v":""},{"$f":"IFERROR(INDEX('MEMORIAL DESCRITIVO-BRI'!P:P,SMALL(IF('MEMORIAL DESCRITIVO-BRI'!$E$2:$E$4000=\"Sim\",ROW('MEMORIAL DESCRITIVO-BRI'!$P$2:$P$4000)),ROW(B331))), \"\")","v":""},{"$f":"IFERROR(INDEX('MEMORIAL DESCRITIVO-BRI'!Q:Q,SMALL(IF('MEMORIAL DESCRITIVO-BRI'!$E$2:$E$4000=\"Sim\",ROW('MEMORIAL DESCRITIVO-BRI'!$Q$2:$Q$4000)),ROW(B331))), \"\")","v":""}]
[null,{"$f":"IFERROR(INDEX('MEMORIAL DESCRITIVO-BRI'!B:B,SMALL(IF('MEMORIAL DESCRITIVO-BRI'!$E$2:$E$4000=\"Sim\",ROW('MEMORIAL DESCRITIVO-BRI'!$B$2:$B$4000)),ROW(B332))), \"\")","v":""},{"$f":"IFERROR(INDEX('MEMORIAL DESCRITIVO-BRI'!I:I,SMALL(IF('MEMORIAL DESCRITIVO-BRI'!$E$2:$E$4000=\"Sim\",ROW('MEMORIAL DESCRITIVO-BRI'!$I$2:$I$4000)),ROW(B332))), \"\")","v":""},{"$f":"IFERROR(INDEX('MEMORIAL DESCRITIVO-BRI'!F:F,SMALL(IF('MEMORIAL DESCRITIVO-BRI'!$E$2:$E$4000=\"Sim\",ROW('MEMORIAL DESCRITIVO-BRI'!$F$2:$F$4000)),ROW(B332))) & \" - \" & INDEX('MEMORIAL DESCRITIVO-BRI'!H:H,SMALL(IF('MEMORIAL DESCRITIVO-BRI'!$E$2:$E$4000=\"Sim\",ROW('MEMORIAL DESCRITIVO-BRI'!$H$2:$H$4000)),ROW(B332))), \"\")","v":""},null,{"$f":"IFERROR(INDEX('MEMORIAL DESCRITIVO-BRI'!S:S,SMALL(IF('MEMORIAL DESCRITIVO-BRI'!$E$2:$E$4000=\"Sim\",ROW('MEMORIAL DESCRITIVO-BRI'!$S$2:$S$4000)),ROW(B332))), \"\")","v":""},{"$f":"IFERROR(INDEX('MEMORIAL DESCRITIVO-BRI'!Z:Z,SMALL(IF('MEMORIAL DESCRITIVO-BRI'!$E$2:$E$4000=\"Sim\",ROW('MEMORIAL DESCRITIVO-BRI'!$Z$2:$Z$4000)),ROW(B332))), \"\")","v":""},{"$f":"IFERROR(INDEX('MEMORIAL DESCRITIVO-BRI'!W:W,SMALL(IF('MEMORIAL DESCRITIVO-BRI'!$E$2:$E$4000=\"Sim\",ROW('MEMORIAL DESCRITIVO-BRI'!$W$2:$W$4000)),ROW(B332))), \"\")","v":""},{"$f":"IFERROR(INDEX('MEMORIAL DESCRITIVO-BRI'!G:G,SMALL(IF('MEMORIAL DESCRITIVO-BRI'!$E$2:$E$4000=\"Sim\",ROW('MEMORIAL DESCRITIVO-BRI'!$G$2:$G$4000)),ROW(B332))), \"\")","v":""},{"$f":"IFERROR(INDEX('MEMORIAL DESCRITIVO-BRI'!P:P,SMALL(IF('MEMORIAL DESCRITIVO-BRI'!$E$2:$E$4000=\"Sim\",ROW('MEMORIAL DESCRITIVO-BRI'!$P$2:$P$4000)),ROW(B332))), \"\")","v":""},{"$f":"IFERROR(INDEX('MEMORIAL DESCRITIVO-BRI'!Q:Q,SMALL(IF('MEMORIAL DESCRITIVO-BRI'!$E$2:$E$4000=\"Sim\",ROW('MEMORIAL DESCRITIVO-BRI'!$Q$2:$Q$4000)),ROW(B332))), \"\")","v":""}]
[null,{"$f":"IFERROR(INDEX('MEMORIAL DESCRITIVO-BRI'!B:B,SMALL(IF('MEMORIAL DESCRITIVO-BRI'!$E$2:$E$4000=\"Sim\",ROW('MEMORIAL DESCRITIVO-BRI'!$B$2:$B$4000)),ROW(B333))), \"\")","v":""},{"$f":"IFERROR(INDEX('MEMORIAL DESCRITIVO-BRI'!I:I,SMALL(IF('MEMORIAL DESCRITIVO-BRI'!$E$2:$E$4000=\"Sim\",ROW('MEMORIAL DESCRITIVO-BRI'!$I$2:$I$4000)),ROW(B333))), \"\")","v":""},{"$f":"IFERROR(INDEX('MEMORIAL DESCRITIVO-BRI'!F:F,SMALL(IF('MEMORIAL DESCRITIVO-BRI'!$E$2:$E$4000=\"Sim\",ROW('MEMORIAL DESCRITIVO-BRI'!$F$2:$F$4000)),ROW(B333))) & \" - \" & INDEX('MEMORIAL DESCRITIVO-BRI'!H:H,SMALL(IF('MEMORIAL DESCRITIVO-BRI'!$E$2:$E$4000=\"Sim\",ROW('MEMORIAL DESCRITIVO-BRI'!$H$2:$H$4000)),ROW(B333))), \"\")","v":""},null,{"$f":"IFERROR(INDEX('MEMORIAL DESCRITIVO-BRI'!S:S,SMALL(IF('MEMORIAL DESCRITIVO-BRI'!$E$2:$E$4000=\"Sim\",ROW('MEMORIAL DESCRITIVO-BRI'!$S$2:$S$4000)),ROW(B333))), \"\")","v":""},{"$f":"IFERROR(INDEX('MEMORIAL DESCRITIVO-BRI'!Z:Z,SMALL(IF('MEMORIAL DESCRITIVO-BRI'!$E$2:$E$4000=\"Sim\",ROW('MEMORIAL DESCRITIVO-BRI'!$Z$2:$Z$4000)),ROW(B333))), \"\")","v":""},{"$f":"IFERROR(INDEX('MEMORIAL DESCRITIVO-BRI'!W:W,SMALL(IF('MEMORIAL DESCRITIVO-BRI'!$E$2:$E$4000=\"Sim\",ROW('MEMORIAL DESCRITIVO-BRI'!$W$2:$W$4000)),ROW(B333))), \"\")","v":""},{"$f":"IFERROR(INDEX('MEMORIAL DESCRITIVO-BRI'!G:G,SMALL(IF('MEMORIAL DESCRITIVO-BRI'!$E$2:$E$4000=\"Sim\",ROW('MEMORIAL DESCRITIVO-BRI'!$G$2:$G$4000)),ROW(B333))), \"\")","v":""},{"$f":"IFERROR(INDEX('MEMORIAL DESCRITIVO-BRI'!P:P,SMALL(IF('MEMORIAL DESCRITIVO-BRI'!$E$2:$E$4000=\"Sim\",ROW('MEMORIAL DESCRITIVO-BRI'!$P$2:$P$4000)),ROW(B333))), \"\")","v":""},{"$f":"IFERROR(INDEX('MEMORIAL DESCRITIVO-BRI'!Q:Q,SMALL(IF('MEMORIAL DESCRITIVO-BRI'!$E$2:$E$4000=\"Sim\",ROW('MEMORIAL DESCRITIVO-BRI'!$Q$2:$Q$4000)),ROW(B333))), \"\")","v":""}]
[null,{"$f":"IFERROR(INDEX('MEMORIAL DESCRITIVO-BRI'!B:B,SMALL(IF('MEMORIAL DESCRITIVO-BRI'!$E$2:$E$4000=\"Sim\",ROW('MEMORIAL DESCRITIVO-BRI'!$B$2:$B$4000)),ROW(B334))), \"\")","v":""},{"$f":"IFERROR(INDEX('MEMORIAL DESCRITIVO-BRI'!I:I,SMALL(IF('MEMORIAL DESCRITIVO-BRI'!$E$2:$E$4000=\"Sim\",ROW('MEMORIAL DESCRITIVO-BRI'!$I$2:$I$4000)),ROW(B334))), \"\")","v":""},{"$f":"IFERROR(INDEX('MEMORIAL DESCRITIVO-BRI'!F:F,SMALL(IF('MEMORIAL DESCRITIVO-BRI'!$E$2:$E$4000=\"Sim\",ROW('MEMORIAL DESCRITIVO-BRI'!$F$2:$F$4000)),ROW(B334))) & \" - \" & INDEX('MEMORIAL DESCRITIVO-BRI'!H:H,SMALL(IF('MEMORIAL DESCRITIVO-BRI'!$E$2:$E$4000=\"Sim\",ROW('MEMORIAL DESCRITIVO-BRI'!$H$2:$H$4000)),ROW(B334))), \"\")","v":""},null,{"$f":"IFERROR(INDEX('MEMORIAL DESCRITIVO-BRI'!S:S,SMALL(IF('MEMORIAL DESCRITIVO-BRI'!$E$2:$E$4000=\"Sim\",ROW('MEMORIAL DESCRITIVO-BRI'!$S$2:$S$4000)),ROW(B334))), \"\")","v":""},{"$f":"IFERROR(INDEX('MEMORIAL DESCRITIVO-BRI'!Z:Z,SMALL(IF('MEMORIAL DESCRITIVO-BRI'!$E$2:$E$4000=\"Sim\",ROW('MEMORIAL DESCRITIVO-BRI'!$Z$2:$Z$4000)),ROW(B334))), \"\")","v":""},{"$f":"IFERROR(INDEX('MEMORIAL DESCRITIVO-BRI'!W:W,SMALL(IF('MEMORIAL DESCRITIVO-BRI'!$E$2:$E$4000=\"Sim\",ROW('MEMORIAL DESCRITIVO-BRI'!$W$2:$W$4000)),ROW(B334))), \"\")","v":""},{"$f":"IFERROR(INDEX('MEMORIAL DESCRITIVO-BRI'!G:G,SMALL(IF('MEMORIAL DESCRITIVO-BRI'!$E$2:$E$4000=\"Sim\",ROW('MEMORIAL DESCRITIVO-BRI'!$G$2:$G$4000)),ROW(B334))), \"\")","v":""},{"$f":"IFERROR(INDEX('MEMORIAL DESCRITIVO-BRI'!P:P,SMALL(IF('MEMORIAL DESCRITIVO-BRI'!$E$2:$E$4000=\"Sim\",ROW('MEMORIAL DESCRITIVO-BRI'!$P$2:$P$4000)),ROW(B334))), \"\")","v":""},{"$f":"IFERROR(INDEX('MEMORIAL DESCRITIVO-BRI'!Q:Q,SMALL(IF('MEMORIAL DESCRITIVO-BRI'!$E$2:$E$4000=\"Sim\",ROW('MEMORIAL DESCRITIVO-BRI'!$Q$2:$Q$4000)),ROW(B334))), \"\")","v":""}]
[null,{"$f":"IFERROR(INDEX('MEMORIAL DESCRITIVO-BRI'!B:B,SMALL(IF('MEMORIAL DESCRITIVO-BRI'!$E$2:$E$4000=\"Sim\",ROW('MEMORIAL DESCRITIVO-BRI'!$B$2:$B$4000)),ROW(B335))), \"\")","v":""},{"$f":"IFERROR(INDEX('MEMORIAL DESCRITIVO-BRI'!I:I,SMALL(IF('MEMORIAL DESCRITIVO-BRI'!$E$2:$E$4000=\"Sim\",ROW('MEMORIAL DESCRITIVO-BRI'!$I$2:$I$4000)),ROW(B335))), \"\")","v":""},{"$f":"IFERROR(INDEX('MEMORIAL DESCRITIVO-BRI'!F:F,SMALL(IF('MEMORIAL DESCRITIVO-BRI'!$E$2:$E$4000=\"Sim\",ROW('MEMORIAL DESCRITIVO-BRI'!$F$2:$F$4000)),ROW(B335))) & \" - \" & INDEX('MEMORIAL DESCRITIVO-BRI'!H:H,SMALL(IF('MEMORIAL DESCRITIVO-BRI'!$E$2:$E$4000=\"Sim\",ROW('MEMORIAL DESCRITIVO-BRI'!$H$2:$H$4000)),ROW(B335))), \"\")","v":""},null,{"$f":"IFERROR(INDEX('MEMORIAL DESCRITIVO-BRI'!S:S,SMALL(IF('MEMORIAL DESCRITIVO-BRI'!$E$2:$E$4000=\"Sim\",ROW('MEMORIAL DESCRITIVO-BRI'!$S$2:$S$4000)),ROW(B335))), \"\")","v":""},{"$f":"IFERROR(INDEX('MEMORIAL DESCRITIVO-BRI'!Z:Z,SMALL(IF('MEMORIAL DESCRITIVO-BRI'!$E$2:$E$4000=\"Sim\",ROW('MEMORIAL DESCRITIVO-BRI'!$Z$2:$Z$4000)),ROW(B335))), \"\")","v":""},{"$f":"IFERROR(INDEX('MEMORIAL DESCRITIVO-BRI'!W:W,SMALL(IF('MEMORIAL DESCRITIVO-BRI'!$E$2:$E$4000=\"Sim\",ROW('MEMORIAL DESCRITIVO-BRI'!$W$2:$W$4000)),ROW(B335))), \"\")","v":""},{"$f":"IFERROR(INDEX('MEMORIAL DESCRITIVO-BRI'!G:G,SMALL(IF('MEMORIAL DESCRITIVO-BRI'!$E$2:$E$4000=\"Sim\",ROW('MEMORIAL DESCRITIVO-BRI'!$G$2:$G$4000)),ROW(B335))), \"\")","v":""},{"$f":"IFERROR(INDEX('MEMORIAL DESCRITIVO-BRI'!P:P,SMALL(IF('MEMORIAL DESCRITIVO-BRI'!$E$2:$E$4000=\"Sim\",ROW('MEMORIAL DESCRITIVO-BRI'!$P$2:$P$4000)),ROW(B335))), \"\")","v":""},{"$f":"IFERROR(INDEX('MEMORIAL DESCRITIVO-BRI'!Q:Q,SMALL(IF('MEMORIAL DESCRITIVO-BRI'!$E$2:$E$4000=\"Sim\",ROW('MEMORIAL DESCRITIVO-BRI'!$Q$2:$Q$4000)),ROW(B335))), \"\")","v":""}]
[null,{"$f":"IFERROR(INDEX('MEMORIAL DESCRITIVO-BRI'!B:B,SMALL(IF('MEMORIAL DESCRITIVO-BRI'!$E$2:$E$4000=\"Sim\",ROW('MEMORIAL DESCRITIVO-BRI'!$B$2:$B$4000)),ROW(B336))), \"\")","v":""},{"$f":"IFERROR(INDEX('MEMORIAL DESCRITIVO-BRI'!I:I,SMALL(IF('MEMORIAL DESCRITIVO-BRI'!$E$2:$E$4000=\"Sim\",ROW('MEMORIAL DESCRITIVO-BRI'!$I$2:$I$4000)),ROW(B336))), \"\")","v":""},{"$f":"IFERROR(INDEX('MEMORIAL DESCRITIVO-BRI'!F:F,SMALL(IF('MEMORIAL DESCRITIVO-BRI'!$E$2:$E$4000=\"Sim\",ROW('MEMORIAL DESCRITIVO-BRI'!$F$2:$F$4000)),ROW(B336))) & \" - \" & INDEX('MEMORIAL DESCRITIVO-BRI'!H:H,SMALL(IF('MEMORIAL DESCRITIVO-BRI'!$E$2:$E$4000=\"Sim\",ROW('MEMORIAL DESCRITIVO-BRI'!$H$2:$H$4000)),ROW(B336))), \"\")","v":""},null,{"$f":"IFERROR(INDEX('MEMORIAL DESCRITIVO-BRI'!S:S,SMALL(IF('MEMORIAL DESCRITIVO-BRI'!$E$2:$E$4000=\"Sim\",ROW('MEMORIAL DESCRITIVO-BRI'!$S$2:$S$4000)),ROW(B336))), \"\")","v":""},{"$f":"IFERROR(INDEX('MEMORIAL DESCRITIVO-BRI'!Z:Z,SMALL(IF('MEMORIAL DESCRITIVO-BRI'!$E$2:$E$4000=\"Sim\",ROW('MEMORIAL DESCRITIVO-BRI'!$Z$2:$Z$4000)),ROW(B336))), \"\")","v":""},{"$f":"IFERROR(INDEX('MEMORIAL DESCRITIVO-BRI'!W:W,SMALL(IF('MEMORIAL DESCRITIVO-BRI'!$E$2:$E$4000=\"Sim\",ROW('MEMORIAL DESCRITIVO-BRI'!$W$2:$W$4000)),ROW(B336))), \"\")","v":""},{"$f":"IFERROR(INDEX('MEMORIAL DESCRITIVO-BRI'!G:G,SMALL(IF('MEMORIAL DESCRITIVO-BRI'!$E$2:$E$4000=\"Sim\",ROW('MEMORIAL DESCRITIVO-BRI'!$G$2:$G$4000)),ROW(B336))), \"\")","v":""},{"$f":"IFERROR(INDEX('MEMORIAL DESCRITIVO-BRI'!P:P,SMALL(IF('MEMORIAL DESCRITIVO-BRI'!$E$2:$E$4000=\"Sim\",ROW('MEMORIAL DESCRITIVO-BRI'!$P$2:$P$4000)),ROW(B336))), \"\")","v":""},{"$f":"IFERROR(INDEX('MEMORIAL DESCRITIVO-BRI'!Q:Q,SMALL(IF('MEMORIAL DESCRITIVO-BRI'!$E$2:$E$4000=\"Sim\",ROW('MEMORIAL DESCRITIVO-BRI'!$Q$2:$Q$4000)),ROW(B336))), \"\")","v":""}]
[null,{"$f":"IFERROR(INDEX('MEMORIAL DESCRITIVO-BRI'!B:B,SMALL(IF('MEMORIAL DESCRITIVO-BRI'!$E$2:$E$4000=\"Sim\",ROW('MEMORIAL DESCRITIVO-BRI'!$B$2:$B$4000)),ROW(B337))), \"\")","v":""},{"$f":"IFERROR(INDEX('MEMORIAL DESCRITIVO-BRI'!I:I,SMALL(IF('MEMORIAL DESCRITIVO-BRI'!$E$2:$E$4000=\"Sim\",ROW('MEMORIAL DESCRITIVO-BRI'!$I$2:$I$4000)),ROW(B337))), \"\")","v":""},{"$f":"IFERROR(INDEX('MEMORIAL DESCRITIVO-BRI'!F:F,SMALL(IF('MEMORIAL DESCRITIVO-BRI'!$E$2:$E$4000=\"Sim\",ROW('MEMORIAL DESCRITIVO-BRI'!$F$2:$F$4000)),ROW(B337))) & \" - \" & INDEX('MEMORIAL DESCRITIVO-BRI'!H:H,SMALL(IF('MEMORIAL DESCRITIVO-BRI'!$E$2:$E$4000=\"Sim\",ROW('MEMORIAL DESCRITIVO-BRI'!$H$2:$H$4000)),ROW(B337))), \"\")","v":""},null,{"$f":"IFERROR(INDEX('MEMORIAL DESCRITIVO-BRI'!S:S,SMALL(IF('MEMORIAL DESCRITIVO-BRI'!$E$2:$E$4000=\"Sim\",ROW('MEMORIAL DESCRITIVO-BRI'!$S$2:$S$4000)),ROW(B337))), \"\")","v":""},{"$f":"IFERROR(INDEX('MEMORIAL DESCRITIVO-BRI'!Z:Z,SMALL(IF('MEMORIAL DESCRITIVO-BRI'!$E$2:$E$4000=\"Sim\",ROW('MEMORIAL DESCRITIVO-BRI'!$Z$2:$Z$4000)),ROW(B337))), \"\")","v":""},{"$f":"IFERROR(INDEX('MEMORIAL DESCRITIVO-BRI'!W:W,SMALL(IF('MEMORIAL DESCRITIVO-BRI'!$E$2:$E$4000=\"Sim\",ROW('MEMORIAL DESCRITIVO-BRI'!$W$2:$W$4000)),ROW(B337))), \"\")","v":""},{"$f":"IFERROR(INDEX('MEMORIAL DESCRITIVO-BRI'!G:G,SMALL(IF('MEMORIAL DESCRITIVO-BRI'!$E$2:$E$4000=\"Sim\",ROW('MEMORIAL DESCRITIVO-BRI'!$G$2:$G$4000)),ROW(B337))), \"\")","v":""},{"$f":"IFERROR(INDEX('MEMORIAL DESCRITIVO-BRI'!P:P,SMALL(IF('MEMORIAL DESCRITIVO-BRI'!$E$2:$E$4000=\"Sim\",ROW('MEMORIAL DESCRITIVO-BRI'!$P$2:$P$4000)),ROW(B337))), \"\")","v":""},{"$f":"IFERROR(INDEX('MEMORIAL DESCRITIVO-BRI'!Q:Q,SMALL(IF('MEMORIAL DESCRITIVO-BRI'!$E$2:$E$4000=\"Sim\",ROW('MEMORIAL DESCRITIVO-BRI'!$Q$2:$Q$4000)),ROW(B337))), \"\")","v":""}]
[null,{"$f":"IFERROR(INDEX('MEMORIAL DESCRITIVO-BRI'!B:B,SMALL(IF('MEMORIAL DESCRITIVO-BRI'!$E$2:$E$4000=\"Sim\",ROW('MEMORIAL DESCRITIVO-BRI'!$B$2:$B$4000)),ROW(B338))), \"\")","v":""},{"$f":"IFERROR(INDEX('MEMORIAL DESCRITIVO-BRI'!I:I,SMALL(IF('MEMORIAL DESCRITIVO-BRI'!$E$2:$E$4000=\"Sim\",ROW('MEMORIAL DESCRITIVO-BRI'!$I$2:$I$4000)),ROW(B338))), \"\")","v":""},{"$f":"IFERROR(INDEX('MEMORIAL DESCRITIVO-BRI'!F:F,SMALL(IF('MEMORIAL DESCRITIVO-BRI'!$E$2:$E$4000=\"Sim\",ROW('MEMORIAL DESCRITIVO-BRI'!$F$2:$F$4000)),ROW(B338))) & \" - \" & INDEX('MEMORIAL DESCRITIVO-BRI'!H:H,SMALL(IF('MEMORIAL DESCRITIVO-BRI'!$E$2:$E$4000=\"Sim\",ROW('MEMORIAL DESCRITIVO-BRI'!$H$2:$H$4000)),ROW(B338))), \"\")","v":""},null,{"$f":"IFERROR(INDEX('MEMORIAL DESCRITIVO-BRI'!S:S,SMALL(IF('MEMORIAL DESCRITIVO-BRI'!$E$2:$E$4000=\"Sim\",ROW('MEMORIAL DESCRITIVO-BRI'!$S$2:$S$4000)),ROW(B338))), \"\")","v":""},{"$f":"IFERROR(INDEX('MEMORIAL DESCRITIVO-BRI'!Z:Z,SMALL(IF('MEMORIAL DESCRITIVO-BRI'!$E$2:$E$4000=\"Sim\",ROW('MEMORIAL DESCRITIVO-BRI'!$Z$2:$Z$4000)),ROW(B338))), \"\")","v":""},{"$f":"IFERROR(INDEX('MEMORIAL DESCRITIVO-BRI'!W:W,SMALL(IF('MEMORIAL DESCRITIVO-BRI'!$E$2:$E$4000=\"Sim\",ROW('MEMORIAL DESCRITIVO-BRI'!$W$2:$W$4000)),ROW(B338))), \"\")","v":""},{"$f":"IFERROR(INDEX('MEMORIAL DESCRITIVO-BRI'!G:G,SMALL(IF('MEMORIAL DESCRITIVO-BRI'!$E$2:$E$4000=\"Sim\",ROW('MEMORIAL DESCRITIVO-BRI'!$G$2:$G$4000)),ROW(B338))), \"\")","v":""},{"$f":"IFERROR(INDEX('MEMORIAL DESCRITIVO-BRI'!P:P,SMALL(IF('MEMORIAL DESCRITIVO-BRI'!$E$2:$E$4000=\"Sim\",ROW('MEMORIAL DESCRITIVO-BRI'!$P$2:$P$4000)),ROW(B338))), \"\")","v":""},{"$f":"IFERROR(INDEX('MEMORIAL DESCRITIVO-BRI'!Q:Q,SMALL(IF('MEMORIAL DESCRITIVO-BRI'!$E$2:$E$4000=\"Sim\",ROW('MEMORIAL DESCRITIVO-BRI'!$Q$2:$Q$4000)),ROW(B338))), \"\")","v":""}]
[null,{"$f":"IFERROR(INDEX('MEMORIAL DESCRITIVO-BRI'!B:B,SMALL(IF('MEMORIAL DESCRITIVO-BRI'!$E$2:$E$4000=\"Sim\",ROW('MEMORIAL DESCRITIVO-BRI'!$B$2:$B$4000)),ROW(B339))), \"\")","v":""},{"$f":"IFERROR(INDEX('MEMORIAL DESCRITIVO-BRI'!I:I,SMALL(IF('MEMORIAL DESCRITIVO-BRI'!$E$2:$E$4000=\"Sim\",ROW('MEMORIAL DESCRITIVO-BRI'!$I$2:$I$4000)),ROW(B339))), \"\")","v":""},{"$f":"IFERROR(INDEX('MEMORIAL DESCRITIVO-BRI'!F:F,SMALL(IF('MEMORIAL DESCRITIVO-BRI'!$E$2:$E$4000=\"Sim\",ROW('MEMORIAL DESCRITIVO-BRI'!$F$2:$F$4000)),ROW(B339))) & \" - \" & INDEX('MEMORIAL DESCRITIVO-BRI'!H:H,SMALL(IF('MEMORIAL DESCRITIVO-BRI'!$E$2:$E$4000=\"Sim\",ROW('MEMORIAL DESCRITIVO-BRI'!$H$2:$H$4000)),ROW(B339))), \"\")","v":""},null,{"$f":"IFERROR(INDEX('MEMORIAL DESCRITIVO-BRI'!S:S,SMALL(IF('MEMORIAL DESCRITIVO-BRI'!$E$2:$E$4000=\"Sim\",ROW('MEMORIAL DESCRITIVO-BRI'!$S$2:$S$4000)),ROW(B339))), \"\")","v":""},{"$f":"IFERROR(INDEX('MEMORIAL DESCRITIVO-BRI'!Z:Z,SMALL(IF('MEMORIAL DESCRITIVO-BRI'!$E$2:$E$4000=\"Sim\",ROW('MEMORIAL DESCRITIVO-BRI'!$Z$2:$Z$4000)),ROW(B339))), \"\")","v":""},{"$f":"IFERROR(INDEX('MEMORIAL DESCRITIVO-BRI'!W:W,SMALL(IF('MEMORIAL DESCRITIVO-BRI'!$E$2:$E$4000=\"Sim\",ROW('MEMORIAL DESCRITIVO-BRI'!$W$2:$W$4000)),ROW(B339))), \"\")","v":""},{"$f":"IFERROR(INDEX('MEMORIAL DESCRITIVO-BRI'!G:G,SMALL(IF('MEMORIAL DESCRITIVO-BRI'!$E$2:$E$4000=\"Sim\",ROW('MEMORIAL DESCRITIVO-BRI'!$G$2:$G$4000)),ROW(B339))), \"\")","v":""},{"$f":"IFERROR(INDEX('MEMORIAL DESCRITIVO-BRI'!P:P,SMALL(IF('MEMORIAL DESCRITIVO-BRI'!$E$2:$E$4000=\"Sim\",ROW('MEMORIAL DESCRITIVO-BRI'!$P$2:$P$4000)),ROW(B339))), \"\")","v":""},{"$f":"IFERROR(INDEX('MEMORIAL DESCRITIVO-BRI'!Q:Q,SMALL(IF('MEMORIAL DESCRITIVO-BRI'!$E$2:$E$4000=\"Sim\",ROW('MEMORIAL DESCRITIVO-BRI'!$Q$2:$Q$4000)),ROW(B339))), \"\")","v":""}]
[null,{"$f":"IFERROR(INDEX('MEMORIAL DESCRITIVO-BRI'!B:B,SMALL(IF('MEMORIAL DESCRITIVO-BRI'!$E$2:$E$4000=\"Sim\",ROW('MEMORIAL DESCRITIVO-BRI'!$B$2:$B$4000)),ROW(B340))), \"\")","v":""},{"$f":"IFERROR(INDEX('MEMORIAL DESCRITIVO-BRI'!I:I,SMALL(IF('MEMORIAL DESCRITIVO-BRI'!$E$2:$E$4000=\"Sim\",ROW('MEMORIAL DESCRITIVO-BRI'!$I$2:$I$4000)),ROW(B340))), \"\")","v":""},{"$f":"IFERROR(INDEX('MEMORIAL DESCRITIVO-BRI'!F:F,SMALL(IF('MEMORIAL DESCRITIVO-BRI'!$E$2:$E$4000=\"Sim\",ROW('MEMORIAL DESCRITIVO-BRI'!$F$2:$F$4000)),ROW(B340))) & \" - \" & INDEX('MEMORIAL DESCRITIVO-BRI'!H:H,SMALL(IF('MEMORIAL DESCRITIVO-BRI'!$E$2:$E$4000=\"Sim\",ROW('MEMORIAL DESCRITIVO-BRI'!$H$2:$H$4000)),ROW(B340))), \"\")","v":""},null,{"$f":"IFERROR(INDEX('MEMORIAL DESCRITIVO-BRI'!S:S,SMALL(IF('MEMORIAL DESCRITIVO-BRI'!$E$2:$E$4000=\"Sim\",ROW('MEMORIAL DESCRITIVO-BRI'!$S$2:$S$4000)),ROW(B340))), \"\")","v":""},{"$f":"IFERROR(INDEX('MEMORIAL DESCRITIVO-BRI'!Z:Z,SMALL(IF('MEMORIAL DESCRITIVO-BRI'!$E$2:$E$4000=\"Sim\",ROW('MEMORIAL DESCRITIVO-BRI'!$Z$2:$Z$4000)),ROW(B340))), \"\")","v":""},{"$f":"IFERROR(INDEX('MEMORIAL DESCRITIVO-BRI'!W:W,SMALL(IF('MEMORIAL DESCRITIVO-BRI'!$E$2:$E$4000=\"Sim\",ROW('MEMORIAL DESCRITIVO-BRI'!$W$2:$W$4000)),ROW(B340))), \"\")","v":""},{"$f":"IFERROR(INDEX('MEMORIAL DESCRITIVO-BRI'!G:G,SMALL(IF('MEMORIAL DESCRITIVO-BRI'!$E$2:$E$4000=\"Sim\",ROW('MEMORIAL DESCRITIVO-BRI'!$G$2:$G$4000)),ROW(B340))), \"\")","v":""},{"$f":"IFERROR(INDEX('MEMORIAL DESCRITIVO-BRI'!P:P,SMALL(IF('MEMORIAL DESCRITIVO-BRI'!$E$2:$E$4000=\"Sim\",ROW('MEMORIAL DESCRITIVO-BRI'!$P$2:$P$4000)),ROW(B340))), \"\")","v":""},{"$f":"IFERROR(INDEX('MEMORIAL DESCRITIVO-BRI'!Q:Q,SMALL(IF('MEMORIAL DESCRITIVO-BRI'!$E$2:$E$4000=\"Sim\",ROW('MEMORIAL DESCRITIVO-BRI'!$Q$2:$Q$4000)),ROW(B340))), \"\")","v":""}]
[null,{"$f":"IFERROR(INDEX('MEMORIAL DESCRITIVO-BRI'!B:B,SMALL(IF('MEMORIAL DESCRITIVO-BRI'!$E$2:$E$4000=\"Sim\",ROW('MEMORIAL DESCRITIVO-BRI'!$B$2:$B$4000)),ROW(B341))), \"\")","v":""},{"$f":"IFERROR(INDEX('MEMORIAL DESCRITIVO-BRI'!I:I,SMALL(IF('MEMORIAL DESCRITIVO-BRI'!$E$2:$E$4000=\"Sim\",ROW('MEMORIAL DESCRITIVO-BRI'!$I$2:$I$4000)),ROW(B341))), \"\")","v":""},{"$f":"IFERROR(INDEX('MEMORIAL DESCRITIVO-BRI'!F:F,SMALL(IF('MEMORIAL DESCRITIVO-BRI'!$E$2:$E$4000=\"Sim\",ROW('MEMORIAL DESCRITIVO-BRI'!$F$2:$F$4000)),ROW(B341))) & \" - \" & INDEX('MEMORIAL DESCRITIVO-BRI'!H:H,SMALL(IF('MEMORIAL DESCRITIVO-BRI'!$E$2:$E$4000=\"Sim\",ROW('MEMORIAL DESCRITIVO-BRI'!$H$2:$H$4000)),ROW(B341))), \"\")","v":""},null,{"$f":"IFERROR(INDEX('MEMORIAL DESCRITIVO-BRI'!S:S,SMALL(IF('MEMORIAL DESCRITIVO-BRI'!$E$2:$E$4000=\"Sim\",ROW('MEMORIAL DESCRITIVO-BRI'!$S$2:$S$4000)),ROW(B341))), \"\")","v":""},{"$f":"IFERROR(INDEX('MEMORIAL DESCRITIVO-BRI'!Z:Z,SMALL(IF('MEMORIAL DESCRITIVO-BRI'!$E$2:$E$4000=\"Sim\",ROW('MEMORIAL DESCRITIVO-BRI'!$Z$2:$Z$4000)),ROW(B341))), \"\")","v":""},{"$f":"IFERROR(INDEX('MEMORIAL DESCRITIVO-BRI'!W:W,SMALL(IF('MEMORIAL DESCRITIVO-BRI'!$E$2:$E$4000=\"Sim\",ROW('MEMORIAL DESCRITIVO-BRI'!$W$2:$W$4000)),ROW(B341))), \"\")","v":""},{"$f":"IFERROR(INDEX('MEMORIAL DESCRITIVO-BRI'!G:G,SMALL(IF('MEMORIAL DESCRITIVO-BRI'!$E$2:$E$4000=\"Sim\",ROW('MEMORIAL DESCRITIVO-BRI'!$G$2:$G$4000)),ROW(B341))), \"\")","v":""},{"$f":"IFERROR(INDEX('MEMORIAL DESCRITIVO-BRI'!P:P,SMALL(IF('MEMORIAL DESCRITIVO-BRI'!$E$2:$E$4000=\"Sim\",ROW('MEMORIAL DESCRITIVO-BRI'!$P$2:$P$4000)),ROW(B341))), \"\")","v":""},{"$f":"IFERROR(INDEX('MEMORIAL DESCRITIVO-BRI'!Q:Q,SMALL(IF('MEMORIAL DESCRITIVO-BRI'!$E$2:$E$4000=\"Sim\",ROW('MEMORIAL DESCRITIVO-BRI'!$Q$2:$Q$4000)),ROW(B341))), \"\")","v":""}]
[null,{"$f":"IFERROR(INDEX('MEMORIAL DESCRITIVO-BRI'!B:B,SMALL(IF('MEMORIAL DESCRITIVO-BRI'!$E$2:$E$4000=\"Sim\",ROW('MEMORIAL DESCRITIVO-BRI'!$B$2:$B$4000)),ROW(B342))), \"\")","v":""},{"$f":"IFERROR(INDEX('MEMORIAL DESCRITIVO-BRI'!I:I,SMALL(IF('MEMORIAL DESCRITIVO-BRI'!$E$2:$E$4000=\"Sim\",ROW('MEMORIAL DESCRITIVO-BRI'!$I$2:$I$4000)),ROW(B342))), \"\")","v":""},{"$f":"IFERROR(INDEX('MEMORIAL DESCRITIVO-BRI'!F:F,SMALL(IF('MEMORIAL DESCRITIVO-BRI'!$E$2:$E$4000=\"Sim\",ROW('MEMORIAL DESCRITIVO-BRI'!$F$2:$F$4000)),ROW(B342))) & \" - \" & INDEX('MEMORIAL DESCRITIVO-BRI'!H:H,SMALL(IF('MEMORIAL DESCRITIVO-BRI'!$E$2:$E$4000=\"Sim\",ROW('MEMORIAL DESCRITIVO-BRI'!$H$2:$H$4000)),ROW(B342))), \"\")","v":""},null,{"$f":"IFERROR(INDEX('MEMORIAL DESCRITIVO-BRI'!S:S,SMALL(IF('MEMORIAL DESCRITIVO-BRI'!$E$2:$E$4000=\"Sim\",ROW('MEMORIAL DESCRITIVO-BRI'!$S$2:$S$4000)),ROW(B342))), \"\")","v":""},{"$f":"IFERROR(INDEX('MEMORIAL DESCRITIVO-BRI'!Z:Z,SMALL(IF('MEMORIAL DESCRITIVO-BRI'!$E$2:$E$4000=\"Sim\",ROW('MEMORIAL DESCRITIVO-BRI'!$Z$2:$Z$4000)),ROW(B342))), \"\")","v":""},{"$f":"IFERROR(INDEX('MEMORIAL DESCRITIVO-BRI'!W:W,SMALL(IF('MEMORIAL DESCRITIVO-BRI'!$E$2:$E$4000=\"Sim\",ROW('MEMORIAL DESCRITIVO-BRI'!$W$2:$W$4000)),ROW(B342))), \"\")","v":""},{"$f":"IFERROR(INDEX('MEMORIAL DESCRITIVO-BRI'!G:G,SMALL(IF('MEMORIAL DESCRITIVO-BRI'!$E$2:$E$4000=\"Sim\",ROW('MEMORIAL DESCRITIVO-BRI'!$G$2:$G$4000)),ROW(B342))), \"\")","v":""},{"$f":"IFERROR(INDEX('MEMORIAL DESCRITIVO-BRI'!P:P,SMALL(IF('MEMORIAL DESCRITIVO-BRI'!$E$2:$E$4000=\"Sim\",ROW('MEMORIAL DESCRITIVO-BRI'!$P$2:$P$4000)),ROW(B342))), \"\")","v":""},{"$f":"IFERROR(INDEX('MEMORIAL DESCRITIVO-BRI'!Q:Q,SMALL(IF('MEMORIAL DESCRITIVO-BRI'!$E$2:$E$4000=\"Sim\",ROW('MEMORIAL DESCRITIVO-BRI'!$Q$2:$Q$4000)),ROW(B342))), \"\")","v":""}]
[null,{"$f":"IFERROR(INDEX('MEMORIAL DESCRITIVO-BRI'!B:B,SMALL(IF('MEMORIAL DESCRITIVO-BRI'!$E$2:$E$4000=\"Sim\",ROW('MEMORIAL DESCRITIVO-BRI'!$B$2:$B$4000)),ROW(B343))), \"\")","v":""},{"$f":"IFERROR(INDEX('MEMORIAL DESCRITIVO-BRI'!I:I,SMALL(IF('MEMORIAL DESCRITIVO-BRI'!$E$2:$E$4000=\"Sim\",ROW('MEMORIAL DESCRITIVO-BRI'!$I$2:$I$4000)),ROW(B343))), \"\")","v":""},{"$f":"IFERROR(INDEX('MEMORIAL DESCRITIVO-BRI'!F:F,SMALL(IF('MEMORIAL DESCRITIVO-BRI'!$E$2:$E$4000=\"Sim\",ROW('MEMORIAL DESCRITIVO-BRI'!$F$2:$F$4000)),ROW(B343))) & \" - \" & INDEX('MEMORIAL DESCRITIVO-BRI'!H:H,SMALL(IF('MEMORIAL DESCRITIVO-BRI'!$E$2:$E$4000=\"Sim\",ROW('MEMORIAL DESCRITIVO-BRI'!$H$2:$H$4000)),ROW(B343))), \"\")","v":""},null,{"$f":"IFERROR(INDEX('MEMORIAL DESCRITIVO-BRI'!S:S,SMALL(IF('MEMORIAL DESCRITIVO-BRI'!$E$2:$E$4000=\"Sim\",ROW('MEMORIAL DESCRITIVO-BRI'!$S$2:$S$4000)),ROW(B343))), \"\")","v":""},{"$f":"IFERROR(INDEX('MEMORIAL DESCRITIVO-BRI'!Z:Z,SMALL(IF('MEMORIAL DESCRITIVO-BRI'!$E$2:$E$4000=\"Sim\",ROW('MEMORIAL DESCRITIVO-BRI'!$Z$2:$Z$4000)),ROW(B343))), \"\")","v":""},{"$f":"IFERROR(INDEX('MEMORIAL DESCRITIVO-BRI'!W:W,SMALL(IF('MEMORIAL DESCRITIVO-BRI'!$E$2:$E$4000=\"Sim\",ROW('MEMORIAL DESCRITIVO-BRI'!$W$2:$W$4000)),ROW(B343))), \"\")","v":""},{"$f":"IFERROR(INDEX('MEMORIAL DESCRITIVO-BRI'!G:G,SMALL(IF('MEMORIAL DESCRITIVO-BRI'!$E$2:$E$4000=\"Sim\",ROW('MEMORIAL DESCRITIVO-BRI'!$G$2:$G$4000)),ROW(B343))), \"\")","v":""},{"$f":"IFERROR(INDEX('MEMORIAL DESCRITIVO-BRI'!P:P,SMALL(IF('MEMORIAL DESCRITIVO-BRI'!$E$2:$E$4000=\"Sim\",ROW('MEMORIAL DESCRITIVO-BRI'!$P$2:$P$4000)),ROW(B343))), \"\")","v":""},{"$f":"IFERROR(INDEX('MEMORIAL DESCRITIVO-BRI'!Q:Q,SMALL(IF('MEMORIAL DESCRITIVO-BRI'!$E$2:$E$4000=\"Sim\",ROW('MEMORIAL DESCRITIVO-BRI'!$Q$2:$Q$4000)),ROW(B343))), \"\")","v":""}]
[null,{"$f":"IFERROR(INDEX('MEMORIAL DESCRITIVO-BRI'!B:B,SMALL(IF('MEMORIAL DESCRITIVO-BRI'!$E$2:$E$4000=\"Sim\",ROW('MEMORIAL DESCRITIVO-BRI'!$B$2:$B$4000)),ROW(B344))), \"\")","v":""},{"$f":"IFERROR(INDEX('MEMORIAL DESCRITIVO-BRI'!I:I,SMALL(IF('MEMORIAL DESCRITIVO-BRI'!$E$2:$E$4000=\"Sim\",ROW('MEMORIAL DESCRITIVO-BRI'!$I$2:$I$4000)),ROW(B344))), \"\")","v":""},{"$f":"IFERROR(INDEX('MEMORIAL DESCRITIVO-BRI'!F:F,SMALL(IF('MEMORIAL DESCRITIVO-BRI'!$E$2:$E$4000=\"Sim\",ROW('MEMORIAL DESCRITIVO-BRI'!$F$2:$F$4000)),ROW(B344))) & \" - \" & INDEX('MEMORIAL DESCRITIVO-BRI'!H:H,SMALL(IF('MEMORIAL DESCRITIVO-BRI'!$E$2:$E$4000=\"Sim\",ROW('MEMORIAL DESCRITIVO-BRI'!$H$2:$H$4000)),ROW(B344))), \"\")","v":""},null,{"$f":"IFERROR(INDEX('MEMORIAL DESCRITIVO-BRI'!S:S,SMALL(IF('MEMORIAL DESCRITIVO-BRI'!$E$2:$E$4000=\"Sim\",ROW('MEMORIAL DESCRITIVO-BRI'!$S$2:$S$4000)),ROW(B344))), \"\")","v":""},{"$f":"IFERROR(INDEX('MEMORIAL DESCRITIVO-BRI'!Z:Z,SMALL(IF('MEMORIAL DESCRITIVO-BRI'!$E$2:$E$4000=\"Sim\",ROW('MEMORIAL DESCRITIVO-BRI'!$Z$2:$Z$4000)),ROW(B344))), \"\")","v":""},{"$f":"IFERROR(INDEX('MEMORIAL DESCRITIVO-BRI'!W:W,SMALL(IF('MEMORIAL DESCRITIVO-BRI'!$E$2:$E$4000=\"Sim\",ROW('MEMORIAL DESCRITIVO-BRI'!$W$2:$W$4000)),ROW(B344))), \"\")","v":""},{"$f":"IFERROR(INDEX('MEMORIAL DESCRITIVO-BRI'!G:G,SMALL(IF('MEMORIAL DESCRITIVO-BRI'!$E$2:$E$4000=\"Sim\",ROW('MEMORIAL DESCRITIVO-BRI'!$G$2:$G$4000)),ROW(B344))), \"\")","v":""},{"$f":"IFERROR(INDEX('MEMORIAL DESCRITIVO-BRI'!P:P,SMALL(IF('MEMORIAL DESCRITIVO-BRI'!$E$2:$E$4000=\"Sim\",ROW('MEMORIAL DESCRITIVO-BRI'!$P$2:$P$4000)),ROW(B344))), \"\")","v":""},{"$f":"IFERROR(INDEX('MEMORIAL DESCRITIVO-BRI'!Q:Q,SMALL(IF('MEMORIAL DESCRITIVO-BRI'!$E$2:$E$4000=\"Sim\",ROW('MEMORIAL DESCRITIVO-BRI'!$Q$2:$Q$4000)),ROW(B344))), \"\")","v":""}]
[null,{"$f":"IFERROR(INDEX('MEMORIAL DESCRITIVO-BRI'!B:B,SMALL(IF('MEMORIAL DESCRITIVO-BRI'!$E$2:$E$4000=\"Sim\",ROW('MEMORIAL DESCRITIVO-BRI'!$B$2:$B$4000)),ROW(B345))), \"\")","v":""},{"$f":"IFERROR(INDEX('MEMORIAL DESCRITIVO-BRI'!I:I,SMALL(IF('MEMORIAL DESCRITIVO-BRI'!$E$2:$E$4000=\"Sim\",ROW('MEMORIAL DESCRITIVO-BRI'!$I$2:$I$4000)),ROW(B345))), \"\")","v":""},{"$f":"IFERROR(INDEX('MEMORIAL DESCRITIVO-BRI'!F:F,SMALL(IF('MEMORIAL DESCRITIVO-BRI'!$E$2:$E$4000=\"Sim\",ROW('MEMORIAL DESCRITIVO-BRI'!$F$2:$F$4000)),ROW(B345))) & \" - \" & INDEX('MEMORIAL DESCRITIVO-BRI'!H:H,SMALL(IF('MEMORIAL DESCRITIVO-BRI'!$E$2:$E$4000=\"Sim\",ROW('MEMORIAL DESCRITIVO-BRI'!$H$2:$H$4000)),ROW(B345))), \"\")","v":""},null,{"$f":"IFERROR(INDEX('MEMORIAL DESCRITIVO-BRI'!S:S,SMALL(IF('MEMORIAL DESCRITIVO-BRI'!$E$2:$E$4000=\"Sim\",ROW('MEMORIAL DESCRITIVO-BRI'!$S$2:$S$4000)),ROW(B345))), \"\")","v":""},{"$f":"IFERROR(INDEX('MEMORIAL DESCRITIVO-BRI'!Z:Z,SMALL(IF('MEMORIAL DESCRITIVO-BRI'!$E$2:$E$4000=\"Sim\",ROW('MEMORIAL DESCRITIVO-BRI'!$Z$2:$Z$4000)),ROW(B345))), \"\")","v":""},{"$f":"IFERROR(INDEX('MEMORIAL DESCRITIVO-BRI'!W:W,SMALL(IF('MEMORIAL DESCRITIVO-BRI'!$E$2:$E$4000=\"Sim\",ROW('MEMORIAL DESCRITIVO-BRI'!$W$2:$W$4000)),ROW(B345))), \"\")","v":""},{"$f":"IFERROR(INDEX('MEMORIAL DESCRITIVO-BRI'!G:G,SMALL(IF('MEMORIAL DESCRITIVO-BRI'!$E$2:$E$4000=\"Sim\",ROW('MEMORIAL DESCRITIVO-BRI'!$G$2:$G$4000)),ROW(B345))), \"\")","v":""},{"$f":"IFERROR(INDEX('MEMORIAL DESCRITIVO-BRI'!P:P,SMALL(IF('MEMORIAL DESCRITIVO-BRI'!$E$2:$E$4000=\"Sim\",ROW('MEMORIAL DESCRITIVO-BRI'!$P$2:$P$4000)),ROW(B345))), \"\")","v":""},{"$f":"IFERROR(INDEX('MEMORIAL DESCRITIVO-BRI'!Q:Q,SMALL(IF('MEMORIAL DESCRITIVO-BRI'!$E$2:$E$4000=\"Sim\",ROW('MEMORIAL DESCRITIVO-BRI'!$Q$2:$Q$4000)),ROW(B345))), \"\")","v":""}]
[null,{"$f":"IFERROR(INDEX('MEMORIAL DESCRITIVO-BRI'!B:B,SMALL(IF('MEMORIAL DESCRITIVO-BRI'!$E$2:$E$4000=\"Sim\",ROW('MEMORIAL DESCRITIVO-BRI'!$B$2:$B$4000)),ROW(B346))), \"\")","v":""},{"$f":"IFERROR(INDEX('MEMORIAL DESCRITIVO-BRI'!I:I,SMALL(IF('MEMORIAL DESCRITIVO-BRI'!$E$2:$E$4000=\"Sim\",ROW('MEMORIAL DESCRITIVO-BRI'!$I$2:$I$4000)),ROW(B346))), \"\")","v":""},{"$f":"IFERROR(INDEX('MEMORIAL DESCRITIVO-BRI'!F:F,SMALL(IF('MEMORIAL DESCRITIVO-BRI'!$E$2:$E$4000=\"Sim\",ROW('MEMORIAL DESCRITIVO-BRI'!$F$2:$F$4000)),ROW(B346))) & \" - \" & INDEX('MEMORIAL DESCRITIVO-BRI'!H:H,SMALL(IF('MEMORIAL DESCRITIVO-BRI'!$E$2:$E$4000=\"Sim\",ROW('MEMORIAL DESCRITIVO-BRI'!$H$2:$H$4000)),ROW(B346))), \"\")","v":""},null,{"$f":"IFERROR(INDEX('MEMORIAL DESCRITIVO-BRI'!S:S,SMALL(IF('MEMORIAL DESCRITIVO-BRI'!$E$2:$E$4000=\"Sim\",ROW('MEMORIAL DESCRITIVO-BRI'!$S$2:$S$4000)),ROW(B346))), \"\")","v":""},{"$f":"IFERROR(INDEX('MEMORIAL DESCRITIVO-BRI'!Z:Z,SMALL(IF('MEMORIAL DESCRITIVO-BRI'!$E$2:$E$4000=\"Sim\",ROW('MEMORIAL DESCRITIVO-BRI'!$Z$2:$Z$4000)),ROW(B346))), \"\")","v":""},{"$f":"IFERROR(INDEX('MEMORIAL DESCRITIVO-BRI'!W:W,SMALL(IF('MEMORIAL DESCRITIVO-BRI'!$E$2:$E$4000=\"Sim\",ROW('MEMORIAL DESCRITIVO-BRI'!$W$2:$W$4000)),ROW(B346))), \"\")","v":""},{"$f":"IFERROR(INDEX('MEMORIAL DESCRITIVO-BRI'!G:G,SMALL(IF('MEMORIAL DESCRITIVO-BRI'!$E$2:$E$4000=\"Sim\",ROW('MEMORIAL DESCRITIVO-BRI'!$G$2:$G$4000)),ROW(B346))), \"\")","v":""},{"$f":"IFERROR(INDEX('MEMORIAL DESCRITIVO-BRI'!P:P,SMALL(IF('MEMORIAL DESCRITIVO-BRI'!$E$2:$E$4000=\"Sim\",ROW('MEMORIAL DESCRITIVO-BRI'!$P$2:$P$4000)),ROW(B346))), \"\")","v":""},{"$f":"IFERROR(INDEX('MEMORIAL DESCRITIVO-BRI'!Q:Q,SMALL(IF('MEMORIAL DESCRITIVO-BRI'!$E$2:$E$4000=\"Sim\",ROW('MEMORIAL DESCRITIVO-BRI'!$Q$2:$Q$4000)),ROW(B346))), \"\")","v":""}]
[null,{"$f":"IFERROR(INDEX('MEMORIAL DESCRITIVO-BRI'!B:B,SMALL(IF('MEMORIAL DESCRITIVO-BRI'!$E$2:$E$4000=\"Sim\",ROW('MEMORIAL DESCRITIVO-BRI'!$B$2:$B$4000)),ROW(B347))), \"\")","v":""},{"$f":"IFERROR(INDEX('MEMORIAL DESCRITIVO-BRI'!I:I,SMALL(IF('MEMORIAL DESCRITIVO-BRI'!$E$2:$E$4000=\"Sim\",ROW('MEMORIAL DESCRITIVO-BRI'!$I$2:$I$4000)),ROW(B347))), \"\")","v":""},{"$f":"IFERROR(INDEX('MEMORIAL DESCRITIVO-BRI'!F:F,SMALL(IF('MEMORIAL DESCRITIVO-BRI'!$E$2:$E$4000=\"Sim\",ROW('MEMORIAL DESCRITIVO-BRI'!$F$2:$F$4000)),ROW(B347))) & \" - \" & INDEX('MEMORIAL DESCRITIVO-BRI'!H:H,SMALL(IF('MEMORIAL DESCRITIVO-BRI'!$E$2:$E$4000=\"Sim\",ROW('MEMORIAL DESCRITIVO-BRI'!$H$2:$H$4000)),ROW(B347))), \"\")","v":""},null,{"$f":"IFERROR(INDEX('MEMORIAL DESCRITIVO-BRI'!S:S,SMALL(IF('MEMORIAL DESCRITIVO-BRI'!$E$2:$E$4000=\"Sim\",ROW('MEMORIAL DESCRITIVO-BRI'!$S$2:$S$4000)),ROW(B347))), \"\")","v":""},{"$f":"IFERROR(INDEX('MEMORIAL DESCRITIVO-BRI'!Z:Z,SMALL(IF('MEMORIAL DESCRITIVO-BRI'!$E$2:$E$4000=\"Sim\",ROW('MEMORIAL DESCRITIVO-BRI'!$Z$2:$Z$4000)),ROW(B347))), \"\")","v":""},{"$f":"IFERROR(INDEX('MEMORIAL DESCRITIVO-BRI'!W:W,SMALL(IF('MEMORIAL DESCRITIVO-BRI'!$E$2:$E$4000=\"Sim\",ROW('MEMORIAL DESCRITIVO-BRI'!$W$2:$W$4000)),ROW(B347))), \"\")","v":""},{"$f":"IFERROR(INDEX('MEMORIAL DESCRITIVO-BRI'!G:G,SMALL(IF('MEMORIAL DESCRITIVO-BRI'!$E$2:$E$4000=\"Sim\",ROW('MEMORIAL DESCRITIVO-BRI'!$G$2:$G$4000)),ROW(B347))), \"\")","v":""},{"$f":"IFERROR(INDEX('MEMORIAL DESCRITIVO-BRI'!P:P,SMALL(IF('MEMORIAL DESCRITIVO-BRI'!$E$2:$E$4000=\"Sim\",ROW('MEMORIAL DESCRITIVO-BRI'!$P$2:$P$4000)),ROW(B347))), \"\")","v":""},{"$f":"IFERROR(INDEX('MEMORIAL DESCRITIVO-BRI'!Q:Q,SMALL(IF('MEMORIAL DESCRITIVO-BRI'!$E$2:$E$4000=\"Sim\",ROW('MEMORIAL DESCRITIVO-BRI'!$Q$2:$Q$4000)),ROW(B347))), \"\")","v":""}]
[null,{"$f":"IFERROR(INDEX('MEMORIAL DESCRITIVO-BRI'!B:B,SMALL(IF('MEMORIAL DESCRITIVO-BRI'!$E$2:$E$4000=\"Sim\",ROW('MEMORIAL DESCRITIVO-BRI'!$B$2:$B$4000)),ROW(B348))), \"\")","v":""},{"$f":"IFERROR(INDEX('MEMORIAL DESCRITIVO-BRI'!I:I,SMALL(IF('MEMORIAL DESCRITIVO-BRI'!$E$2:$E$4000=\"Sim\",ROW('MEMORIAL DESCRITIVO-BRI'!$I$2:$I$4000)),ROW(B348))), \"\")","v":""},{"$f":"IFERROR(INDEX('MEMORIAL DESCRITIVO-BRI'!F:F,SMALL(IF('MEMORIAL DESCRITIVO-BRI'!$E$2:$E$4000=\"Sim\",ROW('MEMORIAL DESCRITIVO-BRI'!$F$2:$F$4000)),ROW(B348))) & \" - \" & INDEX('MEMORIAL DESCRITIVO-BRI'!H:H,SMALL(IF('MEMORIAL DESCRITIVO-BRI'!$E$2:$E$4000=\"Sim\",ROW('MEMORIAL DESCRITIVO-BRI'!$H$2:$H$4000)),ROW(B348))), \"\")","v":""},null,{"$f":"IFERROR(INDEX('MEMORIAL DESCRITIVO-BRI'!S:S,SMALL(IF('MEMORIAL DESCRITIVO-BRI'!$E$2:$E$4000=\"Sim\",ROW('MEMORIAL DESCRITIVO-BRI'!$S$2:$S$4000)),ROW(B348))), \"\")","v":""},{"$f":"IFERROR(INDEX('MEMORIAL DESCRITIVO-BRI'!Z:Z,SMALL(IF('MEMORIAL DESCRITIVO-BRI'!$E$2:$E$4000=\"Sim\",ROW('MEMORIAL DESCRITIVO-BRI'!$Z$2:$Z$4000)),ROW(B348))), \"\")","v":""},{"$f":"IFERROR(INDEX('MEMORIAL DESCRITIVO-BRI'!W:W,SMALL(IF('MEMORIAL DESCRITIVO-BRI'!$E$2:$E$4000=\"Sim\",ROW('MEMORIAL DESCRITIVO-BRI'!$W$2:$W$4000)),ROW(B348))), \"\")","v":""},{"$f":"IFERROR(INDEX('MEMORIAL DESCRITIVO-BRI'!G:G,SMALL(IF('MEMORIAL DESCRITIVO-BRI'!$E$2:$E$4000=\"Sim\",ROW('MEMORIAL DESCRITIVO-BRI'!$G$2:$G$4000)),ROW(B348))), \"\")","v":""},{"$f":"IFERROR(INDEX('MEMORIAL DESCRITIVO-BRI'!P:P,SMALL(IF('MEMORIAL DESCRITIVO-BRI'!$E$2:$E$4000=\"Sim\",ROW('MEMORIAL DESCRITIVO-BRI'!$P$2:$P$4000)),ROW(B348))), \"\")","v":""},{"$f":"IFERROR(INDEX('MEMORIAL DESCRITIVO-BRI'!Q:Q,SMALL(IF('MEMORIAL DESCRITIVO-BRI'!$E$2:$E$4000=\"Sim\",ROW('MEMORIAL DESCRITIVO-BRI'!$Q$2:$Q$4000)),ROW(B348))), \"\")","v":""}]
[null,{"$f":"IFERROR(INDEX('MEMORIAL DESCRITIVO-BRI'!B:B,SMALL(IF('MEMORIAL DESCRITIVO-BRI'!$E$2:$E$4000=\"Sim\",ROW('MEMORIAL DESCRITIVO-BRI'!$B$2:$B$4000)),ROW(B349))), \"\")","v":""},{"$f":"IFERROR(INDEX('MEMORIAL DESCRITIVO-BRI'!I:I,SMALL(IF('MEMORIAL DESCRITIVO-BRI'!$E$2:$E$4000=\"Sim\",ROW('MEMORIAL DESCRITIVO-BRI'!$I$2:$I$4000)),ROW(B349))), \"\")","v":""},{"$f":"IFERROR(INDEX('MEMORIAL DESCRITIVO-BRI'!F:F,SMALL(IF('MEMORIAL DESCRITIVO-BRI'!$E$2:$E$4000=\"Sim\",ROW('MEMORIAL DESCRITIVO-BRI'!$F$2:$F$4000)),ROW(B349))) & \" - \" & INDEX('MEMORIAL DESCRITIVO-BRI'!H:H,SMALL(IF('MEMORIAL DESCRITIVO-BRI'!$E$2:$E$4000=\"Sim\",ROW('MEMORIAL DESCRITIVO-BRI'!$H$2:$H$4000)),ROW(B349))), \"\")","v":""},null,{"$f":"IFERROR(INDEX('MEMORIAL DESCRITIVO-BRI'!S:S,SMALL(IF('MEMORIAL DESCRITIVO-BRI'!$E$2:$E$4000=\"Sim\",ROW('MEMORIAL DESCRITIVO-BRI'!$S$2:$S$4000)),ROW(B349))), \"\")","v":""},{"$f":"IFERROR(INDEX('MEMORIAL DESCRITIVO-BRI'!Z:Z,SMALL(IF('MEMORIAL DESCRITIVO-BRI'!$E$2:$E$4000=\"Sim\",ROW('MEMORIAL DESCRITIVO-BRI'!$Z$2:$Z$4000)),ROW(B349))), \"\")","v":""},{"$f":"IFERROR(INDEX('MEMORIAL DESCRITIVO-BRI'!W:W,SMALL(IF('MEMORIAL DESCRITIVO-BRI'!$E$2:$E$4000=\"Sim\",ROW('MEMORIAL DESCRITIVO-BRI'!$W$2:$W$4000)),ROW(B349))), \"\")","v":""},{"$f":"IFERROR(INDEX('MEMORIAL DESCRITIVO-BRI'!G:G,SMALL(IF('MEMORIAL DESCRITIVO-BRI'!$E$2:$E$4000=\"Sim\",ROW('MEMORIAL DESCRITIVO-BRI'!$G$2:$G$4000)),ROW(B349))), \"\")","v":""},{"$f":"IFERROR(INDEX('MEMORIAL DESCRITIVO-BRI'!P:P,SMALL(IF('MEMORIAL DESCRITIVO-BRI'!$E$2:$E$4000=\"Sim\",ROW('MEMORIAL DESCRITIVO-BRI'!$P$2:$P$4000)),ROW(B349))), \"\")","v":""},{"$f":"IFERROR(INDEX('MEMORIAL DESCRITIVO-BRI'!Q:Q,SMALL(IF('MEMORIAL DESCRITIVO-BRI'!$E$2:$E$4000=\"Sim\",ROW('MEMORIAL DESCRITIVO-BRI'!$Q$2:$Q$4000)),ROW(B349))), \"\")","v":""}]
[null,{"$f":"IFERROR(INDEX('MEMORIAL DESCRITIVO-BRI'!B:B,SMALL(IF('MEMORIAL DESCRITIVO-BRI'!$E$2:$E$4000=\"Sim\",ROW('MEMORIAL DESCRITIVO-BRI'!$B$2:$B$4000)),ROW(B350))), \"\")","v":""},{"$f":"IFERROR(INDEX('MEMORIAL DESCRITIVO-BRI'!I:I,SMALL(IF('MEMORIAL DESCRITIVO-BRI'!$E$2:$E$4000=\"Sim\",ROW('MEMORIAL DESCRITIVO-BRI'!$I$2:$I$4000)),ROW(B350))), \"\")","v":""},{"$f":"IFERROR(INDEX('MEMORIAL DESCRITIVO-BRI'!F:F,SMALL(IF('MEMORIAL DESCRITIVO-BRI'!$E$2:$E$4000=\"Sim\",ROW('MEMORIAL DESCRITIVO-BRI'!$F$2:$F$4000)),ROW(B350))) & \" - \" & INDEX('MEMORIAL DESCRITIVO-BRI'!H:H,SMALL(IF('MEMORIAL DESCRITIVO-BRI'!$E$2:$E$4000=\"Sim\",ROW('MEMORIAL DESCRITIVO-BRI'!$H$2:$H$4000)),ROW(B350))), \"\")","v":""},null,{"$f":"IFERROR(INDEX('MEMORIAL DESCRITIVO-BRI'!S:S,SMALL(IF('MEMORIAL DESCRITIVO-BRI'!$E$2:$E$4000=\"Sim\",ROW('MEMORIAL DESCRITIVO-BRI'!$S$2:$S$4000)),ROW(B350))), \"\")","v":""},{"$f":"IFERROR(INDEX('MEMORIAL DESCRITIVO-BRI'!Z:Z,SMALL(IF('MEMORIAL DESCRITIVO-BRI'!$E$2:$E$4000=\"Sim\",ROW('MEMORIAL DESCRITIVO-BRI'!$Z$2:$Z$4000)),ROW(B350))), \"\")","v":""},{"$f":"IFERROR(INDEX('MEMORIAL DESCRITIVO-BRI'!W:W,SMALL(IF('MEMORIAL DESCRITIVO-BRI'!$E$2:$E$4000=\"Sim\",ROW('MEMORIAL DESCRITIVO-BRI'!$W$2:$W$4000)),ROW(B350))), \"\")","v":""},{"$f":"IFERROR(INDEX('MEMORIAL DESCRITIVO-BRI'!G:G,SMALL(IF('MEMORIAL DESCRITIVO-BRI'!$E$2:$E$4000=\"Sim\",ROW('MEMORIAL DESCRITIVO-BRI'!$G$2:$G$4000)),ROW(B350))), \"\")","v":""},{"$f":"IFERROR(INDEX('MEMORIAL DESCRITIVO-BRI'!P:P,SMALL(IF('MEMORIAL DESCRITIVO-BRI'!$E$2:$E$4000=\"Sim\",ROW('MEMORIAL DESCRITIVO-BRI'!$P$2:$P$4000)),ROW(B350))), \"\")","v":""},{"$f":"IFERROR(INDEX('MEMORIAL DESCRITIVO-BRI'!Q:Q,SMALL(IF('MEMORIAL DESCRITIVO-BRI'!$E$2:$E$4000=\"Sim\",ROW('MEMORIAL DESCRITIVO-BRI'!$Q$2:$Q$4000)),ROW(B350))), \"\")","v":""}]
[null,{"$f":"IFERROR(INDEX('MEMORIAL DESCRITIVO-BRI'!B:B,SMALL(IF('MEMORIAL DESCRITIVO-BRI'!$E$2:$E$4000=\"Sim\",ROW('MEMORIAL DESCRITIVO-BRI'!$B$2:$B$4000)),ROW(B351))), \"\")","v":""},{"$f":"IFERROR(INDEX('MEMORIAL DESCRITIVO-BRI'!I:I,SMALL(IF('MEMORIAL DESCRITIVO-BRI'!$E$2:$E$4000=\"Sim\",ROW('MEMORIAL DESCRITIVO-BRI'!$I$2:$I$4000)),ROW(B351))), \"\")","v":""},{"$f":"IFERROR(INDEX('MEMORIAL DESCRITIVO-BRI'!F:F,SMALL(IF('MEMORIAL DESCRITIVO-BRI'!$E$2:$E$4000=\"Sim\",ROW('MEMORIAL DESCRITIVO-BRI'!$F$2:$F$4000)),ROW(B351))) & \" - \" & INDEX('MEMORIAL DESCRITIVO-BRI'!H:H,SMALL(IF('MEMORIAL DESCRITIVO-BRI'!$E$2:$E$4000=\"Sim\",ROW('MEMORIAL DESCRITIVO-BRI'!$H$2:$H$4000)),ROW(B351))), \"\")","v":""},null,{"$f":"IFERROR(INDEX('MEMORIAL DESCRITIVO-BRI'!S:S,SMALL(IF('MEMORIAL DESCRITIVO-BRI'!$E$2:$E$4000=\"Sim\",ROW('MEMORIAL DESCRITIVO-BRI'!$S$2:$S$4000)),ROW(B351))), \"\")","v":""},{"$f":"IFERROR(INDEX('MEMORIAL DESCRITIVO-BRI'!Z:Z,SMALL(IF('MEMORIAL DESCRITIVO-BRI'!$E$2:$E$4000=\"Sim\",ROW('MEMORIAL DESCRITIVO-BRI'!$Z$2:$Z$4000)),ROW(B351))), \"\")","v":""},{"$f":"IFERROR(INDEX('MEMORIAL DESCRITIVO-BRI'!W:W,SMALL(IF('MEMORIAL DESCRITIVO-BRI'!$E$2:$E$4000=\"Sim\",ROW('MEMORIAL DESCRITIVO-BRI'!$W$2:$W$4000)),ROW(B351))), \"\")","v":""},{"$f":"IFERROR(INDEX('MEMORIAL DESCRITIVO-BRI'!G:G,SMALL(IF('MEMORIAL DESCRITIVO-BRI'!$E$2:$E$4000=\"Sim\",ROW('MEMORIAL DESCRITIVO-BRI'!$G$2:$G$4000)),ROW(B351))), \"\")","v":""},{"$f":"IFERROR(INDEX('MEMORIAL DESCRITIVO-BRI'!P:P,SMALL(IF('MEMORIAL DESCRITIVO-BRI'!$E$2:$E$4000=\"Sim\",ROW('MEMORIAL DESCRITIVO-BRI'!$P$2:$P$4000)),ROW(B351))), \"\")","v":""},{"$f":"IFERROR(INDEX('MEMORIAL DESCRITIVO-BRI'!Q:Q,SMALL(IF('MEMORIAL DESCRITIVO-BRI'!$E$2:$E$4000=\"Sim\",ROW('MEMORIAL DESCRITIVO-BRI'!$Q$2:$Q$4000)),ROW(B351))), \"\")","v":""}]
[null,{"$f":"IFERROR(INDEX('MEMORIAL DESCRITIVO-BRI'!B:B,SMALL(IF('MEMORIAL DESCRITIVO-BRI'!$E$2:$E$4000=\"Sim\",ROW('MEMORIAL DESCRITIVO-BRI'!$B$2:$B$4000)),ROW(B352))), \"\")","v":""},{"$f":"IFERROR(INDEX('MEMORIAL DESCRITIVO-BRI'!I:I,SMALL(IF('MEMORIAL DESCRITIVO-BRI'!$E$2:$E$4000=\"Sim\",ROW('MEMORIAL DESCRITIVO-BRI'!$I$2:$I$4000)),ROW(B352))), \"\")","v":""},{"$f":"IFERROR(INDEX('MEMORIAL DESCRITIVO-BRI'!F:F,SMALL(IF('MEMORIAL DESCRITIVO-BRI'!$E$2:$E$4000=\"Sim\",ROW('MEMORIAL DESCRITIVO-BRI'!$F$2:$F$4000)),ROW(B352))) & \" - \" & INDEX('MEMORIAL DESCRITIVO-BRI'!H:H,SMALL(IF('MEMORIAL DESCRITIVO-BRI'!$E$2:$E$4000=\"Sim\",ROW('MEMORIAL DESCRITIVO-BRI'!$H$2:$H$4000)),ROW(B352))), \"\")","v":""},null,{"$f":"IFERROR(INDEX('MEMORIAL DESCRITIVO-BRI'!S:S,SMALL(IF('MEMORIAL DESCRITIVO-BRI'!$E$2:$E$4000=\"Sim\",ROW('MEMORIAL DESCRITIVO-BRI'!$S$2:$S$4000)),ROW(B352))), \"\")","v":""},{"$f":"IFERROR(INDEX('MEMORIAL DESCRITIVO-BRI'!Z:Z,SMALL(IF('MEMORIAL DESCRITIVO-BRI'!$E$2:$E$4000=\"Sim\",ROW('MEMORIAL DESCRITIVO-BRI'!$Z$2:$Z$4000)),ROW(B352))), \"\")","v":""},{"$f":"IFERROR(INDEX('MEMORIAL DESCRITIVO-BRI'!W:W,SMALL(IF('MEMORIAL DESCRITIVO-BRI'!$E$2:$E$4000=\"Sim\",ROW('MEMORIAL DESCRITIVO-BRI'!$W$2:$W$4000)),ROW(B352))), \"\")","v":""},{"$f":"IFERROR(INDEX('MEMORIAL DESCRITIVO-BRI'!G:G,SMALL(IF('MEMORIAL DESCRITIVO-BRI'!$E$2:$E$4000=\"Sim\",ROW('MEMORIAL DESCRITIVO-BRI'!$G$2:$G$4000)),ROW(B352))), \"\")","v":""},{"$f":"IFERROR(INDEX('MEMORIAL DESCRITIVO-BRI'!P:P,SMALL(IF('MEMORIAL DESCRITIVO-BRI'!$E$2:$E$4000=\"Sim\",ROW('MEMORIAL DESCRITIVO-BRI'!$P$2:$P$4000)),ROW(B352))), \"\")","v":""},{"$f":"IFERROR(INDEX('MEMORIAL DESCRITIVO-BRI'!Q:Q,SMALL(IF('MEMORIAL DESCRITIVO-BRI'!$E$2:$E$4000=\"Sim\",ROW('MEMORIAL DESCRITIVO-BRI'!$Q$2:$Q$4000)),ROW(B352))), \"\")","v":""}]
[null,{"$f":"IFERROR(INDEX('MEMORIAL DESCRITIVO-BRI'!B:B,SMALL(IF('MEMORIAL DESCRITIVO-BRI'!$E$2:$E$4000=\"Sim\",ROW('MEMORIAL DESCRITIVO-BRI'!$B$2:$B$4000)),ROW(B353))), \"\")","v":""},{"$f":"IFERROR(INDEX('MEMORIAL DESCRITIVO-BRI'!I:I,SMALL(IF('MEMORIAL DESCRITIVO-BRI'!$E$2:$E$4000=\"Sim\",ROW('MEMORIAL DESCRITIVO-BRI'!$I$2:$I$4000)),ROW(B353))), \"\")","v":""},{"$f":"IFERROR(INDEX('MEMORIAL DESCRITIVO-BRI'!F:F,SMALL(IF('MEMORIAL DESCRITIVO-BRI'!$E$2:$E$4000=\"Sim\",ROW('MEMORIAL DESCRITIVO-BRI'!$F$2:$F$4000)),ROW(B353))) & \" - \" & INDEX('MEMORIAL DESCRITIVO-BRI'!H:H,SMALL(IF('MEMORIAL DESCRITIVO-BRI'!$E$2:$E$4000=\"Sim\",ROW('MEMORIAL DESCRITIVO-BRI'!$H$2:$H$4000)),ROW(B353))), \"\")","v":""},null,{"$f":"IFERROR(INDEX('MEMORIAL DESCRITIVO-BRI'!S:S,SMALL(IF('MEMORIAL DESCRITIVO-BRI'!$E$2:$E$4000=\"Sim\",ROW('MEMORIAL DESCRITIVO-BRI'!$S$2:$S$4000)),ROW(B353))), \"\")","v":""},{"$f":"IFERROR(INDEX('MEMORIAL DESCRITIVO-BRI'!Z:Z,SMALL(IF('MEMORIAL DESCRITIVO-BRI'!$E$2:$E$4000=\"Sim\",ROW('MEMORIAL DESCRITIVO-BRI'!$Z$2:$Z$4000)),ROW(B353))), \"\")","v":""},{"$f":"IFERROR(INDEX('MEMORIAL DESCRITIVO-BRI'!W:W,SMALL(IF('MEMORIAL DESCRITIVO-BRI'!$E$2:$E$4000=\"Sim\",ROW('MEMORIAL DESCRITIVO-BRI'!$W$2:$W$4000)),ROW(B353))), \"\")","v":""},{"$f":"IFERROR(INDEX('MEMORIAL DESCRITIVO-BRI'!G:G,SMALL(IF('MEMORIAL DESCRITIVO-BRI'!$E$2:$E$4000=\"Sim\",ROW('MEMORIAL DESCRITIVO-BRI'!$G$2:$G$4000)),ROW(B353))), \"\")","v":""},{"$f":"IFERROR(INDEX('MEMORIAL DESCRITIVO-BRI'!P:P,SMALL(IF('MEMORIAL DESCRITIVO-BRI'!$E$2:$E$4000=\"Sim\",ROW('MEMORIAL DESCRITIVO-BRI'!$P$2:$P$4000)),ROW(B353))), \"\")","v":""},{"$f":"IFERROR(INDEX('MEMORIAL DESCRITIVO-BRI'!Q:Q,SMALL(IF('MEMORIAL DESCRITIVO-BRI'!$E$2:$E$4000=\"Sim\",ROW('MEMORIAL DESCRITIVO-BRI'!$Q$2:$Q$4000)),ROW(B353))), \"\")","v":""}]
[null,{"$f":"IFERROR(INDEX('MEMORIAL DESCRITIVO-BRI'!B:B,SMALL(IF('MEMORIAL DESCRITIVO-BRI'!$E$2:$E$4000=\"Sim\",ROW('MEMORIAL DESCRITIVO-BRI'!$B$2:$B$4000)),ROW(B354))), \"\")","v":""},{"$f":"IFERROR(INDEX('MEMORIAL DESCRITIVO-BRI'!I:I,SMALL(IF('MEMORIAL DESCRITIVO-BRI'!$E$2:$E$4000=\"Sim\",ROW('MEMORIAL DESCRITIVO-BRI'!$I$2:$I$4000)),ROW(B354))), \"\")","v":""},{"$f":"IFERROR(INDEX('MEMORIAL DESCRITIVO-BRI'!F:F,SMALL(IF('MEMORIAL DESCRITIVO-BRI'!$E$2:$E$4000=\"Sim\",ROW('MEMORIAL DESCRITIVO-BRI'!$F$2:$F$4000)),ROW(B354))) & \" - \" & INDEX('MEMORIAL DESCRITIVO-BRI'!H:H,SMALL(IF('MEMORIAL DESCRITIVO-BRI'!$E$2:$E$4000=\"Sim\",ROW('MEMORIAL DESCRITIVO-BRI'!$H$2:$H$4000)),ROW(B354))), \"\")","v":""},null,{"$f":"IFERROR(INDEX('MEMORIAL DESCRITIVO-BRI'!S:S,SMALL(IF('MEMORIAL DESCRITIVO-BRI'!$E$2:$E$4000=\"Sim\",ROW('MEMORIAL DESCRITIVO-BRI'!$S$2:$S$4000)),ROW(B354))), \"\")","v":""},{"$f":"IFERROR(INDEX('MEMORIAL DESCRITIVO-BRI'!Z:Z,SMALL(IF('MEMORIAL DESCRITIVO-BRI'!$E$2:$E$4000=\"Sim\",ROW('MEMORIAL DESCRITIVO-BRI'!$Z$2:$Z$4000)),ROW(B354))), \"\")","v":""},{"$f":"IFERROR(INDEX('MEMORIAL DESCRITIVO-BRI'!W:W,SMALL(IF('MEMORIAL DESCRITIVO-BRI'!$E$2:$E$4000=\"Sim\",ROW('MEMORIAL DESCRITIVO-BRI'!$W$2:$W$4000)),ROW(B354))), \"\")","v":""},{"$f":"IFERROR(INDEX('MEMORIAL DESCRITIVO-BRI'!G:G,SMALL(IF('MEMORIAL DESCRITIVO-BRI'!$E$2:$E$4000=\"Sim\",ROW('MEMORIAL DESCRITIVO-BRI'!$G$2:$G$4000)),ROW(B354))), \"\")","v":""},{"$f":"IFERROR(INDEX('MEMORIAL DESCRITIVO-BRI'!P:P,SMALL(IF('MEMORIAL DESCRITIVO-BRI'!$E$2:$E$4000=\"Sim\",ROW('MEMORIAL DESCRITIVO-BRI'!$P$2:$P$4000)),ROW(B354))), \"\")","v":""},{"$f":"IFERROR(INDEX('MEMORIAL DESCRITIVO-BRI'!Q:Q,SMALL(IF('MEMORIAL DESCRITIVO-BRI'!$E$2:$E$4000=\"Sim\",ROW('MEMORIAL DESCRITIVO-BRI'!$Q$2:$Q$4000)),ROW(B354))), \"\")","v":""}]
[null,{"$f":"IFERROR(INDEX('MEMORIAL DESCRITIVO-BRI'!B:B,SMALL(IF('MEMORIAL DESCRITIVO-BRI'!$E$2:$E$4000=\"Sim\",ROW('MEMORIAL DESCRITIVO-BRI'!$B$2:$B$4000)),ROW(B355))), \"\")","v":""},{"$f":"IFERROR(INDEX('MEMORIAL DESCRITIVO-BRI'!I:I,SMALL(IF('MEMORIAL DESCRITIVO-BRI'!$E$2:$E$4000=\"Sim\",ROW('MEMORIAL DESCRITIVO-BRI'!$I$2:$I$4000)),ROW(B355))), \"\")","v":""},{"$f":"IFERROR(INDEX('MEMORIAL DESCRITIVO-BRI'!F:F,SMALL(IF('MEMORIAL DESCRITIVO-BRI'!$E$2:$E$4000=\"Sim\",ROW('MEMORIAL DESCRITIVO-BRI'!$F$2:$F$4000)),ROW(B355))) & \" - \" & INDEX('MEMORIAL DESCRITIVO-BRI'!H:H,SMALL(IF('MEMORIAL DESCRITIVO-BRI'!$E$2:$E$4000=\"Sim\",ROW('MEMORIAL DESCRITIVO-BRI'!$H$2:$H$4000)),ROW(B355))), \"\")","v":""},null,{"$f":"IFERROR(INDEX('MEMORIAL DESCRITIVO-BRI'!S:S,SMALL(IF('MEMORIAL DESCRITIVO-BRI'!$E$2:$E$4000=\"Sim\",ROW('MEMORIAL DESCRITIVO-BRI'!$S$2:$S$4000)),ROW(B355))), \"\")","v":""},{"$f":"IFERROR(INDEX('MEMORIAL DESCRITIVO-BRI'!Z:Z,SMALL(IF('MEMORIAL DESCRITIVO-BRI'!$E$2:$E$4000=\"Sim\",ROW('MEMORIAL DESCRITIVO-BRI'!$Z$2:$Z$4000)),ROW(B355))), \"\")","v":""},{"$f":"IFERROR(INDEX('MEMORIAL DESCRITIVO-BRI'!W:W,SMALL(IF('MEMORIAL DESCRITIVO-BRI'!$E$2:$E$4000=\"Sim\",ROW('MEMORIAL DESCRITIVO-BRI'!$W$2:$W$4000)),ROW(B355))), \"\")","v":""},{"$f":"IFERROR(INDEX('MEMORIAL DESCRITIVO-BRI'!G:G,SMALL(IF('MEMORIAL DESCRITIVO-BRI'!$E$2:$E$4000=\"Sim\",ROW('MEMORIAL DESCRITIVO-BRI'!$G$2:$G$4000)),ROW(B355))), \"\")","v":""},{"$f":"IFERROR(INDEX('MEMORIAL DESCRITIVO-BRI'!P:P,SMALL(IF('MEMORIAL DESCRITIVO-BRI'!$E$2:$E$4000=\"Sim\",ROW('MEMORIAL DESCRITIVO-BRI'!$P$2:$P$4000)),ROW(B355))), \"\")","v":""},{"$f":"IFERROR(INDEX('MEMORIAL DESCRITIVO-BRI'!Q:Q,SMALL(IF('MEMORIAL DESCRITIVO-BRI'!$E$2:$E$4000=\"Sim\",ROW('MEMORIAL DESCRITIVO-BRI'!$Q$2:$Q$4000)),ROW(B355))), \"\")","v":""}]
[null,{"$f":"IFERROR(INDEX('MEMORIAL DESCRITIVO-BRI'!B:B,SMALL(IF('MEMORIAL DESCRITIVO-BRI'!$E$2:$E$4000=\"Sim\",ROW('MEMORIAL DESCRITIVO-BRI'!$B$2:$B$4000)),ROW(B356))), \"\")","v":""},{"$f":"IFERROR(INDEX('MEMORIAL DESCRITIVO-BRI'!I:I,SMALL(IF('MEMORIAL DESCRITIVO-BRI'!$E$2:$E$4000=\"Sim\",ROW('MEMORIAL DESCRITIVO-BRI'!$I$2:$I$4000)),ROW(B356))), \"\")","v":""},{"$f":"IFERROR(INDEX('MEMORIAL DESCRITIVO-BRI'!F:F,SMALL(IF('MEMORIAL DESCRITIVO-BRI'!$E$2:$E$4000=\"Sim\",ROW('MEMORIAL DESCRITIVO-BRI'!$F$2:$F$4000)),ROW(B356))) & \" - \" & INDEX('MEMORIAL DESCRITIVO-BRI'!H:H,SMALL(IF('MEMORIAL DESCRITIVO-BRI'!$E$2:$E$4000=\"Sim\",ROW('MEMORIAL DESCRITIVO-BRI'!$H$2:$H$4000)),ROW(B356))), \"\")","v":""},null,{"$f":"IFERROR(INDEX('MEMORIAL DESCRITIVO-BRI'!S:S,SMALL(IF('MEMORIAL DESCRITIVO-BRI'!$E$2:$E$4000=\"Sim\",ROW('MEMORIAL DESCRITIVO-BRI'!$S$2:$S$4000)),ROW(B356))), \"\")","v":""},{"$f":"IFERROR(INDEX('MEMORIAL DESCRITIVO-BRI'!Z:Z,SMALL(IF('MEMORIAL DESCRITIVO-BRI'!$E$2:$E$4000=\"Sim\",ROW('MEMORIAL DESCRITIVO-BRI'!$Z$2:$Z$4000)),ROW(B356))), \"\")","v":""},{"$f":"IFERROR(INDEX('MEMORIAL DESCRITIVO-BRI'!W:W,SMALL(IF('MEMORIAL DESCRITIVO-BRI'!$E$2:$E$4000=\"Sim\",ROW('MEMORIAL DESCRITIVO-BRI'!$W$2:$W$4000)),ROW(B356))), \"\")","v":""},{"$f":"IFERROR(INDEX('MEMORIAL DESCRITIVO-BRI'!G:G,SMALL(IF('MEMORIAL DESCRITIVO-BRI'!$E$2:$E$4000=\"Sim\",ROW('MEMORIAL DESCRITIVO-BRI'!$G$2:$G$4000)),ROW(B356))), \"\")","v":""},{"$f":"IFERROR(INDEX('MEMORIAL DESCRITIVO-BRI'!P:P,SMALL(IF('MEMORIAL DESCRITIVO-BRI'!$E$2:$E$4000=\"Sim\",ROW('MEMORIAL DESCRITIVO-BRI'!$P$2:$P$4000)),ROW(B356))), \"\")","v":""},{"$f":"IFERROR(INDEX('MEMORIAL DESCRITIVO-BRI'!Q:Q,SMALL(IF('MEMORIAL DESCRITIVO-BRI'!$E$2:$E$4000=\"Sim\",ROW('MEMORIAL DESCRITIVO-BRI'!$Q$2:$Q$4000)),ROW(B356))), \"\")","v":""}]
[null,{"$f":"IFERROR(INDEX('MEMORIAL DESCRITIVO-BRI'!B:B,SMALL(IF('MEMORIAL DESCRITIVO-BRI'!$E$2:$E$4000=\"Sim\",ROW('MEMORIAL DESCRITIVO-BRI'!$B$2:$B$4000)),ROW(B357))), \"\")","v":""},{"$f":"IFERROR(INDEX('MEMORIAL DESCRITIVO-BRI'!I:I,SMALL(IF('MEMORIAL DESCRITIVO-BRI'!$E$2:$E$4000=\"Sim\",ROW('MEMORIAL DESCRITIVO-BRI'!$I$2:$I$4000)),ROW(B357))), \"\")","v":""},{"$f":"IFERROR(INDEX('MEMORIAL DESCRITIVO-BRI'!F:F,SMALL(IF('MEMORIAL DESCRITIVO-BRI'!$E$2:$E$4000=\"Sim\",ROW('MEMORIAL DESCRITIVO-BRI'!$F$2:$F$4000)),ROW(B357))) & \" - \" & INDEX('MEMORIAL DESCRITIVO-BRI'!H:H,SMALL(IF('MEMORIAL DESCRITIVO-BRI'!$E$2:$E$4000=\"Sim\",ROW('MEMORIAL DESCRITIVO-BRI'!$H$2:$H$4000)),ROW(B357))), \"\")","v":""},null,{"$f":"IFERROR(INDEX('MEMORIAL DESCRITIVO-BRI'!S:S,SMALL(IF('MEMORIAL DESCRITIVO-BRI'!$E$2:$E$4000=\"Sim\",ROW('MEMORIAL DESCRITIVO-BRI'!$S$2:$S$4000)),ROW(B357))), \"\")","v":""},{"$f":"IFERROR(INDEX('MEMORIAL DESCRITIVO-BRI'!Z:Z,SMALL(IF('MEMORIAL DESCRITIVO-BRI'!$E$2:$E$4000=\"Sim\",ROW('MEMORIAL DESCRITIVO-BRI'!$Z$2:$Z$4000)),ROW(B357))), \"\")","v":""},{"$f":"IFERROR(INDEX('MEMORIAL DESCRITIVO-BRI'!W:W,SMALL(IF('MEMORIAL DESCRITIVO-BRI'!$E$2:$E$4000=\"Sim\",ROW('MEMORIAL DESCRITIVO-BRI'!$W$2:$W$4000)),ROW(B357))), \"\")","v":""},{"$f":"IFERROR(INDEX('MEMORIAL DESCRITIVO-BRI'!G:G,SMALL(IF('MEMORIAL DESCRITIVO-BRI'!$E$2:$E$4000=\"Sim\",ROW('MEMORIAL DESCRITIVO-BRI'!$G$2:$G$4000)),ROW(B357))), \"\")","v":""},{"$f":"IFERROR(INDEX('MEMORIAL DESCRITIVO-BRI'!P:P,SMALL(IF('MEMORIAL DESCRITIVO-BRI'!$E$2:$E$4000=\"Sim\",ROW('MEMORIAL DESCRITIVO-BRI'!$P$2:$P$4000)),ROW(B357))), \"\")","v":""},{"$f":"IFERROR(INDEX('MEMORIAL DESCRITIVO-BRI'!Q:Q,SMALL(IF('MEMORIAL DESCRITIVO-BRI'!$E$2:$E$4000=\"Sim\",ROW('MEMORIAL DESCRITIVO-BRI'!$Q$2:$Q$4000)),ROW(B357))), \"\")","v":""}]
[null,{"$f":"IFERROR(INDEX('MEMORIAL DESCRITIVO-BRI'!B:B,SMALL(IF('MEMORIAL DESCRITIVO-BRI'!$E$2:$E$4000=\"Sim\",ROW('MEMORIAL DESCRITIVO-BRI'!$B$2:$B$4000)),ROW(B358))), \"\")","v":""},{"$f":"IFERROR(INDEX('MEMORIAL DESCRITIVO-BRI'!I:I,SMALL(IF('MEMORIAL DESCRITIVO-BRI'!$E$2:$E$4000=\"Sim\",ROW('MEMORIAL DESCRITIVO-BRI'!$I$2:$I$4000)),ROW(B358))), \"\")","v":""},{"$f":"IFERROR(INDEX('MEMORIAL DESCRITIVO-BRI'!F:F,SMALL(IF('MEMORIAL DESCRITIVO-BRI'!$E$2:$E$4000=\"Sim\",ROW('MEMORIAL DESCRITIVO-BRI'!$F$2:$F$4000)),ROW(B358))) & \" - \" & INDEX('MEMORIAL DESCRITIVO-BRI'!H:H,SMALL(IF('MEMORIAL DESCRITIVO-BRI'!$E$2:$E$4000=\"Sim\",ROW('MEMORIAL DESCRITIVO-BRI'!$H$2:$H$4000)),ROW(B358))), \"\")","v":""},null,{"$f":"IFERROR(INDEX('MEMORIAL DESCRITIVO-BRI'!S:S,SMALL(IF('MEMORIAL DESCRITIVO-BRI'!$E$2:$E$4000=\"Sim\",ROW('MEMORIAL DESCRITIVO-BRI'!$S$2:$S$4000)),ROW(B358))), \"\")","v":""},{"$f":"IFERROR(INDEX('MEMORIAL DESCRITIVO-BRI'!Z:Z,SMALL(IF('MEMORIAL DESCRITIVO-BRI'!$E$2:$E$4000=\"Sim\",ROW('MEMORIAL DESCRITIVO-BRI'!$Z$2:$Z$4000)),ROW(B358))), \"\")","v":""},{"$f":"IFERROR(INDEX('MEMORIAL DESCRITIVO-BRI'!W:W,SMALL(IF('MEMORIAL DESCRITIVO-BRI'!$E$2:$E$4000=\"Sim\",ROW('MEMORIAL DESCRITIVO-BRI'!$W$2:$W$4000)),ROW(B358))), \"\")","v":""},{"$f":"IFERROR(INDEX('MEMORIAL DESCRITIVO-BRI'!G:G,SMALL(IF('MEMORIAL DESCRITIVO-BRI'!$E$2:$E$4000=\"Sim\",ROW('MEMORIAL DESCRITIVO-BRI'!$G$2:$G$4000)),ROW(B358))), \"\")","v":""},{"$f":"IFERROR(INDEX('MEMORIAL DESCRITIVO-BRI'!P:P,SMALL(IF('MEMORIAL DESCRITIVO-BRI'!$E$2:$E$4000=\"Sim\",ROW('MEMORIAL DESCRITIVO-BRI'!$P$2:$P$4000)),ROW(B358))), \"\")","v":""},{"$f":"IFERROR(INDEX('MEMORIAL DESCRITIVO-BRI'!Q:Q,SMALL(IF('MEMORIAL DESCRITIVO-BRI'!$E$2:$E$4000=\"Sim\",ROW('MEMORIAL DESCRITIVO-BRI'!$Q$2:$Q$4000)),ROW(B358))), \"\")","v":""}]
[null,{"$f":"IFERROR(INDEX('MEMORIAL DESCRITIVO-BRI'!B:B,SMALL(IF('MEMORIAL DESCRITIVO-BRI'!$E$2:$E$4000=\"Sim\",ROW('MEMORIAL DESCRITIVO-BRI'!$B$2:$B$4000)),ROW(B359))), \"\")","v":""},{"$f":"IFERROR(INDEX('MEMORIAL DESCRITIVO-BRI'!I:I,SMALL(IF('MEMORIAL DESCRITIVO-BRI'!$E$2:$E$4000=\"Sim\",ROW('MEMORIAL DESCRITIVO-BRI'!$I$2:$I$4000)),ROW(B359))), \"\")","v":""},{"$f":"IFERROR(INDEX('MEMORIAL DESCRITIVO-BRI'!F:F,SMALL(IF('MEMORIAL DESCRITIVO-BRI'!$E$2:$E$4000=\"Sim\",ROW('MEMORIAL DESCRITIVO-BRI'!$F$2:$F$4000)),ROW(B359))) & \" - \" & INDEX('MEMORIAL DESCRITIVO-BRI'!H:H,SMALL(IF('MEMORIAL DESCRITIVO-BRI'!$E$2:$E$4000=\"Sim\",ROW('MEMORIAL DESCRITIVO-BRI'!$H$2:$H$4000)),ROW(B359))), \"\")","v":""},null,{"$f":"IFERROR(INDEX('MEMORIAL DESCRITIVO-BRI'!S:S,SMALL(IF('MEMORIAL DESCRITIVO-BRI'!$E$2:$E$4000=\"Sim\",ROW('MEMORIAL DESCRITIVO-BRI'!$S$2:$S$4000)),ROW(B359))), \"\")","v":""},{"$f":"IFERROR(INDEX('MEMORIAL DESCRITIVO-BRI'!Z:Z,SMALL(IF('MEMORIAL DESCRITIVO-BRI'!$E$2:$E$4000=\"Sim\",ROW('MEMORIAL DESCRITIVO-BRI'!$Z$2:$Z$4000)),ROW(B359))), \"\")","v":""},{"$f":"IFERROR(INDEX('MEMORIAL DESCRITIVO-BRI'!W:W,SMALL(IF('MEMORIAL DESCRITIVO-BRI'!$E$2:$E$4000=\"Sim\",ROW('MEMORIAL DESCRITIVO-BRI'!$W$2:$W$4000)),ROW(B359))), \"\")","v":""},{"$f":"IFERROR(INDEX('MEMORIAL DESCRITIVO-BRI'!G:G,SMALL(IF('MEMORIAL DESCRITIVO-BRI'!$E$2:$E$4000=\"Sim\",ROW('MEMORIAL DESCRITIVO-BRI'!$G$2:$G$4000)),ROW(B359))), \"\")","v":""},{"$f":"IFERROR(INDEX('MEMORIAL DESCRITIVO-BRI'!P:P,SMALL(IF('MEMORIAL DESCRITIVO-BRI'!$E$2:$E$4000=\"Sim\",ROW('MEMORIAL DESCRITIVO-BRI'!$P$2:$P$4000)),ROW(B359))), \"\")","v":""},{"$f":"IFERROR(INDEX('MEMORIAL DESCRITIVO-BRI'!Q:Q,SMALL(IF('MEMORIAL DESCRITIVO-BRI'!$E$2:$E$4000=\"Sim\",ROW('MEMORIAL DESCRITIVO-BRI'!$Q$2:$Q$4000)),ROW(B359))), \"\")","v":""}]
[null,{"$f":"IFERROR(INDEX('MEMORIAL DESCRITIVO-BRI'!B:B,SMALL(IF('MEMORIAL DESCRITIVO-BRI'!$E$2:$E$4000=\"Sim\",ROW('MEMORIAL DESCRITIVO-BRI'!$B$2:$B$4000)),ROW(B360))), \"\")","v":""},{"$f":"IFERROR(INDEX('MEMORIAL DESCRITIVO-BRI'!I:I,SMALL(IF('MEMORIAL DESCRITIVO-BRI'!$E$2:$E$4000=\"Sim\",ROW('MEMORIAL DESCRITIVO-BRI'!$I$2:$I$4000)),ROW(B360))), \"\")","v":""},{"$f":"IFERROR(INDEX('MEMORIAL DESCRITIVO-BRI'!F:F,SMALL(IF('MEMORIAL DESCRITIVO-BRI'!$E$2:$E$4000=\"Sim\",ROW('MEMORIAL DESCRITIVO-BRI'!$F$2:$F$4000)),ROW(B360))) & \" - \" & INDEX('MEMORIAL DESCRITIVO-BRI'!H:H,SMALL(IF('MEMORIAL DESCRITIVO-BRI'!$E$2:$E$4000=\"Sim\",ROW('MEMORIAL DESCRITIVO-BRI'!$H$2:$H$4000)),ROW(B360))), \"\")","v":""},null,{"$f":"IFERROR(INDEX('MEMORIAL DESCRITIVO-BRI'!S:S,SMALL(IF('MEMORIAL DESCRITIVO-BRI'!$E$2:$E$4000=\"Sim\",ROW('MEMORIAL DESCRITIVO-BRI'!$S$2:$S$4000)),ROW(B360))), \"\")","v":""},{"$f":"IFERROR(INDEX('MEMORIAL DESCRITIVO-BRI'!Z:Z,SMALL(IF('MEMORIAL DESCRITIVO-BRI'!$E$2:$E$4000=\"Sim\",ROW('MEMORIAL DESCRITIVO-BRI'!$Z$2:$Z$4000)),ROW(B360))), \"\")","v":""},{"$f":"IFERROR(INDEX('MEMORIAL DESCRITIVO-BRI'!W:W,SMALL(IF('MEMORIAL DESCRITIVO-BRI'!$E$2:$E$4000=\"Sim\",ROW('MEMORIAL DESCRITIVO-BRI'!$W$2:$W$4000)),ROW(B360))), \"\")","v":""},{"$f":"IFERROR(INDEX('MEMORIAL DESCRITIVO-BRI'!G:G,SMALL(IF('MEMORIAL DESCRITIVO-BRI'!$E$2:$E$4000=\"Sim\",ROW('MEMORIAL DESCRITIVO-BRI'!$G$2:$G$4000)),ROW(B360))), \"\")","v":""},{"$f":"IFERROR(INDEX('MEMORIAL DESCRITIVO-BRI'!P:P,SMALL(IF('MEMORIAL DESCRITIVO-BRI'!$E$2:$E$4000=\"Sim\",ROW('MEMORIAL DESCRITIVO-BRI'!$P$2:$P$4000)),ROW(B360))), \"\")","v":""},{"$f":"IFERROR(INDEX('MEMORIAL DESCRITIVO-BRI'!Q:Q,SMALL(IF('MEMORIAL DESCRITIVO-BRI'!$E$2:$E$4000=\"Sim\",ROW('MEMORIAL DESCRITIVO-BRI'!$Q$2:$Q$4000)),ROW(B360))), \"\")","v":""}]
[null,{"$f":"IFERROR(INDEX('MEMORIAL DESCRITIVO-BRI'!B:B,SMALL(IF('MEMORIAL DESCRITIVO-BRI'!$E$2:$E$4000=\"Sim\",ROW('MEMORIAL DESCRITIVO-BRI'!$B$2:$B$4000)),ROW(B361))), \"\")","v":""},{"$f":"IFERROR(INDEX('MEMORIAL DESCRITIVO-BRI'!I:I,SMALL(IF('MEMORIAL DESCRITIVO-BRI'!$E$2:$E$4000=\"Sim\",ROW('MEMORIAL DESCRITIVO-BRI'!$I$2:$I$4000)),ROW(B361))), \"\")","v":""},{"$f":"IFERROR(INDEX('MEMORIAL DESCRITIVO-BRI'!F:F,SMALL(IF('MEMORIAL DESCRITIVO-BRI'!$E$2:$E$4000=\"Sim\",ROW('MEMORIAL DESCRITIVO-BRI'!$F$2:$F$4000)),ROW(B361))) & \" - \" & INDEX('MEMORIAL DESCRITIVO-BRI'!H:H,SMALL(IF('MEMORIAL DESCRITIVO-BRI'!$E$2:$E$4000=\"Sim\",ROW('MEMORIAL DESCRITIVO-BRI'!$H$2:$H$4000)),ROW(B361))), \"\")","v":""},null,{"$f":"IFERROR(INDEX('MEMORIAL DESCRITIVO-BRI'!S:S,SMALL(IF('MEMORIAL DESCRITIVO-BRI'!$E$2:$E$4000=\"Sim\",ROW('MEMORIAL DESCRITIVO-BRI'!$S$2:$S$4000)),ROW(B361))), \"\")","v":""},{"$f":"IFERROR(INDEX('MEMORIAL DESCRITIVO-BRI'!Z:Z,SMALL(IF('MEMORIAL DESCRITIVO-BRI'!$E$2:$E$4000=\"Sim\",ROW('MEMORIAL DESCRITIVO-BRI'!$Z$2:$Z$4000)),ROW(B361))), \"\")","v":""},{"$f":"IFERROR(INDEX('MEMORIAL DESCRITIVO-BRI'!W:W,SMALL(IF('MEMORIAL DESCRITIVO-BRI'!$E$2:$E$4000=\"Sim\",ROW('MEMORIAL DESCRITIVO-BRI'!$W$2:$W$4000)),ROW(B361))), \"\")","v":""},{"$f":"IFERROR(INDEX('MEMORIAL DESCRITIVO-BRI'!G:G,SMALL(IF('MEMORIAL DESCRITIVO-BRI'!$E$2:$E$4000=\"Sim\",ROW('MEMORIAL DESCRITIVO-BRI'!$G$2:$G$4000)),ROW(B361))), \"\")","v":""},{"$f":"IFERROR(INDEX('MEMORIAL DESCRITIVO-BRI'!P:P,SMALL(IF('MEMORIAL DESCRITIVO-BRI'!$E$2:$E$4000=\"Sim\",ROW('MEMORIAL DESCRITIVO-BRI'!$P$2:$P$4000)),ROW(B361))), \"\")","v":""},{"$f":"IFERROR(INDEX('MEMORIAL DESCRITIVO-BRI'!Q:Q,SMALL(IF('MEMORIAL DESCRITIVO-BRI'!$E$2:$E$4000=\"Sim\",ROW('MEMORIAL DESCRITIVO-BRI'!$Q$2:$Q$4000)),ROW(B361))), \"\")","v":""}]
[null,{"$f":"IFERROR(INDEX('MEMORIAL DESCRITIVO-BRI'!B:B,SMALL(IF('MEMORIAL DESCRITIVO-BRI'!$E$2:$E$4000=\"Sim\",ROW('MEMORIAL DESCRITIVO-BRI'!$B$2:$B$4000)),ROW(B362))), \"\")","v":""},{"$f":"IFERROR(INDEX('MEMORIAL DESCRITIVO-BRI'!I:I,SMALL(IF('MEMORIAL DESCRITIVO-BRI'!$E$2:$E$4000=\"Sim\",ROW('MEMORIAL DESCRITIVO-BRI'!$I$2:$I$4000)),ROW(B362))), \"\")","v":""},{"$f":"IFERROR(INDEX('MEMORIAL DESCRITIVO-BRI'!F:F,SMALL(IF('MEMORIAL DESCRITIVO-BRI'!$E$2:$E$4000=\"Sim\",ROW('MEMORIAL DESCRITIVO-BRI'!$F$2:$F$4000)),ROW(B362))) & \" - \" & INDEX('MEMORIAL DESCRITIVO-BRI'!H:H,SMALL(IF('MEMORIAL DESCRITIVO-BRI'!$E$2:$E$4000=\"Sim\",ROW('MEMORIAL DESCRITIVO-BRI'!$H$2:$H$4000)),ROW(B362))), \"\")","v":""},null,{"$f":"IFERROR(INDEX('MEMORIAL DESCRITIVO-BRI'!S:S,SMALL(IF('MEMORIAL DESCRITIVO-BRI'!$E$2:$E$4000=\"Sim\",ROW('MEMORIAL DESCRITIVO-BRI'!$S$2:$S$4000)),ROW(B362))), \"\")","v":""},{"$f":"IFERROR(INDEX('MEMORIAL DESCRITIVO-BRI'!Z:Z,SMALL(IF('MEMORIAL DESCRITIVO-BRI'!$E$2:$E$4000=\"Sim\",ROW('MEMORIAL DESCRITIVO-BRI'!$Z$2:$Z$4000)),ROW(B362))), \"\")","v":""},{"$f":"IFERROR(INDEX('MEMORIAL DESCRITIVO-BRI'!W:W,SMALL(IF('MEMORIAL DESCRITIVO-BRI'!$E$2:$E$4000=\"Sim\",ROW('MEMORIAL DESCRITIVO-BRI'!$W$2:$W$4000)),ROW(B362))), \"\")","v":""},{"$f":"IFERROR(INDEX('MEMORIAL DESCRITIVO-BRI'!G:G,SMALL(IF('MEMORIAL DESCRITIVO-BRI'!$E$2:$E$4000=\"Sim\",ROW('MEMORIAL DESCRITIVO-BRI'!$G$2:$G$4000)),ROW(B362))), \"\")","v":""},{"$f":"IFERROR(INDEX('MEMORIAL DESCRITIVO-BRI'!P:P,SMALL(IF('MEMORIAL DESCRITIVO-BRI'!$E$2:$E$4000=\"Sim\",ROW('MEMORIAL DESCRITIVO-BRI'!$P$2:$P$4000)),ROW(B362))), \"\")","v":""},{"$f":"IFERROR(INDEX('MEMORIAL DESCRITIVO-BRI'!Q:Q,SMALL(IF('MEMORIAL DESCRITIVO-BRI'!$E$2:$E$4000=\"Sim\",ROW('MEMORIAL DESCRITIVO-BRI'!$Q$2:$Q$4000)),ROW(B362))), \"\")","v":""}]
[null,{"$f":"IFERROR(INDEX('MEMORIAL DESCRITIVO-BRI'!B:B,SMALL(IF('MEMORIAL DESCRITIVO-BRI'!$E$2:$E$4000=\"Sim\",ROW('MEMORIAL DESCRITIVO-BRI'!$B$2:$B$4000)),ROW(B363))), \"\")","v":""},{"$f":"IFERROR(INDEX('MEMORIAL DESCRITIVO-BRI'!I:I,SMALL(IF('MEMORIAL DESCRITIVO-BRI'!$E$2:$E$4000=\"Sim\",ROW('MEMORIAL DESCRITIVO-BRI'!$I$2:$I$4000)),ROW(B363))), \"\")","v":""},{"$f":"IFERROR(INDEX('MEMORIAL DESCRITIVO-BRI'!F:F,SMALL(IF('MEMORIAL DESCRITIVO-BRI'!$E$2:$E$4000=\"Sim\",ROW('MEMORIAL DESCRITIVO-BRI'!$F$2:$F$4000)),ROW(B363))) & \" - \" & INDEX('MEMORIAL DESCRITIVO-BRI'!H:H,SMALL(IF('MEMORIAL DESCRITIVO-BRI'!$E$2:$E$4000=\"Sim\",ROW('MEMORIAL DESCRITIVO-BRI'!$H$2:$H$4000)),ROW(B363))), \"\")","v":""},null,{"$f":"IFERROR(INDEX('MEMORIAL DESCRITIVO-BRI'!S:S,SMALL(IF('MEMORIAL DESCRITIVO-BRI'!$E$2:$E$4000=\"Sim\",ROW('MEMORIAL DESCRITIVO-BRI'!$S$2:$S$4000)),ROW(B363))), \"\")","v":""},{"$f":"IFERROR(INDEX('MEMORIAL DESCRITIVO-BRI'!Z:Z,SMALL(IF('MEMORIAL DESCRITIVO-BRI'!$E$2:$E$4000=\"Sim\",ROW('MEMORIAL DESCRITIVO-BRI'!$Z$2:$Z$4000)),ROW(B363))), \"\")","v":""},{"$f":"IFERROR(INDEX('MEMORIAL DESCRITIVO-BRI'!W:W,SMALL(IF('MEMORIAL DESCRITIVO-BRI'!$E$2:$E$4000=\"Sim\",ROW('MEMORIAL DESCRITIVO-BRI'!$W$2:$W$4000)),ROW(B363))), \"\")","v":""},{"$f":"IFERROR(INDEX('MEMORIAL DESCRITIVO-BRI'!G:G,SMALL(IF('MEMORIAL DESCRITIVO-BRI'!$E$2:$E$4000=\"Sim\",ROW('MEMORIAL DESCRITIVO-BRI'!$G$2:$G$4000)),ROW(B363))), \"\")","v":""},{"$f":"IFERROR(INDEX('MEMORIAL DESCRITIVO-BRI'!P:P,SMALL(IF('MEMORIAL DESCRITIVO-BRI'!$E$2:$E$4000=\"Sim\",ROW('MEMORIAL DESCRITIVO-BRI'!$P$2:$P$4000)),ROW(B363))), \"\")","v":""},{"$f":"IFERROR(INDEX('MEMORIAL DESCRITIVO-BRI'!Q:Q,SMALL(IF('MEMORIAL DESCRITIVO-BRI'!$E$2:$E$4000=\"Sim\",ROW('MEMORIAL DESCRITIVO-BRI'!$Q$2:$Q$4000)),ROW(B363))), \"\")","v":""}]
[null,{"$f":"IFERROR(INDEX('MEMORIAL DESCRITIVO-BRI'!B:B,SMALL(IF('MEMORIAL DESCRITIVO-BRI'!$E$2:$E$4000=\"Sim\",ROW('MEMORIAL DESCRITIVO-BRI'!$B$2:$B$4000)),ROW(B364))), \"\")","v":""},{"$f":"IFERROR(INDEX('MEMORIAL DESCRITIVO-BRI'!I:I,SMALL(IF('MEMORIAL DESCRITIVO-BRI'!$E$2:$E$4000=\"Sim\",ROW('MEMORIAL DESCRITIVO-BRI'!$I$2:$I$4000)),ROW(B364))), \"\")","v":""},{"$f":"IFERROR(INDEX('MEMORIAL DESCRITIVO-BRI'!F:F,SMALL(IF('MEMORIAL DESCRITIVO-BRI'!$E$2:$E$4000=\"Sim\",ROW('MEMORIAL DESCRITIVO-BRI'!$F$2:$F$4000)),ROW(B364))) & \" - \" & INDEX('MEMORIAL DESCRITIVO-BRI'!H:H,SMALL(IF('MEMORIAL DESCRITIVO-BRI'!$E$2:$E$4000=\"Sim\",ROW('MEMORIAL DESCRITIVO-BRI'!$H$2:$H$4000)),ROW(B364))), \"\")","v":""},null,{"$f":"IFERROR(INDEX('MEMORIAL DESCRITIVO-BRI'!S:S,SMALL(IF('MEMORIAL DESCRITIVO-BRI'!$E$2:$E$4000=\"Sim\",ROW('MEMORIAL DESCRITIVO-BRI'!$S$2:$S$4000)),ROW(B364))), \"\")","v":""},{"$f":"IFERROR(INDEX('MEMORIAL DESCRITIVO-BRI'!Z:Z,SMALL(IF('MEMORIAL DESCRITIVO-BRI'!$E$2:$E$4000=\"Sim\",ROW('MEMORIAL DESCRITIVO-BRI'!$Z$2:$Z$4000)),ROW(B364))), \"\")","v":""},{"$f":"IFERROR(INDEX('MEMORIAL DESCRITIVO-BRI'!W:W,SMALL(IF('MEMORIAL DESCRITIVO-BRI'!$E$2:$E$4000=\"Sim\",ROW('MEMORIAL DESCRITIVO-BRI'!$W$2:$W$4000)),ROW(B364))), \"\")","v":""},{"$f":"IFERROR(INDEX('MEMORIAL DESCRITIVO-BRI'!G:G,SMALL(IF('MEMORIAL DESCRITIVO-BRI'!$E$2:$E$4000=\"Sim\",ROW('MEMORIAL DESCRITIVO-BRI'!$G$2:$G$4000)),ROW(B364))), \"\")","v":""},{"$f":"IFERROR(INDEX('MEMORIAL DESCRITIVO-BRI'!P:P,SMALL(IF('MEMORIAL DESCRITIVO-BRI'!$E$2:$E$4000=\"Sim\",ROW('MEMORIAL DESCRITIVO-BRI'!$P$2:$P$4000)),ROW(B364))), \"\")","v":""},{"$f":"IFERROR(INDEX('MEMORIAL DESCRITIVO-BRI'!Q:Q,SMALL(IF('MEMORIAL DESCRITIVO-BRI'!$E$2:$E$4000=\"Sim\",ROW('MEMORIAL DESCRITIVO-BRI'!$Q$2:$Q$4000)),ROW(B364))), \"\")","v":""}]
[null,{"$f":"IFERROR(INDEX('MEMORIAL DESCRITIVO-BRI'!B:B,SMALL(IF('MEMORIAL DESCRITIVO-BRI'!$E$2:$E$4000=\"Sim\",ROW('MEMORIAL DESCRITIVO-BRI'!$B$2:$B$4000)),ROW(B365))), \"\")","v":""},{"$f":"IFERROR(INDEX('MEMORIAL DESCRITIVO-BRI'!I:I,SMALL(IF('MEMORIAL DESCRITIVO-BRI'!$E$2:$E$4000=\"Sim\",ROW('MEMORIAL DESCRITIVO-BRI'!$I$2:$I$4000)),ROW(B365))), \"\")","v":""},{"$f":"IFERROR(INDEX('MEMORIAL DESCRITIVO-BRI'!F:F,SMALL(IF('MEMORIAL DESCRITIVO-BRI'!$E$2:$E$4000=\"Sim\",ROW('MEMORIAL DESCRITIVO-BRI'!$F$2:$F$4000)),ROW(B365))) & \" - \" & INDEX('MEMORIAL DESCRITIVO-BRI'!H:H,SMALL(IF('MEMORIAL DESCRITIVO-BRI'!$E$2:$E$4000=\"Sim\",ROW('MEMORIAL DESCRITIVO-BRI'!$H$2:$H$4000)),ROW(B365))), \"\")","v":""},null,{"$f":"IFERROR(INDEX('MEMORIAL DESCRITIVO-BRI'!S:S,SMALL(IF('MEMORIAL DESCRITIVO-BRI'!$E$2:$E$4000=\"Sim\",ROW('MEMORIAL DESCRITIVO-BRI'!$S$2:$S$4000)),ROW(B365))), \"\")","v":""},{"$f":"IFERROR(INDEX('MEMORIAL DESCRITIVO-BRI'!Z:Z,SMALL(IF('MEMORIAL DESCRITIVO-BRI'!$E$2:$E$4000=\"Sim\",ROW('MEMORIAL DESCRITIVO-BRI'!$Z$2:$Z$4000)),ROW(B365))), \"\")","v":""},{"$f":"IFERROR(INDEX('MEMORIAL DESCRITIVO-BRI'!W:W,SMALL(IF('MEMORIAL DESCRITIVO-BRI'!$E$2:$E$4000=\"Sim\",ROW('MEMORIAL DESCRITIVO-BRI'!$W$2:$W$4000)),ROW(B365))), \"\")","v":""},{"$f":"IFERROR(INDEX('MEMORIAL DESCRITIVO-BRI'!G:G,SMALL(IF('MEMORIAL DESCRITIVO-BRI'!$E$2:$E$4000=\"Sim\",ROW('MEMORIAL DESCRITIVO-BRI'!$G$2:$G$4000)),ROW(B365))), \"\")","v":""},{"$f":"IFERROR(INDEX('MEMORIAL DESCRITIVO-BRI'!P:P,SMALL(IF('MEMORIAL DESCRITIVO-BRI'!$E$2:$E$4000=\"Sim\",ROW('MEMORIAL DESCRITIVO-BRI'!$P$2:$P$4000)),ROW(B365))), \"\")","v":""},{"$f":"IFERROR(INDEX('MEMORIAL DESCRITIVO-BRI'!Q:Q,SMALL(IF('MEMORIAL DESCRITIVO-BRI'!$E$2:$E$4000=\"Sim\",ROW('MEMORIAL DESCRITIVO-BRI'!$Q$2:$Q$4000)),ROW(B365))), \"\")","v":""}]
[null,{"$f":"IFERROR(INDEX('MEMORIAL DESCRITIVO-BRI'!B:B,SMALL(IF('MEMORIAL DESCRITIVO-BRI'!$E$2:$E$4000=\"Sim\",ROW('MEMORIAL DESCRITIVO-BRI'!$B$2:$B$4000)),ROW(B366))), \"\")","v":""},{"$f":"IFERROR(INDEX('MEMORIAL DESCRITIVO-BRI'!I:I,SMALL(IF('MEMORIAL DESCRITIVO-BRI'!$E$2:$E$4000=\"Sim\",ROW('MEMORIAL DESCRITIVO-BRI'!$I$2:$I$4000)),ROW(B366))), \"\")","v":""},{"$f":"IFERROR(INDEX('MEMORIAL DESCRITIVO-BRI'!F:F,SMALL(IF('MEMORIAL DESCRITIVO-BRI'!$E$2:$E$4000=\"Sim\",ROW('MEMORIAL DESCRITIVO-BRI'!$F$2:$F$4000)),ROW(B366))) & \" - \" & INDEX('MEMORIAL DESCRITIVO-BRI'!H:H,SMALL(IF('MEMORIAL DESCRITIVO-BRI'!$E$2:$E$4000=\"Sim\",ROW('MEMORIAL DESCRITIVO-BRI'!$H$2:$H$4000)),ROW(B366))), \"\")","v":""},null,{"$f":"IFERROR(INDEX('MEMORIAL DESCRITIVO-BRI'!S:S,SMALL(IF('MEMORIAL DESCRITIVO-BRI'!$E$2:$E$4000=\"Sim\",ROW('MEMORIAL DESCRITIVO-BRI'!$S$2:$S$4000)),ROW(B366))), \"\")","v":""},{"$f":"IFERROR(INDEX('MEMORIAL DESCRITIVO-BRI'!Z:Z,SMALL(IF('MEMORIAL DESCRITIVO-BRI'!$E$2:$E$4000=\"Sim\",ROW('MEMORIAL DESCRITIVO-BRI'!$Z$2:$Z$4000)),ROW(B366))), \"\")","v":""},{"$f":"IFERROR(INDEX('MEMORIAL DESCRITIVO-BRI'!W:W,SMALL(IF('MEMORIAL DESCRITIVO-BRI'!$E$2:$E$4000=\"Sim\",ROW('MEMORIAL DESCRITIVO-BRI'!$W$2:$W$4000)),ROW(B366))), \"\")","v":""},{"$f":"IFERROR(INDEX('MEMORIAL DESCRITIVO-BRI'!G:G,SMALL(IF('MEMORIAL DESCRITIVO-BRI'!$E$2:$E$4000=\"Sim\",ROW('MEMORIAL DESCRITIVO-BRI'!$G$2:$G$4000)),ROW(B366))), \"\")","v":""},{"$f":"IFERROR(INDEX('MEMORIAL DESCRITIVO-BRI'!P:P,SMALL(IF('MEMORIAL DESCRITIVO-BRI'!$E$2:$E$4000=\"Sim\",ROW('MEMORIAL DESCRITIVO-BRI'!$P$2:$P$4000)),ROW(B366))), \"\")","v":""},{"$f":"IFERROR(INDEX('MEMORIAL DESCRITIVO-BRI'!Q:Q,SMALL(IF('MEMORIAL DESCRITIVO-BRI'!$E$2:$E$4000=\"Sim\",ROW('MEMORIAL DESCRITIVO-BRI'!$Q$2:$Q$4000)),ROW(B366))), \"\")","v":""}]
[null,{"$f":"IFERROR(INDEX('MEMORIAL DESCRITIVO-BRI'!B:B,SMALL(IF('MEMORIAL DESCRITIVO-BRI'!$E$2:$E$4000=\"Sim\",ROW('MEMORIAL DESCRITIVO-BRI'!$B$2:$B$4000)),ROW(B367))), \"\")","v":""},{"$f":"IFERROR(INDEX('MEMORIAL DESCRITIVO-BRI'!I:I,SMALL(IF('MEMORIAL DESCRITIVO-BRI'!$E$2:$E$4000=\"Sim\",ROW('MEMORIAL DESCRITIVO-BRI'!$I$2:$I$4000)),ROW(B367))), \"\")","v":""},{"$f":"IFERROR(INDEX('MEMORIAL DESCRITIVO-BRI'!F:F,SMALL(IF('MEMORIAL DESCRITIVO-BRI'!$E$2:$E$4000=\"Sim\",ROW('MEMORIAL DESCRITIVO-BRI'!$F$2:$F$4000)),ROW(B367))) & \" - \" & INDEX('MEMORIAL DESCRITIVO-BRI'!H:H,SMALL(IF('MEMORIAL DESCRITIVO-BRI'!$E$2:$E$4000=\"Sim\",ROW('MEMORIAL DESCRITIVO-BRI'!$H$2:$H$4000)),ROW(B367))), \"\")","v":""},null,{"$f":"IFERROR(INDEX('MEMORIAL DESCRITIVO-BRI'!S:S,SMALL(IF('MEMORIAL DESCRITIVO-BRI'!$E$2:$E$4000=\"Sim\",ROW('MEMORIAL DESCRITIVO-BRI'!$S$2:$S$4000)),ROW(B367))), \"\")","v":""},{"$f":"IFERROR(INDEX('MEMORIAL DESCRITIVO-BRI'!Z:Z,SMALL(IF('MEMORIAL DESCRITIVO-BRI'!$E$2:$E$4000=\"Sim\",ROW('MEMORIAL DESCRITIVO-BRI'!$Z$2:$Z$4000)),ROW(B367))), \"\")","v":""},{"$f":"IFERROR(INDEX('MEMORIAL DESCRITIVO-BRI'!W:W,SMALL(IF('MEMORIAL DESCRITIVO-BRI'!$E$2:$E$4000=\"Sim\",ROW('MEMORIAL DESCRITIVO-BRI'!$W$2:$W$4000)),ROW(B367))), \"\")","v":""},{"$f":"IFERROR(INDEX('MEMORIAL DESCRITIVO-BRI'!G:G,SMALL(IF('MEMORIAL DESCRITIVO-BRI'!$E$2:$E$4000=\"Sim\",ROW('MEMORIAL DESCRITIVO-BRI'!$G$2:$G$4000)),ROW(B367))), \"\")","v":""},{"$f":"IFERROR(INDEX('MEMORIAL DESCRITIVO-BRI'!P:P,SMALL(IF('MEMORIAL DESCRITIVO-BRI'!$E$2:$E$4000=\"Sim\",ROW('MEMORIAL DESCRITIVO-BRI'!$P$2:$P$4000)),ROW(B367))), \"\")","v":""},{"$f":"IFERROR(INDEX('MEMORIAL DESCRITIVO-BRI'!Q:Q,SMALL(IF('MEMORIAL DESCRITIVO-BRI'!$E$2:$E$4000=\"Sim\",ROW('MEMORIAL DESCRITIVO-BRI'!$Q$2:$Q$4000)),ROW(B367))), \"\")","v":""}]
[null,{"$f":"IFERROR(INDEX('MEMORIAL DESCRITIVO-BRI'!B:B,SMALL(IF('MEMORIAL DESCRITIVO-BRI'!$E$2:$E$4000=\"Sim\",ROW('MEMORIAL DESCRITIVO-BRI'!$B$2:$B$4000)),ROW(B368))), \"\")","v":""},{"$f":"IFERROR(INDEX('MEMORIAL DESCRITIVO-BRI'!I:I,SMALL(IF('MEMORIAL DESCRITIVO-BRI'!$E$2:$E$4000=\"Sim\",ROW('MEMORIAL DESCRITIVO-BRI'!$I$2:$I$4000)),ROW(B368))), \"\")","v":""},{"$f":"IFERROR(INDEX('MEMORIAL DESCRITIVO-BRI'!F:F,SMALL(IF('MEMORIAL DESCRITIVO-BRI'!$E$2:$E$4000=\"Sim\",ROW('MEMORIAL DESCRITIVO-BRI'!$F$2:$F$4000)),ROW(B368))) & \" - \" & INDEX('MEMORIAL DESCRITIVO-BRI'!H:H,SMALL(IF('MEMORIAL DESCRITIVO-BRI'!$E$2:$E$4000=\"Sim\",ROW('MEMORIAL DESCRITIVO-BRI'!$H$2:$H$4000)),ROW(B368))), \"\")","v":""},null,{"$f":"IFERROR(INDEX('MEMORIAL DESCRITIVO-BRI'!S:S,SMALL(IF('MEMORIAL DESCRITIVO-BRI'!$E$2:$E$4000=\"Sim\",ROW('MEMORIAL DESCRITIVO-BRI'!$S$2:$S$4000)),ROW(B368))), \"\")","v":""},{"$f":"IFERROR(INDEX('MEMORIAL DESCRITIVO-BRI'!Z:Z,SMALL(IF('MEMORIAL DESCRITIVO-BRI'!$E$2:$E$4000=\"Sim\",ROW('MEMORIAL DESCRITIVO-BRI'!$Z$2:$Z$4000)),ROW(B368))), \"\")","v":""},{"$f":"IFERROR(INDEX('MEMORIAL DESCRITIVO-BRI'!W:W,SMALL(IF('MEMORIAL DESCRITIVO-BRI'!$E$2:$E$4000=\"Sim\",ROW('MEMORIAL DESCRITIVO-BRI'!$W$2:$W$4000)),ROW(B368))), \"\")","v":""},{"$f":"IFERROR(INDEX('MEMORIAL DESCRITIVO-BRI'!G:G,SMALL(IF('MEMORIAL DESCRITIVO-BRI'!$E$2:$E$4000=\"Sim\",ROW('MEMORIAL DESCRITIVO-BRI'!$G$2:$G$4000)),ROW(B368))), \"\")","v":""},{"$f":"IFERROR(INDEX('MEMORIAL DESCRITIVO-BRI'!P:P,SMALL(IF('MEMORIAL DESCRITIVO-BRI'!$E$2:$E$4000=\"Sim\",ROW('MEMORIAL DESCRITIVO-BRI'!$P$2:$P$4000)),ROW(B368))), \"\")","v":""},{"$f":"IFERROR(INDEX('MEMORIAL DESCRITIVO-BRI'!Q:Q,SMALL(IF('MEMORIAL DESCRITIVO-BRI'!$E$2:$E$4000=\"Sim\",ROW('MEMORIAL DESCRITIVO-BRI'!$Q$2:$Q$4000)),ROW(B368))), \"\")","v":""}]
[null,{"$f":"IFERROR(INDEX('MEMORIAL DESCRITIVO-BRI'!B:B,SMALL(IF('MEMORIAL DESCRITIVO-BRI'!$E$2:$E$4000=\"Sim\",ROW('MEMORIAL DESCRITIVO-BRI'!$B$2:$B$4000)),ROW(B369))), \"\")","v":""},{"$f":"IFERROR(INDEX('MEMORIAL DESCRITIVO-BRI'!I:I,SMALL(IF('MEMORIAL DESCRITIVO-BRI'!$E$2:$E$4000=\"Sim\",ROW('MEMORIAL DESCRITIVO-BRI'!$I$2:$I$4000)),ROW(B369))), \"\")","v":""},{"$f":"IFERROR(INDEX('MEMORIAL DESCRITIVO-BRI'!F:F,SMALL(IF('MEMORIAL DESCRITIVO-BRI'!$E$2:$E$4000=\"Sim\",ROW('MEMORIAL DESCRITIVO-BRI'!$F$2:$F$4000)),ROW(B369))) & \" - \" & INDEX('MEMORIAL DESCRITIVO-BRI'!H:H,SMALL(IF('MEMORIAL DESCRITIVO-BRI'!$E$2:$E$4000=\"Sim\",ROW('MEMORIAL DESCRITIVO-BRI'!$H$2:$H$4000)),ROW(B369))), \"\")","v":""},null,{"$f":"IFERROR(INDEX('MEMORIAL DESCRITIVO-BRI'!S:S,SMALL(IF('MEMORIAL DESCRITIVO-BRI'!$E$2:$E$4000=\"Sim\",ROW('MEMORIAL DESCRITIVO-BRI'!$S$2:$S$4000)),ROW(B369))), \"\")","v":""},{"$f":"IFERROR(INDEX('MEMORIAL DESCRITIVO-BRI'!Z:Z,SMALL(IF('MEMORIAL DESCRITIVO-BRI'!$E$2:$E$4000=\"Sim\",ROW('MEMORIAL DESCRITIVO-BRI'!$Z$2:$Z$4000)),ROW(B369))), \"\")","v":""},{"$f":"IFERROR(INDEX('MEMORIAL DESCRITIVO-BRI'!W:W,SMALL(IF('MEMORIAL DESCRITIVO-BRI'!$E$2:$E$4000=\"Sim\",ROW('MEMORIAL DESCRITIVO-BRI'!$W$2:$W$4000)),ROW(B369))), \"\")","v":""},{"$f":"IFERROR(INDEX('MEMORIAL DESCRITIVO-BRI'!G:G,SMALL(IF('MEMORIAL DESCRITIVO-BRI'!$E$2:$E$4000=\"Sim\",ROW('MEMORIAL DESCRITIVO-BRI'!$G$2:$G$4000)),ROW(B369))), \"\")","v":""},{"$f":"IFERROR(INDEX('MEMORIAL DESCRITIVO-BRI'!P:P,SMALL(IF('MEMORIAL DESCRITIVO-BRI'!$E$2:$E$4000=\"Sim\",ROW('MEMORIAL DESCRITIVO-BRI'!$P$2:$P$4000)),ROW(B369))), \"\")","v":""},{"$f":"IFERROR(INDEX('MEMORIAL DESCRITIVO-BRI'!Q:Q,SMALL(IF('MEMORIAL DESCRITIVO-BRI'!$E$2:$E$4000=\"Sim\",ROW('MEMORIAL DESCRITIVO-BRI'!$Q$2:$Q$4000)),ROW(B369))), \"\")","v":""}]
[null,{"$f":"IFERROR(INDEX('MEMORIAL DESCRITIVO-BRI'!B:B,SMALL(IF('MEMORIAL DESCRITIVO-BRI'!$E$2:$E$4000=\"Sim\",ROW('MEMORIAL DESCRITIVO-BRI'!$B$2:$B$4000)),ROW(B370))), \"\")","v":""},{"$f":"IFERROR(INDEX('MEMORIAL DESCRITIVO-BRI'!I:I,SMALL(IF('MEMORIAL DESCRITIVO-BRI'!$E$2:$E$4000=\"Sim\",ROW('MEMORIAL DESCRITIVO-BRI'!$I$2:$I$4000)),ROW(B370))), \"\")","v":""},{"$f":"IFERROR(INDEX('MEMORIAL DESCRITIVO-BRI'!F:F,SMALL(IF('MEMORIAL DESCRITIVO-BRI'!$E$2:$E$4000=\"Sim\",ROW('MEMORIAL DESCRITIVO-BRI'!$F$2:$F$4000)),ROW(B370))) & \" - \" & INDEX('MEMORIAL DESCRITIVO-BRI'!H:H,SMALL(IF('MEMORIAL DESCRITIVO-BRI'!$E$2:$E$4000=\"Sim\",ROW('MEMORIAL DESCRITIVO-BRI'!$H$2:$H$4000)),ROW(B370))), \"\")","v":""},null,{"$f":"IFERROR(INDEX('MEMORIAL DESCRITIVO-BRI'!S:S,SMALL(IF('MEMORIAL DESCRITIVO-BRI'!$E$2:$E$4000=\"Sim\",ROW('MEMORIAL DESCRITIVO-BRI'!$S$2:$S$4000)),ROW(B370))), \"\")","v":""},{"$f":"IFERROR(INDEX('MEMORIAL DESCRITIVO-BRI'!Z:Z,SMALL(IF('MEMORIAL DESCRITIVO-BRI'!$E$2:$E$4000=\"Sim\",ROW('MEMORIAL DESCRITIVO-BRI'!$Z$2:$Z$4000)),ROW(B370))), \"\")","v":""},{"$f":"IFERROR(INDEX('MEMORIAL DESCRITIVO-BRI'!W:W,SMALL(IF('MEMORIAL DESCRITIVO-BRI'!$E$2:$E$4000=\"Sim\",ROW('MEMORIAL DESCRITIVO-BRI'!$W$2:$W$4000)),ROW(B370))), \"\")","v":""},{"$f":"IFERROR(INDEX('MEMORIAL DESCRITIVO-BRI'!G:G,SMALL(IF('MEMORIAL DESCRITIVO-BRI'!$E$2:$E$4000=\"Sim\",ROW('MEMORIAL DESCRITIVO-BRI'!$G$2:$G$4000)),ROW(B370))), \"\")","v":""},{"$f":"IFERROR(INDEX('MEMORIAL DESCRITIVO-BRI'!P:P,SMALL(IF('MEMORIAL DESCRITIVO-BRI'!$E$2:$E$4000=\"Sim\",ROW('MEMORIAL DESCRITIVO-BRI'!$P$2:$P$4000)),ROW(B370))), \"\")","v":""},{"$f":"IFERROR(INDEX('MEMORIAL DESCRITIVO-BRI'!Q:Q,SMALL(IF('MEMORIAL DESCRITIVO-BRI'!$E$2:$E$4000=\"Sim\",ROW('MEMORIAL DESCRITIVO-BRI'!$Q$2:$Q$4000)),ROW(B370))), \"\")","v":""}]
[null,{"$f":"IFERROR(INDEX('MEMORIAL DESCRITIVO-BRI'!B:B,SMALL(IF('MEMORIAL DESCRITIVO-BRI'!$E$2:$E$4000=\"Sim\",ROW('MEMORIAL DESCRITIVO-BRI'!$B$2:$B$4000)),ROW(B371))), \"\")","v":""},{"$f":"IFERROR(INDEX('MEMORIAL DESCRITIVO-BRI'!I:I,SMALL(IF('MEMORIAL DESCRITIVO-BRI'!$E$2:$E$4000=\"Sim\",ROW('MEMORIAL DESCRITIVO-BRI'!$I$2:$I$4000)),ROW(B371))), \"\")","v":""},{"$f":"IFERROR(INDEX('MEMORIAL DESCRITIVO-BRI'!F:F,SMALL(IF('MEMORIAL DESCRITIVO-BRI'!$E$2:$E$4000=\"Sim\",ROW('MEMORIAL DESCRITIVO-BRI'!$F$2:$F$4000)),ROW(B371))) & \" - \" & INDEX('MEMORIAL DESCRITIVO-BRI'!H:H,SMALL(IF('MEMORIAL DESCRITIVO-BRI'!$E$2:$E$4000=\"Sim\",ROW('MEMORIAL DESCRITIVO-BRI'!$H$2:$H$4000)),ROW(B371))), \"\")","v":""},null,{"$f":"IFERROR(INDEX('MEMORIAL DESCRITIVO-BRI'!S:S,SMALL(IF('MEMORIAL DESCRITIVO-BRI'!$E$2:$E$4000=\"Sim\",ROW('MEMORIAL DESCRITIVO-BRI'!$S$2:$S$4000)),ROW(B371))), \"\")","v":""},{"$f":"IFERROR(INDEX('MEMORIAL DESCRITIVO-BRI'!Z:Z,SMALL(IF('MEMORIAL DESCRITIVO-BRI'!$E$2:$E$4000=\"Sim\",ROW('MEMORIAL DESCRITIVO-BRI'!$Z$2:$Z$4000)),ROW(B371))), \"\")","v":""},{"$f":"IFERROR(INDEX('MEMORIAL DESCRITIVO-BRI'!W:W,SMALL(IF('MEMORIAL DESCRITIVO-BRI'!$E$2:$E$4000=\"Sim\",ROW('MEMORIAL DESCRITIVO-BRI'!$W$2:$W$4000)),ROW(B371))), \"\")","v":""},{"$f":"IFERROR(INDEX('MEMORIAL DESCRITIVO-BRI'!G:G,SMALL(IF('MEMORIAL DESCRITIVO-BRI'!$E$2:$E$4000=\"Sim\",ROW('MEMORIAL DESCRITIVO-BRI'!$G$2:$G$4000)),ROW(B371))), \"\")","v":""},{"$f":"IFERROR(INDEX('MEMORIAL DESCRITIVO-BRI'!P:P,SMALL(IF('MEMORIAL DESCRITIVO-BRI'!$E$2:$E$4000=\"Sim\",ROW('MEMORIAL DESCRITIVO-BRI'!$P$2:$P$4000)),ROW(B371))), \"\")","v":""},{"$f":"IFERROR(INDEX('MEMORIAL DESCRITIVO-BRI'!Q:Q,SMALL(IF('MEMORIAL DESCRITIVO-BRI'!$E$2:$E$4000=\"Sim\",ROW('MEMORIAL DESCRITIVO-BRI'!$Q$2:$Q$4000)),ROW(B371))), \"\")","v":""}]
[null,{"$f":"IFERROR(INDEX('MEMORIAL DESCRITIVO-BRI'!B:B,SMALL(IF('MEMORIAL DESCRITIVO-BRI'!$E$2:$E$4000=\"Sim\",ROW('MEMORIAL DESCRITIVO-BRI'!$B$2:$B$4000)),ROW(B372))), \"\")","v":""},{"$f":"IFERROR(INDEX('MEMORIAL DESCRITIVO-BRI'!I:I,SMALL(IF('MEMORIAL DESCRITIVO-BRI'!$E$2:$E$4000=\"Sim\",ROW('MEMORIAL DESCRITIVO-BRI'!$I$2:$I$4000)),ROW(B372))), \"\")","v":""},{"$f":"IFERROR(INDEX('MEMORIAL DESCRITIVO-BRI'!F:F,SMALL(IF('MEMORIAL DESCRITIVO-BRI'!$E$2:$E$4000=\"Sim\",ROW('MEMORIAL DESCRITIVO-BRI'!$F$2:$F$4000)),ROW(B372))) & \" - \" & INDEX('MEMORIAL DESCRITIVO-BRI'!H:H,SMALL(IF('MEMORIAL DESCRITIVO-BRI'!$E$2:$E$4000=\"Sim\",ROW('MEMORIAL DESCRITIVO-BRI'!$H$2:$H$4000)),ROW(B372))), \"\")","v":""},null,{"$f":"IFERROR(INDEX('MEMORIAL DESCRITIVO-BRI'!S:S,SMALL(IF('MEMORIAL DESCRITIVO-BRI'!$E$2:$E$4000=\"Sim\",ROW('MEMORIAL DESCRITIVO-BRI'!$S$2:$S$4000)),ROW(B372))), \"\")","v":""},{"$f":"IFERROR(INDEX('MEMORIAL DESCRITIVO-BRI'!Z:Z,SMALL(IF('MEMORIAL DESCRITIVO-BRI'!$E$2:$E$4000=\"Sim\",ROW('MEMORIAL DESCRITIVO-BRI'!$Z$2:$Z$4000)),ROW(B372))), \"\")","v":""},{"$f":"IFERROR(INDEX('MEMORIAL DESCRITIVO-BRI'!W:W,SMALL(IF('MEMORIAL DESCRITIVO-BRI'!$E$2:$E$4000=\"Sim\",ROW('MEMORIAL DESCRITIVO-BRI'!$W$2:$W$4000)),ROW(B372))), \"\")","v":""},{"$f":"IFERROR(INDEX('MEMORIAL DESCRITIVO-BRI'!G:G,SMALL(IF('MEMORIAL DESCRITIVO-BRI'!$E$2:$E$4000=\"Sim\",ROW('MEMORIAL DESCRITIVO-BRI'!$G$2:$G$4000)),ROW(B372))), \"\")","v":""},{"$f":"IFERROR(INDEX('MEMORIAL DESCRITIVO-BRI'!P:P,SMALL(IF('MEMORIAL DESCRITIVO-BRI'!$E$2:$E$4000=\"Sim\",ROW('MEMORIAL DESCRITIVO-BRI'!$P$2:$P$4000)),ROW(B372))), \"\")","v":""},{"$f":"IFERROR(INDEX('MEMORIAL DESCRITIVO-BRI'!Q:Q,SMALL(IF('MEMORIAL DESCRITIVO-BRI'!$E$2:$E$4000=\"Sim\",ROW('MEMORIAL DESCRITIVO-BRI'!$Q$2:$Q$4000)),ROW(B372))), \"\")","v":""}]
[null,{"$f":"IFERROR(INDEX('MEMORIAL DESCRITIVO-BRI'!B:B,SMALL(IF('MEMORIAL DESCRITIVO-BRI'!$E$2:$E$4000=\"Sim\",ROW('MEMORIAL DESCRITIVO-BRI'!$B$2:$B$4000)),ROW(B373))), \"\")","v":""},{"$f":"IFERROR(INDEX('MEMORIAL DESCRITIVO-BRI'!I:I,SMALL(IF('MEMORIAL DESCRITIVO-BRI'!$E$2:$E$4000=\"Sim\",ROW('MEMORIAL DESCRITIVO-BRI'!$I$2:$I$4000)),ROW(B373))), \"\")","v":""},{"$f":"IFERROR(INDEX('MEMORIAL DESCRITIVO-BRI'!F:F,SMALL(IF('MEMORIAL DESCRITIVO-BRI'!$E$2:$E$4000=\"Sim\",ROW('MEMORIAL DESCRITIVO-BRI'!$F$2:$F$4000)),ROW(B373))) & \" - \" & INDEX('MEMORIAL DESCRITIVO-BRI'!H:H,SMALL(IF('MEMORIAL DESCRITIVO-BRI'!$E$2:$E$4000=\"Sim\",ROW('MEMORIAL DESCRITIVO-BRI'!$H$2:$H$4000)),ROW(B373))), \"\")","v":""},null,{"$f":"IFERROR(INDEX('MEMORIAL DESCRITIVO-BRI'!S:S,SMALL(IF('MEMORIAL DESCRITIVO-BRI'!$E$2:$E$4000=\"Sim\",ROW('MEMORIAL DESCRITIVO-BRI'!$S$2:$S$4000)),ROW(B373))), \"\")","v":""},{"$f":"IFERROR(INDEX('MEMORIAL DESCRITIVO-BRI'!Z:Z,SMALL(IF('MEMORIAL DESCRITIVO-BRI'!$E$2:$E$4000=\"Sim\",ROW('MEMORIAL DESCRITIVO-BRI'!$Z$2:$Z$4000)),ROW(B373))), \"\")","v":""},{"$f":"IFERROR(INDEX('MEMORIAL DESCRITIVO-BRI'!W:W,SMALL(IF('MEMORIAL DESCRITIVO-BRI'!$E$2:$E$4000=\"Sim\",ROW('MEMORIAL DESCRITIVO-BRI'!$W$2:$W$4000)),ROW(B373))), \"\")","v":""},{"$f":"IFERROR(INDEX('MEMORIAL DESCRITIVO-BRI'!G:G,SMALL(IF('MEMORIAL DESCRITIVO-BRI'!$E$2:$E$4000=\"Sim\",ROW('MEMORIAL DESCRITIVO-BRI'!$G$2:$G$4000)),ROW(B373))), \"\")","v":""},{"$f":"IFERROR(INDEX('MEMORIAL DESCRITIVO-BRI'!P:P,SMALL(IF('MEMORIAL DESCRITIVO-BRI'!$E$2:$E$4000=\"Sim\",ROW('MEMORIAL DESCRITIVO-BRI'!$P$2:$P$4000)),ROW(B373))), \"\")","v":""},{"$f":"IFERROR(INDEX('MEMORIAL DESCRITIVO-BRI'!Q:Q,SMALL(IF('MEMORIAL DESCRITIVO-BRI'!$E$2:$E$4000=\"Sim\",ROW('MEMORIAL DESCRITIVO-BRI'!$Q$2:$Q$4000)),ROW(B373))), \"\")","v":""}]
[null,{"$f":"IFERROR(INDEX('MEMORIAL DESCRITIVO-BRI'!B:B,SMALL(IF('MEMORIAL DESCRITIVO-BRI'!$E$2:$E$4000=\"Sim\",ROW('MEMORIAL DESCRITIVO-BRI'!$B$2:$B$4000)),ROW(B374))), \"\")","v":""},{"$f":"IFERROR(INDEX('MEMORIAL DESCRITIVO-BRI'!I:I,SMALL(IF('MEMORIAL DESCRITIVO-BRI'!$E$2:$E$4000=\"Sim\",ROW('MEMORIAL DESCRITIVO-BRI'!$I$2:$I$4000)),ROW(B374))), \"\")","v":""},{"$f":"IFERROR(INDEX('MEMORIAL DESCRITIVO-BRI'!F:F,SMALL(IF('MEMORIAL DESCRITIVO-BRI'!$E$2:$E$4000=\"Sim\",ROW('MEMORIAL DESCRITIVO-BRI'!$F$2:$F$4000)),ROW(B374))) & \" - \" & INDEX('MEMORIAL DESCRITIVO-BRI'!H:H,SMALL(IF('MEMORIAL DESCRITIVO-BRI'!$E$2:$E$4000=\"Sim\",ROW('MEMORIAL DESCRITIVO-BRI'!$H$2:$H$4000)),ROW(B374))), \"\")","v":""},null,{"$f":"IFERROR(INDEX('MEMORIAL DESCRITIVO-BRI'!S:S,SMALL(IF('MEMORIAL DESCRITIVO-BRI'!$E$2:$E$4000=\"Sim\",ROW('MEMORIAL DESCRITIVO-BRI'!$S$2:$S$4000)),ROW(B374))), \"\")","v":""},{"$f":"IFERROR(INDEX('MEMORIAL DESCRITIVO-BRI'!Z:Z,SMALL(IF('MEMORIAL DESCRITIVO-BRI'!$E$2:$E$4000=\"Sim\",ROW('MEMORIAL DESCRITIVO-BRI'!$Z$2:$Z$4000)),ROW(B374))), \"\")","v":""},{"$f":"IFERROR(INDEX('MEMORIAL DESCRITIVO-BRI'!W:W,SMALL(IF('MEMORIAL DESCRITIVO-BRI'!$E$2:$E$4000=\"Sim\",ROW('MEMORIAL DESCRITIVO-BRI'!$W$2:$W$4000)),ROW(B374))), \"\")","v":""},{"$f":"IFERROR(INDEX('MEMORIAL DESCRITIVO-BRI'!G:G,SMALL(IF('MEMORIAL DESCRITIVO-BRI'!$E$2:$E$4000=\"Sim\",ROW('MEMORIAL DESCRITIVO-BRI'!$G$2:$G$4000)),ROW(B374))), \"\")","v":""},{"$f":"IFERROR(INDEX('MEMORIAL DESCRITIVO-BRI'!P:P,SMALL(IF('MEMORIAL DESCRITIVO-BRI'!$E$2:$E$4000=\"Sim\",ROW('MEMORIAL DESCRITIVO-BRI'!$P$2:$P$4000)),ROW(B374))), \"\")","v":""},{"$f":"IFERROR(INDEX('MEMORIAL DESCRITIVO-BRI'!Q:Q,SMALL(IF('MEMORIAL DESCRITIVO-BRI'!$E$2:$E$4000=\"Sim\",ROW('MEMORIAL DESCRITIVO-BRI'!$Q$2:$Q$4000)),ROW(B374))), \"\")","v":""}]
[null,{"$f":"IFERROR(INDEX('MEMORIAL DESCRITIVO-BRI'!B:B,SMALL(IF('MEMORIAL DESCRITIVO-BRI'!$E$2:$E$4000=\"Sim\",ROW('MEMORIAL DESCRITIVO-BRI'!$B$2:$B$4000)),ROW(B375))), \"\")","v":""},{"$f":"IFERROR(INDEX('MEMORIAL DESCRITIVO-BRI'!I:I,SMALL(IF('MEMORIAL DESCRITIVO-BRI'!$E$2:$E$4000=\"Sim\",ROW('MEMORIAL DESCRITIVO-BRI'!$I$2:$I$4000)),ROW(B375))), \"\")","v":""},{"$f":"IFERROR(INDEX('MEMORIAL DESCRITIVO-BRI'!F:F,SMALL(IF('MEMORIAL DESCRITIVO-BRI'!$E$2:$E$4000=\"Sim\",ROW('MEMORIAL DESCRITIVO-BRI'!$F$2:$F$4000)),ROW(B375))) & \" - \" & INDEX('MEMORIAL DESCRITIVO-BRI'!H:H,SMALL(IF('MEMORIAL DESCRITIVO-BRI'!$E$2:$E$4000=\"Sim\",ROW('MEMORIAL DESCRITIVO-BRI'!$H$2:$H$4000)),ROW(B375))), \"\")","v":""},null,{"$f":"IFERROR(INDEX('MEMORIAL DESCRITIVO-BRI'!S:S,SMALL(IF('MEMORIAL DESCRITIVO-BRI'!$E$2:$E$4000=\"Sim\",ROW('MEMORIAL DESCRITIVO-BRI'!$S$2:$S$4000)),ROW(B375))), \"\")","v":""},{"$f":"IFERROR(INDEX('MEMORIAL DESCRITIVO-BRI'!Z:Z,SMALL(IF('MEMORIAL DESCRITIVO-BRI'!$E$2:$E$4000=\"Sim\",ROW('MEMORIAL DESCRITIVO-BRI'!$Z$2:$Z$4000)),ROW(B375))), \"\")","v":""},{"$f":"IFERROR(INDEX('MEMORIAL DESCRITIVO-BRI'!W:W,SMALL(IF('MEMORIAL DESCRITIVO-BRI'!$E$2:$E$4000=\"Sim\",ROW('MEMORIAL DESCRITIVO-BRI'!$W$2:$W$4000)),ROW(B375))), \"\")","v":""},{"$f":"IFERROR(INDEX('MEMORIAL DESCRITIVO-BRI'!G:G,SMALL(IF('MEMORIAL DESCRITIVO-BRI'!$E$2:$E$4000=\"Sim\",ROW('MEMORIAL DESCRITIVO-BRI'!$G$2:$G$4000)),ROW(B375))), \"\")","v":""},{"$f":"IFERROR(INDEX('MEMORIAL DESCRITIVO-BRI'!P:P,SMALL(IF('MEMORIAL DESCRITIVO-BRI'!$E$2:$E$4000=\"Sim\",ROW('MEMORIAL DESCRITIVO-BRI'!$P$2:$P$4000)),ROW(B375))), \"\")","v":""},{"$f":"IFERROR(INDEX('MEMORIAL DESCRITIVO-BRI'!Q:Q,SMALL(IF('MEMORIAL DESCRITIVO-BRI'!$E$2:$E$4000=\"Sim\",ROW('MEMORIAL DESCRITIVO-BRI'!$Q$2:$Q$4000)),ROW(B375))), \"\")","v":""}]
[null,{"$f":"IFERROR(INDEX('MEMORIAL DESCRITIVO-BRI'!B:B,SMALL(IF('MEMORIAL DESCRITIVO-BRI'!$E$2:$E$4000=\"Sim\",ROW('MEMORIAL DESCRITIVO-BRI'!$B$2:$B$4000)),ROW(B376))), \"\")","v":""},{"$f":"IFERROR(INDEX('MEMORIAL DESCRITIVO-BRI'!I:I,SMALL(IF('MEMORIAL DESCRITIVO-BRI'!$E$2:$E$4000=\"Sim\",ROW('MEMORIAL DESCRITIVO-BRI'!$I$2:$I$4000)),ROW(B376))), \"\")","v":""},{"$f":"IFERROR(INDEX('MEMORIAL DESCRITIVO-BRI'!F:F,SMALL(IF('MEMORIAL DESCRITIVO-BRI'!$E$2:$E$4000=\"Sim\",ROW('MEMORIAL DESCRITIVO-BRI'!$F$2:$F$4000)),ROW(B376))) & \" - \" & INDEX('MEMORIAL DESCRITIVO-BRI'!H:H,SMALL(IF('MEMORIAL DESCRITIVO-BRI'!$E$2:$E$4000=\"Sim\",ROW('MEMORIAL DESCRITIVO-BRI'!$H$2:$H$4000)),ROW(B376))), \"\")","v":""},null,{"$f":"IFERROR(INDEX('MEMORIAL DESCRITIVO-BRI'!S:S,SMALL(IF('MEMORIAL DESCRITIVO-BRI'!$E$2:$E$4000=\"Sim\",ROW('MEMORIAL DESCRITIVO-BRI'!$S$2:$S$4000)),ROW(B376))), \"\")","v":""},{"$f":"IFERROR(INDEX('MEMORIAL DESCRITIVO-BRI'!Z:Z,SMALL(IF('MEMORIAL DESCRITIVO-BRI'!$E$2:$E$4000=\"Sim\",ROW('MEMORIAL DESCRITIVO-BRI'!$Z$2:$Z$4000)),ROW(B376))), \"\")","v":""},{"$f":"IFERROR(INDEX('MEMORIAL DESCRITIVO-BRI'!W:W,SMALL(IF('MEMORIAL DESCRITIVO-BRI'!$E$2:$E$4000=\"Sim\",ROW('MEMORIAL DESCRITIVO-BRI'!$W$2:$W$4000)),ROW(B376))), \"\")","v":""},{"$f":"IFERROR(INDEX('MEMORIAL DESCRITIVO-BRI'!G:G,SMALL(IF('MEMORIAL DESCRITIVO-BRI'!$E$2:$E$4000=\"Sim\",ROW('MEMORIAL DESCRITIVO-BRI'!$G$2:$G$4000)),ROW(B376))), \"\")","v":""},{"$f":"IFERROR(INDEX('MEMORIAL DESCRITIVO-BRI'!P:P,SMALL(IF('MEMORIAL DESCRITIVO-BRI'!$E$2:$E$4000=\"Sim\",ROW('MEMORIAL DESCRITIVO-BRI'!$P$2:$P$4000)),ROW(B376))), \"\")","v":""},{"$f":"IFERROR(INDEX('MEMORIAL DESCRITIVO-BRI'!Q:Q,SMALL(IF('MEMORIAL DESCRITIVO-BRI'!$E$2:$E$4000=\"Sim\",ROW('MEMORIAL DESCRITIVO-BRI'!$Q$2:$Q$4000)),ROW(B376))), \"\")","v":""}]
[null,{"$f":"IFERROR(INDEX('MEMORIAL DESCRITIVO-BRI'!B:B,SMALL(IF('MEMORIAL DESCRITIVO-BRI'!$E$2:$E$4000=\"Sim\",ROW('MEMORIAL DESCRITIVO-BRI'!$B$2:$B$4000)),ROW(B377))), \"\")","v":""},{"$f":"IFERROR(INDEX('MEMORIAL DESCRITIVO-BRI'!I:I,SMALL(IF('MEMORIAL DESCRITIVO-BRI'!$E$2:$E$4000=\"Sim\",ROW('MEMORIAL DESCRITIVO-BRI'!$I$2:$I$4000)),ROW(B377))), \"\")","v":""},{"$f":"IFERROR(INDEX('MEMORIAL DESCRITIVO-BRI'!F:F,SMALL(IF('MEMORIAL DESCRITIVO-BRI'!$E$2:$E$4000=\"Sim\",ROW('MEMORIAL DESCRITIVO-BRI'!$F$2:$F$4000)),ROW(B377))) & \" - \" & INDEX('MEMORIAL DESCRITIVO-BRI'!H:H,SMALL(IF('MEMORIAL DESCRITIVO-BRI'!$E$2:$E$4000=\"Sim\",ROW('MEMORIAL DESCRITIVO-BRI'!$H$2:$H$4000)),ROW(B377))), \"\")","v":""},null,{"$f":"IFERROR(INDEX('MEMORIAL DESCRITIVO-BRI'!S:S,SMALL(IF('MEMORIAL DESCRITIVO-BRI'!$E$2:$E$4000=\"Sim\",ROW('MEMORIAL DESCRITIVO-BRI'!$S$2:$S$4000)),ROW(B377))), \"\")","v":""},{"$f":"IFERROR(INDEX('MEMORIAL DESCRITIVO-BRI'!Z:Z,SMALL(IF('MEMORIAL DESCRITIVO-BRI'!$E$2:$E$4000=\"Sim\",ROW('MEMORIAL DESCRITIVO-BRI'!$Z$2:$Z$4000)),ROW(B377))), \"\")","v":""},{"$f":"IFERROR(INDEX('MEMORIAL DESCRITIVO-BRI'!W:W,SMALL(IF('MEMORIAL DESCRITIVO-BRI'!$E$2:$E$4000=\"Sim\",ROW('MEMORIAL DESCRITIVO-BRI'!$W$2:$W$4000)),ROW(B377))), \"\")","v":""},{"$f":"IFERROR(INDEX('MEMORIAL DESCRITIVO-BRI'!G:G,SMALL(IF('MEMORIAL DESCRITIVO-BRI'!$E$2:$E$4000=\"Sim\",ROW('MEMORIAL DESCRITIVO-BRI'!$G$2:$G$4000)),ROW(B377))), \"\")","v":""},{"$f":"IFERROR(INDEX('MEMORIAL DESCRITIVO-BRI'!P:P,SMALL(IF('MEMORIAL DESCRITIVO-BRI'!$E$2:$E$4000=\"Sim\",ROW('MEMORIAL DESCRITIVO-BRI'!$P$2:$P$4000)),ROW(B377))), \"\")","v":""},{"$f":"IFERROR(INDEX('MEMORIAL DESCRITIVO-BRI'!Q:Q,SMALL(IF('MEMORIAL DESCRITIVO-BRI'!$E$2:$E$4000=\"Sim\",ROW('MEMORIAL DESCRITIVO-BRI'!$Q$2:$Q$4000)),ROW(B377))), \"\")","v":""}]
[null,{"$f":"IFERROR(INDEX('MEMORIAL DESCRITIVO-BRI'!B:B,SMALL(IF('MEMORIAL DESCRITIVO-BRI'!$E$2:$E$4000=\"Sim\",ROW('MEMORIAL DESCRITIVO-BRI'!$B$2:$B$4000)),ROW(B378))), \"\")","v":""},{"$f":"IFERROR(INDEX('MEMORIAL DESCRITIVO-BRI'!I:I,SMALL(IF('MEMORIAL DESCRITIVO-BRI'!$E$2:$E$4000=\"Sim\",ROW('MEMORIAL DESCRITIVO-BRI'!$I$2:$I$4000)),ROW(B378))), \"\")","v":""},{"$f":"IFERROR(INDEX('MEMORIAL DESCRITIVO-BRI'!F:F,SMALL(IF('MEMORIAL DESCRITIVO-BRI'!$E$2:$E$4000=\"Sim\",ROW('MEMORIAL DESCRITIVO-BRI'!$F$2:$F$4000)),ROW(B378))) & \" - \" & INDEX('MEMORIAL DESCRITIVO-BRI'!H:H,SMALL(IF('MEMORIAL DESCRITIVO-BRI'!$E$2:$E$4000=\"Sim\",ROW('MEMORIAL DESCRITIVO-BRI'!$H$2:$H$4000)),ROW(B378))), \"\")","v":""},null,{"$f":"IFERROR(INDEX('MEMORIAL DESCRITIVO-BRI'!S:S,SMALL(IF('MEMORIAL DESCRITIVO-BRI'!$E$2:$E$4000=\"Sim\",ROW('MEMORIAL DESCRITIVO-BRI'!$S$2:$S$4000)),ROW(B378))), \"\")","v":""},{"$f":"IFERROR(INDEX('MEMORIAL DESCRITIVO-BRI'!Z:Z,SMALL(IF('MEMORIAL DESCRITIVO-BRI'!$E$2:$E$4000=\"Sim\",ROW('MEMORIAL DESCRITIVO-BRI'!$Z$2:$Z$4000)),ROW(B378))), \"\")","v":""},{"$f":"IFERROR(INDEX('MEMORIAL DESCRITIVO-BRI'!W:W,SMALL(IF('MEMORIAL DESCRITIVO-BRI'!$E$2:$E$4000=\"Sim\",ROW('MEMORIAL DESCRITIVO-BRI'!$W$2:$W$4000)),ROW(B378))), \"\")","v":""},{"$f":"IFERROR(INDEX('MEMORIAL DESCRITIVO-BRI'!G:G,SMALL(IF('MEMORIAL DESCRITIVO-BRI'!$E$2:$E$4000=\"Sim\",ROW('MEMORIAL DESCRITIVO-BRI'!$G$2:$G$4000)),ROW(B378))), \"\")","v":""},{"$f":"IFERROR(INDEX('MEMORIAL DESCRITIVO-BRI'!P:P,SMALL(IF('MEMORIAL DESCRITIVO-BRI'!$E$2:$E$4000=\"Sim\",ROW('MEMORIAL DESCRITIVO-BRI'!$P$2:$P$4000)),ROW(B378))), \"\")","v":""},{"$f":"IFERROR(INDEX('MEMORIAL DESCRITIVO-BRI'!Q:Q,SMALL(IF('MEMORIAL DESCRITIVO-BRI'!$E$2:$E$4000=\"Sim\",ROW('MEMORIAL DESCRITIVO-BRI'!$Q$2:$Q$4000)),ROW(B378))), \"\")","v":""}]
[null,{"$f":"IFERROR(INDEX('MEMORIAL DESCRITIVO-BRI'!B:B,SMALL(IF('MEMORIAL DESCRITIVO-BRI'!$E$2:$E$4000=\"Sim\",ROW('MEMORIAL DESCRITIVO-BRI'!$B$2:$B$4000)),ROW(B379))), \"\")","v":""},{"$f":"IFERROR(INDEX('MEMORIAL DESCRITIVO-BRI'!I:I,SMALL(IF('MEMORIAL DESCRITIVO-BRI'!$E$2:$E$4000=\"Sim\",ROW('MEMORIAL DESCRITIVO-BRI'!$I$2:$I$4000)),ROW(B379))), \"\")","v":""},{"$f":"IFERROR(INDEX('MEMORIAL DESCRITIVO-BRI'!F:F,SMALL(IF('MEMORIAL DESCRITIVO-BRI'!$E$2:$E$4000=\"Sim\",ROW('MEMORIAL DESCRITIVO-BRI'!$F$2:$F$4000)),ROW(B379))) & \" - \" & INDEX('MEMORIAL DESCRITIVO-BRI'!H:H,SMALL(IF('MEMORIAL DESCRITIVO-BRI'!$E$2:$E$4000=\"Sim\",ROW('MEMORIAL DESCRITIVO-BRI'!$H$2:$H$4000)),ROW(B379))), \"\")","v":""},null,{"$f":"IFERROR(INDEX('MEMORIAL DESCRITIVO-BRI'!S:S,SMALL(IF('MEMORIAL DESCRITIVO-BRI'!$E$2:$E$4000=\"Sim\",ROW('MEMORIAL DESCRITIVO-BRI'!$S$2:$S$4000)),ROW(B379))), \"\")","v":""},{"$f":"IFERROR(INDEX('MEMORIAL DESCRITIVO-BRI'!Z:Z,SMALL(IF('MEMORIAL DESCRITIVO-BRI'!$E$2:$E$4000=\"Sim\",ROW('MEMORIAL DESCRITIVO-BRI'!$Z$2:$Z$4000)),ROW(B379))), \"\")","v":""},{"$f":"IFERROR(INDEX('MEMORIAL DESCRITIVO-BRI'!W:W,SMALL(IF('MEMORIAL DESCRITIVO-BRI'!$E$2:$E$4000=\"Sim\",ROW('MEMORIAL DESCRITIVO-BRI'!$W$2:$W$4000)),ROW(B379))), \"\")","v":""},{"$f":"IFERROR(INDEX('MEMORIAL DESCRITIVO-BRI'!G:G,SMALL(IF('MEMORIAL DESCRITIVO-BRI'!$E$2:$E$4000=\"Sim\",ROW('MEMORIAL DESCRITIVO-BRI'!$G$2:$G$4000)),ROW(B379))), \"\")","v":""},{"$f":"IFERROR(INDEX('MEMORIAL DESCRITIVO-BRI'!P:P,SMALL(IF('MEMORIAL DESCRITIVO-BRI'!$E$2:$E$4000=\"Sim\",ROW('MEMORIAL DESCRITIVO-BRI'!$P$2:$P$4000)),ROW(B379))), \"\")","v":""},{"$f":"IFERROR(INDEX('MEMORIAL DESCRITIVO-BRI'!Q:Q,SMALL(IF('MEMORIAL DESCRITIVO-BRI'!$E$2:$E$4000=\"Sim\",ROW('MEMORIAL DESCRITIVO-BRI'!$Q$2:$Q$4000)),ROW(B379))), \"\")","v":""}]
[null,{"$f":"IFERROR(INDEX('MEMORIAL DESCRITIVO-BRI'!B:B,SMALL(IF('MEMORIAL DESCRITIVO-BRI'!$E$2:$E$4000=\"Sim\",ROW('MEMORIAL DESCRITIVO-BRI'!$B$2:$B$4000)),ROW(B380))), \"\")","v":""},{"$f":"IFERROR(INDEX('MEMORIAL DESCRITIVO-BRI'!I:I,SMALL(IF('MEMORIAL DESCRITIVO-BRI'!$E$2:$E$4000=\"Sim\",ROW('MEMORIAL DESCRITIVO-BRI'!$I$2:$I$4000)),ROW(B380))), \"\")","v":""},{"$f":"IFERROR(INDEX('MEMORIAL DESCRITIVO-BRI'!F:F,SMALL(IF('MEMORIAL DESCRITIVO-BRI'!$E$2:$E$4000=\"Sim\",ROW('MEMORIAL DESCRITIVO-BRI'!$F$2:$F$4000)),ROW(B380))) & \" - \" & INDEX('MEMORIAL DESCRITIVO-BRI'!H:H,SMALL(IF('MEMORIAL DESCRITIVO-BRI'!$E$2:$E$4000=\"Sim\",ROW('MEMORIAL DESCRITIVO-BRI'!$H$2:$H$4000)),ROW(B380))), \"\")","v":""},null,{"$f":"IFERROR(INDEX('MEMORIAL DESCRITIVO-BRI'!S:S,SMALL(IF('MEMORIAL DESCRITIVO-BRI'!$E$2:$E$4000=\"Sim\",ROW('MEMORIAL DESCRITIVO-BRI'!$S$2:$S$4000)),ROW(B380))), \"\")","v":""},{"$f":"IFERROR(INDEX('MEMORIAL DESCRITIVO-BRI'!Z:Z,SMALL(IF('MEMORIAL DESCRITIVO-BRI'!$E$2:$E$4000=\"Sim\",ROW('MEMORIAL DESCRITIVO-BRI'!$Z$2:$Z$4000)),ROW(B380))), \"\")","v":""},{"$f":"IFERROR(INDEX('MEMORIAL DESCRITIVO-BRI'!W:W,SMALL(IF('MEMORIAL DESCRITIVO-BRI'!$E$2:$E$4000=\"Sim\",ROW('MEMORIAL DESCRITIVO-BRI'!$W$2:$W$4000)),ROW(B380))), \"\")","v":""},{"$f":"IFERROR(INDEX('MEMORIAL DESCRITIVO-BRI'!G:G,SMALL(IF('MEMORIAL DESCRITIVO-BRI'!$E$2:$E$4000=\"Sim\",ROW('MEMORIAL DESCRITIVO-BRI'!$G$2:$G$4000)),ROW(B380))), \"\")","v":""},{"$f":"IFERROR(INDEX('MEMORIAL DESCRITIVO-BRI'!P:P,SMALL(IF('MEMORIAL DESCRITIVO-BRI'!$E$2:$E$4000=\"Sim\",ROW('MEMORIAL DESCRITIVO-BRI'!$P$2:$P$4000)),ROW(B380))), \"\")","v":""},{"$f":"IFERROR(INDEX('MEMORIAL DESCRITIVO-BRI'!Q:Q,SMALL(IF('MEMORIAL DESCRITIVO-BRI'!$E$2:$E$4000=\"Sim\",ROW('MEMORIAL DESCRITIVO-BRI'!$Q$2:$Q$4000)),ROW(B380))), \"\")","v":""}]
[null,{"$f":"IFERROR(INDEX('MEMORIAL DESCRITIVO-BRI'!B:B,SMALL(IF('MEMORIAL DESCRITIVO-BRI'!$E$2:$E$4000=\"Sim\",ROW('MEMORIAL DESCRITIVO-BRI'!$B$2:$B$4000)),ROW(B381))), \"\")","v":""},{"$f":"IFERROR(INDEX('MEMORIAL DESCRITIVO-BRI'!I:I,SMALL(IF('MEMORIAL DESCRITIVO-BRI'!$E$2:$E$4000=\"Sim\",ROW('MEMORIAL DESCRITIVO-BRI'!$I$2:$I$4000)),ROW(B381))), \"\")","v":""},{"$f":"IFERROR(INDEX('MEMORIAL DESCRITIVO-BRI'!F:F,SMALL(IF('MEMORIAL DESCRITIVO-BRI'!$E$2:$E$4000=\"Sim\",ROW('MEMORIAL DESCRITIVO-BRI'!$F$2:$F$4000)),ROW(B381))) & \" - \" & INDEX('MEMORIAL DESCRITIVO-BRI'!H:H,SMALL(IF('MEMORIAL DESCRITIVO-BRI'!$E$2:$E$4000=\"Sim\",ROW('MEMORIAL DESCRITIVO-BRI'!$H$2:$H$4000)),ROW(B381))), \"\")","v":""},null,{"$f":"IFERROR(INDEX('MEMORIAL DESCRITIVO-BRI'!S:S,SMALL(IF('MEMORIAL DESCRITIVO-BRI'!$E$2:$E$4000=\"Sim\",ROW('MEMORIAL DESCRITIVO-BRI'!$S$2:$S$4000)),ROW(B381))), \"\")","v":""},{"$f":"IFERROR(INDEX('MEMORIAL DESCRITIVO-BRI'!Z:Z,SMALL(IF('MEMORIAL DESCRITIVO-BRI'!$E$2:$E$4000=\"Sim\",ROW('MEMORIAL DESCRITIVO-BRI'!$Z$2:$Z$4000)),ROW(B381))), \"\")","v":""},{"$f":"IFERROR(INDEX('MEMORIAL DESCRITIVO-BRI'!W:W,SMALL(IF('MEMORIAL DESCRITIVO-BRI'!$E$2:$E$4000=\"Sim\",ROW('MEMORIAL DESCRITIVO-BRI'!$W$2:$W$4000)),ROW(B381))), \"\")","v":""},{"$f":"IFERROR(INDEX('MEMORIAL DESCRITIVO-BRI'!G:G,SMALL(IF('MEMORIAL DESCRITIVO-BRI'!$E$2:$E$4000=\"Sim\",ROW('MEMORIAL DESCRITIVO-BRI'!$G$2:$G$4000)),ROW(B381))), \"\")","v":""},{"$f":"IFERROR(INDEX('MEMORIAL DESCRITIVO-BRI'!P:P,SMALL(IF('MEMORIAL DESCRITIVO-BRI'!$E$2:$E$4000=\"Sim\",ROW('MEMORIAL DESCRITIVO-BRI'!$P$2:$P$4000)),ROW(B381))), \"\")","v":""},{"$f":"IFERROR(INDEX('MEMORIAL DESCRITIVO-BRI'!Q:Q,SMALL(IF('MEMORIAL DESCRITIVO-BRI'!$E$2:$E$4000=\"Sim\",ROW('MEMORIAL DESCRITIVO-BRI'!$Q$2:$Q$4000)),ROW(B381))), \"\")","v":""}]
[null,{"$f":"IFERROR(INDEX('MEMORIAL DESCRITIVO-BRI'!B:B,SMALL(IF('MEMORIAL DESCRITIVO-BRI'!$E$2:$E$4000=\"Sim\",ROW('MEMORIAL DESCRITIVO-BRI'!$B$2:$B$4000)),ROW(B382))), \"\")","v":""},{"$f":"IFERROR(INDEX('MEMORIAL DESCRITIVO-BRI'!I:I,SMALL(IF('MEMORIAL DESCRITIVO-BRI'!$E$2:$E$4000=\"Sim\",ROW('MEMORIAL DESCRITIVO-BRI'!$I$2:$I$4000)),ROW(B382))), \"\")","v":""},{"$f":"IFERROR(INDEX('MEMORIAL DESCRITIVO-BRI'!F:F,SMALL(IF('MEMORIAL DESCRITIVO-BRI'!$E$2:$E$4000=\"Sim\",ROW('MEMORIAL DESCRITIVO-BRI'!$F$2:$F$4000)),ROW(B382))) & \" - \" & INDEX('MEMORIAL DESCRITIVO-BRI'!H:H,SMALL(IF('MEMORIAL DESCRITIVO-BRI'!$E$2:$E$4000=\"Sim\",ROW('MEMORIAL DESCRITIVO-BRI'!$H$2:$H$4000)),ROW(B382))), \"\")","v":""},null,{"$f":"IFERROR(INDEX('MEMORIAL DESCRITIVO-BRI'!S:S,SMALL(IF('MEMORIAL DESCRITIVO-BRI'!$E$2:$E$4000=\"Sim\",ROW('MEMORIAL DESCRITIVO-BRI'!$S$2:$S$4000)),ROW(B382))), \"\")","v":""},{"$f":"IFERROR(INDEX('MEMORIAL DESCRITIVO-BRI'!Z:Z,SMALL(IF('MEMORIAL DESCRITIVO-BRI'!$E$2:$E$4000=\"Sim\",ROW('MEMORIAL DESCRITIVO-BRI'!$Z$2:$Z$4000)),ROW(B382))), \"\")","v":""},{"$f":"IFERROR(INDEX('MEMORIAL DESCRITIVO-BRI'!W:W,SMALL(IF('MEMORIAL DESCRITIVO-BRI'!$E$2:$E$4000=\"Sim\",ROW('MEMORIAL DESCRITIVO-BRI'!$W$2:$W$4000)),ROW(B382))), \"\")","v":""},{"$f":"IFERROR(INDEX('MEMORIAL DESCRITIVO-BRI'!G:G,SMALL(IF('MEMORIAL DESCRITIVO-BRI'!$E$2:$E$4000=\"Sim\",ROW('MEMORIAL DESCRITIVO-BRI'!$G$2:$G$4000)),ROW(B382))), \"\")","v":""},{"$f":"IFERROR(INDEX('MEMORIAL DESCRITIVO-BRI'!P:P,SMALL(IF('MEMORIAL DESCRITIVO-BRI'!$E$2:$E$4000=\"Sim\",ROW('MEMORIAL DESCRITIVO-BRI'!$P$2:$P$4000)),ROW(B382))), \"\")","v":""},{"$f":"IFERROR(INDEX('MEMORIAL DESCRITIVO-BRI'!Q:Q,SMALL(IF('MEMORIAL DESCRITIVO-BRI'!$E$2:$E$4000=\"Sim\",ROW('MEMORIAL DESCRITIVO-BRI'!$Q$2:$Q$4000)),ROW(B382))), \"\")","v":""}]
[null,{"$f":"IFERROR(INDEX('MEMORIAL DESCRITIVO-BRI'!B:B,SMALL(IF('MEMORIAL DESCRITIVO-BRI'!$E$2:$E$4000=\"Sim\",ROW('MEMORIAL DESCRITIVO-BRI'!$B$2:$B$4000)),ROW(B383))), \"\")","v":""},{"$f":"IFERROR(INDEX('MEMORIAL DESCRITIVO-BRI'!I:I,SMALL(IF('MEMORIAL DESCRITIVO-BRI'!$E$2:$E$4000=\"Sim\",ROW('MEMORIAL DESCRITIVO-BRI'!$I$2:$I$4000)),ROW(B383))), \"\")","v":""},{"$f":"IFERROR(INDEX('MEMORIAL DESCRITIVO-BRI'!F:F,SMALL(IF('MEMORIAL DESCRITIVO-BRI'!$E$2:$E$4000=\"Sim\",ROW('MEMORIAL DESCRITIVO-BRI'!$F$2:$F$4000)),ROW(B383))) & \" - \" & INDEX('MEMORIAL DESCRITIVO-BRI'!H:H,SMALL(IF('MEMORIAL DESCRITIVO-BRI'!$E$2:$E$4000=\"Sim\",ROW('MEMORIAL DESCRITIVO-BRI'!$H$2:$H$4000)),ROW(B383))), \"\")","v":""},null,{"$f":"IFERROR(INDEX('MEMORIAL DESCRITIVO-BRI'!S:S,SMALL(IF('MEMORIAL DESCRITIVO-BRI'!$E$2:$E$4000=\"Sim\",ROW('MEMORIAL DESCRITIVO-BRI'!$S$2:$S$4000)),ROW(B383))), \"\")","v":""},{"$f":"IFERROR(INDEX('MEMORIAL DESCRITIVO-BRI'!Z:Z,SMALL(IF('MEMORIAL DESCRITIVO-BRI'!$E$2:$E$4000=\"Sim\",ROW('MEMORIAL DESCRITIVO-BRI'!$Z$2:$Z$4000)),ROW(B383))), \"\")","v":""},{"$f":"IFERROR(INDEX('MEMORIAL DESCRITIVO-BRI'!W:W,SMALL(IF('MEMORIAL DESCRITIVO-BRI'!$E$2:$E$4000=\"Sim\",ROW('MEMORIAL DESCRITIVO-BRI'!$W$2:$W$4000)),ROW(B383))), \"\")","v":""},{"$f":"IFERROR(INDEX('MEMORIAL DESCRITIVO-BRI'!G:G,SMALL(IF('MEMORIAL DESCRITIVO-BRI'!$E$2:$E$4000=\"Sim\",ROW('MEMORIAL DESCRITIVO-BRI'!$G$2:$G$4000)),ROW(B383))), \"\")","v":""},{"$f":"IFERROR(INDEX('MEMORIAL DESCRITIVO-BRI'!P:P,SMALL(IF('MEMORIAL DESCRITIVO-BRI'!$E$2:$E$4000=\"Sim\",ROW('MEMORIAL DESCRITIVO-BRI'!$P$2:$P$4000)),ROW(B383))), \"\")","v":""},{"$f":"IFERROR(INDEX('MEMORIAL DESCRITIVO-BRI'!Q:Q,SMALL(IF('MEMORIAL DESCRITIVO-BRI'!$E$2:$E$4000=\"Sim\",ROW('MEMORIAL DESCRITIVO-BRI'!$Q$2:$Q$4000)),ROW(B383))), \"\")","v":""}]
[null,{"$f":"IFERROR(INDEX('MEMORIAL DESCRITIVO-BRI'!B:B,SMALL(IF('MEMORIAL DESCRITIVO-BRI'!$E$2:$E$4000=\"Sim\",ROW('MEMORIAL DESCRITIVO-BRI'!$B$2:$B$4000)),ROW(B384))), \"\")","v":""},{"$f":"IFERROR(INDEX('MEMORIAL DESCRITIVO-BRI'!I:I,SMALL(IF('MEMORIAL DESCRITIVO-BRI'!$E$2:$E$4000=\"Sim\",ROW('MEMORIAL DESCRITIVO-BRI'!$I$2:$I$4000)),ROW(B384))), \"\")","v":""},{"$f":"IFERROR(INDEX('MEMORIAL DESCRITIVO-BRI'!F:F,SMALL(IF('MEMORIAL DESCRITIVO-BRI'!$E$2:$E$4000=\"Sim\",ROW('MEMORIAL DESCRITIVO-BRI'!$F$2:$F$4000)),ROW(B384))) & \" - \" & INDEX('MEMORIAL DESCRITIVO-BRI'!H:H,SMALL(IF('MEMORIAL DESCRITIVO-BRI'!$E$2:$E$4000=\"Sim\",ROW('MEMORIAL DESCRITIVO-BRI'!$H$2:$H$4000)),ROW(B384))), \"\")","v":""},null,{"$f":"IFERROR(INDEX('MEMORIAL DESCRITIVO-BRI'!S:S,SMALL(IF('MEMORIAL DESCRITIVO-BRI'!$E$2:$E$4000=\"Sim\",ROW('MEMORIAL DESCRITIVO-BRI'!$S$2:$S$4000)),ROW(B384))), \"\")","v":""},{"$f":"IFERROR(INDEX('MEMORIAL DESCRITIVO-BRI'!Z:Z,SMALL(IF('MEMORIAL DESCRITIVO-BRI'!$E$2:$E$4000=\"Sim\",ROW('MEMORIAL DESCRITIVO-BRI'!$Z$2:$Z$4000)),ROW(B384))), \"\")","v":""},{"$f":"IFERROR(INDEX('MEMORIAL DESCRITIVO-BRI'!W:W,SMALL(IF('MEMORIAL DESCRITIVO-BRI'!$E$2:$E$4000=\"Sim\",ROW('MEMORIAL DESCRITIVO-BRI'!$W$2:$W$4000)),ROW(B384))), \"\")","v":""},{"$f":"IFERROR(INDEX('MEMORIAL DESCRITIVO-BRI'!G:G,SMALL(IF('MEMORIAL DESCRITIVO-BRI'!$E$2:$E$4000=\"Sim\",ROW('MEMORIAL DESCRITIVO-BRI'!$G$2:$G$4000)),ROW(B384))), \"\")","v":""},{"$f":"IFERROR(INDEX('MEMORIAL DESCRITIVO-BRI'!P:P,SMALL(IF('MEMORIAL DESCRITIVO-BRI'!$E$2:$E$4000=\"Sim\",ROW('MEMORIAL DESCRITIVO-BRI'!$P$2:$P$4000)),ROW(B384))), \"\")","v":""},{"$f":"IFERROR(INDEX('MEMORIAL DESCRITIVO-BRI'!Q:Q,SMALL(IF('MEMORIAL DESCRITIVO-BRI'!$E$2:$E$4000=\"Sim\",ROW('MEMORIAL DESCRITIVO-BRI'!$Q$2:$Q$4000)),ROW(B384))), \"\")","v":""}]
[null,{"$f":"IFERROR(INDEX('MEMORIAL DESCRITIVO-BRI'!B:B,SMALL(IF('MEMORIAL DESCRITIVO-BRI'!$E$2:$E$4000=\"Sim\",ROW('MEMORIAL DESCRITIVO-BRI'!$B$2:$B$4000)),ROW(B385))), \"\")","v":""},{"$f":"IFERROR(INDEX('MEMORIAL DESCRITIVO-BRI'!I:I,SMALL(IF('MEMORIAL DESCRITIVO-BRI'!$E$2:$E$4000=\"Sim\",ROW('MEMORIAL DESCRITIVO-BRI'!$I$2:$I$4000)),ROW(B385))), \"\")","v":""},{"$f":"IFERROR(INDEX('MEMORIAL DESCRITIVO-BRI'!F:F,SMALL(IF('MEMORIAL DESCRITIVO-BRI'!$E$2:$E$4000=\"Sim\",ROW('MEMORIAL DESCRITIVO-BRI'!$F$2:$F$4000)),ROW(B385))) & \" - \" & INDEX('MEMORIAL DESCRITIVO-BRI'!H:H,SMALL(IF('MEMORIAL DESCRITIVO-BRI'!$E$2:$E$4000=\"Sim\",ROW('MEMORIAL DESCRITIVO-BRI'!$H$2:$H$4000)),ROW(B385))), \"\")","v":""},null,{"$f":"IFERROR(INDEX('MEMORIAL DESCRITIVO-BRI'!S:S,SMALL(IF('MEMORIAL DESCRITIVO-BRI'!$E$2:$E$4000=\"Sim\",ROW('MEMORIAL DESCRITIVO-BRI'!$S$2:$S$4000)),ROW(B385))), \"\")","v":""},{"$f":"IFERROR(INDEX('MEMORIAL DESCRITIVO-BRI'!Z:Z,SMALL(IF('MEMORIAL DESCRITIVO-BRI'!$E$2:$E$4000=\"Sim\",ROW('MEMORIAL DESCRITIVO-BRI'!$Z$2:$Z$4000)),ROW(B385))), \"\")","v":""},{"$f":"IFERROR(INDEX('MEMORIAL DESCRITIVO-BRI'!W:W,SMALL(IF('MEMORIAL DESCRITIVO-BRI'!$E$2:$E$4000=\"Sim\",ROW('MEMORIAL DESCRITIVO-BRI'!$W$2:$W$4000)),ROW(B385))), \"\")","v":""},{"$f":"IFERROR(INDEX('MEMORIAL DESCRITIVO-BRI'!G:G,SMALL(IF('MEMORIAL DESCRITIVO-BRI'!$E$2:$E$4000=\"Sim\",ROW('MEMORIAL DESCRITIVO-BRI'!$G$2:$G$4000)),ROW(B385))), \"\")","v":""},{"$f":"IFERROR(INDEX('MEMORIAL DESCRITIVO-BRI'!P:P,SMALL(IF('MEMORIAL DESCRITIVO-BRI'!$E$2:$E$4000=\"Sim\",ROW('MEMORIAL DESCRITIVO-BRI'!$P$2:$P$4000)),ROW(B385))), \"\")","v":""},{"$f":"IFERROR(INDEX('MEMORIAL DESCRITIVO-BRI'!Q:Q,SMALL(IF('MEMORIAL DESCRITIVO-BRI'!$E$2:$E$4000=\"Sim\",ROW('MEMORIAL DESCRITIVO-BRI'!$Q$2:$Q$4000)),ROW(B385))), \"\")","v":""}]
[null,{"$f":"IFERROR(INDEX('MEMORIAL DESCRITIVO-BRI'!B:B,SMALL(IF('MEMORIAL DESCRITIVO-BRI'!$E$2:$E$4000=\"Sim\",ROW('MEMORIAL DESCRITIVO-BRI'!$B$2:$B$4000)),ROW(B386))), \"\")","v":""},{"$f":"IFERROR(INDEX('MEMORIAL DESCRITIVO-BRI'!I:I,SMALL(IF('MEMORIAL DESCRITIVO-BRI'!$E$2:$E$4000=\"Sim\",ROW('MEMORIAL DESCRITIVO-BRI'!$I$2:$I$4000)),ROW(B386))), \"\")","v":""},{"$f":"IFERROR(INDEX('MEMORIAL DESCRITIVO-BRI'!F:F,SMALL(IF('MEMORIAL DESCRITIVO-BRI'!$E$2:$E$4000=\"Sim\",ROW('MEMORIAL DESCRITIVO-BRI'!$F$2:$F$4000)),ROW(B386))) & \" - \" & INDEX('MEMORIAL DESCRITIVO-BRI'!H:H,SMALL(IF('MEMORIAL DESCRITIVO-BRI'!$E$2:$E$4000=\"Sim\",ROW('MEMORIAL DESCRITIVO-BRI'!$H$2:$H$4000)),ROW(B386))), \"\")","v":""},null,{"$f":"IFERROR(INDEX('MEMORIAL DESCRITIVO-BRI'!S:S,SMALL(IF('MEMORIAL DESCRITIVO-BRI'!$E$2:$E$4000=\"Sim\",ROW('MEMORIAL DESCRITIVO-BRI'!$S$2:$S$4000)),ROW(B386))), \"\")","v":""},{"$f":"IFERROR(INDEX('MEMORIAL DESCRITIVO-BRI'!Z:Z,SMALL(IF('MEMORIAL DESCRITIVO-BRI'!$E$2:$E$4000=\"Sim\",ROW('MEMORIAL DESCRITIVO-BRI'!$Z$2:$Z$4000)),ROW(B386))), \"\")","v":""},{"$f":"IFERROR(INDEX('MEMORIAL DESCRITIVO-BRI'!W:W,SMALL(IF('MEMORIAL DESCRITIVO-BRI'!$E$2:$E$4000=\"Sim\",ROW('MEMORIAL DESCRITIVO-BRI'!$W$2:$W$4000)),ROW(B386))), \"\")","v":""},{"$f":"IFERROR(INDEX('MEMORIAL DESCRITIVO-BRI'!G:G,SMALL(IF('MEMORIAL DESCRITIVO-BRI'!$E$2:$E$4000=\"Sim\",ROW('MEMORIAL DESCRITIVO-BRI'!$G$2:$G$4000)),ROW(B386))), \"\")","v":""},{"$f":"IFERROR(INDEX('MEMORIAL DESCRITIVO-BRI'!P:P,SMALL(IF('MEMORIAL DESCRITIVO-BRI'!$E$2:$E$4000=\"Sim\",ROW('MEMORIAL DESCRITIVO-BRI'!$P$2:$P$4000)),ROW(B386))), \"\")","v":""},{"$f":"IFERROR(INDEX('MEMORIAL DESCRITIVO-BRI'!Q:Q,SMALL(IF('MEMORIAL DESCRITIVO-BRI'!$E$2:$E$4000=\"Sim\",ROW('MEMORIAL DESCRITIVO-BRI'!$Q$2:$Q$4000)),ROW(B386))), \"\")","v":""}]
[null,{"$f":"IFERROR(INDEX('MEMORIAL DESCRITIVO-BRI'!B:B,SMALL(IF('MEMORIAL DESCRITIVO-BRI'!$E$2:$E$4000=\"Sim\",ROW('MEMORIAL DESCRITIVO-BRI'!$B$2:$B$4000)),ROW(B387))), \"\")","v":""},{"$f":"IFERROR(INDEX('MEMORIAL DESCRITIVO-BRI'!I:I,SMALL(IF('MEMORIAL DESCRITIVO-BRI'!$E$2:$E$4000=\"Sim\",ROW('MEMORIAL DESCRITIVO-BRI'!$I$2:$I$4000)),ROW(B387))), \"\")","v":""},{"$f":"IFERROR(INDEX('MEMORIAL DESCRITIVO-BRI'!F:F,SMALL(IF('MEMORIAL DESCRITIVO-BRI'!$E$2:$E$4000=\"Sim\",ROW('MEMORIAL DESCRITIVO-BRI'!$F$2:$F$4000)),ROW(B387))) & \" - \" & INDEX('MEMORIAL DESCRITIVO-BRI'!H:H,SMALL(IF('MEMORIAL DESCRITIVO-BRI'!$E$2:$E$4000=\"Sim\",ROW('MEMORIAL DESCRITIVO-BRI'!$H$2:$H$4000)),ROW(B387))), \"\")","v":""},null,{"$f":"IFERROR(INDEX('MEMORIAL DESCRITIVO-BRI'!S:S,SMALL(IF('MEMORIAL DESCRITIVO-BRI'!$E$2:$E$4000=\"Sim\",ROW('MEMORIAL DESCRITIVO-BRI'!$S$2:$S$4000)),ROW(B387))), \"\")","v":""},{"$f":"IFERROR(INDEX('MEMORIAL DESCRITIVO-BRI'!Z:Z,SMALL(IF('MEMORIAL DESCRITIVO-BRI'!$E$2:$E$4000=\"Sim\",ROW('MEMORIAL DESCRITIVO-BRI'!$Z$2:$Z$4000)),ROW(B387))), \"\")","v":""},{"$f":"IFERROR(INDEX('MEMORIAL DESCRITIVO-BRI'!W:W,SMALL(IF('MEMORIAL DESCRITIVO-BRI'!$E$2:$E$4000=\"Sim\",ROW('MEMORIAL DESCRITIVO-BRI'!$W$2:$W$4000)),ROW(B387))), \"\")","v":""},{"$f":"IFERROR(INDEX('MEMORIAL DESCRITIVO-BRI'!G:G,SMALL(IF('MEMORIAL DESCRITIVO-BRI'!$E$2:$E$4000=\"Sim\",ROW('MEMORIAL DESCRITIVO-BRI'!$G$2:$G$4000)),ROW(B387))), \"\")","v":""},{"$f":"IFERROR(INDEX('MEMORIAL DESCRITIVO-BRI'!P:P,SMALL(IF('MEMORIAL DESCRITIVO-BRI'!$E$2:$E$4000=\"Sim\",ROW('MEMORIAL DESCRITIVO-BRI'!$P$2:$P$4000)),ROW(B387))), \"\")","v":""},{"$f":"IFERROR(INDEX('MEMORIAL DESCRITIVO-BRI'!Q:Q,SMALL(IF('MEMORIAL DESCRITIVO-BRI'!$E$2:$E$4000=\"Sim\",ROW('MEMORIAL DESCRITIVO-BRI'!$Q$2:$Q$4000)),ROW(B387))), \"\")","v":""}]
[null,{"$f":"IFERROR(INDEX('MEMORIAL DESCRITIVO-BRI'!B:B,SMALL(IF('MEMORIAL DESCRITIVO-BRI'!$E$2:$E$4000=\"Sim\",ROW('MEMORIAL DESCRITIVO-BRI'!$B$2:$B$4000)),ROW(B388))), \"\")","v":""},{"$f":"IFERROR(INDEX('MEMORIAL DESCRITIVO-BRI'!I:I,SMALL(IF('MEMORIAL DESCRITIVO-BRI'!$E$2:$E$4000=\"Sim\",ROW('MEMORIAL DESCRITIVO-BRI'!$I$2:$I$4000)),ROW(B388))), \"\")","v":""},{"$f":"IFERROR(INDEX('MEMORIAL DESCRITIVO-BRI'!F:F,SMALL(IF('MEMORIAL DESCRITIVO-BRI'!$E$2:$E$4000=\"Sim\",ROW('MEMORIAL DESCRITIVO-BRI'!$F$2:$F$4000)),ROW(B388))) & \" - \" & INDEX('MEMORIAL DESCRITIVO-BRI'!H:H,SMALL(IF('MEMORIAL DESCRITIVO-BRI'!$E$2:$E$4000=\"Sim\",ROW('MEMORIAL DESCRITIVO-BRI'!$H$2:$H$4000)),ROW(B388))), \"\")","v":""},null,{"$f":"IFERROR(INDEX('MEMORIAL DESCRITIVO-BRI'!S:S,SMALL(IF('MEMORIAL DESCRITIVO-BRI'!$E$2:$E$4000=\"Sim\",ROW('MEMORIAL DESCRITIVO-BRI'!$S$2:$S$4000)),ROW(B388))), \"\")","v":""},{"$f":"IFERROR(INDEX('MEMORIAL DESCRITIVO-BRI'!Z:Z,SMALL(IF('MEMORIAL DESCRITIVO-BRI'!$E$2:$E$4000=\"Sim\",ROW('MEMORIAL DESCRITIVO-BRI'!$Z$2:$Z$4000)),ROW(B388))), \"\")","v":""},{"$f":"IFERROR(INDEX('MEMORIAL DESCRITIVO-BRI'!W:W,SMALL(IF('MEMORIAL DESCRITIVO-BRI'!$E$2:$E$4000=\"Sim\",ROW('MEMORIAL DESCRITIVO-BRI'!$W$2:$W$4000)),ROW(B388))), \"\")","v":""},{"$f":"IFERROR(INDEX('MEMORIAL DESCRITIVO-BRI'!G:G,SMALL(IF('MEMORIAL DESCRITIVO-BRI'!$E$2:$E$4000=\"Sim\",ROW('MEMORIAL DESCRITIVO-BRI'!$G$2:$G$4000)),ROW(B388))), \"\")","v":""},{"$f":"IFERROR(INDEX('MEMORIAL DESCRITIVO-BRI'!P:P,SMALL(IF('MEMORIAL DESCRITIVO-BRI'!$E$2:$E$4000=\"Sim\",ROW('MEMORIAL DESCRITIVO-BRI'!$P$2:$P$4000)),ROW(B388))), \"\")","v":""},{"$f":"IFERROR(INDEX('MEMORIAL DESCRITIVO-BRI'!Q:Q,SMALL(IF('MEMORIAL DESCRITIVO-BRI'!$E$2:$E$4000=\"Sim\",ROW('MEMORIAL DESCRITIVO-BRI'!$Q$2:$Q$4000)),ROW(B388))), \"\")","v":""}]
[null,{"$f":"IFERROR(INDEX('MEMORIAL DESCRITIVO-BRI'!B:B,SMALL(IF('MEMORIAL DESCRITIVO-BRI'!$E$2:$E$4000=\"Sim\",ROW('MEMORIAL DESCRITIVO-BRI'!$B$2:$B$4000)),ROW(B389))), \"\")","v":""},{"$f":"IFERROR(INDEX('MEMORIAL DESCRITIVO-BRI'!I:I,SMALL(IF('MEMORIAL DESCRITIVO-BRI'!$E$2:$E$4000=\"Sim\",ROW('MEMORIAL DESCRITIVO-BRI'!$I$2:$I$4000)),ROW(B389))), \"\")","v":""},{"$f":"IFERROR(INDEX('MEMORIAL DESCRITIVO-BRI'!F:F,SMALL(IF('MEMORIAL DESCRITIVO-BRI'!$E$2:$E$4000=\"Sim\",ROW('MEMORIAL DESCRITIVO-BRI'!$F$2:$F$4000)),ROW(B389))) & \" - \" & INDEX('MEMORIAL DESCRITIVO-BRI'!H:H,SMALL(IF('MEMORIAL DESCRITIVO-BRI'!$E$2:$E$4000=\"Sim\",ROW('MEMORIAL DESCRITIVO-BRI'!$H$2:$H$4000)),ROW(B389))), \"\")","v":""},null,{"$f":"IFERROR(INDEX('MEMORIAL DESCRITIVO-BRI'!S:S,SMALL(IF('MEMORIAL DESCRITIVO-BRI'!$E$2:$E$4000=\"Sim\",ROW('MEMORIAL DESCRITIVO-BRI'!$S$2:$S$4000)),ROW(B389))), \"\")","v":""},{"$f":"IFERROR(INDEX('MEMORIAL DESCRITIVO-BRI'!Z:Z,SMALL(IF('MEMORIAL DESCRITIVO-BRI'!$E$2:$E$4000=\"Sim\",ROW('MEMORIAL DESCRITIVO-BRI'!$Z$2:$Z$4000)),ROW(B389))), \"\")","v":""},{"$f":"IFERROR(INDEX('MEMORIAL DESCRITIVO-BRI'!W:W,SMALL(IF('MEMORIAL DESCRITIVO-BRI'!$E$2:$E$4000=\"Sim\",ROW('MEMORIAL DESCRITIVO-BRI'!$W$2:$W$4000)),ROW(B389))), \"\")","v":""},{"$f":"IFERROR(INDEX('MEMORIAL DESCRITIVO-BRI'!G:G,SMALL(IF('MEMORIAL DESCRITIVO-BRI'!$E$2:$E$4000=\"Sim\",ROW('MEMORIAL DESCRITIVO-BRI'!$G$2:$G$4000)),ROW(B389))), \"\")","v":""},{"$f":"IFERROR(INDEX('MEMORIAL DESCRITIVO-BRI'!P:P,SMALL(IF('MEMORIAL DESCRITIVO-BRI'!$E$2:$E$4000=\"Sim\",ROW('MEMORIAL DESCRITIVO-BRI'!$P$2:$P$4000)),ROW(B389))), \"\")","v":""},{"$f":"IFERROR(INDEX('MEMORIAL DESCRITIVO-BRI'!Q:Q,SMALL(IF('MEMORIAL DESCRITIVO-BRI'!$E$2:$E$4000=\"Sim\",ROW('MEMORIAL DESCRITIVO-BRI'!$Q$2:$Q$4000)),ROW(B389))), \"\")","v":""}]
[null,{"$f":"IFERROR(INDEX('MEMORIAL DESCRITIVO-BRI'!B:B,SMALL(IF('MEMORIAL DESCRITIVO-BRI'!$E$2:$E$4000=\"Sim\",ROW('MEMORIAL DESCRITIVO-BRI'!$B$2:$B$4000)),ROW(B390))), \"\")","v":""},{"$f":"IFERROR(INDEX('MEMORIAL DESCRITIVO-BRI'!I:I,SMALL(IF('MEMORIAL DESCRITIVO-BRI'!$E$2:$E$4000=\"Sim\",ROW('MEMORIAL DESCRITIVO-BRI'!$I$2:$I$4000)),ROW(B390))), \"\")","v":""},{"$f":"IFERROR(INDEX('MEMORIAL DESCRITIVO-BRI'!F:F,SMALL(IF('MEMORIAL DESCRITIVO-BRI'!$E$2:$E$4000=\"Sim\",ROW('MEMORIAL DESCRITIVO-BRI'!$F$2:$F$4000)),ROW(B390))) & \" - \" & INDEX('MEMORIAL DESCRITIVO-BRI'!H:H,SMALL(IF('MEMORIAL DESCRITIVO-BRI'!$E$2:$E$4000=\"Sim\",ROW('MEMORIAL DESCRITIVO-BRI'!$H$2:$H$4000)),ROW(B390))), \"\")","v":""},null,{"$f":"IFERROR(INDEX('MEMORIAL DESCRITIVO-BRI'!S:S,SMALL(IF('MEMORIAL DESCRITIVO-BRI'!$E$2:$E$4000=\"Sim\",ROW('MEMORIAL DESCRITIVO-BRI'!$S$2:$S$4000)),ROW(B390))), \"\")","v":""},{"$f":"IFERROR(INDEX('MEMORIAL DESCRITIVO-BRI'!Z:Z,SMALL(IF('MEMORIAL DESCRITIVO-BRI'!$E$2:$E$4000=\"Sim\",ROW('MEMORIAL DESCRITIVO-BRI'!$Z$2:$Z$4000)),ROW(B390))), \"\")","v":""},{"$f":"IFERROR(INDEX('MEMORIAL DESCRITIVO-BRI'!W:W,SMALL(IF('MEMORIAL DESCRITIVO-BRI'!$E$2:$E$4000=\"Sim\",ROW('MEMORIAL DESCRITIVO-BRI'!$W$2:$W$4000)),ROW(B390))), \"\")","v":""},{"$f":"IFERROR(INDEX('MEMORIAL DESCRITIVO-BRI'!G:G,SMALL(IF('MEMORIAL DESCRITIVO-BRI'!$E$2:$E$4000=\"Sim\",ROW('MEMORIAL DESCRITIVO-BRI'!$G$2:$G$4000)),ROW(B390))), \"\")","v":""},{"$f":"IFERROR(INDEX('MEMORIAL DESCRITIVO-BRI'!P:P,SMALL(IF('MEMORIAL DESCRITIVO-BRI'!$E$2:$E$4000=\"Sim\",ROW('MEMORIAL DESCRITIVO-BRI'!$P$2:$P$4000)),ROW(B390))), \"\")","v":""},{"$f":"IFERROR(INDEX('MEMORIAL DESCRITIVO-BRI'!Q:Q,SMALL(IF('MEMORIAL DESCRITIVO-BRI'!$E$2:$E$4000=\"Sim\",ROW('MEMORIAL DESCRITIVO-BRI'!$Q$2:$Q$4000)),ROW(B390))), \"\")","v":""}]
[null,{"$f":"IFERROR(INDEX('MEMORIAL DESCRITIVO-BRI'!B:B,SMALL(IF('MEMORIAL DESCRITIVO-BRI'!$E$2:$E$4000=\"Sim\",ROW('MEMORIAL DESCRITIVO-BRI'!$B$2:$B$4000)),ROW(B391))), \"\")","v":""},{"$f":"IFERROR(INDEX('MEMORIAL DESCRITIVO-BRI'!I:I,SMALL(IF('MEMORIAL DESCRITIVO-BRI'!$E$2:$E$4000=\"Sim\",ROW('MEMORIAL DESCRITIVO-BRI'!$I$2:$I$4000)),ROW(B391))), \"\")","v":""},{"$f":"IFERROR(INDEX('MEMORIAL DESCRITIVO-BRI'!F:F,SMALL(IF('MEMORIAL DESCRITIVO-BRI'!$E$2:$E$4000=\"Sim\",ROW('MEMORIAL DESCRITIVO-BRI'!$F$2:$F$4000)),ROW(B391))) & \" - \" & INDEX('MEMORIAL DESCRITIVO-BRI'!H:H,SMALL(IF('MEMORIAL DESCRITIVO-BRI'!$E$2:$E$4000=\"Sim\",ROW('MEMORIAL DESCRITIVO-BRI'!$H$2:$H$4000)),ROW(B391))), \"\")","v":""},null,{"$f":"IFERROR(INDEX('MEMORIAL DESCRITIVO-BRI'!S:S,SMALL(IF('MEMORIAL DESCRITIVO-BRI'!$E$2:$E$4000=\"Sim\",ROW('MEMORIAL DESCRITIVO-BRI'!$S$2:$S$4000)),ROW(B391))), \"\")","v":""},{"$f":"IFERROR(INDEX('MEMORIAL DESCRITIVO-BRI'!Z:Z,SMALL(IF('MEMORIAL DESCRITIVO-BRI'!$E$2:$E$4000=\"Sim\",ROW('MEMORIAL DESCRITIVO-BRI'!$Z$2:$Z$4000)),ROW(B391))), \"\")","v":""},{"$f":"IFERROR(INDEX('MEMORIAL DESCRITIVO-BRI'!W:W,SMALL(IF('MEMORIAL DESCRITIVO-BRI'!$E$2:$E$4000=\"Sim\",ROW('MEMORIAL DESCRITIVO-BRI'!$W$2:$W$4000)),ROW(B391))), \"\")","v":""},{"$f":"IFERROR(INDEX('MEMORIAL DESCRITIVO-BRI'!G:G,SMALL(IF('MEMORIAL DESCRITIVO-BRI'!$E$2:$E$4000=\"Sim\",ROW('MEMORIAL DESCRITIVO-BRI'!$G$2:$G$4000)),ROW(B391))), \"\")","v":""},{"$f":"IFERROR(INDEX('MEMORIAL DESCRITIVO-BRI'!P:P,SMALL(IF('MEMORIAL DESCRITIVO-BRI'!$E$2:$E$4000=\"Sim\",ROW('MEMORIAL DESCRITIVO-BRI'!$P$2:$P$4000)),ROW(B391))), \"\")","v":""},{"$f":"IFERROR(INDEX('MEMORIAL DESCRITIVO-BRI'!Q:Q,SMALL(IF('MEMORIAL DESCRITIVO-BRI'!$E$2:$E$4000=\"Sim\",ROW('MEMORIAL DESCRITIVO-BRI'!$Q$2:$Q$4000)),ROW(B391))), \"\")","v":""}]
[null,{"$f":"IFERROR(INDEX('MEMORIAL DESCRITIVO-BRI'!B:B,SMALL(IF('MEMORIAL DESCRITIVO-BRI'!$E$2:$E$4000=\"Sim\",ROW('MEMORIAL DESCRITIVO-BRI'!$B$2:$B$4000)),ROW(B392))), \"\")","v":""},{"$f":"IFERROR(INDEX('MEMORIAL DESCRITIVO-BRI'!I:I,SMALL(IF('MEMORIAL DESCRITIVO-BRI'!$E$2:$E$4000=\"Sim\",ROW('MEMORIAL DESCRITIVO-BRI'!$I$2:$I$4000)),ROW(B392))), \"\")","v":""},{"$f":"IFERROR(INDEX('MEMORIAL DESCRITIVO-BRI'!F:F,SMALL(IF('MEMORIAL DESCRITIVO-BRI'!$E$2:$E$4000=\"Sim\",ROW('MEMORIAL DESCRITIVO-BRI'!$F$2:$F$4000)),ROW(B392))) & \" - \" & INDEX('MEMORIAL DESCRITIVO-BRI'!H:H,SMALL(IF('MEMORIAL DESCRITIVO-BRI'!$E$2:$E$4000=\"Sim\",ROW('MEMORIAL DESCRITIVO-BRI'!$H$2:$H$4000)),ROW(B392))), \"\")","v":""},null,{"$f":"IFERROR(INDEX('MEMORIAL DESCRITIVO-BRI'!S:S,SMALL(IF('MEMORIAL DESCRITIVO-BRI'!$E$2:$E$4000=\"Sim\",ROW('MEMORIAL DESCRITIVO-BRI'!$S$2:$S$4000)),ROW(B392))), \"\")","v":""},{"$f":"IFERROR(INDEX('MEMORIAL DESCRITIVO-BRI'!Z:Z,SMALL(IF('MEMORIAL DESCRITIVO-BRI'!$E$2:$E$4000=\"Sim\",ROW('MEMORIAL DESCRITIVO-BRI'!$Z$2:$Z$4000)),ROW(B392))), \"\")","v":""},{"$f":"IFERROR(INDEX('MEMORIAL DESCRITIVO-BRI'!W:W,SMALL(IF('MEMORIAL DESCRITIVO-BRI'!$E$2:$E$4000=\"Sim\",ROW('MEMORIAL DESCRITIVO-BRI'!$W$2:$W$4000)),ROW(B392))), \"\")","v":""},{"$f":"IFERROR(INDEX('MEMORIAL DESCRITIVO-BRI'!G:G,SMALL(IF('MEMORIAL DESCRITIVO-BRI'!$E$2:$E$4000=\"Sim\",ROW('MEMORIAL DESCRITIVO-BRI'!$G$2:$G$4000)),ROW(B392))), \"\")","v":""},{"$f":"IFERROR(INDEX('MEMORIAL DESCRITIVO-BRI'!P:P,SMALL(IF('MEMORIAL DESCRITIVO-BRI'!$E$2:$E$4000=\"Sim\",ROW('MEMORIAL DESCRITIVO-BRI'!$P$2:$P$4000)),ROW(B392))), \"\")","v":""},{"$f":"IFERROR(INDEX('MEMORIAL DESCRITIVO-BRI'!Q:Q,SMALL(IF('MEMORIAL DESCRITIVO-BRI'!$E$2:$E$4000=\"Sim\",ROW('MEMORIAL DESCRITIVO-BRI'!$Q$2:$Q$4000)),ROW(B392))), \"\")","v":""}]
[null,{"$f":"IFERROR(INDEX('MEMORIAL DESCRITIVO-BRI'!B:B,SMALL(IF('MEMORIAL DESCRITIVO-BRI'!$E$2:$E$4000=\"Sim\",ROW('MEMORIAL DESCRITIVO-BRI'!$B$2:$B$4000)),ROW(B393))), \"\")","v":""},{"$f":"IFERROR(INDEX('MEMORIAL DESCRITIVO-BRI'!I:I,SMALL(IF('MEMORIAL DESCRITIVO-BRI'!$E$2:$E$4000=\"Sim\",ROW('MEMORIAL DESCRITIVO-BRI'!$I$2:$I$4000)),ROW(B393))), \"\")","v":""},{"$f":"IFERROR(INDEX('MEMORIAL DESCRITIVO-BRI'!F:F,SMALL(IF('MEMORIAL DESCRITIVO-BRI'!$E$2:$E$4000=\"Sim\",ROW('MEMORIAL DESCRITIVO-BRI'!$F$2:$F$4000)),ROW(B393))) & \" - \" & INDEX('MEMORIAL DESCRITIVO-BRI'!H:H,SMALL(IF('MEMORIAL DESCRITIVO-BRI'!$E$2:$E$4000=\"Sim\",ROW('MEMORIAL DESCRITIVO-BRI'!$H$2:$H$4000)),ROW(B393))), \"\")","v":""},null,{"$f":"IFERROR(INDEX('MEMORIAL DESCRITIVO-BRI'!S:S,SMALL(IF('MEMORIAL DESCRITIVO-BRI'!$E$2:$E$4000=\"Sim\",ROW('MEMORIAL DESCRITIVO-BRI'!$S$2:$S$4000)),ROW(B393))), \"\")","v":""},{"$f":"IFERROR(INDEX('MEMORIAL DESCRITIVO-BRI'!Z:Z,SMALL(IF('MEMORIAL DESCRITIVO-BRI'!$E$2:$E$4000=\"Sim\",ROW('MEMORIAL DESCRITIVO-BRI'!$Z$2:$Z$4000)),ROW(B393))), \"\")","v":""},{"$f":"IFERROR(INDEX('MEMORIAL DESCRITIVO-BRI'!W:W,SMALL(IF('MEMORIAL DESCRITIVO-BRI'!$E$2:$E$4000=\"Sim\",ROW('MEMORIAL DESCRITIVO-BRI'!$W$2:$W$4000)),ROW(B393))), \"\")","v":""},{"$f":"IFERROR(INDEX('MEMORIAL DESCRITIVO-BRI'!G:G,SMALL(IF('MEMORIAL DESCRITIVO-BRI'!$E$2:$E$4000=\"Sim\",ROW('MEMORIAL DESCRITIVO-BRI'!$G$2:$G$4000)),ROW(B393))), \"\")","v":""},{"$f":"IFERROR(INDEX('MEMORIAL DESCRITIVO-BRI'!P:P,SMALL(IF('MEMORIAL DESCRITIVO-BRI'!$E$2:$E$4000=\"Sim\",ROW('MEMORIAL DESCRITIVO-BRI'!$P$2:$P$4000)),ROW(B393))), \"\")","v":""},{"$f":"IFERROR(INDEX('MEMORIAL DESCRITIVO-BRI'!Q:Q,SMALL(IF('MEMORIAL DESCRITIVO-BRI'!$E$2:$E$4000=\"Sim\",ROW('MEMORIAL DESCRITIVO-BRI'!$Q$2:$Q$4000)),ROW(B393))), \"\")","v":""}]
[null,{"$f":"IFERROR(INDEX('MEMORIAL DESCRITIVO-BRI'!B:B,SMALL(IF('MEMORIAL DESCRITIVO-BRI'!$E$2:$E$4000=\"Sim\",ROW('MEMORIAL DESCRITIVO-BRI'!$B$2:$B$4000)),ROW(B394))), \"\")","v":""},{"$f":"IFERROR(INDEX('MEMORIAL DESCRITIVO-BRI'!I:I,SMALL(IF('MEMORIAL DESCRITIVO-BRI'!$E$2:$E$4000=\"Sim\",ROW('MEMORIAL DESCRITIVO-BRI'!$I$2:$I$4000)),ROW(B394))), \"\")","v":""},{"$f":"IFERROR(INDEX('MEMORIAL DESCRITIVO-BRI'!F:F,SMALL(IF('MEMORIAL DESCRITIVO-BRI'!$E$2:$E$4000=\"Sim\",ROW('MEMORIAL DESCRITIVO-BRI'!$F$2:$F$4000)),ROW(B394))) & \" - \" & INDEX('MEMORIAL DESCRITIVO-BRI'!H:H,SMALL(IF('MEMORIAL DESCRITIVO-BRI'!$E$2:$E$4000=\"Sim\",ROW('MEMORIAL DESCRITIVO-BRI'!$H$2:$H$4000)),ROW(B394))), \"\")","v":""},null,{"$f":"IFERROR(INDEX('MEMORIAL DESCRITIVO-BRI'!S:S,SMALL(IF('MEMORIAL DESCRITIVO-BRI'!$E$2:$E$4000=\"Sim\",ROW('MEMORIAL DESCRITIVO-BRI'!$S$2:$S$4000)),ROW(B394))), \"\")","v":""},{"$f":"IFERROR(INDEX('MEMORIAL DESCRITIVO-BRI'!Z:Z,SMALL(IF('MEMORIAL DESCRITIVO-BRI'!$E$2:$E$4000=\"Sim\",ROW('MEMORIAL DESCRITIVO-BRI'!$Z$2:$Z$4000)),ROW(B394))), \"\")","v":""},{"$f":"IFERROR(INDEX('MEMORIAL DESCRITIVO-BRI'!W:W,SMALL(IF('MEMORIAL DESCRITIVO-BRI'!$E$2:$E$4000=\"Sim\",ROW('MEMORIAL DESCRITIVO-BRI'!$W$2:$W$4000)),ROW(B394))), \"\")","v":""},{"$f":"IFERROR(INDEX('MEMORIAL DESCRITIVO-BRI'!G:G,SMALL(IF('MEMORIAL DESCRITIVO-BRI'!$E$2:$E$4000=\"Sim\",ROW('MEMORIAL DESCRITIVO-BRI'!$G$2:$G$4000)),ROW(B394))), \"\")","v":""},{"$f":"IFERROR(INDEX('MEMORIAL DESCRITIVO-BRI'!P:P,SMALL(IF('MEMORIAL DESCRITIVO-BRI'!$E$2:$E$4000=\"Sim\",ROW('MEMORIAL DESCRITIVO-BRI'!$P$2:$P$4000)),ROW(B394))), \"\")","v":""},{"$f":"IFERROR(INDEX('MEMORIAL DESCRITIVO-BRI'!Q:Q,SMALL(IF('MEMORIAL DESCRITIVO-BRI'!$E$2:$E$4000=\"Sim\",ROW('MEMORIAL DESCRITIVO-BRI'!$Q$2:$Q$4000)),ROW(B394))), \"\")","v":""}]
[null,{"$f":"IFERROR(INDEX('MEMORIAL DESCRITIVO-BRI'!B:B,SMALL(IF('MEMORIAL DESCRITIVO-BRI'!$E$2:$E$4000=\"Sim\",ROW('MEMORIAL DESCRITIVO-BRI'!$B$2:$B$4000)),ROW(B395))), \"\")","v":""},{"$f":"IFERROR(INDEX('MEMORIAL DESCRITIVO-BRI'!I:I,SMALL(IF('MEMORIAL DESCRITIVO-BRI'!$E$2:$E$4000=\"Sim\",ROW('MEMORIAL DESCRITIVO-BRI'!$I$2:$I$4000)),ROW(B395))), \"\")","v":""},{"$f":"IFERROR(INDEX('MEMORIAL DESCRITIVO-BRI'!F:F,SMALL(IF('MEMORIAL DESCRITIVO-BRI'!$E$2:$E$4000=\"Sim\",ROW('MEMORIAL DESCRITIVO-BRI'!$F$2:$F$4000)),ROW(B395))) & \" - \" & INDEX('MEMORIAL DESCRITIVO-BRI'!H:H,SMALL(IF('MEMORIAL DESCRITIVO-BRI'!$E$2:$E$4000=\"Sim\",ROW('MEMORIAL DESCRITIVO-BRI'!$H$2:$H$4000)),ROW(B395))), \"\")","v":""},null,{"$f":"IFERROR(INDEX('MEMORIAL DESCRITIVO-BRI'!S:S,SMALL(IF('MEMORIAL DESCRITIVO-BRI'!$E$2:$E$4000=\"Sim\",ROW('MEMORIAL DESCRITIVO-BRI'!$S$2:$S$4000)),ROW(B395))), \"\")","v":""},{"$f":"IFERROR(INDEX('MEMORIAL DESCRITIVO-BRI'!Z:Z,SMALL(IF('MEMORIAL DESCRITIVO-BRI'!$E$2:$E$4000=\"Sim\",ROW('MEMORIAL DESCRITIVO-BRI'!$Z$2:$Z$4000)),ROW(B395))), \"\")","v":""},{"$f":"IFERROR(INDEX('MEMORIAL DESCRITIVO-BRI'!W:W,SMALL(IF('MEMORIAL DESCRITIVO-BRI'!$E$2:$E$4000=\"Sim\",ROW('MEMORIAL DESCRITIVO-BRI'!$W$2:$W$4000)),ROW(B395))), \"\")","v":""},{"$f":"IFERROR(INDEX('MEMORIAL DESCRITIVO-BRI'!G:G,SMALL(IF('MEMORIAL DESCRITIVO-BRI'!$E$2:$E$4000=\"Sim\",ROW('MEMORIAL DESCRITIVO-BRI'!$G$2:$G$4000)),ROW(B395))), \"\")","v":""},{"$f":"IFERROR(INDEX('MEMORIAL DESCRITIVO-BRI'!P:P,SMALL(IF('MEMORIAL DESCRITIVO-BRI'!$E$2:$E$4000=\"Sim\",ROW('MEMORIAL DESCRITIVO-BRI'!$P$2:$P$4000)),ROW(B395))), \"\")","v":""},{"$f":"IFERROR(INDEX('MEMORIAL DESCRITIVO-BRI'!Q:Q,SMALL(IF('MEMORIAL DESCRITIVO-BRI'!$E$2:$E$4000=\"Sim\",ROW('MEMORIAL DESCRITIVO-BRI'!$Q$2:$Q$4000)),ROW(B395))), \"\")","v":""}]
[null,{"$f":"IFERROR(INDEX('MEMORIAL DESCRITIVO-BRI'!B:B,SMALL(IF('MEMORIAL DESCRITIVO-BRI'!$E$2:$E$4000=\"Sim\",ROW('MEMORIAL DESCRITIVO-BRI'!$B$2:$B$4000)),ROW(B396))), \"\")","v":""},{"$f":"IFERROR(INDEX('MEMORIAL DESCRITIVO-BRI'!I:I,SMALL(IF('MEMORIAL DESCRITIVO-BRI'!$E$2:$E$4000=\"Sim\",ROW('MEMORIAL DESCRITIVO-BRI'!$I$2:$I$4000)),ROW(B396))), \"\")","v":""},{"$f":"IFERROR(INDEX('MEMORIAL DESCRITIVO-BRI'!F:F,SMALL(IF('MEMORIAL DESCRITIVO-BRI'!$E$2:$E$4000=\"Sim\",ROW('MEMORIAL DESCRITIVO-BRI'!$F$2:$F$4000)),ROW(B396))) & \" - \" & INDEX('MEMORIAL DESCRITIVO-BRI'!H:H,SMALL(IF('MEMORIAL DESCRITIVO-BRI'!$E$2:$E$4000=\"Sim\",ROW('MEMORIAL DESCRITIVO-BRI'!$H$2:$H$4000)),ROW(B396))), \"\")","v":""},null,{"$f":"IFERROR(INDEX('MEMORIAL DESCRITIVO-BRI'!S:S,SMALL(IF('MEMORIAL DESCRITIVO-BRI'!$E$2:$E$4000=\"Sim\",ROW('MEMORIAL DESCRITIVO-BRI'!$S$2:$S$4000)),ROW(B396))), \"\")","v":""},{"$f":"IFERROR(INDEX('MEMORIAL DESCRITIVO-BRI'!Z:Z,SMALL(IF('MEMORIAL DESCRITIVO-BRI'!$E$2:$E$4000=\"Sim\",ROW('MEMORIAL DESCRITIVO-BRI'!$Z$2:$Z$4000)),ROW(B396))), \"\")","v":""},{"$f":"IFERROR(INDEX('MEMORIAL DESCRITIVO-BRI'!W:W,SMALL(IF('MEMORIAL DESCRITIVO-BRI'!$E$2:$E$4000=\"Sim\",ROW('MEMORIAL DESCRITIVO-BRI'!$W$2:$W$4000)),ROW(B396))), \"\")","v":""},{"$f":"IFERROR(INDEX('MEMORIAL DESCRITIVO-BRI'!G:G,SMALL(IF('MEMORIAL DESCRITIVO-BRI'!$E$2:$E$4000=\"Sim\",ROW('MEMORIAL DESCRITIVO-BRI'!$G$2:$G$4000)),ROW(B396))), \"\")","v":""},{"$f":"IFERROR(INDEX('MEMORIAL DESCRITIVO-BRI'!P:P,SMALL(IF('MEMORIAL DESCRITIVO-BRI'!$E$2:$E$4000=\"Sim\",ROW('MEMORIAL DESCRITIVO-BRI'!$P$2:$P$4000)),ROW(B396))), \"\")","v":""},{"$f":"IFERROR(INDEX('MEMORIAL DESCRITIVO-BRI'!Q:Q,SMALL(IF('MEMORIAL DESCRITIVO-BRI'!$E$2:$E$4000=\"Sim\",ROW('MEMORIAL DESCRITIVO-BRI'!$Q$2:$Q$4000)),ROW(B396))), \"\")","v":""}]
[null,{"$f":"IFERROR(INDEX('MEMORIAL DESCRITIVO-BRI'!B:B,SMALL(IF('MEMORIAL DESCRITIVO-BRI'!$E$2:$E$4000=\"Sim\",ROW('MEMORIAL DESCRITIVO-BRI'!$B$2:$B$4000)),ROW(B397))), \"\")","v":""},{"$f":"IFERROR(INDEX('MEMORIAL DESCRITIVO-BRI'!I:I,SMALL(IF('MEMORIAL DESCRITIVO-BRI'!$E$2:$E$4000=\"Sim\",ROW('MEMORIAL DESCRITIVO-BRI'!$I$2:$I$4000)),ROW(B397))), \"\")","v":""},{"$f":"IFERROR(INDEX('MEMORIAL DESCRITIVO-BRI'!F:F,SMALL(IF('MEMORIAL DESCRITIVO-BRI'!$E$2:$E$4000=\"Sim\",ROW('MEMORIAL DESCRITIVO-BRI'!$F$2:$F$4000)),ROW(B397))) & \" - \" & INDEX('MEMORIAL DESCRITIVO-BRI'!H:H,SMALL(IF('MEMORIAL DESCRITIVO-BRI'!$E$2:$E$4000=\"Sim\",ROW('MEMORIAL DESCRITIVO-BRI'!$H$2:$H$4000)),ROW(B397))), \"\")","v":""},null,{"$f":"IFERROR(INDEX('MEMORIAL DESCRITIVO-BRI'!S:S,SMALL(IF('MEMORIAL DESCRITIVO-BRI'!$E$2:$E$4000=\"Sim\",ROW('MEMORIAL DESCRITIVO-BRI'!$S$2:$S$4000)),ROW(B397))), \"\")","v":""},{"$f":"IFERROR(INDEX('MEMORIAL DESCRITIVO-BRI'!Z:Z,SMALL(IF('MEMORIAL DESCRITIVO-BRI'!$E$2:$E$4000=\"Sim\",ROW('MEMORIAL DESCRITIVO-BRI'!$Z$2:$Z$4000)),ROW(B397))), \"\")","v":""},{"$f":"IFERROR(INDEX('MEMORIAL DESCRITIVO-BRI'!W:W,SMALL(IF('MEMORIAL DESCRITIVO-BRI'!$E$2:$E$4000=\"Sim\",ROW('MEMORIAL DESCRITIVO-BRI'!$W$2:$W$4000)),ROW(B397))), \"\")","v":""},{"$f":"IFERROR(INDEX('MEMORIAL DESCRITIVO-BRI'!G:G,SMALL(IF('MEMORIAL DESCRITIVO-BRI'!$E$2:$E$4000=\"Sim\",ROW('MEMORIAL DESCRITIVO-BRI'!$G$2:$G$4000)),ROW(B397))), \"\")","v":""},{"$f":"IFERROR(INDEX('MEMORIAL DESCRITIVO-BRI'!P:P,SMALL(IF('MEMORIAL DESCRITIVO-BRI'!$E$2:$E$4000=\"Sim\",ROW('MEMORIAL DESCRITIVO-BRI'!$P$2:$P$4000)),ROW(B397))), \"\")","v":""},{"$f":"IFERROR(INDEX('MEMORIAL DESCRITIVO-BRI'!Q:Q,SMALL(IF('MEMORIAL DESCRITIVO-BRI'!$E$2:$E$4000=\"Sim\",ROW('MEMORIAL DESCRITIVO-BRI'!$Q$2:$Q$4000)),ROW(B397))), \"\")","v":""}]
[null,{"$f":"IFERROR(INDEX('MEMORIAL DESCRITIVO-BRI'!B:B,SMALL(IF('MEMORIAL DESCRITIVO-BRI'!$E$2:$E$4000=\"Sim\",ROW('MEMORIAL DESCRITIVO-BRI'!$B$2:$B$4000)),ROW(B398))), \"\")","v":""},{"$f":"IFERROR(INDEX('MEMORIAL DESCRITIVO-BRI'!I:I,SMALL(IF('MEMORIAL DESCRITIVO-BRI'!$E$2:$E$4000=\"Sim\",ROW('MEMORIAL DESCRITIVO-BRI'!$I$2:$I$4000)),ROW(B398))), \"\")","v":""},{"$f":"IFERROR(INDEX('MEMORIAL DESCRITIVO-BRI'!F:F,SMALL(IF('MEMORIAL DESCRITIVO-BRI'!$E$2:$E$4000=\"Sim\",ROW('MEMORIAL DESCRITIVO-BRI'!$F$2:$F$4000)),ROW(B398))) & \" - \" & INDEX('MEMORIAL DESCRITIVO-BRI'!H:H,SMALL(IF('MEMORIAL DESCRITIVO-BRI'!$E$2:$E$4000=\"Sim\",ROW('MEMORIAL DESCRITIVO-BRI'!$H$2:$H$4000)),ROW(B398))), \"\")","v":""},null,{"$f":"IFERROR(INDEX('MEMORIAL DESCRITIVO-BRI'!S:S,SMALL(IF('MEMORIAL DESCRITIVO-BRI'!$E$2:$E$4000=\"Sim\",ROW('MEMORIAL DESCRITIVO-BRI'!$S$2:$S$4000)),ROW(B398))), \"\")","v":""},{"$f":"IFERROR(INDEX('MEMORIAL DESCRITIVO-BRI'!Z:Z,SMALL(IF('MEMORIAL DESCRITIVO-BRI'!$E$2:$E$4000=\"Sim\",ROW('MEMORIAL DESCRITIVO-BRI'!$Z$2:$Z$4000)),ROW(B398))), \"\")","v":""},{"$f":"IFERROR(INDEX('MEMORIAL DESCRITIVO-BRI'!W:W,SMALL(IF('MEMORIAL DESCRITIVO-BRI'!$E$2:$E$4000=\"Sim\",ROW('MEMORIAL DESCRITIVO-BRI'!$W$2:$W$4000)),ROW(B398))), \"\")","v":""},{"$f":"IFERROR(INDEX('MEMORIAL DESCRITIVO-BRI'!G:G,SMALL(IF('MEMORIAL DESCRITIVO-BRI'!$E$2:$E$4000=\"Sim\",ROW('MEMORIAL DESCRITIVO-BRI'!$G$2:$G$4000)),ROW(B398))), \"\")","v":""},{"$f":"IFERROR(INDEX('MEMORIAL DESCRITIVO-BRI'!P:P,SMALL(IF('MEMORIAL DESCRITIVO-BRI'!$E$2:$E$4000=\"Sim\",ROW('MEMORIAL DESCRITIVO-BRI'!$P$2:$P$4000)),ROW(B398))), \"\")","v":""},{"$f":"IFERROR(INDEX('MEMORIAL DESCRITIVO-BRI'!Q:Q,SMALL(IF('MEMORIAL DESCRITIVO-BRI'!$E$2:$E$4000=\"Sim\",ROW('MEMORIAL DESCRITIVO-BRI'!$Q$2:$Q$4000)),ROW(B398))), \"\")","v":""}]
[null,{"$f":"IFERROR(INDEX('MEMORIAL DESCRITIVO-BRI'!B:B,SMALL(IF('MEMORIAL DESCRITIVO-BRI'!$E$2:$E$4000=\"Sim\",ROW('MEMORIAL DESCRITIVO-BRI'!$B$2:$B$4000)),ROW(B399))), \"\")","v":""},{"$f":"IFERROR(INDEX('MEMORIAL DESCRITIVO-BRI'!I:I,SMALL(IF('MEMORIAL DESCRITIVO-BRI'!$E$2:$E$4000=\"Sim\",ROW('MEMORIAL DESCRITIVO-BRI'!$I$2:$I$4000)),ROW(B399))), \"\")","v":""},{"$f":"IFERROR(INDEX('MEMORIAL DESCRITIVO-BRI'!F:F,SMALL(IF('MEMORIAL DESCRITIVO-BRI'!$E$2:$E$4000=\"Sim\",ROW('MEMORIAL DESCRITIVO-BRI'!$F$2:$F$4000)),ROW(B399))) & \" - \" & INDEX('MEMORIAL DESCRITIVO-BRI'!H:H,SMALL(IF('MEMORIAL DESCRITIVO-BRI'!$E$2:$E$4000=\"Sim\",ROW('MEMORIAL DESCRITIVO-BRI'!$H$2:$H$4000)),ROW(B399))), \"\")","v":""},null,{"$f":"IFERROR(INDEX('MEMORIAL DESCRITIVO-BRI'!S:S,SMALL(IF('MEMORIAL DESCRITIVO-BRI'!$E$2:$E$4000=\"Sim\",ROW('MEMORIAL DESCRITIVO-BRI'!$S$2:$S$4000)),ROW(B399))), \"\")","v":""},{"$f":"IFERROR(INDEX('MEMORIAL DESCRITIVO-BRI'!Z:Z,SMALL(IF('MEMORIAL DESCRITIVO-BRI'!$E$2:$E$4000=\"Sim\",ROW('MEMORIAL DESCRITIVO-BRI'!$Z$2:$Z$4000)),ROW(B399))), \"\")","v":""},{"$f":"IFERROR(INDEX('MEMORIAL DESCRITIVO-BRI'!W:W,SMALL(IF('MEMORIAL DESCRITIVO-BRI'!$E$2:$E$4000=\"Sim\",ROW('MEMORIAL DESCRITIVO-BRI'!$W$2:$W$4000)),ROW(B399))), \"\")","v":""},{"$f":"IFERROR(INDEX('MEMORIAL DESCRITIVO-BRI'!G:G,SMALL(IF('MEMORIAL DESCRITIVO-BRI'!$E$2:$E$4000=\"Sim\",ROW('MEMORIAL DESCRITIVO-BRI'!$G$2:$G$4000)),ROW(B399))), \"\")","v":""},{"$f":"IFERROR(INDEX('MEMORIAL DESCRITIVO-BRI'!P:P,SMALL(IF('MEMORIAL DESCRITIVO-BRI'!$E$2:$E$4000=\"Sim\",ROW('MEMORIAL DESCRITIVO-BRI'!$P$2:$P$4000)),ROW(B399))), \"\")","v":""},{"$f":"IFERROR(INDEX('MEMORIAL DESCRITIVO-BRI'!Q:Q,SMALL(IF('MEMORIAL DESCRITIVO-BRI'!$E$2:$E$4000=\"Sim\",ROW('MEMORIAL DESCRITIVO-BRI'!$Q$2:$Q$4000)),ROW(B399))), \"\")","v":""}]
[null,{"$f":"IFERROR(INDEX('MEMORIAL DESCRITIVO-BRI'!B:B,SMALL(IF('MEMORIAL DESCRITIVO-BRI'!$E$2:$E$4000=\"Sim\",ROW('MEMORIAL DESCRITIVO-BRI'!$B$2:$B$4000)),ROW(B400))), \"\")","v":""},{"$f":"IFERROR(INDEX('MEMORIAL DESCRITIVO-BRI'!I:I,SMALL(IF('MEMORIAL DESCRITIVO-BRI'!$E$2:$E$4000=\"Sim\",ROW('MEMORIAL DESCRITIVO-BRI'!$I$2:$I$4000)),ROW(B400))), \"\")","v":""},{"$f":"IFERROR(INDEX('MEMORIAL DESCRITIVO-BRI'!F:F,SMALL(IF('MEMORIAL DESCRITIVO-BRI'!$E$2:$E$4000=\"Sim\",ROW('MEMORIAL DESCRITIVO-BRI'!$F$2:$F$4000)),ROW(B400))) & \" - \" & INDEX('MEMORIAL DESCRITIVO-BRI'!H:H,SMALL(IF('MEMORIAL DESCRITIVO-BRI'!$E$2:$E$4000=\"Sim\",ROW('MEMORIAL DESCRITIVO-BRI'!$H$2:$H$4000)),ROW(B400))), \"\")","v":""},null,{"$f":"IFERROR(INDEX('MEMORIAL DESCRITIVO-BRI'!S:S,SMALL(IF('MEMORIAL DESCRITIVO-BRI'!$E$2:$E$4000=\"Sim\",ROW('MEMORIAL DESCRITIVO-BRI'!$S$2:$S$4000)),ROW(B400))), \"\")","v":""},{"$f":"IFERROR(INDEX('MEMORIAL DESCRITIVO-BRI'!Z:Z,SMALL(IF('MEMORIAL DESCRITIVO-BRI'!$E$2:$E$4000=\"Sim\",ROW('MEMORIAL DESCRITIVO-BRI'!$Z$2:$Z$4000)),ROW(B400))), \"\")","v":""},{"$f":"IFERROR(INDEX('MEMORIAL DESCRITIVO-BRI'!W:W,SMALL(IF('MEMORIAL DESCRITIVO-BRI'!$E$2:$E$4000=\"Sim\",ROW('MEMORIAL DESCRITIVO-BRI'!$W$2:$W$4000)),ROW(B400))), \"\")","v":""},{"$f":"IFERROR(INDEX('MEMORIAL DESCRITIVO-BRI'!G:G,SMALL(IF('MEMORIAL DESCRITIVO-BRI'!$E$2:$E$4000=\"Sim\",ROW('MEMORIAL DESCRITIVO-BRI'!$G$2:$G$4000)),ROW(B400))), \"\")","v":""},{"$f":"IFERROR(INDEX('MEMORIAL DESCRITIVO-BRI'!P:P,SMALL(IF('MEMORIAL DESCRITIVO-BRI'!$E$2:$E$4000=\"Sim\",ROW('MEMORIAL DESCRITIVO-BRI'!$P$2:$P$4000)),ROW(B400))), \"\")","v":""},{"$f":"IFERROR(INDEX('MEMORIAL DESCRITIVO-BRI'!Q:Q,SMALL(IF('MEMORIAL DESCRITIVO-BRI'!$E$2:$E$4000=\"Sim\",ROW('MEMORIAL DESCRITIVO-BRI'!$Q$2:$Q$4000)),ROW(B400))), \"\")","v":""}]
[null,{"$f":"IFERROR(INDEX('MEMORIAL DESCRITIVO-BRI'!B:B,SMALL(IF('MEMORIAL DESCRITIVO-BRI'!$E$2:$E$4000=\"Sim\",ROW('MEMORIAL DESCRITIVO-BRI'!$B$2:$B$4000)),ROW(B401))), \"\")","v":""},{"$f":"IFERROR(INDEX('MEMORIAL DESCRITIVO-BRI'!I:I,SMALL(IF('MEMORIAL DESCRITIVO-BRI'!$E$2:$E$4000=\"Sim\",ROW('MEMORIAL DESCRITIVO-BRI'!$I$2:$I$4000)),ROW(B401))), \"\")","v":""},{"$f":"IFERROR(INDEX('MEMORIAL DESCRITIVO-BRI'!F:F,SMALL(IF('MEMORIAL DESCRITIVO-BRI'!$E$2:$E$4000=\"Sim\",ROW('MEMORIAL DESCRITIVO-BRI'!$F$2:$F$4000)),ROW(B401))) & \" - \" & INDEX('MEMORIAL DESCRITIVO-BRI'!H:H,SMALL(IF('MEMORIAL DESCRITIVO-BRI'!$E$2:$E$4000=\"Sim\",ROW('MEMORIAL DESCRITIVO-BRI'!$H$2:$H$4000)),ROW(B401))), \"\")","v":""},null,{"$f":"IFERROR(INDEX('MEMORIAL DESCRITIVO-BRI'!S:S,SMALL(IF('MEMORIAL DESCRITIVO-BRI'!$E$2:$E$4000=\"Sim\",ROW('MEMORIAL DESCRITIVO-BRI'!$S$2:$S$4000)),ROW(B401))), \"\")","v":""},{"$f":"IFERROR(INDEX('MEMORIAL DESCRITIVO-BRI'!Z:Z,SMALL(IF('MEMORIAL DESCRITIVO-BRI'!$E$2:$E$4000=\"Sim\",ROW('MEMORIAL DESCRITIVO-BRI'!$Z$2:$Z$4000)),ROW(B401))), \"\")","v":""},{"$f":"IFERROR(INDEX('MEMORIAL DESCRITIVO-BRI'!W:W,SMALL(IF('MEMORIAL DESCRITIVO-BRI'!$E$2:$E$4000=\"Sim\",ROW('MEMORIAL DESCRITIVO-BRI'!$W$2:$W$4000)),ROW(B401))), \"\")","v":""},{"$f":"IFERROR(INDEX('MEMORIAL DESCRITIVO-BRI'!G:G,SMALL(IF('MEMORIAL DESCRITIVO-BRI'!$E$2:$E$4000=\"Sim\",ROW('MEMORIAL DESCRITIVO-BRI'!$G$2:$G$4000)),ROW(B401))), \"\")","v":""},{"$f":"IFERROR(INDEX('MEMORIAL DESCRITIVO-BRI'!P:P,SMALL(IF('MEMORIAL DESCRITIVO-BRI'!$E$2:$E$4000=\"Sim\",ROW('MEMORIAL DESCRITIVO-BRI'!$P$2:$P$4000)),ROW(B401))), \"\")","v":""},{"$f":"IFERROR(INDEX('MEMORIAL DESCRITIVO-BRI'!Q:Q,SMALL(IF('MEMORIAL DESCRITIVO-BRI'!$E$2:$E$4000=\"Sim\",ROW('MEMORIAL DESCRITIVO-BRI'!$Q$2:$Q$4000)),ROW(B401))), \"\")","v":""}]
[null,{"$f":"IFERROR(INDEX('MEMORIAL DESCRITIVO-BRI'!B:B,SMALL(IF('MEMORIAL DESCRITIVO-BRI'!$E$2:$E$4000=\"Sim\",ROW('MEMORIAL DESCRITIVO-BRI'!$B$2:$B$4000)),ROW(B402))), \"\")","v":""},{"$f":"IFERROR(INDEX('MEMORIAL DESCRITIVO-BRI'!I:I,SMALL(IF('MEMORIAL DESCRITIVO-BRI'!$E$2:$E$4000=\"Sim\",ROW('MEMORIAL DESCRITIVO-BRI'!$I$2:$I$4000)),ROW(B402))), \"\")","v":""},{"$f":"IFERROR(INDEX('MEMORIAL DESCRITIVO-BRI'!F:F,SMALL(IF('MEMORIAL DESCRITIVO-BRI'!$E$2:$E$4000=\"Sim\",ROW('MEMORIAL DESCRITIVO-BRI'!$F$2:$F$4000)),ROW(B402))) & \" - \" & INDEX('MEMORIAL DESCRITIVO-BRI'!H:H,SMALL(IF('MEMORIAL DESCRITIVO-BRI'!$E$2:$E$4000=\"Sim\",ROW('MEMORIAL DESCRITIVO-BRI'!$H$2:$H$4000)),ROW(B402))), \"\")","v":""},null,{"$f":"IFERROR(INDEX('MEMORIAL DESCRITIVO-BRI'!S:S,SMALL(IF('MEMORIAL DESCRITIVO-BRI'!$E$2:$E$4000=\"Sim\",ROW('MEMORIAL DESCRITIVO-BRI'!$S$2:$S$4000)),ROW(B402))), \"\")","v":""},{"$f":"IFERROR(INDEX('MEMORIAL DESCRITIVO-BRI'!Z:Z,SMALL(IF('MEMORIAL DESCRITIVO-BRI'!$E$2:$E$4000=\"Sim\",ROW('MEMORIAL DESCRITIVO-BRI'!$Z$2:$Z$4000)),ROW(B402))), \"\")","v":""},{"$f":"IFERROR(INDEX('MEMORIAL DESCRITIVO-BRI'!W:W,SMALL(IF('MEMORIAL DESCRITIVO-BRI'!$E$2:$E$4000=\"Sim\",ROW('MEMORIAL DESCRITIVO-BRI'!$W$2:$W$4000)),ROW(B402))), \"\")","v":""},{"$f":"IFERROR(INDEX('MEMORIAL DESCRITIVO-BRI'!G:G,SMALL(IF('MEMORIAL DESCRITIVO-BRI'!$E$2:$E$4000=\"Sim\",ROW('MEMORIAL DESCRITIVO-BRI'!$G$2:$G$4000)),ROW(B402))), \"\")","v":""},{"$f":"IFERROR(INDEX('MEMORIAL DESCRITIVO-BRI'!P:P,SMALL(IF('MEMORIAL DESCRITIVO-BRI'!$E$2:$E$4000=\"Sim\",ROW('MEMORIAL DESCRITIVO-BRI'!$P$2:$P$4000)),ROW(B402))), \"\")","v":""},{"$f":"IFERROR(INDEX('MEMORIAL DESCRITIVO-BRI'!Q:Q,SMALL(IF('MEMORIAL DESCRITIVO-BRI'!$E$2:$E$4000=\"Sim\",ROW('MEMORIAL DESCRITIVO-BRI'!$Q$2:$Q$4000)),ROW(B402))), \"\")","v":""}]
[null,{"$f":"IFERROR(INDEX('MEMORIAL DESCRITIVO-BRI'!B:B,SMALL(IF('MEMORIAL DESCRITIVO-BRI'!$E$2:$E$4000=\"Sim\",ROW('MEMORIAL DESCRITIVO-BRI'!$B$2:$B$4000)),ROW(B403))), \"\")","v":""},{"$f":"IFERROR(INDEX('MEMORIAL DESCRITIVO-BRI'!I:I,SMALL(IF('MEMORIAL DESCRITIVO-BRI'!$E$2:$E$4000=\"Sim\",ROW('MEMORIAL DESCRITIVO-BRI'!$I$2:$I$4000)),ROW(B403))), \"\")","v":""},{"$f":"IFERROR(INDEX('MEMORIAL DESCRITIVO-BRI'!F:F,SMALL(IF('MEMORIAL DESCRITIVO-BRI'!$E$2:$E$4000=\"Sim\",ROW('MEMORIAL DESCRITIVO-BRI'!$F$2:$F$4000)),ROW(B403))) & \" - \" & INDEX('MEMORIAL DESCRITIVO-BRI'!H:H,SMALL(IF('MEMORIAL DESCRITIVO-BRI'!$E$2:$E$4000=\"Sim\",ROW('MEMORIAL DESCRITIVO-BRI'!$H$2:$H$4000)),ROW(B403))), \"\")","v":""},null,{"$f":"IFERROR(INDEX('MEMORIAL DESCRITIVO-BRI'!S:S,SMALL(IF('MEMORIAL DESCRITIVO-BRI'!$E$2:$E$4000=\"Sim\",ROW('MEMORIAL DESCRITIVO-BRI'!$S$2:$S$4000)),ROW(B403))), \"\")","v":""},{"$f":"IFERROR(INDEX('MEMORIAL DESCRITIVO-BRI'!Z:Z,SMALL(IF('MEMORIAL DESCRITIVO-BRI'!$E$2:$E$4000=\"Sim\",ROW('MEMORIAL DESCRITIVO-BRI'!$Z$2:$Z$4000)),ROW(B403))), \"\")","v":""},{"$f":"IFERROR(INDEX('MEMORIAL DESCRITIVO-BRI'!W:W,SMALL(IF('MEMORIAL DESCRITIVO-BRI'!$E$2:$E$4000=\"Sim\",ROW('MEMORIAL DESCRITIVO-BRI'!$W$2:$W$4000)),ROW(B403))), \"\")","v":""},{"$f":"IFERROR(INDEX('MEMORIAL DESCRITIVO-BRI'!G:G,SMALL(IF('MEMORIAL DESCRITIVO-BRI'!$E$2:$E$4000=\"Sim\",ROW('MEMORIAL DESCRITIVO-BRI'!$G$2:$G$4000)),ROW(B403))), \"\")","v":""},{"$f":"IFERROR(INDEX('MEMORIAL DESCRITIVO-BRI'!P:P,SMALL(IF('MEMORIAL DESCRITIVO-BRI'!$E$2:$E$4000=\"Sim\",ROW('MEMORIAL DESCRITIVO-BRI'!$P$2:$P$4000)),ROW(B403))), \"\")","v":""},{"$f":"IFERROR(INDEX('MEMORIAL DESCRITIVO-BRI'!Q:Q,SMALL(IF('MEMORIAL DESCRITIVO-BRI'!$E$2:$E$4000=\"Sim\",ROW('MEMORIAL DESCRITIVO-BRI'!$Q$2:$Q$4000)),ROW(B403))), \"\")","v":""}]
[null,{"$f":"IFERROR(INDEX('MEMORIAL DESCRITIVO-BRI'!B:B,SMALL(IF('MEMORIAL DESCRITIVO-BRI'!$E$2:$E$4000=\"Sim\",ROW('MEMORIAL DESCRITIVO-BRI'!$B$2:$B$4000)),ROW(B404))), \"\")","v":""},{"$f":"IFERROR(INDEX('MEMORIAL DESCRITIVO-BRI'!I:I,SMALL(IF('MEMORIAL DESCRITIVO-BRI'!$E$2:$E$4000=\"Sim\",ROW('MEMORIAL DESCRITIVO-BRI'!$I$2:$I$4000)),ROW(B404))), \"\")","v":""},{"$f":"IFERROR(INDEX('MEMORIAL DESCRITIVO-BRI'!F:F,SMALL(IF('MEMORIAL DESCRITIVO-BRI'!$E$2:$E$4000=\"Sim\",ROW('MEMORIAL DESCRITIVO-BRI'!$F$2:$F$4000)),ROW(B404))) & \" - \" & INDEX('MEMORIAL DESCRITIVO-BRI'!H:H,SMALL(IF('MEMORIAL DESCRITIVO-BRI'!$E$2:$E$4000=\"Sim\",ROW('MEMORIAL DESCRITIVO-BRI'!$H$2:$H$4000)),ROW(B404))), \"\")","v":""},null,{"$f":"IFERROR(INDEX('MEMORIAL DESCRITIVO-BRI'!S:S,SMALL(IF('MEMORIAL DESCRITIVO-BRI'!$E$2:$E$4000=\"Sim\",ROW('MEMORIAL DESCRITIVO-BRI'!$S$2:$S$4000)),ROW(B404))), \"\")","v":""},{"$f":"IFERROR(INDEX('MEMORIAL DESCRITIVO-BRI'!Z:Z,SMALL(IF('MEMORIAL DESCRITIVO-BRI'!$E$2:$E$4000=\"Sim\",ROW('MEMORIAL DESCRITIVO-BRI'!$Z$2:$Z$4000)),ROW(B404))), \"\")","v":""},{"$f":"IFERROR(INDEX('MEMORIAL DESCRITIVO-BRI'!W:W,SMALL(IF('MEMORIAL DESCRITIVO-BRI'!$E$2:$E$4000=\"Sim\",ROW('MEMORIAL DESCRITIVO-BRI'!$W$2:$W$4000)),ROW(B404))), \"\")","v":""},{"$f":"IFERROR(INDEX('MEMORIAL DESCRITIVO-BRI'!G:G,SMALL(IF('MEMORIAL DESCRITIVO-BRI'!$E$2:$E$4000=\"Sim\",ROW('MEMORIAL DESCRITIVO-BRI'!$G$2:$G$4000)),ROW(B404))), \"\")","v":""},{"$f":"IFERROR(INDEX('MEMORIAL DESCRITIVO-BRI'!P:P,SMALL(IF('MEMORIAL DESCRITIVO-BRI'!$E$2:$E$4000=\"Sim\",ROW('MEMORIAL DESCRITIVO-BRI'!$P$2:$P$4000)),ROW(B404))), \"\")","v":""},{"$f":"IFERROR(INDEX('MEMORIAL DESCRITIVO-BRI'!Q:Q,SMALL(IF('MEMORIAL DESCRITIVO-BRI'!$E$2:$E$4000=\"Sim\",ROW('MEMORIAL DESCRITIVO-BRI'!$Q$2:$Q$4000)),ROW(B404))), \"\")","v":""}]
[null,{"$f":"IFERROR(INDEX('MEMORIAL DESCRITIVO-BRI'!B:B,SMALL(IF('MEMORIAL DESCRITIVO-BRI'!$E$2:$E$4000=\"Sim\",ROW('MEMORIAL DESCRITIVO-BRI'!$B$2:$B$4000)),ROW(B405))), \"\")","v":""},{"$f":"IFERROR(INDEX('MEMORIAL DESCRITIVO-BRI'!I:I,SMALL(IF('MEMORIAL DESCRITIVO-BRI'!$E$2:$E$4000=\"Sim\",ROW('MEMORIAL DESCRITIVO-BRI'!$I$2:$I$4000)),ROW(B405))), \"\")","v":""},{"$f":"IFERROR(INDEX('MEMORIAL DESCRITIVO-BRI'!F:F,SMALL(IF('MEMORIAL DESCRITIVO-BRI'!$E$2:$E$4000=\"Sim\",ROW('MEMORIAL DESCRITIVO-BRI'!$F$2:$F$4000)),ROW(B405))) & \" - \" & INDEX('MEMORIAL DESCRITIVO-BRI'!H:H,SMALL(IF('MEMORIAL DESCRITIVO-BRI'!$E$2:$E$4000=\"Sim\",ROW('MEMORIAL DESCRITIVO-BRI'!$H$2:$H$4000)),ROW(B405))), \"\")","v":""},null,{"$f":"IFERROR(INDEX('MEMORIAL DESCRITIVO-BRI'!S:S,SMALL(IF('MEMORIAL DESCRITIVO-BRI'!$E$2:$E$4000=\"Sim\",ROW('MEMORIAL DESCRITIVO-BRI'!$S$2:$S$4000)),ROW(B405))), \"\")","v":""},{"$f":"IFERROR(INDEX('MEMORIAL DESCRITIVO-BRI'!Z:Z,SMALL(IF('MEMORIAL DESCRITIVO-BRI'!$E$2:$E$4000=\"Sim\",ROW('MEMORIAL DESCRITIVO-BRI'!$Z$2:$Z$4000)),ROW(B405))), \"\")","v":""},{"$f":"IFERROR(INDEX('MEMORIAL DESCRITIVO-BRI'!W:W,SMALL(IF('MEMORIAL DESCRITIVO-BRI'!$E$2:$E$4000=\"Sim\",ROW('MEMORIAL DESCRITIVO-BRI'!$W$2:$W$4000)),ROW(B405))), \"\")","v":""},{"$f":"IFERROR(INDEX('MEMORIAL DESCRITIVO-BRI'!G:G,SMALL(IF('MEMORIAL DESCRITIVO-BRI'!$E$2:$E$4000=\"Sim\",ROW('MEMORIAL DESCRITIVO-BRI'!$G$2:$G$4000)),ROW(B405))), \"\")","v":""},{"$f":"IFERROR(INDEX('MEMORIAL DESCRITIVO-BRI'!P:P,SMALL(IF('MEMORIAL DESCRITIVO-BRI'!$E$2:$E$4000=\"Sim\",ROW('MEMORIAL DESCRITIVO-BRI'!$P$2:$P$4000)),ROW(B405))), \"\")","v":""},{"$f":"IFERROR(INDEX('MEMORIAL DESCRITIVO-BRI'!Q:Q,SMALL(IF('MEMORIAL DESCRITIVO-BRI'!$E$2:$E$4000=\"Sim\",ROW('MEMORIAL DESCRITIVO-BRI'!$Q$2:$Q$4000)),ROW(B405))), \"\")","v":""}]
[null,{"$f":"IFERROR(INDEX('MEMORIAL DESCRITIVO-BRI'!B:B,SMALL(IF('MEMORIAL DESCRITIVO-BRI'!$E$2:$E$4000=\"Sim\",ROW('MEMORIAL DESCRITIVO-BRI'!$B$2:$B$4000)),ROW(B406))), \"\")","v":""},{"$f":"IFERROR(INDEX('MEMORIAL DESCRITIVO-BRI'!I:I,SMALL(IF('MEMORIAL DESCRITIVO-BRI'!$E$2:$E$4000=\"Sim\",ROW('MEMORIAL DESCRITIVO-BRI'!$I$2:$I$4000)),ROW(B406))), \"\")","v":""},{"$f":"IFERROR(INDEX('MEMORIAL DESCRITIVO-BRI'!F:F,SMALL(IF('MEMORIAL DESCRITIVO-BRI'!$E$2:$E$4000=\"Sim\",ROW('MEMORIAL DESCRITIVO-BRI'!$F$2:$F$4000)),ROW(B406))) & \" - \" & INDEX('MEMORIAL DESCRITIVO-BRI'!H:H,SMALL(IF('MEMORIAL DESCRITIVO-BRI'!$E$2:$E$4000=\"Sim\",ROW('MEMORIAL DESCRITIVO-BRI'!$H$2:$H$4000)),ROW(B406))), \"\")","v":""},null,{"$f":"IFERROR(INDEX('MEMORIAL DESCRITIVO-BRI'!S:S,SMALL(IF('MEMORIAL DESCRITIVO-BRI'!$E$2:$E$4000=\"Sim\",ROW('MEMORIAL DESCRITIVO-BRI'!$S$2:$S$4000)),ROW(B406))), \"\")","v":""},{"$f":"IFERROR(INDEX('MEMORIAL DESCRITIVO-BRI'!Z:Z,SMALL(IF('MEMORIAL DESCRITIVO-BRI'!$E$2:$E$4000=\"Sim\",ROW('MEMORIAL DESCRITIVO-BRI'!$Z$2:$Z$4000)),ROW(B406))), \"\")","v":""},{"$f":"IFERROR(INDEX('MEMORIAL DESCRITIVO-BRI'!W:W,SMALL(IF('MEMORIAL DESCRITIVO-BRI'!$E$2:$E$4000=\"Sim\",ROW('MEMORIAL DESCRITIVO-BRI'!$W$2:$W$4000)),ROW(B406))), \"\")","v":""},{"$f":"IFERROR(INDEX('MEMORIAL DESCRITIVO-BRI'!G:G,SMALL(IF('MEMORIAL DESCRITIVO-BRI'!$E$2:$E$4000=\"Sim\",ROW('MEMORIAL DESCRITIVO-BRI'!$G$2:$G$4000)),ROW(B406))), \"\")","v":""},{"$f":"IFERROR(INDEX('MEMORIAL DESCRITIVO-BRI'!P:P,SMALL(IF('MEMORIAL DESCRITIVO-BRI'!$E$2:$E$4000=\"Sim\",ROW('MEMORIAL DESCRITIVO-BRI'!$P$2:$P$4000)),ROW(B406))), \"\")","v":""},{"$f":"IFERROR(INDEX('MEMORIAL DESCRITIVO-BRI'!Q:Q,SMALL(IF('MEMORIAL DESCRITIVO-BRI'!$E$2:$E$4000=\"Sim\",ROW('MEMORIAL DESCRITIVO-BRI'!$Q$2:$Q$4000)),ROW(B406))), \"\")","v":""}]
[null,{"$f":"IFERROR(INDEX('MEMORIAL DESCRITIVO-BRI'!B:B,SMALL(IF('MEMORIAL DESCRITIVO-BRI'!$E$2:$E$4000=\"Sim\",ROW('MEMORIAL DESCRITIVO-BRI'!$B$2:$B$4000)),ROW(B407))), \"\")","v":""},{"$f":"IFERROR(INDEX('MEMORIAL DESCRITIVO-BRI'!I:I,SMALL(IF('MEMORIAL DESCRITIVO-BRI'!$E$2:$E$4000=\"Sim\",ROW('MEMORIAL DESCRITIVO-BRI'!$I$2:$I$4000)),ROW(B407))), \"\")","v":""},{"$f":"IFERROR(INDEX('MEMORIAL DESCRITIVO-BRI'!F:F,SMALL(IF('MEMORIAL DESCRITIVO-BRI'!$E$2:$E$4000=\"Sim\",ROW('MEMORIAL DESCRITIVO-BRI'!$F$2:$F$4000)),ROW(B407))) & \" - \" & INDEX('MEMORIAL DESCRITIVO-BRI'!H:H,SMALL(IF('MEMORIAL DESCRITIVO-BRI'!$E$2:$E$4000=\"Sim\",ROW('MEMORIAL DESCRITIVO-BRI'!$H$2:$H$4000)),ROW(B407))), \"\")","v":""},null,{"$f":"IFERROR(INDEX('MEMORIAL DESCRITIVO-BRI'!S:S,SMALL(IF('MEMORIAL DESCRITIVO-BRI'!$E$2:$E$4000=\"Sim\",ROW('MEMORIAL DESCRITIVO-BRI'!$S$2:$S$4000)),ROW(B407))), \"\")","v":""},{"$f":"IFERROR(INDEX('MEMORIAL DESCRITIVO-BRI'!Z:Z,SMALL(IF('MEMORIAL DESCRITIVO-BRI'!$E$2:$E$4000=\"Sim\",ROW('MEMORIAL DESCRITIVO-BRI'!$Z$2:$Z$4000)),ROW(B407))), \"\")","v":""},{"$f":"IFERROR(INDEX('MEMORIAL DESCRITIVO-BRI'!W:W,SMALL(IF('MEMORIAL DESCRITIVO-BRI'!$E$2:$E$4000=\"Sim\",ROW('MEMORIAL DESCRITIVO-BRI'!$W$2:$W$4000)),ROW(B407))), \"\")","v":""},{"$f":"IFERROR(INDEX('MEMORIAL DESCRITIVO-BRI'!G:G,SMALL(IF('MEMORIAL DESCRITIVO-BRI'!$E$2:$E$4000=\"Sim\",ROW('MEMORIAL DESCRITIVO-BRI'!$G$2:$G$4000)),ROW(B407))), \"\")","v":""},{"$f":"IFERROR(INDEX('MEMORIAL DESCRITIVO-BRI'!P:P,SMALL(IF('MEMORIAL DESCRITIVO-BRI'!$E$2:$E$4000=\"Sim\",ROW('MEMORIAL DESCRITIVO-BRI'!$P$2:$P$4000)),ROW(B407))), \"\")","v":""},{"$f":"IFERROR(INDEX('MEMORIAL DESCRITIVO-BRI'!Q:Q,SMALL(IF('MEMORIAL DESCRITIVO-BRI'!$E$2:$E$4000=\"Sim\",ROW('MEMORIAL DESCRITIVO-BRI'!$Q$2:$Q$4000)),ROW(B407))), \"\")","v":""}]
[null,{"$f":"IFERROR(INDEX('MEMORIAL DESCRITIVO-BRI'!B:B,SMALL(IF('MEMORIAL DESCRITIVO-BRI'!$E$2:$E$4000=\"Sim\",ROW('MEMORIAL DESCRITIVO-BRI'!$B$2:$B$4000)),ROW(B408))), \"\")","v":""},{"$f":"IFERROR(INDEX('MEMORIAL DESCRITIVO-BRI'!I:I,SMALL(IF('MEMORIAL DESCRITIVO-BRI'!$E$2:$E$4000=\"Sim\",ROW('MEMORIAL DESCRITIVO-BRI'!$I$2:$I$4000)),ROW(B408))), \"\")","v":""},{"$f":"IFERROR(INDEX('MEMORIAL DESCRITIVO-BRI'!F:F,SMALL(IF('MEMORIAL DESCRITIVO-BRI'!$E$2:$E$4000=\"Sim\",ROW('MEMORIAL DESCRITIVO-BRI'!$F$2:$F$4000)),ROW(B408))) & \" - \" & INDEX('MEMORIAL DESCRITIVO-BRI'!H:H,SMALL(IF('MEMORIAL DESCRITIVO-BRI'!$E$2:$E$4000=\"Sim\",ROW('MEMORIAL DESCRITIVO-BRI'!$H$2:$H$4000)),ROW(B408))), \"\")","v":""},null,{"$f":"IFERROR(INDEX('MEMORIAL DESCRITIVO-BRI'!S:S,SMALL(IF('MEMORIAL DESCRITIVO-BRI'!$E$2:$E$4000=\"Sim\",ROW('MEMORIAL DESCRITIVO-BRI'!$S$2:$S$4000)),ROW(B408))), \"\")","v":""},{"$f":"IFERROR(INDEX('MEMORIAL DESCRITIVO-BRI'!Z:Z,SMALL(IF('MEMORIAL DESCRITIVO-BRI'!$E$2:$E$4000=\"Sim\",ROW('MEMORIAL DESCRITIVO-BRI'!$Z$2:$Z$4000)),ROW(B408))), \"\")","v":""},{"$f":"IFERROR(INDEX('MEMORIAL DESCRITIVO-BRI'!W:W,SMALL(IF('MEMORIAL DESCRITIVO-BRI'!$E$2:$E$4000=\"Sim\",ROW('MEMORIAL DESCRITIVO-BRI'!$W$2:$W$4000)),ROW(B408))), \"\")","v":""},{"$f":"IFERROR(INDEX('MEMORIAL DESCRITIVO-BRI'!G:G,SMALL(IF('MEMORIAL DESCRITIVO-BRI'!$E$2:$E$4000=\"Sim\",ROW('MEMORIAL DESCRITIVO-BRI'!$G$2:$G$4000)),ROW(B408))), \"\")","v":""},{"$f":"IFERROR(INDEX('MEMORIAL DESCRITIVO-BRI'!P:P,SMALL(IF('MEMORIAL DESCRITIVO-BRI'!$E$2:$E$4000=\"Sim\",ROW('MEMORIAL DESCRITIVO-BRI'!$P$2:$P$4000)),ROW(B408))), \"\")","v":""},{"$f":"IFERROR(INDEX('MEMORIAL DESCRITIVO-BRI'!Q:Q,SMALL(IF('MEMORIAL DESCRITIVO-BRI'!$E$2:$E$4000=\"Sim\",ROW('MEMORIAL DESCRITIVO-BRI'!$Q$2:$Q$4000)),ROW(B408))), \"\")","v":""}]
[null,{"$f":"IFERROR(INDEX('MEMORIAL DESCRITIVO-BRI'!B:B,SMALL(IF('MEMORIAL DESCRITIVO-BRI'!$E$2:$E$4000=\"Sim\",ROW('MEMORIAL DESCRITIVO-BRI'!$B$2:$B$4000)),ROW(B409))), \"\")","v":""},{"$f":"IFERROR(INDEX('MEMORIAL DESCRITIVO-BRI'!I:I,SMALL(IF('MEMORIAL DESCRITIVO-BRI'!$E$2:$E$4000=\"Sim\",ROW('MEMORIAL DESCRITIVO-BRI'!$I$2:$I$4000)),ROW(B409))), \"\")","v":""},{"$f":"IFERROR(INDEX('MEMORIAL DESCRITIVO-BRI'!F:F,SMALL(IF('MEMORIAL DESCRITIVO-BRI'!$E$2:$E$4000=\"Sim\",ROW('MEMORIAL DESCRITIVO-BRI'!$F$2:$F$4000)),ROW(B409))) & \" - \" & INDEX('MEMORIAL DESCRITIVO-BRI'!H:H,SMALL(IF('MEMORIAL DESCRITIVO-BRI'!$E$2:$E$4000=\"Sim\",ROW('MEMORIAL DESCRITIVO-BRI'!$H$2:$H$4000)),ROW(B409))), \"\")","v":""},null,{"$f":"IFERROR(INDEX('MEMORIAL DESCRITIVO-BRI'!S:S,SMALL(IF('MEMORIAL DESCRITIVO-BRI'!$E$2:$E$4000=\"Sim\",ROW('MEMORIAL DESCRITIVO-BRI'!$S$2:$S$4000)),ROW(B409))), \"\")","v":""},{"$f":"IFERROR(INDEX('MEMORIAL DESCRITIVO-BRI'!Z:Z,SMALL(IF('MEMORIAL DESCRITIVO-BRI'!$E$2:$E$4000=\"Sim\",ROW('MEMORIAL DESCRITIVO-BRI'!$Z$2:$Z$4000)),ROW(B409))), \"\")","v":""},{"$f":"IFERROR(INDEX('MEMORIAL DESCRITIVO-BRI'!W:W,SMALL(IF('MEMORIAL DESCRITIVO-BRI'!$E$2:$E$4000=\"Sim\",ROW('MEMORIAL DESCRITIVO-BRI'!$W$2:$W$4000)),ROW(B409))), \"\")","v":""},{"$f":"IFERROR(INDEX('MEMORIAL DESCRITIVO-BRI'!G:G,SMALL(IF('MEMORIAL DESCRITIVO-BRI'!$E$2:$E$4000=\"Sim\",ROW('MEMORIAL DESCRITIVO-BRI'!$G$2:$G$4000)),ROW(B409))), \"\")","v":""},{"$f":"IFERROR(INDEX('MEMORIAL DESCRITIVO-BRI'!P:P,SMALL(IF('MEMORIAL DESCRITIVO-BRI'!$E$2:$E$4000=\"Sim\",ROW('MEMORIAL DESCRITIVO-BRI'!$P$2:$P$4000)),ROW(B409))), \"\")","v":""},{"$f":"IFERROR(INDEX('MEMORIAL DESCRITIVO-BRI'!Q:Q,SMALL(IF('MEMORIAL DESCRITIVO-BRI'!$E$2:$E$4000=\"Sim\",ROW('MEMORIAL DESCRITIVO-BRI'!$Q$2:$Q$4000)),ROW(B409))), \"\")","v":""}]
[null,{"$f":"IFERROR(INDEX('MEMORIAL DESCRITIVO-BRI'!B:B,SMALL(IF('MEMORIAL DESCRITIVO-BRI'!$E$2:$E$4000=\"Sim\",ROW('MEMORIAL DESCRITIVO-BRI'!$B$2:$B$4000)),ROW(B410))), \"\")","v":""},{"$f":"IFERROR(INDEX('MEMORIAL DESCRITIVO-BRI'!I:I,SMALL(IF('MEMORIAL DESCRITIVO-BRI'!$E$2:$E$4000=\"Sim\",ROW('MEMORIAL DESCRITIVO-BRI'!$I$2:$I$4000)),ROW(B410))), \"\")","v":""},{"$f":"IFERROR(INDEX('MEMORIAL DESCRITIVO-BRI'!F:F,SMALL(IF('MEMORIAL DESCRITIVO-BRI'!$E$2:$E$4000=\"Sim\",ROW('MEMORIAL DESCRITIVO-BRI'!$F$2:$F$4000)),ROW(B410))) & \" - \" & INDEX('MEMORIAL DESCRITIVO-BRI'!H:H,SMALL(IF('MEMORIAL DESCRITIVO-BRI'!$E$2:$E$4000=\"Sim\",ROW('MEMORIAL DESCRITIVO-BRI'!$H$2:$H$4000)),ROW(B410))), \"\")","v":""},null,{"$f":"IFERROR(INDEX('MEMORIAL DESCRITIVO-BRI'!S:S,SMALL(IF('MEMORIAL DESCRITIVO-BRI'!$E$2:$E$4000=\"Sim\",ROW('MEMORIAL DESCRITIVO-BRI'!$S$2:$S$4000)),ROW(B410))), \"\")","v":""},{"$f":"IFERROR(INDEX('MEMORIAL DESCRITIVO-BRI'!Z:Z,SMALL(IF('MEMORIAL DESCRITIVO-BRI'!$E$2:$E$4000=\"Sim\",ROW('MEMORIAL DESCRITIVO-BRI'!$Z$2:$Z$4000)),ROW(B410))), \"\")","v":""},{"$f":"IFERROR(INDEX('MEMORIAL DESCRITIVO-BRI'!W:W,SMALL(IF('MEMORIAL DESCRITIVO-BRI'!$E$2:$E$4000=\"Sim\",ROW('MEMORIAL DESCRITIVO-BRI'!$W$2:$W$4000)),ROW(B410))), \"\")","v":""},{"$f":"IFERROR(INDEX('MEMORIAL DESCRITIVO-BRI'!G:G,SMALL(IF('MEMORIAL DESCRITIVO-BRI'!$E$2:$E$4000=\"Sim\",ROW('MEMORIAL DESCRITIVO-BRI'!$G$2:$G$4000)),ROW(B410))), \"\")","v":""},{"$f":"IFERROR(INDEX('MEMORIAL DESCRITIVO-BRI'!P:P,SMALL(IF('MEMORIAL DESCRITIVO-BRI'!$E$2:$E$4000=\"Sim\",ROW('MEMORIAL DESCRITIVO-BRI'!$P$2:$P$4000)),ROW(B410))), \"\")","v":""},{"$f":"IFERROR(INDEX('MEMORIAL DESCRITIVO-BRI'!Q:Q,SMALL(IF('MEMORIAL DESCRITIVO-BRI'!$E$2:$E$4000=\"Sim\",ROW('MEMORIAL DESCRITIVO-BRI'!$Q$2:$Q$4000)),ROW(B410))), \"\")","v":""}]
[null,{"$f":"IFERROR(INDEX('MEMORIAL DESCRITIVO-BRI'!B:B,SMALL(IF('MEMORIAL DESCRITIVO-BRI'!$E$2:$E$4000=\"Sim\",ROW('MEMORIAL DESCRITIVO-BRI'!$B$2:$B$4000)),ROW(B411))), \"\")","v":""},{"$f":"IFERROR(INDEX('MEMORIAL DESCRITIVO-BRI'!I:I,SMALL(IF('MEMORIAL DESCRITIVO-BRI'!$E$2:$E$4000=\"Sim\",ROW('MEMORIAL DESCRITIVO-BRI'!$I$2:$I$4000)),ROW(B411))), \"\")","v":""},{"$f":"IFERROR(INDEX('MEMORIAL DESCRITIVO-BRI'!F:F,SMALL(IF('MEMORIAL DESCRITIVO-BRI'!$E$2:$E$4000=\"Sim\",ROW('MEMORIAL DESCRITIVO-BRI'!$F$2:$F$4000)),ROW(B411))) & \" - \" & INDEX('MEMORIAL DESCRITIVO-BRI'!H:H,SMALL(IF('MEMORIAL DESCRITIVO-BRI'!$E$2:$E$4000=\"Sim\",ROW('MEMORIAL DESCRITIVO-BRI'!$H$2:$H$4000)),ROW(B411))), \"\")","v":""},null,{"$f":"IFERROR(INDEX('MEMORIAL DESCRITIVO-BRI'!S:S,SMALL(IF('MEMORIAL DESCRITIVO-BRI'!$E$2:$E$4000=\"Sim\",ROW('MEMORIAL DESCRITIVO-BRI'!$S$2:$S$4000)),ROW(B411))), \"\")","v":""},{"$f":"IFERROR(INDEX('MEMORIAL DESCRITIVO-BRI'!Z:Z,SMALL(IF('MEMORIAL DESCRITIVO-BRI'!$E$2:$E$4000=\"Sim\",ROW('MEMORIAL DESCRITIVO-BRI'!$Z$2:$Z$4000)),ROW(B411))), \"\")","v":""},{"$f":"IFERROR(INDEX('MEMORIAL DESCRITIVO-BRI'!W:W,SMALL(IF('MEMORIAL DESCRITIVO-BRI'!$E$2:$E$4000=\"Sim\",ROW('MEMORIAL DESCRITIVO-BRI'!$W$2:$W$4000)),ROW(B411))), \"\")","v":""},{"$f":"IFERROR(INDEX('MEMORIAL DESCRITIVO-BRI'!G:G,SMALL(IF('MEMORIAL DESCRITIVO-BRI'!$E$2:$E$4000=\"Sim\",ROW('MEMORIAL DESCRITIVO-BRI'!$G$2:$G$4000)),ROW(B411))), \"\")","v":""},{"$f":"IFERROR(INDEX('MEMORIAL DESCRITIVO-BRI'!P:P,SMALL(IF('MEMORIAL DESCRITIVO-BRI'!$E$2:$E$4000=\"Sim\",ROW('MEMORIAL DESCRITIVO-BRI'!$P$2:$P$4000)),ROW(B411))), \"\")","v":""},{"$f":"IFERROR(INDEX('MEMORIAL DESCRITIVO-BRI'!Q:Q,SMALL(IF('MEMORIAL DESCRITIVO-BRI'!$E$2:$E$4000=\"Sim\",ROW('MEMORIAL DESCRITIVO-BRI'!$Q$2:$Q$4000)),ROW(B411))), \"\")","v":""}]
[null,{"$f":"IFERROR(INDEX('MEMORIAL DESCRITIVO-BRI'!B:B,SMALL(IF('MEMORIAL DESCRITIVO-BRI'!$E$2:$E$4000=\"Sim\",ROW('MEMORIAL DESCRITIVO-BRI'!$B$2:$B$4000)),ROW(B412))), \"\")","v":""},{"$f":"IFERROR(INDEX('MEMORIAL DESCRITIVO-BRI'!I:I,SMALL(IF('MEMORIAL DESCRITIVO-BRI'!$E$2:$E$4000=\"Sim\",ROW('MEMORIAL DESCRITIVO-BRI'!$I$2:$I$4000)),ROW(B412))), \"\")","v":""},{"$f":"IFERROR(INDEX('MEMORIAL DESCRITIVO-BRI'!F:F,SMALL(IF('MEMORIAL DESCRITIVO-BRI'!$E$2:$E$4000=\"Sim\",ROW('MEMORIAL DESCRITIVO-BRI'!$F$2:$F$4000)),ROW(B412))) & \" - \" & INDEX('MEMORIAL DESCRITIVO-BRI'!H:H,SMALL(IF('MEMORIAL DESCRITIVO-BRI'!$E$2:$E$4000=\"Sim\",ROW('MEMORIAL DESCRITIVO-BRI'!$H$2:$H$4000)),ROW(B412))), \"\")","v":""},null,{"$f":"IFERROR(INDEX('MEMORIAL DESCRITIVO-BRI'!S:S,SMALL(IF('MEMORIAL DESCRITIVO-BRI'!$E$2:$E$4000=\"Sim\",ROW('MEMORIAL DESCRITIVO-BRI'!$S$2:$S$4000)),ROW(B412))), \"\")","v":""},{"$f":"IFERROR(INDEX('MEMORIAL DESCRITIVO-BRI'!Z:Z,SMALL(IF('MEMORIAL DESCRITIVO-BRI'!$E$2:$E$4000=\"Sim\",ROW('MEMORIAL DESCRITIVO-BRI'!$Z$2:$Z$4000)),ROW(B412))), \"\")","v":""},{"$f":"IFERROR(INDEX('MEMORIAL DESCRITIVO-BRI'!W:W,SMALL(IF('MEMORIAL DESCRITIVO-BRI'!$E$2:$E$4000=\"Sim\",ROW('MEMORIAL DESCRITIVO-BRI'!$W$2:$W$4000)),ROW(B412))), \"\")","v":""},{"$f":"IFERROR(INDEX('MEMORIAL DESCRITIVO-BRI'!G:G,SMALL(IF('MEMORIAL DESCRITIVO-BRI'!$E$2:$E$4000=\"Sim\",ROW('MEMORIAL DESCRITIVO-BRI'!$G$2:$G$4000)),ROW(B412))), \"\")","v":""},{"$f":"IFERROR(INDEX('MEMORIAL DESCRITIVO-BRI'!P:P,SMALL(IF('MEMORIAL DESCRITIVO-BRI'!$E$2:$E$4000=\"Sim\",ROW('MEMORIAL DESCRITIVO-BRI'!$P$2:$P$4000)),ROW(B412))), \"\")","v":""},{"$f":"IFERROR(INDEX('MEMORIAL DESCRITIVO-BRI'!Q:Q,SMALL(IF('MEMORIAL DESCRITIVO-BRI'!$E$2:$E$4000=\"Sim\",ROW('MEMORIAL DESCRITIVO-BRI'!$Q$2:$Q$4000)),ROW(B412))), \"\")","v":""}]
[null,{"$f":"IFERROR(INDEX('MEMORIAL DESCRITIVO-BRI'!B:B,SMALL(IF('MEMORIAL DESCRITIVO-BRI'!$E$2:$E$4000=\"Sim\",ROW('MEMORIAL DESCRITIVO-BRI'!$B$2:$B$4000)),ROW(B413))), \"\")","v":""},{"$f":"IFERROR(INDEX('MEMORIAL DESCRITIVO-BRI'!I:I,SMALL(IF('MEMORIAL DESCRITIVO-BRI'!$E$2:$E$4000=\"Sim\",ROW('MEMORIAL DESCRITIVO-BRI'!$I$2:$I$4000)),ROW(B413))), \"\")","v":""},{"$f":"IFERROR(INDEX('MEMORIAL DESCRITIVO-BRI'!F:F,SMALL(IF('MEMORIAL DESCRITIVO-BRI'!$E$2:$E$4000=\"Sim\",ROW('MEMORIAL DESCRITIVO-BRI'!$F$2:$F$4000)),ROW(B413))) & \" - \" & INDEX('MEMORIAL DESCRITIVO-BRI'!H:H,SMALL(IF('MEMORIAL DESCRITIVO-BRI'!$E$2:$E$4000=\"Sim\",ROW('MEMORIAL DESCRITIVO-BRI'!$H$2:$H$4000)),ROW(B413))), \"\")","v":""},null,{"$f":"IFERROR(INDEX('MEMORIAL DESCRITIVO-BRI'!S:S,SMALL(IF('MEMORIAL DESCRITIVO-BRI'!$E$2:$E$4000=\"Sim\",ROW('MEMORIAL DESCRITIVO-BRI'!$S$2:$S$4000)),ROW(B413))), \"\")","v":""},{"$f":"IFERROR(INDEX('MEMORIAL DESCRITIVO-BRI'!Z:Z,SMALL(IF('MEMORIAL DESCRITIVO-BRI'!$E$2:$E$4000=\"Sim\",ROW('MEMORIAL DESCRITIVO-BRI'!$Z$2:$Z$4000)),ROW(B413))), \"\")","v":""},{"$f":"IFERROR(INDEX('MEMORIAL DESCRITIVO-BRI'!W:W,SMALL(IF('MEMORIAL DESCRITIVO-BRI'!$E$2:$E$4000=\"Sim\",ROW('MEMORIAL DESCRITIVO-BRI'!$W$2:$W$4000)),ROW(B413))), \"\")","v":""},{"$f":"IFERROR(INDEX('MEMORIAL DESCRITIVO-BRI'!G:G,SMALL(IF('MEMORIAL DESCRITIVO-BRI'!$E$2:$E$4000=\"Sim\",ROW('MEMORIAL DESCRITIVO-BRI'!$G$2:$G$4000)),ROW(B413))), \"\")","v":""},{"$f":"IFERROR(INDEX('MEMORIAL DESCRITIVO-BRI'!P:P,SMALL(IF('MEMORIAL DESCRITIVO-BRI'!$E$2:$E$4000=\"Sim\",ROW('MEMORIAL DESCRITIVO-BRI'!$P$2:$P$4000)),ROW(B413))), \"\")","v":""},{"$f":"IFERROR(INDEX('MEMORIAL DESCRITIVO-BRI'!Q:Q,SMALL(IF('MEMORIAL DESCRITIVO-BRI'!$E$2:$E$4000=\"Sim\",ROW('MEMORIAL DESCRITIVO-BRI'!$Q$2:$Q$4000)),ROW(B413))), \"\")","v":""}]
[null,{"$f":"IFERROR(INDEX('MEMORIAL DESCRITIVO-BRI'!B:B,SMALL(IF('MEMORIAL DESCRITIVO-BRI'!$E$2:$E$4000=\"Sim\",ROW('MEMORIAL DESCRITIVO-BRI'!$B$2:$B$4000)),ROW(B414))), \"\")","v":""},{"$f":"IFERROR(INDEX('MEMORIAL DESCRITIVO-BRI'!I:I,SMALL(IF('MEMORIAL DESCRITIVO-BRI'!$E$2:$E$4000=\"Sim\",ROW('MEMORIAL DESCRITIVO-BRI'!$I$2:$I$4000)),ROW(B414))), \"\")","v":""},{"$f":"IFERROR(INDEX('MEMORIAL DESCRITIVO-BRI'!F:F,SMALL(IF('MEMORIAL DESCRITIVO-BRI'!$E$2:$E$4000=\"Sim\",ROW('MEMORIAL DESCRITIVO-BRI'!$F$2:$F$4000)),ROW(B414))) & \" - \" & INDEX('MEMORIAL DESCRITIVO-BRI'!H:H,SMALL(IF('MEMORIAL DESCRITIVO-BRI'!$E$2:$E$4000=\"Sim\",ROW('MEMORIAL DESCRITIVO-BRI'!$H$2:$H$4000)),ROW(B414))), \"\")","v":""},null,{"$f":"IFERROR(INDEX('MEMORIAL DESCRITIVO-BRI'!S:S,SMALL(IF('MEMORIAL DESCRITIVO-BRI'!$E$2:$E$4000=\"Sim\",ROW('MEMORIAL DESCRITIVO-BRI'!$S$2:$S$4000)),ROW(B414))), \"\")","v":""},{"$f":"IFERROR(INDEX('MEMORIAL DESCRITIVO-BRI'!Z:Z,SMALL(IF('MEMORIAL DESCRITIVO-BRI'!$E$2:$E$4000=\"Sim\",ROW('MEMORIAL DESCRITIVO-BRI'!$Z$2:$Z$4000)),ROW(B414))), \"\")","v":""},{"$f":"IFERROR(INDEX('MEMORIAL DESCRITIVO-BRI'!W:W,SMALL(IF('MEMORIAL DESCRITIVO-BRI'!$E$2:$E$4000=\"Sim\",ROW('MEMORIAL DESCRITIVO-BRI'!$W$2:$W$4000)),ROW(B414))), \"\")","v":""},{"$f":"IFERROR(INDEX('MEMORIAL DESCRITIVO-BRI'!G:G,SMALL(IF('MEMORIAL DESCRITIVO-BRI'!$E$2:$E$4000=\"Sim\",ROW('MEMORIAL DESCRITIVO-BRI'!$G$2:$G$4000)),ROW(B414))), \"\")","v":""},{"$f":"IFERROR(INDEX('MEMORIAL DESCRITIVO-BRI'!P:P,SMALL(IF('MEMORIAL DESCRITIVO-BRI'!$E$2:$E$4000=\"Sim\",ROW('MEMORIAL DESCRITIVO-BRI'!$P$2:$P$4000)),ROW(B414))), \"\")","v":""},{"$f":"IFERROR(INDEX('MEMORIAL DESCRITIVO-BRI'!Q:Q,SMALL(IF('MEMORIAL DESCRITIVO-BRI'!$E$2:$E$4000=\"Sim\",ROW('MEMORIAL DESCRITIVO-BRI'!$Q$2:$Q$4000)),ROW(B414))), \"\")","v":""}]
[null,{"$f":"IFERROR(INDEX('MEMORIAL DESCRITIVO-BRI'!B:B,SMALL(IF('MEMORIAL DESCRITIVO-BRI'!$E$2:$E$4000=\"Sim\",ROW('MEMORIAL DESCRITIVO-BRI'!$B$2:$B$4000)),ROW(B415))), \"\")","v":""},{"$f":"IFERROR(INDEX('MEMORIAL DESCRITIVO-BRI'!I:I,SMALL(IF('MEMORIAL DESCRITIVO-BRI'!$E$2:$E$4000=\"Sim\",ROW('MEMORIAL DESCRITIVO-BRI'!$I$2:$I$4000)),ROW(B415))), \"\")","v":""},{"$f":"IFERROR(INDEX('MEMORIAL DESCRITIVO-BRI'!F:F,SMALL(IF('MEMORIAL DESCRITIVO-BRI'!$E$2:$E$4000=\"Sim\",ROW('MEMORIAL DESCRITIVO-BRI'!$F$2:$F$4000)),ROW(B415))) & \" - \" & INDEX('MEMORIAL DESCRITIVO-BRI'!H:H,SMALL(IF('MEMORIAL DESCRITIVO-BRI'!$E$2:$E$4000=\"Sim\",ROW('MEMORIAL DESCRITIVO-BRI'!$H$2:$H$4000)),ROW(B415))), \"\")","v":""},null,{"$f":"IFERROR(INDEX('MEMORIAL DESCRITIVO-BRI'!S:S,SMALL(IF('MEMORIAL DESCRITIVO-BRI'!$E$2:$E$4000=\"Sim\",ROW('MEMORIAL DESCRITIVO-BRI'!$S$2:$S$4000)),ROW(B415))), \"\")","v":""},{"$f":"IFERROR(INDEX('MEMORIAL DESCRITIVO-BRI'!Z:Z,SMALL(IF('MEMORIAL DESCRITIVO-BRI'!$E$2:$E$4000=\"Sim\",ROW('MEMORIAL DESCRITIVO-BRI'!$Z$2:$Z$4000)),ROW(B415))), \"\")","v":""},{"$f":"IFERROR(INDEX('MEMORIAL DESCRITIVO-BRI'!W:W,SMALL(IF('MEMORIAL DESCRITIVO-BRI'!$E$2:$E$4000=\"Sim\",ROW('MEMORIAL DESCRITIVO-BRI'!$W$2:$W$4000)),ROW(B415))), \"\")","v":""},{"$f":"IFERROR(INDEX('MEMORIAL DESCRITIVO-BRI'!G:G,SMALL(IF('MEMORIAL DESCRITIVO-BRI'!$E$2:$E$4000=\"Sim\",ROW('MEMORIAL DESCRITIVO-BRI'!$G$2:$G$4000)),ROW(B415))), \"\")","v":""},{"$f":"IFERROR(INDEX('MEMORIAL DESCRITIVO-BRI'!P:P,SMALL(IF('MEMORIAL DESCRITIVO-BRI'!$E$2:$E$4000=\"Sim\",ROW('MEMORIAL DESCRITIVO-BRI'!$P$2:$P$4000)),ROW(B415))), \"\")","v":""},{"$f":"IFERROR(INDEX('MEMORIAL DESCRITIVO-BRI'!Q:Q,SMALL(IF('MEMORIAL DESCRITIVO-BRI'!$E$2:$E$4000=\"Sim\",ROW('MEMORIAL DESCRITIVO-BRI'!$Q$2:$Q$4000)),ROW(B415))), \"\")","v":""}]
[null,{"$f":"IFERROR(INDEX('MEMORIAL DESCRITIVO-BRI'!B:B,SMALL(IF('MEMORIAL DESCRITIVO-BRI'!$E$2:$E$4000=\"Sim\",ROW('MEMORIAL DESCRITIVO-BRI'!$B$2:$B$4000)),ROW(B416))), \"\")","v":""},{"$f":"IFERROR(INDEX('MEMORIAL DESCRITIVO-BRI'!I:I,SMALL(IF('MEMORIAL DESCRITIVO-BRI'!$E$2:$E$4000=\"Sim\",ROW('MEMORIAL DESCRITIVO-BRI'!$I$2:$I$4000)),ROW(B416))), \"\")","v":""},{"$f":"IFERROR(INDEX('MEMORIAL DESCRITIVO-BRI'!F:F,SMALL(IF('MEMORIAL DESCRITIVO-BRI'!$E$2:$E$4000=\"Sim\",ROW('MEMORIAL DESCRITIVO-BRI'!$F$2:$F$4000)),ROW(B416))) & \" - \" & INDEX('MEMORIAL DESCRITIVO-BRI'!H:H,SMALL(IF('MEMORIAL DESCRITIVO-BRI'!$E$2:$E$4000=\"Sim\",ROW('MEMORIAL DESCRITIVO-BRI'!$H$2:$H$4000)),ROW(B416))), \"\")","v":""},null,{"$f":"IFERROR(INDEX('MEMORIAL DESCRITIVO-BRI'!S:S,SMALL(IF('MEMORIAL DESCRITIVO-BRI'!$E$2:$E$4000=\"Sim\",ROW('MEMORIAL DESCRITIVO-BRI'!$S$2:$S$4000)),ROW(B416))), \"\")","v":""},{"$f":"IFERROR(INDEX('MEMORIAL DESCRITIVO-BRI'!Z:Z,SMALL(IF('MEMORIAL DESCRITIVO-BRI'!$E$2:$E$4000=\"Sim\",ROW('MEMORIAL DESCRITIVO-BRI'!$Z$2:$Z$4000)),ROW(B416))), \"\")","v":""},{"$f":"IFERROR(INDEX('MEMORIAL DESCRITIVO-BRI'!W:W,SMALL(IF('MEMORIAL DESCRITIVO-BRI'!$E$2:$E$4000=\"Sim\",ROW('MEMORIAL DESCRITIVO-BRI'!$W$2:$W$4000)),ROW(B416))), \"\")","v":""},{"$f":"IFERROR(INDEX('MEMORIAL DESCRITIVO-BRI'!G:G,SMALL(IF('MEMORIAL DESCRITIVO-BRI'!$E$2:$E$4000=\"Sim\",ROW('MEMORIAL DESCRITIVO-BRI'!$G$2:$G$4000)),ROW(B416))), \"\")","v":""},{"$f":"IFERROR(INDEX('MEMORIAL DESCRITIVO-BRI'!P:P,SMALL(IF('MEMORIAL DESCRITIVO-BRI'!$E$2:$E$4000=\"Sim\",ROW('MEMORIAL DESCRITIVO-BRI'!$P$2:$P$4000)),ROW(B416))), \"\")","v":""},{"$f":"IFERROR(INDEX('MEMORIAL DESCRITIVO-BRI'!Q:Q,SMALL(IF('MEMORIAL DESCRITIVO-BRI'!$E$2:$E$4000=\"Sim\",ROW('MEMORIAL DESCRITIVO-BRI'!$Q$2:$Q$4000)),ROW(B416))), \"\")","v":""}]
[null,{"$f":"IFERROR(INDEX('MEMORIAL DESCRITIVO-BRI'!B:B,SMALL(IF('MEMORIAL DESCRITIVO-BRI'!$E$2:$E$4000=\"Sim\",ROW('MEMORIAL DESCRITIVO-BRI'!$B$2:$B$4000)),ROW(B417))), \"\")","v":""},{"$f":"IFERROR(INDEX('MEMORIAL DESCRITIVO-BRI'!I:I,SMALL(IF('MEMORIAL DESCRITIVO-BRI'!$E$2:$E$4000=\"Sim\",ROW('MEMORIAL DESCRITIVO-BRI'!$I$2:$I$4000)),ROW(B417))), \"\")","v":""},{"$f":"IFERROR(INDEX('MEMORIAL DESCRITIVO-BRI'!F:F,SMALL(IF('MEMORIAL DESCRITIVO-BRI'!$E$2:$E$4000=\"Sim\",ROW('MEMORIAL DESCRITIVO-BRI'!$F$2:$F$4000)),ROW(B417))) & \" - \" & INDEX('MEMORIAL DESCRITIVO-BRI'!H:H,SMALL(IF('MEMORIAL DESCRITIVO-BRI'!$E$2:$E$4000=\"Sim\",ROW('MEMORIAL DESCRITIVO-BRI'!$H$2:$H$4000)),ROW(B417))), \"\")","v":""},null,{"$f":"IFERROR(INDEX('MEMORIAL DESCRITIVO-BRI'!S:S,SMALL(IF('MEMORIAL DESCRITIVO-BRI'!$E$2:$E$4000=\"Sim\",ROW('MEMORIAL DESCRITIVO-BRI'!$S$2:$S$4000)),ROW(B417))), \"\")","v":""},{"$f":"IFERROR(INDEX('MEMORIAL DESCRITIVO-BRI'!Z:Z,SMALL(IF('MEMORIAL DESCRITIVO-BRI'!$E$2:$E$4000=\"Sim\",ROW('MEMORIAL DESCRITIVO-BRI'!$Z$2:$Z$4000)),ROW(B417))), \"\")","v":""},{"$f":"IFERROR(INDEX('MEMORIAL DESCRITIVO-BRI'!W:W,SMALL(IF('MEMORIAL DESCRITIVO-BRI'!$E$2:$E$4000=\"Sim\",ROW('MEMORIAL DESCRITIVO-BRI'!$W$2:$W$4000)),ROW(B417))), \"\")","v":""},{"$f":"IFERROR(INDEX('MEMORIAL DESCRITIVO-BRI'!G:G,SMALL(IF('MEMORIAL DESCRITIVO-BRI'!$E$2:$E$4000=\"Sim\",ROW('MEMORIAL DESCRITIVO-BRI'!$G$2:$G$4000)),ROW(B417))), \"\")","v":""},{"$f":"IFERROR(INDEX('MEMORIAL DESCRITIVO-BRI'!P:P,SMALL(IF('MEMORIAL DESCRITIVO-BRI'!$E$2:$E$4000=\"Sim\",ROW('MEMORIAL DESCRITIVO-BRI'!$P$2:$P$4000)),ROW(B417))), \"\")","v":""},{"$f":"IFERROR(INDEX('MEMORIAL DESCRITIVO-BRI'!Q:Q,SMALL(IF('MEMORIAL DESCRITIVO-BRI'!$E$2:$E$4000=\"Sim\",ROW('MEMORIAL DESCRITIVO-BRI'!$Q$2:$Q$4000)),ROW(B417))), \"\")","v":""}]
[null,{"$f":"IFERROR(INDEX('MEMORIAL DESCRITIVO-BRI'!B:B,SMALL(IF('MEMORIAL DESCRITIVO-BRI'!$E$2:$E$4000=\"Sim\",ROW('MEMORIAL DESCRITIVO-BRI'!$B$2:$B$4000)),ROW(B418))), \"\")","v":""},{"$f":"IFERROR(INDEX('MEMORIAL DESCRITIVO-BRI'!I:I,SMALL(IF('MEMORIAL DESCRITIVO-BRI'!$E$2:$E$4000=\"Sim\",ROW('MEMORIAL DESCRITIVO-BRI'!$I$2:$I$4000)),ROW(B418))), \"\")","v":""},{"$f":"IFERROR(INDEX('MEMORIAL DESCRITIVO-BRI'!F:F,SMALL(IF('MEMORIAL DESCRITIVO-BRI'!$E$2:$E$4000=\"Sim\",ROW('MEMORIAL DESCRITIVO-BRI'!$F$2:$F$4000)),ROW(B418))) & \" - \" & INDEX('MEMORIAL DESCRITIVO-BRI'!H:H,SMALL(IF('MEMORIAL DESCRITIVO-BRI'!$E$2:$E$4000=\"Sim\",ROW('MEMORIAL DESCRITIVO-BRI'!$H$2:$H$4000)),ROW(B418))), \"\")","v":""},null,{"$f":"IFERROR(INDEX('MEMORIAL DESCRITIVO-BRI'!S:S,SMALL(IF('MEMORIAL DESCRITIVO-BRI'!$E$2:$E$4000=\"Sim\",ROW('MEMORIAL DESCRITIVO-BRI'!$S$2:$S$4000)),ROW(B418))), \"\")","v":""},{"$f":"IFERROR(INDEX('MEMORIAL DESCRITIVO-BRI'!Z:Z,SMALL(IF('MEMORIAL DESCRITIVO-BRI'!$E$2:$E$4000=\"Sim\",ROW('MEMORIAL DESCRITIVO-BRI'!$Z$2:$Z$4000)),ROW(B418))), \"\")","v":""},{"$f":"IFERROR(INDEX('MEMORIAL DESCRITIVO-BRI'!W:W,SMALL(IF('MEMORIAL DESCRITIVO-BRI'!$E$2:$E$4000=\"Sim\",ROW('MEMORIAL DESCRITIVO-BRI'!$W$2:$W$4000)),ROW(B418))), \"\")","v":""},{"$f":"IFERROR(INDEX('MEMORIAL DESCRITIVO-BRI'!G:G,SMALL(IF('MEMORIAL DESCRITIVO-BRI'!$E$2:$E$4000=\"Sim\",ROW('MEMORIAL DESCRITIVO-BRI'!$G$2:$G$4000)),ROW(B418))), \"\")","v":""},{"$f":"IFERROR(INDEX('MEMORIAL DESCRITIVO-BRI'!P:P,SMALL(IF('MEMORIAL DESCRITIVO-BRI'!$E$2:$E$4000=\"Sim\",ROW('MEMORIAL DESCRITIVO-BRI'!$P$2:$P$4000)),ROW(B418))), \"\")","v":""},{"$f":"IFERROR(INDEX('MEMORIAL DESCRITIVO-BRI'!Q:Q,SMALL(IF('MEMORIAL DESCRITIVO-BRI'!$E$2:$E$4000=\"Sim\",ROW('MEMORIAL DESCRITIVO-BRI'!$Q$2:$Q$4000)),ROW(B418))), \"\")","v":""}]
[null,{"$f":"IFERROR(INDEX('MEMORIAL DESCRITIVO-BRI'!B:B,SMALL(IF('MEMORIAL DESCRITIVO-BRI'!$E$2:$E$4000=\"Sim\",ROW('MEMORIAL DESCRITIVO-BRI'!$B$2:$B$4000)),ROW(B419))), \"\")","v":""},{"$f":"IFERROR(INDEX('MEMORIAL DESCRITIVO-BRI'!I:I,SMALL(IF('MEMORIAL DESCRITIVO-BRI'!$E$2:$E$4000=\"Sim\",ROW('MEMORIAL DESCRITIVO-BRI'!$I$2:$I$4000)),ROW(B419))), \"\")","v":""},{"$f":"IFERROR(INDEX('MEMORIAL DESCRITIVO-BRI'!F:F,SMALL(IF('MEMORIAL DESCRITIVO-BRI'!$E$2:$E$4000=\"Sim\",ROW('MEMORIAL DESCRITIVO-BRI'!$F$2:$F$4000)),ROW(B419))) & \" - \" & INDEX('MEMORIAL DESCRITIVO-BRI'!H:H,SMALL(IF('MEMORIAL DESCRITIVO-BRI'!$E$2:$E$4000=\"Sim\",ROW('MEMORIAL DESCRITIVO-BRI'!$H$2:$H$4000)),ROW(B419))), \"\")","v":""},null,{"$f":"IFERROR(INDEX('MEMORIAL DESCRITIVO-BRI'!S:S,SMALL(IF('MEMORIAL DESCRITIVO-BRI'!$E$2:$E$4000=\"Sim\",ROW('MEMORIAL DESCRITIVO-BRI'!$S$2:$S$4000)),ROW(B419))), \"\")","v":""},{"$f":"IFERROR(INDEX('MEMORIAL DESCRITIVO-BRI'!Z:Z,SMALL(IF('MEMORIAL DESCRITIVO-BRI'!$E$2:$E$4000=\"Sim\",ROW('MEMORIAL DESCRITIVO-BRI'!$Z$2:$Z$4000)),ROW(B419))), \"\")","v":""},{"$f":"IFERROR(INDEX('MEMORIAL DESCRITIVO-BRI'!W:W,SMALL(IF('MEMORIAL DESCRITIVO-BRI'!$E$2:$E$4000=\"Sim\",ROW('MEMORIAL DESCRITIVO-BRI'!$W$2:$W$4000)),ROW(B419))), \"\")","v":""},{"$f":"IFERROR(INDEX('MEMORIAL DESCRITIVO-BRI'!G:G,SMALL(IF('MEMORIAL DESCRITIVO-BRI'!$E$2:$E$4000=\"Sim\",ROW('MEMORIAL DESCRITIVO-BRI'!$G$2:$G$4000)),ROW(B419))), \"\")","v":""},{"$f":"IFERROR(INDEX('MEMORIAL DESCRITIVO-BRI'!P:P,SMALL(IF('MEMORIAL DESCRITIVO-BRI'!$E$2:$E$4000=\"Sim\",ROW('MEMORIAL DESCRITIVO-BRI'!$P$2:$P$4000)),ROW(B419))), \"\")","v":""},{"$f":"IFERROR(INDEX('MEMORIAL DESCRITIVO-BRI'!Q:Q,SMALL(IF('MEMORIAL DESCRITIVO-BRI'!$E$2:$E$4000=\"Sim\",ROW('MEMORIAL DESCRITIVO-BRI'!$Q$2:$Q$4000)),ROW(B419))), \"\")","v":""}]
[null,{"$f":"IFERROR(INDEX('MEMORIAL DESCRITIVO-BRI'!B:B,SMALL(IF('MEMORIAL DESCRITIVO-BRI'!$E$2:$E$4000=\"Sim\",ROW('MEMORIAL DESCRITIVO-BRI'!$B$2:$B$4000)),ROW(B420))), \"\")","v":""},{"$f":"IFERROR(INDEX('MEMORIAL DESCRITIVO-BRI'!I:I,SMALL(IF('MEMORIAL DESCRITIVO-BRI'!$E$2:$E$4000=\"Sim\",ROW('MEMORIAL DESCRITIVO-BRI'!$I$2:$I$4000)),ROW(B420))), \"\")","v":""},{"$f":"IFERROR(INDEX('MEMORIAL DESCRITIVO-BRI'!F:F,SMALL(IF('MEMORIAL DESCRITIVO-BRI'!$E$2:$E$4000=\"Sim\",ROW('MEMORIAL DESCRITIVO-BRI'!$F$2:$F$4000)),ROW(B420))) & \" - \" & INDEX('MEMORIAL DESCRITIVO-BRI'!H:H,SMALL(IF('MEMORIAL DESCRITIVO-BRI'!$E$2:$E$4000=\"Sim\",ROW('MEMORIAL DESCRITIVO-BRI'!$H$2:$H$4000)),ROW(B420))), \"\")","v":""},null,{"$f":"IFERROR(INDEX('MEMORIAL DESCRITIVO-BRI'!S:S,SMALL(IF('MEMORIAL DESCRITIVO-BRI'!$E$2:$E$4000=\"Sim\",ROW('MEMORIAL DESCRITIVO-BRI'!$S$2:$S$4000)),ROW(B420))), \"\")","v":""},{"$f":"IFERROR(INDEX('MEMORIAL DESCRITIVO-BRI'!Z:Z,SMALL(IF('MEMORIAL DESCRITIVO-BRI'!$E$2:$E$4000=\"Sim\",ROW('MEMORIAL DESCRITIVO-BRI'!$Z$2:$Z$4000)),ROW(B420))), \"\")","v":""},{"$f":"IFERROR(INDEX('MEMORIAL DESCRITIVO-BRI'!W:W,SMALL(IF('MEMORIAL DESCRITIVO-BRI'!$E$2:$E$4000=\"Sim\",ROW('MEMORIAL DESCRITIVO-BRI'!$W$2:$W$4000)),ROW(B420))), \"\")","v":""},{"$f":"IFERROR(INDEX('MEMORIAL DESCRITIVO-BRI'!G:G,SMALL(IF('MEMORIAL DESCRITIVO-BRI'!$E$2:$E$4000=\"Sim\",ROW('MEMORIAL DESCRITIVO-BRI'!$G$2:$G$4000)),ROW(B420))), \"\")","v":""},{"$f":"IFERROR(INDEX('MEMORIAL DESCRITIVO-BRI'!P:P,SMALL(IF('MEMORIAL DESCRITIVO-BRI'!$E$2:$E$4000=\"Sim\",ROW('MEMORIAL DESCRITIVO-BRI'!$P$2:$P$4000)),ROW(B420))), \"\")","v":""},{"$f":"IFERROR(INDEX('MEMORIAL DESCRITIVO-BRI'!Q:Q,SMALL(IF('MEMORIAL DESCRITIVO-BRI'!$E$2:$E$4000=\"Sim\",ROW('MEMORIAL DESCRITIVO-BRI'!$Q$2:$Q$4000)),ROW(B420))), \"\")","v":""}]
[null,{"$f":"IFERROR(INDEX('MEMORIAL DESCRITIVO-BRI'!B:B,SMALL(IF('MEMORIAL DESCRITIVO-BRI'!$E$2:$E$4000=\"Sim\",ROW('MEMORIAL DESCRITIVO-BRI'!$B$2:$B$4000)),ROW(B421))), \"\")","v":""},{"$f":"IFERROR(INDEX('MEMORIAL DESCRITIVO-BRI'!I:I,SMALL(IF('MEMORIAL DESCRITIVO-BRI'!$E$2:$E$4000=\"Sim\",ROW('MEMORIAL DESCRITIVO-BRI'!$I$2:$I$4000)),ROW(B421))), \"\")","v":""},{"$f":"IFERROR(INDEX('MEMORIAL DESCRITIVO-BRI'!F:F,SMALL(IF('MEMORIAL DESCRITIVO-BRI'!$E$2:$E$4000=\"Sim\",ROW('MEMORIAL DESCRITIVO-BRI'!$F$2:$F$4000)),ROW(B421))) & \" - \" & INDEX('MEMORIAL DESCRITIVO-BRI'!H:H,SMALL(IF('MEMORIAL DESCRITIVO-BRI'!$E$2:$E$4000=\"Sim\",ROW('MEMORIAL DESCRITIVO-BRI'!$H$2:$H$4000)),ROW(B421))), \"\")","v":""},null,{"$f":"IFERROR(INDEX('MEMORIAL DESCRITIVO-BRI'!S:S,SMALL(IF('MEMORIAL DESCRITIVO-BRI'!$E$2:$E$4000=\"Sim\",ROW('MEMORIAL DESCRITIVO-BRI'!$S$2:$S$4000)),ROW(B421))), \"\")","v":""},{"$f":"IFERROR(INDEX('MEMORIAL DESCRITIVO-BRI'!Z:Z,SMALL(IF('MEMORIAL DESCRITIVO-BRI'!$E$2:$E$4000=\"Sim\",ROW('MEMORIAL DESCRITIVO-BRI'!$Z$2:$Z$4000)),ROW(B421))), \"\")","v":""},{"$f":"IFERROR(INDEX('MEMORIAL DESCRITIVO-BRI'!W:W,SMALL(IF('MEMORIAL DESCRITIVO-BRI'!$E$2:$E$4000=\"Sim\",ROW('MEMORIAL DESCRITIVO-BRI'!$W$2:$W$4000)),ROW(B421))), \"\")","v":""},{"$f":"IFERROR(INDEX('MEMORIAL DESCRITIVO-BRI'!G:G,SMALL(IF('MEMORIAL DESCRITIVO-BRI'!$E$2:$E$4000=\"Sim\",ROW('MEMORIAL DESCRITIVO-BRI'!$G$2:$G$4000)),ROW(B421))), \"\")","v":""},{"$f":"IFERROR(INDEX('MEMORIAL DESCRITIVO-BRI'!P:P,SMALL(IF('MEMORIAL DESCRITIVO-BRI'!$E$2:$E$4000=\"Sim\",ROW('MEMORIAL DESCRITIVO-BRI'!$P$2:$P$4000)),ROW(B421))), \"\")","v":""},{"$f":"IFERROR(INDEX('MEMORIAL DESCRITIVO-BRI'!Q:Q,SMALL(IF('MEMORIAL DESCRITIVO-BRI'!$E$2:$E$4000=\"Sim\",ROW('MEMORIAL DESCRITIVO-BRI'!$Q$2:$Q$4000)),ROW(B421))), \"\")","v":""}]
[null,{"$f":"IFERROR(INDEX('MEMORIAL DESCRITIVO-BRI'!B:B,SMALL(IF('MEMORIAL DESCRITIVO-BRI'!$E$2:$E$4000=\"Sim\",ROW('MEMORIAL DESCRITIVO-BRI'!$B$2:$B$4000)),ROW(B422))), \"\")","v":""},{"$f":"IFERROR(INDEX('MEMORIAL DESCRITIVO-BRI'!I:I,SMALL(IF('MEMORIAL DESCRITIVO-BRI'!$E$2:$E$4000=\"Sim\",ROW('MEMORIAL DESCRITIVO-BRI'!$I$2:$I$4000)),ROW(B422))), \"\")","v":""},{"$f":"IFERROR(INDEX('MEMORIAL DESCRITIVO-BRI'!F:F,SMALL(IF('MEMORIAL DESCRITIVO-BRI'!$E$2:$E$4000=\"Sim\",ROW('MEMORIAL DESCRITIVO-BRI'!$F$2:$F$4000)),ROW(B422))) & \" - \" & INDEX('MEMORIAL DESCRITIVO-BRI'!H:H,SMALL(IF('MEMORIAL DESCRITIVO-BRI'!$E$2:$E$4000=\"Sim\",ROW('MEMORIAL DESCRITIVO-BRI'!$H$2:$H$4000)),ROW(B422))), \"\")","v":""},null,{"$f":"IFERROR(INDEX('MEMORIAL DESCRITIVO-BRI'!S:S,SMALL(IF('MEMORIAL DESCRITIVO-BRI'!$E$2:$E$4000=\"Sim\",ROW('MEMORIAL DESCRITIVO-BRI'!$S$2:$S$4000)),ROW(B422))), \"\")","v":""},{"$f":"IFERROR(INDEX('MEMORIAL DESCRITIVO-BRI'!Z:Z,SMALL(IF('MEMORIAL DESCRITIVO-BRI'!$E$2:$E$4000=\"Sim\",ROW('MEMORIAL DESCRITIVO-BRI'!$Z$2:$Z$4000)),ROW(B422))), \"\")","v":""},{"$f":"IFERROR(INDEX('MEMORIAL DESCRITIVO-BRI'!W:W,SMALL(IF('MEMORIAL DESCRITIVO-BRI'!$E$2:$E$4000=\"Sim\",ROW('MEMORIAL DESCRITIVO-BRI'!$W$2:$W$4000)),ROW(B422))), \"\")","v":""},{"$f":"IFERROR(INDEX('MEMORIAL DESCRITIVO-BRI'!G:G,SMALL(IF('MEMORIAL DESCRITIVO-BRI'!$E$2:$E$4000=\"Sim\",ROW('MEMORIAL DESCRITIVO-BRI'!$G$2:$G$4000)),ROW(B422))), \"\")","v":""},{"$f":"IFERROR(INDEX('MEMORIAL DESCRITIVO-BRI'!P:P,SMALL(IF('MEMORIAL DESCRITIVO-BRI'!$E$2:$E$4000=\"Sim\",ROW('MEMORIAL DESCRITIVO-BRI'!$P$2:$P$4000)),ROW(B422))), \"\")","v":""},{"$f":"IFERROR(INDEX('MEMORIAL DESCRITIVO-BRI'!Q:Q,SMALL(IF('MEMORIAL DESCRITIVO-BRI'!$E$2:$E$4000=\"Sim\",ROW('MEMORIAL DESCRITIVO-BRI'!$Q$2:$Q$4000)),ROW(B422))), \"\")","v":""}]
[null,{"$f":"IFERROR(INDEX('MEMORIAL DESCRITIVO-BRI'!B:B,SMALL(IF('MEMORIAL DESCRITIVO-BRI'!$E$2:$E$4000=\"Sim\",ROW('MEMORIAL DESCRITIVO-BRI'!$B$2:$B$4000)),ROW(B423))), \"\")","v":""},{"$f":"IFERROR(INDEX('MEMORIAL DESCRITIVO-BRI'!I:I,SMALL(IF('MEMORIAL DESCRITIVO-BRI'!$E$2:$E$4000=\"Sim\",ROW('MEMORIAL DESCRITIVO-BRI'!$I$2:$I$4000)),ROW(B423))), \"\")","v":""},{"$f":"IFERROR(INDEX('MEMORIAL DESCRITIVO-BRI'!F:F,SMALL(IF('MEMORIAL DESCRITIVO-BRI'!$E$2:$E$4000=\"Sim\",ROW('MEMORIAL DESCRITIVO-BRI'!$F$2:$F$4000)),ROW(B423))) & \" - \" & INDEX('MEMORIAL DESCRITIVO-BRI'!H:H,SMALL(IF('MEMORIAL DESCRITIVO-BRI'!$E$2:$E$4000=\"Sim\",ROW('MEMORIAL DESCRITIVO-BRI'!$H$2:$H$4000)),ROW(B423))), \"\")","v":""},null,{"$f":"IFERROR(INDEX('MEMORIAL DESCRITIVO-BRI'!S:S,SMALL(IF('MEMORIAL DESCRITIVO-BRI'!$E$2:$E$4000=\"Sim\",ROW('MEMORIAL DESCRITIVO-BRI'!$S$2:$S$4000)),ROW(B423))), \"\")","v":""},{"$f":"IFERROR(INDEX('MEMORIAL DESCRITIVO-BRI'!Z:Z,SMALL(IF('MEMORIAL DESCRITIVO-BRI'!$E$2:$E$4000=\"Sim\",ROW('MEMORIAL DESCRITIVO-BRI'!$Z$2:$Z$4000)),ROW(B423))), \"\")","v":""},{"$f":"IFERROR(INDEX('MEMORIAL DESCRITIVO-BRI'!W:W,SMALL(IF('MEMORIAL DESCRITIVO-BRI'!$E$2:$E$4000=\"Sim\",ROW('MEMORIAL DESCRITIVO-BRI'!$W$2:$W$4000)),ROW(B423))), \"\")","v":""},{"$f":"IFERROR(INDEX('MEMORIAL DESCRITIVO-BRI'!G:G,SMALL(IF('MEMORIAL DESCRITIVO-BRI'!$E$2:$E$4000=\"Sim\",ROW('MEMORIAL DESCRITIVO-BRI'!$G$2:$G$4000)),ROW(B423))), \"\")","v":""},{"$f":"IFERROR(INDEX('MEMORIAL DESCRITIVO-BRI'!P:P,SMALL(IF('MEMORIAL DESCRITIVO-BRI'!$E$2:$E$4000=\"Sim\",ROW('MEMORIAL DESCRITIVO-BRI'!$P$2:$P$4000)),ROW(B423))), \"\")","v":""},{"$f":"IFERROR(INDEX('MEMORIAL DESCRITIVO-BRI'!Q:Q,SMALL(IF('MEMORIAL DESCRITIVO-BRI'!$E$2:$E$4000=\"Sim\",ROW('MEMORIAL DESCRITIVO-BRI'!$Q$2:$Q$4000)),ROW(B423))), \"\")","v":""}]
[null,{"$f":"IFERROR(INDEX('MEMORIAL DESCRITIVO-BRI'!B:B,SMALL(IF('MEMORIAL DESCRITIVO-BRI'!$E$2:$E$4000=\"Sim\",ROW('MEMORIAL DESCRITIVO-BRI'!$B$2:$B$4000)),ROW(B424))), \"\")","v":""},{"$f":"IFERROR(INDEX('MEMORIAL DESCRITIVO-BRI'!I:I,SMALL(IF('MEMORIAL DESCRITIVO-BRI'!$E$2:$E$4000=\"Sim\",ROW('MEMORIAL DESCRITIVO-BRI'!$I$2:$I$4000)),ROW(B424))), \"\")","v":""},{"$f":"IFERROR(INDEX('MEMORIAL DESCRITIVO-BRI'!F:F,SMALL(IF('MEMORIAL DESCRITIVO-BRI'!$E$2:$E$4000=\"Sim\",ROW('MEMORIAL DESCRITIVO-BRI'!$F$2:$F$4000)),ROW(B424))) & \" - \" & INDEX('MEMORIAL DESCRITIVO-BRI'!H:H,SMALL(IF('MEMORIAL DESCRITIVO-BRI'!$E$2:$E$4000=\"Sim\",ROW('MEMORIAL DESCRITIVO-BRI'!$H$2:$H$4000)),ROW(B424))), \"\")","v":""},null,{"$f":"IFERROR(INDEX('MEMORIAL DESCRITIVO-BRI'!S:S,SMALL(IF('MEMORIAL DESCRITIVO-BRI'!$E$2:$E$4000=\"Sim\",ROW('MEMORIAL DESCRITIVO-BRI'!$S$2:$S$4000)),ROW(B424))), \"\")","v":""},{"$f":"IFERROR(INDEX('MEMORIAL DESCRITIVO-BRI'!Z:Z,SMALL(IF('MEMORIAL DESCRITIVO-BRI'!$E$2:$E$4000=\"Sim\",ROW('MEMORIAL DESCRITIVO-BRI'!$Z$2:$Z$4000)),ROW(B424))), \"\")","v":""},{"$f":"IFERROR(INDEX('MEMORIAL DESCRITIVO-BRI'!W:W,SMALL(IF('MEMORIAL DESCRITIVO-BRI'!$E$2:$E$4000=\"Sim\",ROW('MEMORIAL DESCRITIVO-BRI'!$W$2:$W$4000)),ROW(B424))), \"\")","v":""},{"$f":"IFERROR(INDEX('MEMORIAL DESCRITIVO-BRI'!G:G,SMALL(IF('MEMORIAL DESCRITIVO-BRI'!$E$2:$E$4000=\"Sim\",ROW('MEMORIAL DESCRITIVO-BRI'!$G$2:$G$4000)),ROW(B424))), \"\")","v":""},{"$f":"IFERROR(INDEX('MEMORIAL DESCRITIVO-BRI'!P:P,SMALL(IF('MEMORIAL DESCRITIVO-BRI'!$E$2:$E$4000=\"Sim\",ROW('MEMORIAL DESCRITIVO-BRI'!$P$2:$P$4000)),ROW(B424))), \"\")","v":""},{"$f":"IFERROR(INDEX('MEMORIAL DESCRITIVO-BRI'!Q:Q,SMALL(IF('MEMORIAL DESCRITIVO-BRI'!$E$2:$E$4000=\"Sim\",ROW('MEMORIAL DESCRITIVO-BRI'!$Q$2:$Q$4000)),ROW(B424))), \"\")","v":""}]
[null,{"$f":"IFERROR(INDEX('MEMORIAL DESCRITIVO-BRI'!B:B,SMALL(IF('MEMORIAL DESCRITIVO-BRI'!$E$2:$E$4000=\"Sim\",ROW('MEMORIAL DESCRITIVO-BRI'!$B$2:$B$4000)),ROW(B425))), \"\")","v":""},{"$f":"IFERROR(INDEX('MEMORIAL DESCRITIVO-BRI'!I:I,SMALL(IF('MEMORIAL DESCRITIVO-BRI'!$E$2:$E$4000=\"Sim\",ROW('MEMORIAL DESCRITIVO-BRI'!$I$2:$I$4000)),ROW(B425))), \"\")","v":""},{"$f":"IFERROR(INDEX('MEMORIAL DESCRITIVO-BRI'!F:F,SMALL(IF('MEMORIAL DESCRITIVO-BRI'!$E$2:$E$4000=\"Sim\",ROW('MEMORIAL DESCRITIVO-BRI'!$F$2:$F$4000)),ROW(B425))) & \" - \" & INDEX('MEMORIAL DESCRITIVO-BRI'!H:H,SMALL(IF('MEMORIAL DESCRITIVO-BRI'!$E$2:$E$4000=\"Sim\",ROW('MEMORIAL DESCRITIVO-BRI'!$H$2:$H$4000)),ROW(B425))), \"\")","v":""},null,{"$f":"IFERROR(INDEX('MEMORIAL DESCRITIVO-BRI'!S:S,SMALL(IF('MEMORIAL DESCRITIVO-BRI'!$E$2:$E$4000=\"Sim\",ROW('MEMORIAL DESCRITIVO-BRI'!$S$2:$S$4000)),ROW(B425))), \"\")","v":""},{"$f":"IFERROR(INDEX('MEMORIAL DESCRITIVO-BRI'!Z:Z,SMALL(IF('MEMORIAL DESCRITIVO-BRI'!$E$2:$E$4000=\"Sim\",ROW('MEMORIAL DESCRITIVO-BRI'!$Z$2:$Z$4000)),ROW(B425))), \"\")","v":""},{"$f":"IFERROR(INDEX('MEMORIAL DESCRITIVO-BRI'!W:W,SMALL(IF('MEMORIAL DESCRITIVO-BRI'!$E$2:$E$4000=\"Sim\",ROW('MEMORIAL DESCRITIVO-BRI'!$W$2:$W$4000)),ROW(B425))), \"\")","v":""},{"$f":"IFERROR(INDEX('MEMORIAL DESCRITIVO-BRI'!G:G,SMALL(IF('MEMORIAL DESCRITIVO-BRI'!$E$2:$E$4000=\"Sim\",ROW('MEMORIAL DESCRITIVO-BRI'!$G$2:$G$4000)),ROW(B425))), \"\")","v":""},{"$f":"IFERROR(INDEX('MEMORIAL DESCRITIVO-BRI'!P:P,SMALL(IF('MEMORIAL DESCRITIVO-BRI'!$E$2:$E$4000=\"Sim\",ROW('MEMORIAL DESCRITIVO-BRI'!$P$2:$P$4000)),ROW(B425))), \"\")","v":""},{"$f":"IFERROR(INDEX('MEMORIAL DESCRITIVO-BRI'!Q:Q,SMALL(IF('MEMORIAL DESCRITIVO-BRI'!$E$2:$E$4000=\"Sim\",ROW('MEMORIAL DESCRITIVO-BRI'!$Q$2:$Q$4000)),ROW(B425))), \"\")","v":""}]
[null,{"$f":"IFERROR(INDEX('MEMORIAL DESCRITIVO-BRI'!B:B,SMALL(IF('MEMORIAL DESCRITIVO-BRI'!$E$2:$E$4000=\"Sim\",ROW('MEMORIAL DESCRITIVO-BRI'!$B$2:$B$4000)),ROW(B426))), \"\")","v":""},{"$f":"IFERROR(INDEX('MEMORIAL DESCRITIVO-BRI'!I:I,SMALL(IF('MEMORIAL DESCRITIVO-BRI'!$E$2:$E$4000=\"Sim\",ROW('MEMORIAL DESCRITIVO-BRI'!$I$2:$I$4000)),ROW(B426))), \"\")","v":""},{"$f":"IFERROR(INDEX('MEMORIAL DESCRITIVO-BRI'!F:F,SMALL(IF('MEMORIAL DESCRITIVO-BRI'!$E$2:$E$4000=\"Sim\",ROW('MEMORIAL DESCRITIVO-BRI'!$F$2:$F$4000)),ROW(B426))) & \" - \" & INDEX('MEMORIAL DESCRITIVO-BRI'!H:H,SMALL(IF('MEMORIAL DESCRITIVO-BRI'!$E$2:$E$4000=\"Sim\",ROW('MEMORIAL DESCRITIVO-BRI'!$H$2:$H$4000)),ROW(B426))), \"\")","v":""},null,{"$f":"IFERROR(INDEX('MEMORIAL DESCRITIVO-BRI'!S:S,SMALL(IF('MEMORIAL DESCRITIVO-BRI'!$E$2:$E$4000=\"Sim\",ROW('MEMORIAL DESCRITIVO-BRI'!$S$2:$S$4000)),ROW(B426))), \"\")","v":""},{"$f":"IFERROR(INDEX('MEMORIAL DESCRITIVO-BRI'!Z:Z,SMALL(IF('MEMORIAL DESCRITIVO-BRI'!$E$2:$E$4000=\"Sim\",ROW('MEMORIAL DESCRITIVO-BRI'!$Z$2:$Z$4000)),ROW(B426))), \"\")","v":""},{"$f":"IFERROR(INDEX('MEMORIAL DESCRITIVO-BRI'!W:W,SMALL(IF('MEMORIAL DESCRITIVO-BRI'!$E$2:$E$4000=\"Sim\",ROW('MEMORIAL DESCRITIVO-BRI'!$W$2:$W$4000)),ROW(B426))), \"\")","v":""},{"$f":"IFERROR(INDEX('MEMORIAL DESCRITIVO-BRI'!G:G,SMALL(IF('MEMORIAL DESCRITIVO-BRI'!$E$2:$E$4000=\"Sim\",ROW('MEMORIAL DESCRITIVO-BRI'!$G$2:$G$4000)),ROW(B426))), \"\")","v":""},{"$f":"IFERROR(INDEX('MEMORIAL DESCRITIVO-BRI'!P:P,SMALL(IF('MEMORIAL DESCRITIVO-BRI'!$E$2:$E$4000=\"Sim\",ROW('MEMORIAL DESCRITIVO-BRI'!$P$2:$P$4000)),ROW(B426))), \"\")","v":""},{"$f":"IFERROR(INDEX('MEMORIAL DESCRITIVO-BRI'!Q:Q,SMALL(IF('MEMORIAL DESCRITIVO-BRI'!$E$2:$E$4000=\"Sim\",ROW('MEMORIAL DESCRITIVO-BRI'!$Q$2:$Q$4000)),ROW(B426))), \"\")","v":""}]
[null,{"$f":"IFERROR(INDEX('MEMORIAL DESCRITIVO-BRI'!B:B,SMALL(IF('MEMORIAL DESCRITIVO-BRI'!$E$2:$E$4000=\"Sim\",ROW('MEMORIAL DESCRITIVO-BRI'!$B$2:$B$4000)),ROW(B427))), \"\")","v":""},{"$f":"IFERROR(INDEX('MEMORIAL DESCRITIVO-BRI'!I:I,SMALL(IF('MEMORIAL DESCRITIVO-BRI'!$E$2:$E$4000=\"Sim\",ROW('MEMORIAL DESCRITIVO-BRI'!$I$2:$I$4000)),ROW(B427))), \"\")","v":""},{"$f":"IFERROR(INDEX('MEMORIAL DESCRITIVO-BRI'!F:F,SMALL(IF('MEMORIAL DESCRITIVO-BRI'!$E$2:$E$4000=\"Sim\",ROW('MEMORIAL DESCRITIVO-BRI'!$F$2:$F$4000)),ROW(B427))) & \" - \" & INDEX('MEMORIAL DESCRITIVO-BRI'!H:H,SMALL(IF('MEMORIAL DESCRITIVO-BRI'!$E$2:$E$4000=\"Sim\",ROW('MEMORIAL DESCRITIVO-BRI'!$H$2:$H$4000)),ROW(B427))), \"\")","v":""},null,{"$f":"IFERROR(INDEX('MEMORIAL DESCRITIVO-BRI'!S:S,SMALL(IF('MEMORIAL DESCRITIVO-BRI'!$E$2:$E$4000=\"Sim\",ROW('MEMORIAL DESCRITIVO-BRI'!$S$2:$S$4000)),ROW(B427))), \"\")","v":""},{"$f":"IFERROR(INDEX('MEMORIAL DESCRITIVO-BRI'!Z:Z,SMALL(IF('MEMORIAL DESCRITIVO-BRI'!$E$2:$E$4000=\"Sim\",ROW('MEMORIAL DESCRITIVO-BRI'!$Z$2:$Z$4000)),ROW(B427))), \"\")","v":""},{"$f":"IFERROR(INDEX('MEMORIAL DESCRITIVO-BRI'!W:W,SMALL(IF('MEMORIAL DESCRITIVO-BRI'!$E$2:$E$4000=\"Sim\",ROW('MEMORIAL DESCRITIVO-BRI'!$W$2:$W$4000)),ROW(B427))), \"\")","v":""},{"$f":"IFERROR(INDEX('MEMORIAL DESCRITIVO-BRI'!G:G,SMALL(IF('MEMORIAL DESCRITIVO-BRI'!$E$2:$E$4000=\"Sim\",ROW('MEMORIAL DESCRITIVO-BRI'!$G$2:$G$4000)),ROW(B427))), \"\")","v":""},{"$f":"IFERROR(INDEX('MEMORIAL DESCRITIVO-BRI'!P:P,SMALL(IF('MEMORIAL DESCRITIVO-BRI'!$E$2:$E$4000=\"Sim\",ROW('MEMORIAL DESCRITIVO-BRI'!$P$2:$P$4000)),ROW(B427))), \"\")","v":""},{"$f":"IFERROR(INDEX('MEMORIAL DESCRITIVO-BRI'!Q:Q,SMALL(IF('MEMORIAL DESCRITIVO-BRI'!$E$2:$E$4000=\"Sim\",ROW('MEMORIAL DESCRITIVO-BRI'!$Q$2:$Q$4000)),ROW(B427))), \"\")","v":""}]
[null,{"$f":"IFERROR(INDEX('MEMORIAL DESCRITIVO-BRI'!B:B,SMALL(IF('MEMORIAL DESCRITIVO-BRI'!$E$2:$E$4000=\"Sim\",ROW('MEMORIAL DESCRITIVO-BRI'!$B$2:$B$4000)),ROW(B428))), \"\")","v":""},{"$f":"IFERROR(INDEX('MEMORIAL DESCRITIVO-BRI'!I:I,SMALL(IF('MEMORIAL DESCRITIVO-BRI'!$E$2:$E$4000=\"Sim\",ROW('MEMORIAL DESCRITIVO-BRI'!$I$2:$I$4000)),ROW(B428))), \"\")","v":""},{"$f":"IFERROR(INDEX('MEMORIAL DESCRITIVO-BRI'!F:F,SMALL(IF('MEMORIAL DESCRITIVO-BRI'!$E$2:$E$4000=\"Sim\",ROW('MEMORIAL DESCRITIVO-BRI'!$F$2:$F$4000)),ROW(B428))) & \" - \" & INDEX('MEMORIAL DESCRITIVO-BRI'!H:H,SMALL(IF('MEMORIAL DESCRITIVO-BRI'!$E$2:$E$4000=\"Sim\",ROW('MEMORIAL DESCRITIVO-BRI'!$H$2:$H$4000)),ROW(B428))), \"\")","v":""},null,{"$f":"IFERROR(INDEX('MEMORIAL DESCRITIVO-BRI'!S:S,SMALL(IF('MEMORIAL DESCRITIVO-BRI'!$E$2:$E$4000=\"Sim\",ROW('MEMORIAL DESCRITIVO-BRI'!$S$2:$S$4000)),ROW(B428))), \"\")","v":""},{"$f":"IFERROR(INDEX('MEMORIAL DESCRITIVO-BRI'!Z:Z,SMALL(IF('MEMORIAL DESCRITIVO-BRI'!$E$2:$E$4000=\"Sim\",ROW('MEMORIAL DESCRITIVO-BRI'!$Z$2:$Z$4000)),ROW(B428))), \"\")","v":""},{"$f":"IFERROR(INDEX('MEMORIAL DESCRITIVO-BRI'!W:W,SMALL(IF('MEMORIAL DESCRITIVO-BRI'!$E$2:$E$4000=\"Sim\",ROW('MEMORIAL DESCRITIVO-BRI'!$W$2:$W$4000)),ROW(B428))), \"\")","v":""},{"$f":"IFERROR(INDEX('MEMORIAL DESCRITIVO-BRI'!G:G,SMALL(IF('MEMORIAL DESCRITIVO-BRI'!$E$2:$E$4000=\"Sim\",ROW('MEMORIAL DESCRITIVO-BRI'!$G$2:$G$4000)),ROW(B428))), \"\")","v":""},{"$f":"IFERROR(INDEX('MEMORIAL DESCRITIVO-BRI'!P:P,SMALL(IF('MEMORIAL DESCRITIVO-BRI'!$E$2:$E$4000=\"Sim\",ROW('MEMORIAL DESCRITIVO-BRI'!$P$2:$P$4000)),ROW(B428))), \"\")","v":""},{"$f":"IFERROR(INDEX('MEMORIAL DESCRITIVO-BRI'!Q:Q,SMALL(IF('MEMORIAL DESCRITIVO-BRI'!$E$2:$E$4000=\"Sim\",ROW('MEMORIAL DESCRITIVO-BRI'!$Q$2:$Q$4000)),ROW(B428))), \"\")","v":""}]
[null,{"$f":"IFERROR(INDEX('MEMORIAL DESCRITIVO-BRI'!B:B,SMALL(IF('MEMORIAL DESCRITIVO-BRI'!$E$2:$E$4000=\"Sim\",ROW('MEMORIAL DESCRITIVO-BRI'!$B$2:$B$4000)),ROW(B429))), \"\")","v":""},{"$f":"IFERROR(INDEX('MEMORIAL DESCRITIVO-BRI'!I:I,SMALL(IF('MEMORIAL DESCRITIVO-BRI'!$E$2:$E$4000=\"Sim\",ROW('MEMORIAL DESCRITIVO-BRI'!$I$2:$I$4000)),ROW(B429))), \"\")","v":""},{"$f":"IFERROR(INDEX('MEMORIAL DESCRITIVO-BRI'!F:F,SMALL(IF('MEMORIAL DESCRITIVO-BRI'!$E$2:$E$4000=\"Sim\",ROW('MEMORIAL DESCRITIVO-BRI'!$F$2:$F$4000)),ROW(B429))) & \" - \" & INDEX('MEMORIAL DESCRITIVO-BRI'!H:H,SMALL(IF('MEMORIAL DESCRITIVO-BRI'!$E$2:$E$4000=\"Sim\",ROW('MEMORIAL DESCRITIVO-BRI'!$H$2:$H$4000)),ROW(B429))), \"\")","v":""},null,{"$f":"IFERROR(INDEX('MEMORIAL DESCRITIVO-BRI'!S:S,SMALL(IF('MEMORIAL DESCRITIVO-BRI'!$E$2:$E$4000=\"Sim\",ROW('MEMORIAL DESCRITIVO-BRI'!$S$2:$S$4000)),ROW(B429))), \"\")","v":""},{"$f":"IFERROR(INDEX('MEMORIAL DESCRITIVO-BRI'!Z:Z,SMALL(IF('MEMORIAL DESCRITIVO-BRI'!$E$2:$E$4000=\"Sim\",ROW('MEMORIAL DESCRITIVO-BRI'!$Z$2:$Z$4000)),ROW(B429))), \"\")","v":""},{"$f":"IFERROR(INDEX('MEMORIAL DESCRITIVO-BRI'!W:W,SMALL(IF('MEMORIAL DESCRITIVO-BRI'!$E$2:$E$4000=\"Sim\",ROW('MEMORIAL DESCRITIVO-BRI'!$W$2:$W$4000)),ROW(B429))), \"\")","v":""},{"$f":"IFERROR(INDEX('MEMORIAL DESCRITIVO-BRI'!G:G,SMALL(IF('MEMORIAL DESCRITIVO-BRI'!$E$2:$E$4000=\"Sim\",ROW('MEMORIAL DESCRITIVO-BRI'!$G$2:$G$4000)),ROW(B429))), \"\")","v":""},{"$f":"IFERROR(INDEX('MEMORIAL DESCRITIVO-BRI'!P:P,SMALL(IF('MEMORIAL DESCRITIVO-BRI'!$E$2:$E$4000=\"Sim\",ROW('MEMORIAL DESCRITIVO-BRI'!$P$2:$P$4000)),ROW(B429))), \"\")","v":""},{"$f":"IFERROR(INDEX('MEMORIAL DESCRITIVO-BRI'!Q:Q,SMALL(IF('MEMORIAL DESCRITIVO-BRI'!$E$2:$E$4000=\"Sim\",ROW('MEMORIAL DESCRITIVO-BRI'!$Q$2:$Q$4000)),ROW(B429))), \"\")","v":""}]
[null,{"$f":"IFERROR(INDEX('MEMORIAL DESCRITIVO-BRI'!B:B,SMALL(IF('MEMORIAL DESCRITIVO-BRI'!$E$2:$E$4000=\"Sim\",ROW('MEMORIAL DESCRITIVO-BRI'!$B$2:$B$4000)),ROW(B430))), \"\")","v":""},{"$f":"IFERROR(INDEX('MEMORIAL DESCRITIVO-BRI'!I:I,SMALL(IF('MEMORIAL DESCRITIVO-BRI'!$E$2:$E$4000=\"Sim\",ROW('MEMORIAL DESCRITIVO-BRI'!$I$2:$I$4000)),ROW(B430))), \"\")","v":""},{"$f":"IFERROR(INDEX('MEMORIAL DESCRITIVO-BRI'!F:F,SMALL(IF('MEMORIAL DESCRITIVO-BRI'!$E$2:$E$4000=\"Sim\",ROW('MEMORIAL DESCRITIVO-BRI'!$F$2:$F$4000)),ROW(B430))) & \" - \" & INDEX('MEMORIAL DESCRITIVO-BRI'!H:H,SMALL(IF('MEMORIAL DESCRITIVO-BRI'!$E$2:$E$4000=\"Sim\",ROW('MEMORIAL DESCRITIVO-BRI'!$H$2:$H$4000)),ROW(B430))), \"\")","v":""},null,{"$f":"IFERROR(INDEX('MEMORIAL DESCRITIVO-BRI'!S:S,SMALL(IF('MEMORIAL DESCRITIVO-BRI'!$E$2:$E$4000=\"Sim\",ROW('MEMORIAL DESCRITIVO-BRI'!$S$2:$S$4000)),ROW(B430))), \"\")","v":""},{"$f":"IFERROR(INDEX('MEMORIAL DESCRITIVO-BRI'!Z:Z,SMALL(IF('MEMORIAL DESCRITIVO-BRI'!$E$2:$E$4000=\"Sim\",ROW('MEMORIAL DESCRITIVO-BRI'!$Z$2:$Z$4000)),ROW(B430))), \"\")","v":""},{"$f":"IFERROR(INDEX('MEMORIAL DESCRITIVO-BRI'!W:W,SMALL(IF('MEMORIAL DESCRITIVO-BRI'!$E$2:$E$4000=\"Sim\",ROW('MEMORIAL DESCRITIVO-BRI'!$W$2:$W$4000)),ROW(B430))), \"\")","v":""},{"$f":"IFERROR(INDEX('MEMORIAL DESCRITIVO-BRI'!G:G,SMALL(IF('MEMORIAL DESCRITIVO-BRI'!$E$2:$E$4000=\"Sim\",ROW('MEMORIAL DESCRITIVO-BRI'!$G$2:$G$4000)),ROW(B430))), \"\")","v":""},{"$f":"IFERROR(INDEX('MEMORIAL DESCRITIVO-BRI'!P:P,SMALL(IF('MEMORIAL DESCRITIVO-BRI'!$E$2:$E$4000=\"Sim\",ROW('MEMORIAL DESCRITIVO-BRI'!$P$2:$P$4000)),ROW(B430))), \"\")","v":""},{"$f":"IFERROR(INDEX('MEMORIAL DESCRITIVO-BRI'!Q:Q,SMALL(IF('MEMORIAL DESCRITIVO-BRI'!$E$2:$E$4000=\"Sim\",ROW('MEMORIAL DESCRITIVO-BRI'!$Q$2:$Q$4000)),ROW(B430))), \"\")","v":""}]
[null,{"$f":"IFERROR(INDEX('MEMORIAL DESCRITIVO-BRI'!B:B,SMALL(IF('MEMORIAL DESCRITIVO-BRI'!$E$2:$E$4000=\"Sim\",ROW('MEMORIAL DESCRITIVO-BRI'!$B$2:$B$4000)),ROW(B431))), \"\")","v":""},{"$f":"IFERROR(INDEX('MEMORIAL DESCRITIVO-BRI'!I:I,SMALL(IF('MEMORIAL DESCRITIVO-BRI'!$E$2:$E$4000=\"Sim\",ROW('MEMORIAL DESCRITIVO-BRI'!$I$2:$I$4000)),ROW(B431))), \"\")","v":""},{"$f":"IFERROR(INDEX('MEMORIAL DESCRITIVO-BRI'!F:F,SMALL(IF('MEMORIAL DESCRITIVO-BRI'!$E$2:$E$4000=\"Sim\",ROW('MEMORIAL DESCRITIVO-BRI'!$F$2:$F$4000)),ROW(B431))) & \" - \" & INDEX('MEMORIAL DESCRITIVO-BRI'!H:H,SMALL(IF('MEMORIAL DESCRITIVO-BRI'!$E$2:$E$4000=\"Sim\",ROW('MEMORIAL DESCRITIVO-BRI'!$H$2:$H$4000)),ROW(B431))), \"\")","v":""},null,{"$f":"IFERROR(INDEX('MEMORIAL DESCRITIVO-BRI'!S:S,SMALL(IF('MEMORIAL DESCRITIVO-BRI'!$E$2:$E$4000=\"Sim\",ROW('MEMORIAL DESCRITIVO-BRI'!$S$2:$S$4000)),ROW(B431))), \"\")","v":""},{"$f":"IFERROR(INDEX('MEMORIAL DESCRITIVO-BRI'!Z:Z,SMALL(IF('MEMORIAL DESCRITIVO-BRI'!$E$2:$E$4000=\"Sim\",ROW('MEMORIAL DESCRITIVO-BRI'!$Z$2:$Z$4000)),ROW(B431))), \"\")","v":""},{"$f":"IFERROR(INDEX('MEMORIAL DESCRITIVO-BRI'!W:W,SMALL(IF('MEMORIAL DESCRITIVO-BRI'!$E$2:$E$4000=\"Sim\",ROW('MEMORIAL DESCRITIVO-BRI'!$W$2:$W$4000)),ROW(B431))), \"\")","v":""},{"$f":"IFERROR(INDEX('MEMORIAL DESCRITIVO-BRI'!G:G,SMALL(IF('MEMORIAL DESCRITIVO-BRI'!$E$2:$E$4000=\"Sim\",ROW('MEMORIAL DESCRITIVO-BRI'!$G$2:$G$4000)),ROW(B431))), \"\")","v":""},{"$f":"IFERROR(INDEX('MEMORIAL DESCRITIVO-BRI'!P:P,SMALL(IF('MEMORIAL DESCRITIVO-BRI'!$E$2:$E$4000=\"Sim\",ROW('MEMORIAL DESCRITIVO-BRI'!$P$2:$P$4000)),ROW(B431))), \"\")","v":""},{"$f":"IFERROR(INDEX('MEMORIAL DESCRITIVO-BRI'!Q:Q,SMALL(IF('MEMORIAL DESCRITIVO-BRI'!$E$2:$E$4000=\"Sim\",ROW('MEMORIAL DESCRITIVO-BRI'!$Q$2:$Q$4000)),ROW(B431))), \"\")","v":""}]
[null,{"$f":"IFERROR(INDEX('MEMORIAL DESCRITIVO-BRI'!B:B,SMALL(IF('MEMORIAL DESCRITIVO-BRI'!$E$2:$E$4000=\"Sim\",ROW('MEMORIAL DESCRITIVO-BRI'!$B$2:$B$4000)),ROW(B432))), \"\")","v":""},{"$f":"IFERROR(INDEX('MEMORIAL DESCRITIVO-BRI'!I:I,SMALL(IF('MEMORIAL DESCRITIVO-BRI'!$E$2:$E$4000=\"Sim\",ROW('MEMORIAL DESCRITIVO-BRI'!$I$2:$I$4000)),ROW(B432))), \"\")","v":""},{"$f":"IFERROR(INDEX('MEMORIAL DESCRITIVO-BRI'!F:F,SMALL(IF('MEMORIAL DESCRITIVO-BRI'!$E$2:$E$4000=\"Sim\",ROW('MEMORIAL DESCRITIVO-BRI'!$F$2:$F$4000)),ROW(B432))) & \" - \" & INDEX('MEMORIAL DESCRITIVO-BRI'!H:H,SMALL(IF('MEMORIAL DESCRITIVO-BRI'!$E$2:$E$4000=\"Sim\",ROW('MEMORIAL DESCRITIVO-BRI'!$H$2:$H$4000)),ROW(B432))), \"\")","v":""},null,{"$f":"IFERROR(INDEX('MEMORIAL DESCRITIVO-BRI'!S:S,SMALL(IF('MEMORIAL DESCRITIVO-BRI'!$E$2:$E$4000=\"Sim\",ROW('MEMORIAL DESCRITIVO-BRI'!$S$2:$S$4000)),ROW(B432))), \"\")","v":""},{"$f":"IFERROR(INDEX('MEMORIAL DESCRITIVO-BRI'!Z:Z,SMALL(IF('MEMORIAL DESCRITIVO-BRI'!$E$2:$E$4000=\"Sim\",ROW('MEMORIAL DESCRITIVO-BRI'!$Z$2:$Z$4000)),ROW(B432))), \"\")","v":""},{"$f":"IFERROR(INDEX('MEMORIAL DESCRITIVO-BRI'!W:W,SMALL(IF('MEMORIAL DESCRITIVO-BRI'!$E$2:$E$4000=\"Sim\",ROW('MEMORIAL DESCRITIVO-BRI'!$W$2:$W$4000)),ROW(B432))), \"\")","v":""},{"$f":"IFERROR(INDEX('MEMORIAL DESCRITIVO-BRI'!G:G,SMALL(IF('MEMORIAL DESCRITIVO-BRI'!$E$2:$E$4000=\"Sim\",ROW('MEMORIAL DESCRITIVO-BRI'!$G$2:$G$4000)),ROW(B432))), \"\")","v":""},{"$f":"IFERROR(INDEX('MEMORIAL DESCRITIVO-BRI'!P:P,SMALL(IF('MEMORIAL DESCRITIVO-BRI'!$E$2:$E$4000=\"Sim\",ROW('MEMORIAL DESCRITIVO-BRI'!$P$2:$P$4000)),ROW(B432))), \"\")","v":""},{"$f":"IFERROR(INDEX('MEMORIAL DESCRITIVO-BRI'!Q:Q,SMALL(IF('MEMORIAL DESCRITIVO-BRI'!$E$2:$E$4000=\"Sim\",ROW('MEMORIAL DESCRITIVO-BRI'!$Q$2:$Q$4000)),ROW(B432))), \"\")","v":""}]
[null,{"$f":"IFERROR(INDEX('MEMORIAL DESCRITIVO-BRI'!B:B,SMALL(IF('MEMORIAL DESCRITIVO-BRI'!$E$2:$E$4000=\"Sim\",ROW('MEMORIAL DESCRITIVO-BRI'!$B$2:$B$4000)),ROW(B433))), \"\")","v":""},{"$f":"IFERROR(INDEX('MEMORIAL DESCRITIVO-BRI'!I:I,SMALL(IF('MEMORIAL DESCRITIVO-BRI'!$E$2:$E$4000=\"Sim\",ROW('MEMORIAL DESCRITIVO-BRI'!$I$2:$I$4000)),ROW(B433))), \"\")","v":""},{"$f":"IFERROR(INDEX('MEMORIAL DESCRITIVO-BRI'!F:F,SMALL(IF('MEMORIAL DESCRITIVO-BRI'!$E$2:$E$4000=\"Sim\",ROW('MEMORIAL DESCRITIVO-BRI'!$F$2:$F$4000)),ROW(B433))) & \" - \" & INDEX('MEMORIAL DESCRITIVO-BRI'!H:H,SMALL(IF('MEMORIAL DESCRITIVO-BRI'!$E$2:$E$4000=\"Sim\",ROW('MEMORIAL DESCRITIVO-BRI'!$H$2:$H$4000)),ROW(B433))), \"\")","v":""},null,{"$f":"IFERROR(INDEX('MEMORIAL DESCRITIVO-BRI'!S:S,SMALL(IF('MEMORIAL DESCRITIVO-BRI'!$E$2:$E$4000=\"Sim\",ROW('MEMORIAL DESCRITIVO-BRI'!$S$2:$S$4000)),ROW(B433))), \"\")","v":""},{"$f":"IFERROR(INDEX('MEMORIAL DESCRITIVO-BRI'!Z:Z,SMALL(IF('MEMORIAL DESCRITIVO-BRI'!$E$2:$E$4000=\"Sim\",ROW('MEMORIAL DESCRITIVO-BRI'!$Z$2:$Z$4000)),ROW(B433))), \"\")","v":""},{"$f":"IFERROR(INDEX('MEMORIAL DESCRITIVO-BRI'!W:W,SMALL(IF('MEMORIAL DESCRITIVO-BRI'!$E$2:$E$4000=\"Sim\",ROW('MEMORIAL DESCRITIVO-BRI'!$W$2:$W$4000)),ROW(B433))), \"\")","v":""},{"$f":"IFERROR(INDEX('MEMORIAL DESCRITIVO-BRI'!G:G,SMALL(IF('MEMORIAL DESCRITIVO-BRI'!$E$2:$E$4000=\"Sim\",ROW('MEMORIAL DESCRITIVO-BRI'!$G$2:$G$4000)),ROW(B433))), \"\")","v":""},{"$f":"IFERROR(INDEX('MEMORIAL DESCRITIVO-BRI'!P:P,SMALL(IF('MEMORIAL DESCRITIVO-BRI'!$E$2:$E$4000=\"Sim\",ROW('MEMORIAL DESCRITIVO-BRI'!$P$2:$P$4000)),ROW(B433))), \"\")","v":""},{"$f":"IFERROR(INDEX('MEMORIAL DESCRITIVO-BRI'!Q:Q,SMALL(IF('MEMORIAL DESCRITIVO-BRI'!$E$2:$E$4000=\"Sim\",ROW('MEMORIAL DESCRITIVO-BRI'!$Q$2:$Q$4000)),ROW(B433))), \"\")","v":""}]
[null,{"$f":"IFERROR(INDEX('MEMORIAL DESCRITIVO-BRI'!B:B,SMALL(IF('MEMORIAL DESCRITIVO-BRI'!$E$2:$E$4000=\"Sim\",ROW('MEMORIAL DESCRITIVO-BRI'!$B$2:$B$4000)),ROW(B434))), \"\")","v":""},{"$f":"IFERROR(INDEX('MEMORIAL DESCRITIVO-BRI'!I:I,SMALL(IF('MEMORIAL DESCRITIVO-BRI'!$E$2:$E$4000=\"Sim\",ROW('MEMORIAL DESCRITIVO-BRI'!$I$2:$I$4000)),ROW(B434))), \"\")","v":""},{"$f":"IFERROR(INDEX('MEMORIAL DESCRITIVO-BRI'!F:F,SMALL(IF('MEMORIAL DESCRITIVO-BRI'!$E$2:$E$4000=\"Sim\",ROW('MEMORIAL DESCRITIVO-BRI'!$F$2:$F$4000)),ROW(B434))) & \" - \" & INDEX('MEMORIAL DESCRITIVO-BRI'!H:H,SMALL(IF('MEMORIAL DESCRITIVO-BRI'!$E$2:$E$4000=\"Sim\",ROW('MEMORIAL DESCRITIVO-BRI'!$H$2:$H$4000)),ROW(B434))), \"\")","v":""},null,{"$f":"IFERROR(INDEX('MEMORIAL DESCRITIVO-BRI'!S:S,SMALL(IF('MEMORIAL DESCRITIVO-BRI'!$E$2:$E$4000=\"Sim\",ROW('MEMORIAL DESCRITIVO-BRI'!$S$2:$S$4000)),ROW(B434))), \"\")","v":""},{"$f":"IFERROR(INDEX('MEMORIAL DESCRITIVO-BRI'!Z:Z,SMALL(IF('MEMORIAL DESCRITIVO-BRI'!$E$2:$E$4000=\"Sim\",ROW('MEMORIAL DESCRITIVO-BRI'!$Z$2:$Z$4000)),ROW(B434))), \"\")","v":""},{"$f":"IFERROR(INDEX('MEMORIAL DESCRITIVO-BRI'!W:W,SMALL(IF('MEMORIAL DESCRITIVO-BRI'!$E$2:$E$4000=\"Sim\",ROW('MEMORIAL DESCRITIVO-BRI'!$W$2:$W$4000)),ROW(B434))), \"\")","v":""},{"$f":"IFERROR(INDEX('MEMORIAL DESCRITIVO-BRI'!G:G,SMALL(IF('MEMORIAL DESCRITIVO-BRI'!$E$2:$E$4000=\"Sim\",ROW('MEMORIAL DESCRITIVO-BRI'!$G$2:$G$4000)),ROW(B434))), \"\")","v":""},{"$f":"IFERROR(INDEX('MEMORIAL DESCRITIVO-BRI'!P:P,SMALL(IF('MEMORIAL DESCRITIVO-BRI'!$E$2:$E$4000=\"Sim\",ROW('MEMORIAL DESCRITIVO-BRI'!$P$2:$P$4000)),ROW(B434))), \"\")","v":""},{"$f":"IFERROR(INDEX('MEMORIAL DESCRITIVO-BRI'!Q:Q,SMALL(IF('MEMORIAL DESCRITIVO-BRI'!$E$2:$E$4000=\"Sim\",ROW('MEMORIAL DESCRITIVO-BRI'!$Q$2:$Q$4000)),ROW(B434))), \"\")","v":""}]
[null,{"$f":"IFERROR(INDEX('MEMORIAL DESCRITIVO-BRI'!B:B,SMALL(IF('MEMORIAL DESCRITIVO-BRI'!$E$2:$E$4000=\"Sim\",ROW('MEMORIAL DESCRITIVO-BRI'!$B$2:$B$4000)),ROW(B435))), \"\")","v":""},{"$f":"IFERROR(INDEX('MEMORIAL DESCRITIVO-BRI'!I:I,SMALL(IF('MEMORIAL DESCRITIVO-BRI'!$E$2:$E$4000=\"Sim\",ROW('MEMORIAL DESCRITIVO-BRI'!$I$2:$I$4000)),ROW(B435))), \"\")","v":""},{"$f":"IFERROR(INDEX('MEMORIAL DESCRITIVO-BRI'!F:F,SMALL(IF('MEMORIAL DESCRITIVO-BRI'!$E$2:$E$4000=\"Sim\",ROW('MEMORIAL DESCRITIVO-BRI'!$F$2:$F$4000)),ROW(B435))) & \" - \" & INDEX('MEMORIAL DESCRITIVO-BRI'!H:H,SMALL(IF('MEMORIAL DESCRITIVO-BRI'!$E$2:$E$4000=\"Sim\",ROW('MEMORIAL DESCRITIVO-BRI'!$H$2:$H$4000)),ROW(B435))), \"\")","v":""},null,{"$f":"IFERROR(INDEX('MEMORIAL DESCRITIVO-BRI'!S:S,SMALL(IF('MEMORIAL DESCRITIVO-BRI'!$E$2:$E$4000=\"Sim\",ROW('MEMORIAL DESCRITIVO-BRI'!$S$2:$S$4000)),ROW(B435))), \"\")","v":""},{"$f":"IFERROR(INDEX('MEMORIAL DESCRITIVO-BRI'!Z:Z,SMALL(IF('MEMORIAL DESCRITIVO-BRI'!$E$2:$E$4000=\"Sim\",ROW('MEMORIAL DESCRITIVO-BRI'!$Z$2:$Z$4000)),ROW(B435))), \"\")","v":""},{"$f":"IFERROR(INDEX('MEMORIAL DESCRITIVO-BRI'!W:W,SMALL(IF('MEMORIAL DESCRITIVO-BRI'!$E$2:$E$4000=\"Sim\",ROW('MEMORIAL DESCRITIVO-BRI'!$W$2:$W$4000)),ROW(B435))), \"\")","v":""},{"$f":"IFERROR(INDEX('MEMORIAL DESCRITIVO-BRI'!G:G,SMALL(IF('MEMORIAL DESCRITIVO-BRI'!$E$2:$E$4000=\"Sim\",ROW('MEMORIAL DESCRITIVO-BRI'!$G$2:$G$4000)),ROW(B435))), \"\")","v":""},{"$f":"IFERROR(INDEX('MEMORIAL DESCRITIVO-BRI'!P:P,SMALL(IF('MEMORIAL DESCRITIVO-BRI'!$E$2:$E$4000=\"Sim\",ROW('MEMORIAL DESCRITIVO-BRI'!$P$2:$P$4000)),ROW(B435))), \"\")","v":""},{"$f":"IFERROR(INDEX('MEMORIAL DESCRITIVO-BRI'!Q:Q,SMALL(IF('MEMORIAL DESCRITIVO-BRI'!$E$2:$E$4000=\"Sim\",ROW('MEMORIAL DESCRITIVO-BRI'!$Q$2:$Q$4000)),ROW(B435))), \"\")","v":""}]
[null,{"$f":"IFERROR(INDEX('MEMORIAL DESCRITIVO-BRI'!B:B,SMALL(IF('MEMORIAL DESCRITIVO-BRI'!$E$2:$E$4000=\"Sim\",ROW('MEMORIAL DESCRITIVO-BRI'!$B$2:$B$4000)),ROW(B436))), \"\")","v":""},{"$f":"IFERROR(INDEX('MEMORIAL DESCRITIVO-BRI'!I:I,SMALL(IF('MEMORIAL DESCRITIVO-BRI'!$E$2:$E$4000=\"Sim\",ROW('MEMORIAL DESCRITIVO-BRI'!$I$2:$I$4000)),ROW(B436))), \"\")","v":""},{"$f":"IFERROR(INDEX('MEMORIAL DESCRITIVO-BRI'!F:F,SMALL(IF('MEMORIAL DESCRITIVO-BRI'!$E$2:$E$4000=\"Sim\",ROW('MEMORIAL DESCRITIVO-BRI'!$F$2:$F$4000)),ROW(B436))) & \" - \" & INDEX('MEMORIAL DESCRITIVO-BRI'!H:H,SMALL(IF('MEMORIAL DESCRITIVO-BRI'!$E$2:$E$4000=\"Sim\",ROW('MEMORIAL DESCRITIVO-BRI'!$H$2:$H$4000)),ROW(B436))), \"\")","v":""},null,{"$f":"IFERROR(INDEX('MEMORIAL DESCRITIVO-BRI'!S:S,SMALL(IF('MEMORIAL DESCRITIVO-BRI'!$E$2:$E$4000=\"Sim\",ROW('MEMORIAL DESCRITIVO-BRI'!$S$2:$S$4000)),ROW(B436))), \"\")","v":""},{"$f":"IFERROR(INDEX('MEMORIAL DESCRITIVO-BRI'!Z:Z,SMALL(IF('MEMORIAL DESCRITIVO-BRI'!$E$2:$E$4000=\"Sim\",ROW('MEMORIAL DESCRITIVO-BRI'!$Z$2:$Z$4000)),ROW(B436))), \"\")","v":""},{"$f":"IFERROR(INDEX('MEMORIAL DESCRITIVO-BRI'!W:W,SMALL(IF('MEMORIAL DESCRITIVO-BRI'!$E$2:$E$4000=\"Sim\",ROW('MEMORIAL DESCRITIVO-BRI'!$W$2:$W$4000)),ROW(B436))), \"\")","v":""},{"$f":"IFERROR(INDEX('MEMORIAL DESCRITIVO-BRI'!G:G,SMALL(IF('MEMORIAL DESCRITIVO-BRI'!$E$2:$E$4000=\"Sim\",ROW('MEMORIAL DESCRITIVO-BRI'!$G$2:$G$4000)),ROW(B436))), \"\")","v":""},{"$f":"IFERROR(INDEX('MEMORIAL DESCRITIVO-BRI'!P:P,SMALL(IF('MEMORIAL DESCRITIVO-BRI'!$E$2:$E$4000=\"Sim\",ROW('MEMORIAL DESCRITIVO-BRI'!$P$2:$P$4000)),ROW(B436))), \"\")","v":""},{"$f":"IFERROR(INDEX('MEMORIAL DESCRITIVO-BRI'!Q:Q,SMALL(IF('MEMORIAL DESCRITIVO-BRI'!$E$2:$E$4000=\"Sim\",ROW('MEMORIAL DESCRITIVO-BRI'!$Q$2:$Q$4000)),ROW(B436))), \"\")","v":""}]
[null,{"$f":"IFERROR(INDEX('MEMORIAL DESCRITIVO-BRI'!B:B,SMALL(IF('MEMORIAL DESCRITIVO-BRI'!$E$2:$E$4000=\"Sim\",ROW('MEMORIAL DESCRITIVO-BRI'!$B$2:$B$4000)),ROW(B437))), \"\")","v":""},{"$f":"IFERROR(INDEX('MEMORIAL DESCRITIVO-BRI'!I:I,SMALL(IF('MEMORIAL DESCRITIVO-BRI'!$E$2:$E$4000=\"Sim\",ROW('MEMORIAL DESCRITIVO-BRI'!$I$2:$I$4000)),ROW(B437))), \"\")","v":""},{"$f":"IFERROR(INDEX('MEMORIAL DESCRITIVO-BRI'!F:F,SMALL(IF('MEMORIAL DESCRITIVO-BRI'!$E$2:$E$4000=\"Sim\",ROW('MEMORIAL DESCRITIVO-BRI'!$F$2:$F$4000)),ROW(B437))) & \" - \" & INDEX('MEMORIAL DESCRITIVO-BRI'!H:H,SMALL(IF('MEMORIAL DESCRITIVO-BRI'!$E$2:$E$4000=\"Sim\",ROW('MEMORIAL DESCRITIVO-BRI'!$H$2:$H$4000)),ROW(B437))), \"\")","v":""},null,{"$f":"IFERROR(INDEX('MEMORIAL DESCRITIVO-BRI'!S:S,SMALL(IF('MEMORIAL DESCRITIVO-BRI'!$E$2:$E$4000=\"Sim\",ROW('MEMORIAL DESCRITIVO-BRI'!$S$2:$S$4000)),ROW(B437))), \"\")","v":""},{"$f":"IFERROR(INDEX('MEMORIAL DESCRITIVO-BRI'!Z:Z,SMALL(IF('MEMORIAL DESCRITIVO-BRI'!$E$2:$E$4000=\"Sim\",ROW('MEMORIAL DESCRITIVO-BRI'!$Z$2:$Z$4000)),ROW(B437))), \"\")","v":""},{"$f":"IFERROR(INDEX('MEMORIAL DESCRITIVO-BRI'!W:W,SMALL(IF('MEMORIAL DESCRITIVO-BRI'!$E$2:$E$4000=\"Sim\",ROW('MEMORIAL DESCRITIVO-BRI'!$W$2:$W$4000)),ROW(B437))), \"\")","v":""},{"$f":"IFERROR(INDEX('MEMORIAL DESCRITIVO-BRI'!G:G,SMALL(IF('MEMORIAL DESCRITIVO-BRI'!$E$2:$E$4000=\"Sim\",ROW('MEMORIAL DESCRITIVO-BRI'!$G$2:$G$4000)),ROW(B437))), \"\")","v":""},{"$f":"IFERROR(INDEX('MEMORIAL DESCRITIVO-BRI'!P:P,SMALL(IF('MEMORIAL DESCRITIVO-BRI'!$E$2:$E$4000=\"Sim\",ROW('MEMORIAL DESCRITIVO-BRI'!$P$2:$P$4000)),ROW(B437))), \"\")","v":""},{"$f":"IFERROR(INDEX('MEMORIAL DESCRITIVO-BRI'!Q:Q,SMALL(IF('MEMORIAL DESCRITIVO-BRI'!$E$2:$E$4000=\"Sim\",ROW('MEMORIAL DESCRITIVO-BRI'!$Q$2:$Q$4000)),ROW(B437))), \"\")","v":""}]
[null,{"$f":"IFERROR(INDEX('MEMORIAL DESCRITIVO-BRI'!B:B,SMALL(IF('MEMORIAL DESCRITIVO-BRI'!$E$2:$E$4000=\"Sim\",ROW('MEMORIAL DESCRITIVO-BRI'!$B$2:$B$4000)),ROW(B438))), \"\")","v":""},{"$f":"IFERROR(INDEX('MEMORIAL DESCRITIVO-BRI'!I:I,SMALL(IF('MEMORIAL DESCRITIVO-BRI'!$E$2:$E$4000=\"Sim\",ROW('MEMORIAL DESCRITIVO-BRI'!$I$2:$I$4000)),ROW(B438))), \"\")","v":""},{"$f":"IFERROR(INDEX('MEMORIAL DESCRITIVO-BRI'!F:F,SMALL(IF('MEMORIAL DESCRITIVO-BRI'!$E$2:$E$4000=\"Sim\",ROW('MEMORIAL DESCRITIVO-BRI'!$F$2:$F$4000)),ROW(B438))) & \" - \" & INDEX('MEMORIAL DESCRITIVO-BRI'!H:H,SMALL(IF('MEMORIAL DESCRITIVO-BRI'!$E$2:$E$4000=\"Sim\",ROW('MEMORIAL DESCRITIVO-BRI'!$H$2:$H$4000)),ROW(B438))), \"\")","v":""},null,{"$f":"IFERROR(INDEX('MEMORIAL DESCRITIVO-BRI'!S:S,SMALL(IF('MEMORIAL DESCRITIVO-BRI'!$E$2:$E$4000=\"Sim\",ROW('MEMORIAL DESCRITIVO-BRI'!$S$2:$S$4000)),ROW(B438))), \"\")","v":""},{"$f":"IFERROR(INDEX('MEMORIAL DESCRITIVO-BRI'!Z:Z,SMALL(IF('MEMORIAL DESCRITIVO-BRI'!$E$2:$E$4000=\"Sim\",ROW('MEMORIAL DESCRITIVO-BRI'!$Z$2:$Z$4000)),ROW(B438))), \"\")","v":""},{"$f":"IFERROR(INDEX('MEMORIAL DESCRITIVO-BRI'!W:W,SMALL(IF('MEMORIAL DESCRITIVO-BRI'!$E$2:$E$4000=\"Sim\",ROW('MEMORIAL DESCRITIVO-BRI'!$W$2:$W$4000)),ROW(B438))), \"\")","v":""},{"$f":"IFERROR(INDEX('MEMORIAL DESCRITIVO-BRI'!G:G,SMALL(IF('MEMORIAL DESCRITIVO-BRI'!$E$2:$E$4000=\"Sim\",ROW('MEMORIAL DESCRITIVO-BRI'!$G$2:$G$4000)),ROW(B438))), \"\")","v":""},{"$f":"IFERROR(INDEX('MEMORIAL DESCRITIVO-BRI'!P:P,SMALL(IF('MEMORIAL DESCRITIVO-BRI'!$E$2:$E$4000=\"Sim\",ROW('MEMORIAL DESCRITIVO-BRI'!$P$2:$P$4000)),ROW(B438))), \"\")","v":""},{"$f":"IFERROR(INDEX('MEMORIAL DESCRITIVO-BRI'!Q:Q,SMALL(IF('MEMORIAL DESCRITIVO-BRI'!$E$2:$E$4000=\"Sim\",ROW('MEMORIAL DESCRITIVO-BRI'!$Q$2:$Q$4000)),ROW(B438))), \"\")","v":""}]
[null,{"$f":"IFERROR(INDEX('MEMORIAL DESCRITIVO-BRI'!B:B,SMALL(IF('MEMORIAL DESCRITIVO-BRI'!$E$2:$E$4000=\"Sim\",ROW('MEMORIAL DESCRITIVO-BRI'!$B$2:$B$4000)),ROW(B439))), \"\")","v":""},{"$f":"IFERROR(INDEX('MEMORIAL DESCRITIVO-BRI'!I:I,SMALL(IF('MEMORIAL DESCRITIVO-BRI'!$E$2:$E$4000=\"Sim\",ROW('MEMORIAL DESCRITIVO-BRI'!$I$2:$I$4000)),ROW(B439))), \"\")","v":""},{"$f":"IFERROR(INDEX('MEMORIAL DESCRITIVO-BRI'!F:F,SMALL(IF('MEMORIAL DESCRITIVO-BRI'!$E$2:$E$4000=\"Sim\",ROW('MEMORIAL DESCRITIVO-BRI'!$F$2:$F$4000)),ROW(B439))) & \" - \" & INDEX('MEMORIAL DESCRITIVO-BRI'!H:H,SMALL(IF('MEMORIAL DESCRITIVO-BRI'!$E$2:$E$4000=\"Sim\",ROW('MEMORIAL DESCRITIVO-BRI'!$H$2:$H$4000)),ROW(B439))), \"\")","v":""},null,{"$f":"IFERROR(INDEX('MEMORIAL DESCRITIVO-BRI'!S:S,SMALL(IF('MEMORIAL DESCRITIVO-BRI'!$E$2:$E$4000=\"Sim\",ROW('MEMORIAL DESCRITIVO-BRI'!$S$2:$S$4000)),ROW(B439))), \"\")","v":""},{"$f":"IFERROR(INDEX('MEMORIAL DESCRITIVO-BRI'!Z:Z,SMALL(IF('MEMORIAL DESCRITIVO-BRI'!$E$2:$E$4000=\"Sim\",ROW('MEMORIAL DESCRITIVO-BRI'!$Z$2:$Z$4000)),ROW(B439))), \"\")","v":""},{"$f":"IFERROR(INDEX('MEMORIAL DESCRITIVO-BRI'!W:W,SMALL(IF('MEMORIAL DESCRITIVO-BRI'!$E$2:$E$4000=\"Sim\",ROW('MEMORIAL DESCRITIVO-BRI'!$W$2:$W$4000)),ROW(B439))), \"\")","v":""},{"$f":"IFERROR(INDEX('MEMORIAL DESCRITIVO-BRI'!G:G,SMALL(IF('MEMORIAL DESCRITIVO-BRI'!$E$2:$E$4000=\"Sim\",ROW('MEMORIAL DESCRITIVO-BRI'!$G$2:$G$4000)),ROW(B439))), \"\")","v":""},{"$f":"IFERROR(INDEX('MEMORIAL DESCRITIVO-BRI'!P:P,SMALL(IF('MEMORIAL DESCRITIVO-BRI'!$E$2:$E$4000=\"Sim\",ROW('MEMORIAL DESCRITIVO-BRI'!$P$2:$P$4000)),ROW(B439))), \"\")","v":""},{"$f":"IFERROR(INDEX('MEMORIAL DESCRITIVO-BRI'!Q:Q,SMALL(IF('MEMORIAL DESCRITIVO-BRI'!$E$2:$E$4000=\"Sim\",ROW('MEMORIAL DESCRITIVO-BRI'!$Q$2:$Q$4000)),ROW(B439))), \"\")","v":""}]
[null,{"$f":"IFERROR(INDEX('MEMORIAL DESCRITIVO-BRI'!B:B,SMALL(IF('MEMORIAL DESCRITIVO-BRI'!$E$2:$E$4000=\"Sim\",ROW('MEMORIAL DESCRITIVO-BRI'!$B$2:$B$4000)),ROW(B440))), \"\")","v":""},{"$f":"IFERROR(INDEX('MEMORIAL DESCRITIVO-BRI'!I:I,SMALL(IF('MEMORIAL DESCRITIVO-BRI'!$E$2:$E$4000=\"Sim\",ROW('MEMORIAL DESCRITIVO-BRI'!$I$2:$I$4000)),ROW(B440))), \"\")","v":""},{"$f":"IFERROR(INDEX('MEMORIAL DESCRITIVO-BRI'!F:F,SMALL(IF('MEMORIAL DESCRITIVO-BRI'!$E$2:$E$4000=\"Sim\",ROW('MEMORIAL DESCRITIVO-BRI'!$F$2:$F$4000)),ROW(B440))) & \" - \" & INDEX('MEMORIAL DESCRITIVO-BRI'!H:H,SMALL(IF('MEMORIAL DESCRITIVO-BRI'!$E$2:$E$4000=\"Sim\",ROW('MEMORIAL DESCRITIVO-BRI'!$H$2:$H$4000)),ROW(B440))), \"\")","v":""},null,{"$f":"IFERROR(INDEX('MEMORIAL DESCRITIVO-BRI'!S:S,SMALL(IF('MEMORIAL DESCRITIVO-BRI'!$E$2:$E$4000=\"Sim\",ROW('MEMORIAL DESCRITIVO-BRI'!$S$2:$S$4000)),ROW(B440))), \"\")","v":""},{"$f":"IFERROR(INDEX('MEMORIAL DESCRITIVO-BRI'!Z:Z,SMALL(IF('MEMORIAL DESCRITIVO-BRI'!$E$2:$E$4000=\"Sim\",ROW('MEMORIAL DESCRITIVO-BRI'!$Z$2:$Z$4000)),ROW(B440))), \"\")","v":""},{"$f":"IFERROR(INDEX('MEMORIAL DESCRITIVO-BRI'!W:W,SMALL(IF('MEMORIAL DESCRITIVO-BRI'!$E$2:$E$4000=\"Sim\",ROW('MEMORIAL DESCRITIVO-BRI'!$W$2:$W$4000)),ROW(B440))), \"\")","v":""},{"$f":"IFERROR(INDEX('MEMORIAL DESCRITIVO-BRI'!G:G,SMALL(IF('MEMORIAL DESCRITIVO-BRI'!$E$2:$E$4000=\"Sim\",ROW('MEMORIAL DESCRITIVO-BRI'!$G$2:$G$4000)),ROW(B440))), \"\")","v":""},{"$f":"IFERROR(INDEX('MEMORIAL DESCRITIVO-BRI'!P:P,SMALL(IF('MEMORIAL DESCRITIVO-BRI'!$E$2:$E$4000=\"Sim\",ROW('MEMORIAL DESCRITIVO-BRI'!$P$2:$P$4000)),ROW(B440))), \"\")","v":""},{"$f":"IFERROR(INDEX('MEMORIAL DESCRITIVO-BRI'!Q:Q,SMALL(IF('MEMORIAL DESCRITIVO-BRI'!$E$2:$E$4000=\"Sim\",ROW('MEMORIAL DESCRITIVO-BRI'!$Q$2:$Q$4000)),ROW(B440))), \"\")","v":""}]
[null,{"$f":"IFERROR(INDEX('MEMORIAL DESCRITIVO-BRI'!B:B,SMALL(IF('MEMORIAL DESCRITIVO-BRI'!$E$2:$E$4000=\"Sim\",ROW('MEMORIAL DESCRITIVO-BRI'!$B$2:$B$4000)),ROW(B441))), \"\")","v":""},{"$f":"IFERROR(INDEX('MEMORIAL DESCRITIVO-BRI'!I:I,SMALL(IF('MEMORIAL DESCRITIVO-BRI'!$E$2:$E$4000=\"Sim\",ROW('MEMORIAL DESCRITIVO-BRI'!$I$2:$I$4000)),ROW(B441))), \"\")","v":""},{"$f":"IFERROR(INDEX('MEMORIAL DESCRITIVO-BRI'!F:F,SMALL(IF('MEMORIAL DESCRITIVO-BRI'!$E$2:$E$4000=\"Sim\",ROW('MEMORIAL DESCRITIVO-BRI'!$F$2:$F$4000)),ROW(B441))) & \" - \" & INDEX('MEMORIAL DESCRITIVO-BRI'!H:H,SMALL(IF('MEMORIAL DESCRITIVO-BRI'!$E$2:$E$4000=\"Sim\",ROW('MEMORIAL DESCRITIVO-BRI'!$H$2:$H$4000)),ROW(B441))), \"\")","v":""},null,{"$f":"IFERROR(INDEX('MEMORIAL DESCRITIVO-BRI'!S:S,SMALL(IF('MEMORIAL DESCRITIVO-BRI'!$E$2:$E$4000=\"Sim\",ROW('MEMORIAL DESCRITIVO-BRI'!$S$2:$S$4000)),ROW(B441))), \"\")","v":""},{"$f":"IFERROR(INDEX('MEMORIAL DESCRITIVO-BRI'!Z:Z,SMALL(IF('MEMORIAL DESCRITIVO-BRI'!$E$2:$E$4000=\"Sim\",ROW('MEMORIAL DESCRITIVO-BRI'!$Z$2:$Z$4000)),ROW(B441))), \"\")","v":""},{"$f":"IFERROR(INDEX('MEMORIAL DESCRITIVO-BRI'!W:W,SMALL(IF('MEMORIAL DESCRITIVO-BRI'!$E$2:$E$4000=\"Sim\",ROW('MEMORIAL DESCRITIVO-BRI'!$W$2:$W$4000)),ROW(B441))), \"\")","v":""},{"$f":"IFERROR(INDEX('MEMORIAL DESCRITIVO-BRI'!G:G,SMALL(IF('MEMORIAL DESCRITIVO-BRI'!$E$2:$E$4000=\"Sim\",ROW('MEMORIAL DESCRITIVO-BRI'!$G$2:$G$4000)),ROW(B441))), \"\")","v":""},{"$f":"IFERROR(INDEX('MEMORIAL DESCRITIVO-BRI'!P:P,SMALL(IF('MEMORIAL DESCRITIVO-BRI'!$E$2:$E$4000=\"Sim\",ROW('MEMORIAL DESCRITIVO-BRI'!$P$2:$P$4000)),ROW(B441))), \"\")","v":""},{"$f":"IFERROR(INDEX('MEMORIAL DESCRITIVO-BRI'!Q:Q,SMALL(IF('MEMORIAL DESCRITIVO-BRI'!$E$2:$E$4000=\"Sim\",ROW('MEMORIAL DESCRITIVO-BRI'!$Q$2:$Q$4000)),ROW(B441))), \"\")","v":""}]
[null,{"$f":"IFERROR(INDEX('MEMORIAL DESCRITIVO-BRI'!B:B,SMALL(IF('MEMORIAL DESCRITIVO-BRI'!$E$2:$E$4000=\"Sim\",ROW('MEMORIAL DESCRITIVO-BRI'!$B$2:$B$4000)),ROW(B442))), \"\")","v":""},{"$f":"IFERROR(INDEX('MEMORIAL DESCRITIVO-BRI'!I:I,SMALL(IF('MEMORIAL DESCRITIVO-BRI'!$E$2:$E$4000=\"Sim\",ROW('MEMORIAL DESCRITIVO-BRI'!$I$2:$I$4000)),ROW(B442))), \"\")","v":""},{"$f":"IFERROR(INDEX('MEMORIAL DESCRITIVO-BRI'!F:F,SMALL(IF('MEMORIAL DESCRITIVO-BRI'!$E$2:$E$4000=\"Sim\",ROW('MEMORIAL DESCRITIVO-BRI'!$F$2:$F$4000)),ROW(B442))) & \" - \" & INDEX('MEMORIAL DESCRITIVO-BRI'!H:H,SMALL(IF('MEMORIAL DESCRITIVO-BRI'!$E$2:$E$4000=\"Sim\",ROW('MEMORIAL DESCRITIVO-BRI'!$H$2:$H$4000)),ROW(B442))), \"\")","v":""},null,{"$f":"IFERROR(INDEX('MEMORIAL DESCRITIVO-BRI'!S:S,SMALL(IF('MEMORIAL DESCRITIVO-BRI'!$E$2:$E$4000=\"Sim\",ROW('MEMORIAL DESCRITIVO-BRI'!$S$2:$S$4000)),ROW(B442))), \"\")","v":""},{"$f":"IFERROR(INDEX('MEMORIAL DESCRITIVO-BRI'!Z:Z,SMALL(IF('MEMORIAL DESCRITIVO-BRI'!$E$2:$E$4000=\"Sim\",ROW('MEMORIAL DESCRITIVO-BRI'!$Z$2:$Z$4000)),ROW(B442))), \"\")","v":""},{"$f":"IFERROR(INDEX('MEMORIAL DESCRITIVO-BRI'!W:W,SMALL(IF('MEMORIAL DESCRITIVO-BRI'!$E$2:$E$4000=\"Sim\",ROW('MEMORIAL DESCRITIVO-BRI'!$W$2:$W$4000)),ROW(B442))), \"\")","v":""},{"$f":"IFERROR(INDEX('MEMORIAL DESCRITIVO-BRI'!G:G,SMALL(IF('MEMORIAL DESCRITIVO-BRI'!$E$2:$E$4000=\"Sim\",ROW('MEMORIAL DESCRITIVO-BRI'!$G$2:$G$4000)),ROW(B442))), \"\")","v":""},{"$f":"IFERROR(INDEX('MEMORIAL DESCRITIVO-BRI'!P:P,SMALL(IF('MEMORIAL DESCRITIVO-BRI'!$E$2:$E$4000=\"Sim\",ROW('MEMORIAL DESCRITIVO-BRI'!$P$2:$P$4000)),ROW(B442))), \"\")","v":""},{"$f":"IFERROR(INDEX('MEMORIAL DESCRITIVO-BRI'!Q:Q,SMALL(IF('MEMORIAL DESCRITIVO-BRI'!$E$2:$E$4000=\"Sim\",ROW('MEMORIAL DESCRITIVO-BRI'!$Q$2:$Q$4000)),ROW(B442))), \"\")","v":""}]
[null,{"$f":"IFERROR(INDEX('MEMORIAL DESCRITIVO-BRI'!B:B,SMALL(IF('MEMORIAL DESCRITIVO-BRI'!$E$2:$E$4000=\"Sim\",ROW('MEMORIAL DESCRITIVO-BRI'!$B$2:$B$4000)),ROW(B443))), \"\")","v":""},{"$f":"IFERROR(INDEX('MEMORIAL DESCRITIVO-BRI'!I:I,SMALL(IF('MEMORIAL DESCRITIVO-BRI'!$E$2:$E$4000=\"Sim\",ROW('MEMORIAL DESCRITIVO-BRI'!$I$2:$I$4000)),ROW(B443))), \"\")","v":""},{"$f":"IFERROR(INDEX('MEMORIAL DESCRITIVO-BRI'!F:F,SMALL(IF('MEMORIAL DESCRITIVO-BRI'!$E$2:$E$4000=\"Sim\",ROW('MEMORIAL DESCRITIVO-BRI'!$F$2:$F$4000)),ROW(B443))) & \" - \" & INDEX('MEMORIAL DESCRITIVO-BRI'!H:H,SMALL(IF('MEMORIAL DESCRITIVO-BRI'!$E$2:$E$4000=\"Sim\",ROW('MEMORIAL DESCRITIVO-BRI'!$H$2:$H$4000)),ROW(B443))), \"\")","v":""},null,{"$f":"IFERROR(INDEX('MEMORIAL DESCRITIVO-BRI'!S:S,SMALL(IF('MEMORIAL DESCRITIVO-BRI'!$E$2:$E$4000=\"Sim\",ROW('MEMORIAL DESCRITIVO-BRI'!$S$2:$S$4000)),ROW(B443))), \"\")","v":""},{"$f":"IFERROR(INDEX('MEMORIAL DESCRITIVO-BRI'!Z:Z,SMALL(IF('MEMORIAL DESCRITIVO-BRI'!$E$2:$E$4000=\"Sim\",ROW('MEMORIAL DESCRITIVO-BRI'!$Z$2:$Z$4000)),ROW(B443))), \"\")","v":""},{"$f":"IFERROR(INDEX('MEMORIAL DESCRITIVO-BRI'!W:W,SMALL(IF('MEMORIAL DESCRITIVO-BRI'!$E$2:$E$4000=\"Sim\",ROW('MEMORIAL DESCRITIVO-BRI'!$W$2:$W$4000)),ROW(B443))), \"\")","v":""},{"$f":"IFERROR(INDEX('MEMORIAL DESCRITIVO-BRI'!G:G,SMALL(IF('MEMORIAL DESCRITIVO-BRI'!$E$2:$E$4000=\"Sim\",ROW('MEMORIAL DESCRITIVO-BRI'!$G$2:$G$4000)),ROW(B443))), \"\")","v":""},{"$f":"IFERROR(INDEX('MEMORIAL DESCRITIVO-BRI'!P:P,SMALL(IF('MEMORIAL DESCRITIVO-BRI'!$E$2:$E$4000=\"Sim\",ROW('MEMORIAL DESCRITIVO-BRI'!$P$2:$P$4000)),ROW(B443))), \"\")","v":""},{"$f":"IFERROR(INDEX('MEMORIAL DESCRITIVO-BRI'!Q:Q,SMALL(IF('MEMORIAL DESCRITIVO-BRI'!$E$2:$E$4000=\"Sim\",ROW('MEMORIAL DESCRITIVO-BRI'!$Q$2:$Q$4000)),ROW(B443))), \"\")","v":""}]
[null,{"$f":"IFERROR(INDEX('MEMORIAL DESCRITIVO-BRI'!B:B,SMALL(IF('MEMORIAL DESCRITIVO-BRI'!$E$2:$E$4000=\"Sim\",ROW('MEMORIAL DESCRITIVO-BRI'!$B$2:$B$4000)),ROW(B444))), \"\")","v":""},{"$f":"IFERROR(INDEX('MEMORIAL DESCRITIVO-BRI'!I:I,SMALL(IF('MEMORIAL DESCRITIVO-BRI'!$E$2:$E$4000=\"Sim\",ROW('MEMORIAL DESCRITIVO-BRI'!$I$2:$I$4000)),ROW(B444))), \"\")","v":""},{"$f":"IFERROR(INDEX('MEMORIAL DESCRITIVO-BRI'!F:F,SMALL(IF('MEMORIAL DESCRITIVO-BRI'!$E$2:$E$4000=\"Sim\",ROW('MEMORIAL DESCRITIVO-BRI'!$F$2:$F$4000)),ROW(B444))) & \" - \" & INDEX('MEMORIAL DESCRITIVO-BRI'!H:H,SMALL(IF('MEMORIAL DESCRITIVO-BRI'!$E$2:$E$4000=\"Sim\",ROW('MEMORIAL DESCRITIVO-BRI'!$H$2:$H$4000)),ROW(B444))), \"\")","v":""},null,{"$f":"IFERROR(INDEX('MEMORIAL DESCRITIVO-BRI'!S:S,SMALL(IF('MEMORIAL DESCRITIVO-BRI'!$E$2:$E$4000=\"Sim\",ROW('MEMORIAL DESCRITIVO-BRI'!$S$2:$S$4000)),ROW(B444))), \"\")","v":""},{"$f":"IFERROR(INDEX('MEMORIAL DESCRITIVO-BRI'!Z:Z,SMALL(IF('MEMORIAL DESCRITIVO-BRI'!$E$2:$E$4000=\"Sim\",ROW('MEMORIAL DESCRITIVO-BRI'!$Z$2:$Z$4000)),ROW(B444))), \"\")","v":""},{"$f":"IFERROR(INDEX('MEMORIAL DESCRITIVO-BRI'!W:W,SMALL(IF('MEMORIAL DESCRITIVO-BRI'!$E$2:$E$4000=\"Sim\",ROW('MEMORIAL DESCRITIVO-BRI'!$W$2:$W$4000)),ROW(B444))), \"\")","v":""},{"$f":"IFERROR(INDEX('MEMORIAL DESCRITIVO-BRI'!G:G,SMALL(IF('MEMORIAL DESCRITIVO-BRI'!$E$2:$E$4000=\"Sim\",ROW('MEMORIAL DESCRITIVO-BRI'!$G$2:$G$4000)),ROW(B444))), \"\")","v":""},{"$f":"IFERROR(INDEX('MEMORIAL DESCRITIVO-BRI'!P:P,SMALL(IF('MEMORIAL DESCRITIVO-BRI'!$E$2:$E$4000=\"Sim\",ROW('MEMORIAL DESCRITIVO-BRI'!$P$2:$P$4000)),ROW(B444))), \"\")","v":""},{"$f":"IFERROR(INDEX('MEMORIAL DESCRITIVO-BRI'!Q:Q,SMALL(IF('MEMORIAL DESCRITIVO-BRI'!$E$2:$E$4000=\"Sim\",ROW('MEMORIAL DESCRITIVO-BRI'!$Q$2:$Q$4000)),ROW(B444))), \"\")","v":""}]
[null,{"$f":"IFERROR(INDEX('MEMORIAL DESCRITIVO-BRI'!B:B,SMALL(IF('MEMORIAL DESCRITIVO-BRI'!$E$2:$E$4000=\"Sim\",ROW('MEMORIAL DESCRITIVO-BRI'!$B$2:$B$4000)),ROW(B445))), \"\")","v":""},{"$f":"IFERROR(INDEX('MEMORIAL DESCRITIVO-BRI'!I:I,SMALL(IF('MEMORIAL DESCRITIVO-BRI'!$E$2:$E$4000=\"Sim\",ROW('MEMORIAL DESCRITIVO-BRI'!$I$2:$I$4000)),ROW(B445))), \"\")","v":""},{"$f":"IFERROR(INDEX('MEMORIAL DESCRITIVO-BRI'!F:F,SMALL(IF('MEMORIAL DESCRITIVO-BRI'!$E$2:$E$4000=\"Sim\",ROW('MEMORIAL DESCRITIVO-BRI'!$F$2:$F$4000)),ROW(B445))) & \" - \" & INDEX('MEMORIAL DESCRITIVO-BRI'!H:H,SMALL(IF('MEMORIAL DESCRITIVO-BRI'!$E$2:$E$4000=\"Sim\",ROW('MEMORIAL DESCRITIVO-BRI'!$H$2:$H$4000)),ROW(B445))), \"\")","v":""},null,{"$f":"IFERROR(INDEX('MEMORIAL DESCRITIVO-BRI'!S:S,SMALL(IF('MEMORIAL DESCRITIVO-BRI'!$E$2:$E$4000=\"Sim\",ROW('MEMORIAL DESCRITIVO-BRI'!$S$2:$S$4000)),ROW(B445))), \"\")","v":""},{"$f":"IFERROR(INDEX('MEMORIAL DESCRITIVO-BRI'!Z:Z,SMALL(IF('MEMORIAL DESCRITIVO-BRI'!$E$2:$E$4000=\"Sim\",ROW('MEMORIAL DESCRITIVO-BRI'!$Z$2:$Z$4000)),ROW(B445))), \"\")","v":""},{"$f":"IFERROR(INDEX('MEMORIAL DESCRITIVO-BRI'!W:W,SMALL(IF('MEMORIAL DESCRITIVO-BRI'!$E$2:$E$4000=\"Sim\",ROW('MEMORIAL DESCRITIVO-BRI'!$W$2:$W$4000)),ROW(B445))), \"\")","v":""},{"$f":"IFERROR(INDEX('MEMORIAL DESCRITIVO-BRI'!G:G,SMALL(IF('MEMORIAL DESCRITIVO-BRI'!$E$2:$E$4000=\"Sim\",ROW('MEMORIAL DESCRITIVO-BRI'!$G$2:$G$4000)),ROW(B445))), \"\")","v":""},{"$f":"IFERROR(INDEX('MEMORIAL DESCRITIVO-BRI'!P:P,SMALL(IF('MEMORIAL DESCRITIVO-BRI'!$E$2:$E$4000=\"Sim\",ROW('MEMORIAL DESCRITIVO-BRI'!$P$2:$P$4000)),ROW(B445))), \"\")","v":""},{"$f":"IFERROR(INDEX('MEMORIAL DESCRITIVO-BRI'!Q:Q,SMALL(IF('MEMORIAL DESCRITIVO-BRI'!$E$2:$E$4000=\"Sim\",ROW('MEMORIAL DESCRITIVO-BRI'!$Q$2:$Q$4000)),ROW(B445))), \"\")","v":""}]
[null,{"$f":"IFERROR(INDEX('MEMORIAL DESCRITIVO-BRI'!B:B,SMALL(IF('MEMORIAL DESCRITIVO-BRI'!$E$2:$E$4000=\"Sim\",ROW('MEMORIAL DESCRITIVO-BRI'!$B$2:$B$4000)),ROW(B446))), \"\")","v":""},{"$f":"IFERROR(INDEX('MEMORIAL DESCRITIVO-BRI'!I:I,SMALL(IF('MEMORIAL DESCRITIVO-BRI'!$E$2:$E$4000=\"Sim\",ROW('MEMORIAL DESCRITIVO-BRI'!$I$2:$I$4000)),ROW(B446))), \"\")","v":""},{"$f":"IFERROR(INDEX('MEMORIAL DESCRITIVO-BRI'!F:F,SMALL(IF('MEMORIAL DESCRITIVO-BRI'!$E$2:$E$4000=\"Sim\",ROW('MEMORIAL DESCRITIVO-BRI'!$F$2:$F$4000)),ROW(B446))) & \" - \" & INDEX('MEMORIAL DESCRITIVO-BRI'!H:H,SMALL(IF('MEMORIAL DESCRITIVO-BRI'!$E$2:$E$4000=\"Sim\",ROW('MEMORIAL DESCRITIVO-BRI'!$H$2:$H$4000)),ROW(B446))), \"\")","v":""},null,{"$f":"IFERROR(INDEX('MEMORIAL DESCRITIVO-BRI'!S:S,SMALL(IF('MEMORIAL DESCRITIVO-BRI'!$E$2:$E$4000=\"Sim\",ROW('MEMORIAL DESCRITIVO-BRI'!$S$2:$S$4000)),ROW(B446))), \"\")","v":""},{"$f":"IFERROR(INDEX('MEMORIAL DESCRITIVO-BRI'!Z:Z,SMALL(IF('MEMORIAL DESCRITIVO-BRI'!$E$2:$E$4000=\"Sim\",ROW('MEMORIAL DESCRITIVO-BRI'!$Z$2:$Z$4000)),ROW(B446))), \"\")","v":""},{"$f":"IFERROR(INDEX('MEMORIAL DESCRITIVO-BRI'!W:W,SMALL(IF('MEMORIAL DESCRITIVO-BRI'!$E$2:$E$4000=\"Sim\",ROW('MEMORIAL DESCRITIVO-BRI'!$W$2:$W$4000)),ROW(B446))), \"\")","v":""},{"$f":"IFERROR(INDEX('MEMORIAL DESCRITIVO-BRI'!G:G,SMALL(IF('MEMORIAL DESCRITIVO-BRI'!$E$2:$E$4000=\"Sim\",ROW('MEMORIAL DESCRITIVO-BRI'!$G$2:$G$4000)),ROW(B446))), \"\")","v":""},{"$f":"IFERROR(INDEX('MEMORIAL DESCRITIVO-BRI'!P:P,SMALL(IF('MEMORIAL DESCRITIVO-BRI'!$E$2:$E$4000=\"Sim\",ROW('MEMORIAL DESCRITIVO-BRI'!$P$2:$P$4000)),ROW(B446))), \"\")","v":""},{"$f":"IFERROR(INDEX('MEMORIAL DESCRITIVO-BRI'!Q:Q,SMALL(IF('MEMORIAL DESCRITIVO-BRI'!$E$2:$E$4000=\"Sim\",ROW('MEMORIAL DESCRITIVO-BRI'!$Q$2:$Q$4000)),ROW(B446))), \"\")","v":""}]
[null,{"$f":"IFERROR(INDEX('MEMORIAL DESCRITIVO-BRI'!B:B,SMALL(IF('MEMORIAL DESCRITIVO-BRI'!$E$2:$E$4000=\"Sim\",ROW('MEMORIAL DESCRITIVO-BRI'!$B$2:$B$4000)),ROW(B447))), \"\")","v":""},{"$f":"IFERROR(INDEX('MEMORIAL DESCRITIVO-BRI'!I:I,SMALL(IF('MEMORIAL DESCRITIVO-BRI'!$E$2:$E$4000=\"Sim\",ROW('MEMORIAL DESCRITIVO-BRI'!$I$2:$I$4000)),ROW(B447))), \"\")","v":""},{"$f":"IFERROR(INDEX('MEMORIAL DESCRITIVO-BRI'!F:F,SMALL(IF('MEMORIAL DESCRITIVO-BRI'!$E$2:$E$4000=\"Sim\",ROW('MEMORIAL DESCRITIVO-BRI'!$F$2:$F$4000)),ROW(B447))) & \" - \" & INDEX('MEMORIAL DESCRITIVO-BRI'!H:H,SMALL(IF('MEMORIAL DESCRITIVO-BRI'!$E$2:$E$4000=\"Sim\",ROW('MEMORIAL DESCRITIVO-BRI'!$H$2:$H$4000)),ROW(B447))), \"\")","v":""},null,{"$f":"IFERROR(INDEX('MEMORIAL DESCRITIVO-BRI'!S:S,SMALL(IF('MEMORIAL DESCRITIVO-BRI'!$E$2:$E$4000=\"Sim\",ROW('MEMORIAL DESCRITIVO-BRI'!$S$2:$S$4000)),ROW(B447))), \"\")","v":""},{"$f":"IFERROR(INDEX('MEMORIAL DESCRITIVO-BRI'!Z:Z,SMALL(IF('MEMORIAL DESCRITIVO-BRI'!$E$2:$E$4000=\"Sim\",ROW('MEMORIAL DESCRITIVO-BRI'!$Z$2:$Z$4000)),ROW(B447))), \"\")","v":""},{"$f":"IFERROR(INDEX('MEMORIAL DESCRITIVO-BRI'!W:W,SMALL(IF('MEMORIAL DESCRITIVO-BRI'!$E$2:$E$4000=\"Sim\",ROW('MEMORIAL DESCRITIVO-BRI'!$W$2:$W$4000)),ROW(B447))), \"\")","v":""},{"$f":"IFERROR(INDEX('MEMORIAL DESCRITIVO-BRI'!G:G,SMALL(IF('MEMORIAL DESCRITIVO-BRI'!$E$2:$E$4000=\"Sim\",ROW('MEMORIAL DESCRITIVO-BRI'!$G$2:$G$4000)),ROW(B447))), \"\")","v":""},{"$f":"IFERROR(INDEX('MEMORIAL DESCRITIVO-BRI'!P:P,SMALL(IF('MEMORIAL DESCRITIVO-BRI'!$E$2:$E$4000=\"Sim\",ROW('MEMORIAL DESCRITIVO-BRI'!$P$2:$P$4000)),ROW(B447))), \"\")","v":""},{"$f":"IFERROR(INDEX('MEMORIAL DESCRITIVO-BRI'!Q:Q,SMALL(IF('MEMORIAL DESCRITIVO-BRI'!$E$2:$E$4000=\"Sim\",ROW('MEMORIAL DESCRITIVO-BRI'!$Q$2:$Q$4000)),ROW(B447))), \"\")","v":""}]
[null,{"$f":"IFERROR(INDEX('MEMORIAL DESCRITIVO-BRI'!B:B,SMALL(IF('MEMORIAL DESCRITIVO-BRI'!$E$2:$E$4000=\"Sim\",ROW('MEMORIAL DESCRITIVO-BRI'!$B$2:$B$4000)),ROW(B448))), \"\")","v":""},{"$f":"IFERROR(INDEX('MEMORIAL DESCRITIVO-BRI'!I:I,SMALL(IF('MEMORIAL DESCRITIVO-BRI'!$E$2:$E$4000=\"Sim\",ROW('MEMORIAL DESCRITIVO-BRI'!$I$2:$I$4000)),ROW(B448))), \"\")","v":""},{"$f":"IFERROR(INDEX('MEMORIAL DESCRITIVO-BRI'!F:F,SMALL(IF('MEMORIAL DESCRITIVO-BRI'!$E$2:$E$4000=\"Sim\",ROW('MEMORIAL DESCRITIVO-BRI'!$F$2:$F$4000)),ROW(B448))) & \" - \" & INDEX('MEMORIAL DESCRITIVO-BRI'!H:H,SMALL(IF('MEMORIAL DESCRITIVO-BRI'!$E$2:$E$4000=\"Sim\",ROW('MEMORIAL DESCRITIVO-BRI'!$H$2:$H$4000)),ROW(B448))), \"\")","v":""},null,{"$f":"IFERROR(INDEX('MEMORIAL DESCRITIVO-BRI'!S:S,SMALL(IF('MEMORIAL DESCRITIVO-BRI'!$E$2:$E$4000=\"Sim\",ROW('MEMORIAL DESCRITIVO-BRI'!$S$2:$S$4000)),ROW(B448))), \"\")","v":""},{"$f":"IFERROR(INDEX('MEMORIAL DESCRITIVO-BRI'!Z:Z,SMALL(IF('MEMORIAL DESCRITIVO-BRI'!$E$2:$E$4000=\"Sim\",ROW('MEMORIAL DESCRITIVO-BRI'!$Z$2:$Z$4000)),ROW(B448))), \"\")","v":""},{"$f":"IFERROR(INDEX('MEMORIAL DESCRITIVO-BRI'!W:W,SMALL(IF('MEMORIAL DESCRITIVO-BRI'!$E$2:$E$4000=\"Sim\",ROW('MEMORIAL DESCRITIVO-BRI'!$W$2:$W$4000)),ROW(B448))), \"\")","v":""},{"$f":"IFERROR(INDEX('MEMORIAL DESCRITIVO-BRI'!G:G,SMALL(IF('MEMORIAL DESCRITIVO-BRI'!$E$2:$E$4000=\"Sim\",ROW('MEMORIAL DESCRITIVO-BRI'!$G$2:$G$4000)),ROW(B448))), \"\")","v":""},{"$f":"IFERROR(INDEX('MEMORIAL DESCRITIVO-BRI'!P:P,SMALL(IF('MEMORIAL DESCRITIVO-BRI'!$E$2:$E$4000=\"Sim\",ROW('MEMORIAL DESCRITIVO-BRI'!$P$2:$P$4000)),ROW(B448))), \"\")","v":""},{"$f":"IFERROR(INDEX('MEMORIAL DESCRITIVO-BRI'!Q:Q,SMALL(IF('MEMORIAL DESCRITIVO-BRI'!$E$2:$E$4000=\"Sim\",ROW('MEMORIAL DESCRITIVO-BRI'!$Q$2:$Q$4000)),ROW(B448))), \"\")","v":""}]
[null,{"$f":"IFERROR(INDEX('MEMORIAL DESCRITIVO-BRI'!B:B,SMALL(IF('MEMORIAL DESCRITIVO-BRI'!$E$2:$E$4000=\"Sim\",ROW('MEMORIAL DESCRITIVO-BRI'!$B$2:$B$4000)),ROW(B449))), \"\")","v":""},{"$f":"IFERROR(INDEX('MEMORIAL DESCRITIVO-BRI'!I:I,SMALL(IF('MEMORIAL DESCRITIVO-BRI'!$E$2:$E$4000=\"Sim\",ROW('MEMORIAL DESCRITIVO-BRI'!$I$2:$I$4000)),ROW(B449))), \"\")","v":""},{"$f":"IFERROR(INDEX('MEMORIAL DESCRITIVO-BRI'!F:F,SMALL(IF('MEMORIAL DESCRITIVO-BRI'!$E$2:$E$4000=\"Sim\",ROW('MEMORIAL DESCRITIVO-BRI'!$F$2:$F$4000)),ROW(B449))) & \" - \" & INDEX('MEMORIAL DESCRITIVO-BRI'!H:H,SMALL(IF('MEMORIAL DESCRITIVO-BRI'!$E$2:$E$4000=\"Sim\",ROW('MEMORIAL DESCRITIVO-BRI'!$H$2:$H$4000)),ROW(B449))), \"\")","v":""},null,{"$f":"IFERROR(INDEX('MEMORIAL DESCRITIVO-BRI'!S:S,SMALL(IF('MEMORIAL DESCRITIVO-BRI'!$E$2:$E$4000=\"Sim\",ROW('MEMORIAL DESCRITIVO-BRI'!$S$2:$S$4000)),ROW(B449))), \"\")","v":""},{"$f":"IFERROR(INDEX('MEMORIAL DESCRITIVO-BRI'!Z:Z,SMALL(IF('MEMORIAL DESCRITIVO-BRI'!$E$2:$E$4000=\"Sim\",ROW('MEMORIAL DESCRITIVO-BRI'!$Z$2:$Z$4000)),ROW(B449))), \"\")","v":""},{"$f":"IFERROR(INDEX('MEMORIAL DESCRITIVO-BRI'!W:W,SMALL(IF('MEMORIAL DESCRITIVO-BRI'!$E$2:$E$4000=\"Sim\",ROW('MEMORIAL DESCRITIVO-BRI'!$W$2:$W$4000)),ROW(B449))), \"\")","v":""},{"$f":"IFERROR(INDEX('MEMORIAL DESCRITIVO-BRI'!G:G,SMALL(IF('MEMORIAL DESCRITIVO-BRI'!$E$2:$E$4000=\"Sim\",ROW('MEMORIAL DESCRITIVO-BRI'!$G$2:$G$4000)),ROW(B449))), \"\")","v":""},{"$f":"IFERROR(INDEX('MEMORIAL DESCRITIVO-BRI'!P:P,SMALL(IF('MEMORIAL DESCRITIVO-BRI'!$E$2:$E$4000=\"Sim\",ROW('MEMORIAL DESCRITIVO-BRI'!$P$2:$P$4000)),ROW(B449))), \"\")","v":""},{"$f":"IFERROR(INDEX('MEMORIAL DESCRITIVO-BRI'!Q:Q,SMALL(IF('MEMORIAL DESCRITIVO-BRI'!$E$2:$E$4000=\"Sim\",ROW('MEMORIAL DESCRITIVO-BRI'!$Q$2:$Q$4000)),ROW(B449))), \"\")","v":""}]
[null,{"$f":"IFERROR(INDEX('MEMORIAL DESCRITIVO-BRI'!B:B,SMALL(IF('MEMORIAL DESCRITIVO-BRI'!$E$2:$E$4000=\"Sim\",ROW('MEMORIAL DESCRITIVO-BRI'!$B$2:$B$4000)),ROW(B450))), \"\")","v":""},{"$f":"IFERROR(INDEX('MEMORIAL DESCRITIVO-BRI'!I:I,SMALL(IF('MEMORIAL DESCRITIVO-BRI'!$E$2:$E$4000=\"Sim\",ROW('MEMORIAL DESCRITIVO-BRI'!$I$2:$I$4000)),ROW(B450))), \"\")","v":""},{"$f":"IFERROR(INDEX('MEMORIAL DESCRITIVO-BRI'!F:F,SMALL(IF('MEMORIAL DESCRITIVO-BRI'!$E$2:$E$4000=\"Sim\",ROW('MEMORIAL DESCRITIVO-BRI'!$F$2:$F$4000)),ROW(B450))) & \" - \" & INDEX('MEMORIAL DESCRITIVO-BRI'!H:H,SMALL(IF('MEMORIAL DESCRITIVO-BRI'!$E$2:$E$4000=\"Sim\",ROW('MEMORIAL DESCRITIVO-BRI'!$H$2:$H$4000)),ROW(B450))), \"\")","v":""},null,{"$f":"IFERROR(INDEX('MEMORIAL DESCRITIVO-BRI'!S:S,SMALL(IF('MEMORIAL DESCRITIVO-BRI'!$E$2:$E$4000=\"Sim\",ROW('MEMORIAL DESCRITIVO-BRI'!$S$2:$S$4000)),ROW(B450))), \"\")","v":""},{"$f":"IFERROR(INDEX('MEMORIAL DESCRITIVO-BRI'!Z:Z,SMALL(IF('MEMORIAL DESCRITIVO-BRI'!$E$2:$E$4000=\"Sim\",ROW('MEMORIAL DESCRITIVO-BRI'!$Z$2:$Z$4000)),ROW(B450))), \"\")","v":""},{"$f":"IFERROR(INDEX('MEMORIAL DESCRITIVO-BRI'!W:W,SMALL(IF('MEMORIAL DESCRITIVO-BRI'!$E$2:$E$4000=\"Sim\",ROW('MEMORIAL DESCRITIVO-BRI'!$W$2:$W$4000)),ROW(B450))), \"\")","v":""},{"$f":"IFERROR(INDEX('MEMORIAL DESCRITIVO-BRI'!G:G,SMALL(IF('MEMORIAL DESCRITIVO-BRI'!$E$2:$E$4000=\"Sim\",ROW('MEMORIAL DESCRITIVO-BRI'!$G$2:$G$4000)),ROW(B450))), \"\")","v":""},{"$f":"IFERROR(INDEX('MEMORIAL DESCRITIVO-BRI'!P:P,SMALL(IF('MEMORIAL DESCRITIVO-BRI'!$E$2:$E$4000=\"Sim\",ROW('MEMORIAL DESCRITIVO-BRI'!$P$2:$P$4000)),ROW(B450))), \"\")","v":""},{"$f":"IFERROR(INDEX('MEMORIAL DESCRITIVO-BRI'!Q:Q,SMALL(IF('MEMORIAL DESCRITIVO-BRI'!$E$2:$E$4000=\"Sim\",ROW('MEMORIAL DESCRITIVO-BRI'!$Q$2:$Q$4000)),ROW(B450))), \"\")","v":""}]
[null,{"$f":"IFERROR(INDEX('MEMORIAL DESCRITIVO-BRI'!B:B,SMALL(IF('MEMORIAL DESCRITIVO-BRI'!$E$2:$E$4000=\"Sim\",ROW('MEMORIAL DESCRITIVO-BRI'!$B$2:$B$4000)),ROW(B451))), \"\")","v":""},{"$f":"IFERROR(INDEX('MEMORIAL DESCRITIVO-BRI'!I:I,SMALL(IF('MEMORIAL DESCRITIVO-BRI'!$E$2:$E$4000=\"Sim\",ROW('MEMORIAL DESCRITIVO-BRI'!$I$2:$I$4000)),ROW(B451))), \"\")","v":""},{"$f":"IFERROR(INDEX('MEMORIAL DESCRITIVO-BRI'!F:F,SMALL(IF('MEMORIAL DESCRITIVO-BRI'!$E$2:$E$4000=\"Sim\",ROW('MEMORIAL DESCRITIVO-BRI'!$F$2:$F$4000)),ROW(B451))) & \" - \" & INDEX('MEMORIAL DESCRITIVO-BRI'!H:H,SMALL(IF('MEMORIAL DESCRITIVO-BRI'!$E$2:$E$4000=\"Sim\",ROW('MEMORIAL DESCRITIVO-BRI'!$H$2:$H$4000)),ROW(B451))), \"\")","v":""},null,{"$f":"IFERROR(INDEX('MEMORIAL DESCRITIVO-BRI'!S:S,SMALL(IF('MEMORIAL DESCRITIVO-BRI'!$E$2:$E$4000=\"Sim\",ROW('MEMORIAL DESCRITIVO-BRI'!$S$2:$S$4000)),ROW(B451))), \"\")","v":""},{"$f":"IFERROR(INDEX('MEMORIAL DESCRITIVO-BRI'!Z:Z,SMALL(IF('MEMORIAL DESCRITIVO-BRI'!$E$2:$E$4000=\"Sim\",ROW('MEMORIAL DESCRITIVO-BRI'!$Z$2:$Z$4000)),ROW(B451))), \"\")","v":""},{"$f":"IFERROR(INDEX('MEMORIAL DESCRITIVO-BRI'!W:W,SMALL(IF('MEMORIAL DESCRITIVO-BRI'!$E$2:$E$4000=\"Sim\",ROW('MEMORIAL DESCRITIVO-BRI'!$W$2:$W$4000)),ROW(B451))), \"\")","v":""},{"$f":"IFERROR(INDEX('MEMORIAL DESCRITIVO-BRI'!G:G,SMALL(IF('MEMORIAL DESCRITIVO-BRI'!$E$2:$E$4000=\"Sim\",ROW('MEMORIAL DESCRITIVO-BRI'!$G$2:$G$4000)),ROW(B451))), \"\")","v":""},{"$f":"IFERROR(INDEX('MEMORIAL DESCRITIVO-BRI'!P:P,SMALL(IF('MEMORIAL DESCRITIVO-BRI'!$E$2:$E$4000=\"Sim\",ROW('MEMORIAL DESCRITIVO-BRI'!$P$2:$P$4000)),ROW(B451))), \"\")","v":""},{"$f":"IFERROR(INDEX('MEMORIAL DESCRITIVO-BRI'!Q:Q,SMALL(IF('MEMORIAL DESCRITIVO-BRI'!$E$2:$E$4000=\"Sim\",ROW('MEMORIAL DESCRITIVO-BRI'!$Q$2:$Q$4000)),ROW(B451))), \"\")","v":""}]
[null,{"$f":"IFERROR(INDEX('MEMORIAL DESCRITIVO-BRI'!B:B,SMALL(IF('MEMORIAL DESCRITIVO-BRI'!$E$2:$E$4000=\"Sim\",ROW('MEMORIAL DESCRITIVO-BRI'!$B$2:$B$4000)),ROW(B452))), \"\")","v":""},{"$f":"IFERROR(INDEX('MEMORIAL DESCRITIVO-BRI'!I:I,SMALL(IF('MEMORIAL DESCRITIVO-BRI'!$E$2:$E$4000=\"Sim\",ROW('MEMORIAL DESCRITIVO-BRI'!$I$2:$I$4000)),ROW(B452))), \"\")","v":""},{"$f":"IFERROR(INDEX('MEMORIAL DESCRITIVO-BRI'!F:F,SMALL(IF('MEMORIAL DESCRITIVO-BRI'!$E$2:$E$4000=\"Sim\",ROW('MEMORIAL DESCRITIVO-BRI'!$F$2:$F$4000)),ROW(B452))) & \" - \" & INDEX('MEMORIAL DESCRITIVO-BRI'!H:H,SMALL(IF('MEMORIAL DESCRITIVO-BRI'!$E$2:$E$4000=\"Sim\",ROW('MEMORIAL DESCRITIVO-BRI'!$H$2:$H$4000)),ROW(B452))), \"\")","v":""},null,{"$f":"IFERROR(INDEX('MEMORIAL DESCRITIVO-BRI'!S:S,SMALL(IF('MEMORIAL DESCRITIVO-BRI'!$E$2:$E$4000=\"Sim\",ROW('MEMORIAL DESCRITIVO-BRI'!$S$2:$S$4000)),ROW(B452))), \"\")","v":""},{"$f":"IFERROR(INDEX('MEMORIAL DESCRITIVO-BRI'!Z:Z,SMALL(IF('MEMORIAL DESCRITIVO-BRI'!$E$2:$E$4000=\"Sim\",ROW('MEMORIAL DESCRITIVO-BRI'!$Z$2:$Z$4000)),ROW(B452))), \"\")","v":""},{"$f":"IFERROR(INDEX('MEMORIAL DESCRITIVO-BRI'!W:W,SMALL(IF('MEMORIAL DESCRITIVO-BRI'!$E$2:$E$4000=\"Sim\",ROW('MEMORIAL DESCRITIVO-BRI'!$W$2:$W$4000)),ROW(B452))), \"\")","v":""},{"$f":"IFERROR(INDEX('MEMORIAL DESCRITIVO-BRI'!G:G,SMALL(IF('MEMORIAL DESCRITIVO-BRI'!$E$2:$E$4000=\"Sim\",ROW('MEMORIAL DESCRITIVO-BRI'!$G$2:$G$4000)),ROW(B452))), \"\")","v":""},{"$f":"IFERROR(INDEX('MEMORIAL DESCRITIVO-BRI'!P:P,SMALL(IF('MEMORIAL DESCRITIVO-BRI'!$E$2:$E$4000=\"Sim\",ROW('MEMORIAL DESCRITIVO-BRI'!$P$2:$P$4000)),ROW(B452))), \"\")","v":""},{"$f":"IFERROR(INDEX('MEMORIAL DESCRITIVO-BRI'!Q:Q,SMALL(IF('MEMORIAL DESCRITIVO-BRI'!$E$2:$E$4000=\"Sim\",ROW('MEMORIAL DESCRITIVO-BRI'!$Q$2:$Q$4000)),ROW(B452))), \"\")","v":""}]
[null,{"$f":"IFERROR(INDEX('MEMORIAL DESCRITIVO-BRI'!B:B,SMALL(IF('MEMORIAL DESCRITIVO-BRI'!$E$2:$E$4000=\"Sim\",ROW('MEMORIAL DESCRITIVO-BRI'!$B$2:$B$4000)),ROW(B453))), \"\")","v":""},{"$f":"IFERROR(INDEX('MEMORIAL DESCRITIVO-BRI'!I:I,SMALL(IF('MEMORIAL DESCRITIVO-BRI'!$E$2:$E$4000=\"Sim\",ROW('MEMORIAL DESCRITIVO-BRI'!$I$2:$I$4000)),ROW(B453))), \"\")","v":""},{"$f":"IFERROR(INDEX('MEMORIAL DESCRITIVO-BRI'!F:F,SMALL(IF('MEMORIAL DESCRITIVO-BRI'!$E$2:$E$4000=\"Sim\",ROW('MEMORIAL DESCRITIVO-BRI'!$F$2:$F$4000)),ROW(B453))) & \" - \" & INDEX('MEMORIAL DESCRITIVO-BRI'!H:H,SMALL(IF('MEMORIAL DESCRITIVO-BRI'!$E$2:$E$4000=\"Sim\",ROW('MEMORIAL DESCRITIVO-BRI'!$H$2:$H$4000)),ROW(B453))), \"\")","v":""},null,{"$f":"IFERROR(INDEX('MEMORIAL DESCRITIVO-BRI'!S:S,SMALL(IF('MEMORIAL DESCRITIVO-BRI'!$E$2:$E$4000=\"Sim\",ROW('MEMORIAL DESCRITIVO-BRI'!$S$2:$S$4000)),ROW(B453))), \"\")","v":""},{"$f":"IFERROR(INDEX('MEMORIAL DESCRITIVO-BRI'!Z:Z,SMALL(IF('MEMORIAL DESCRITIVO-BRI'!$E$2:$E$4000=\"Sim\",ROW('MEMORIAL DESCRITIVO-BRI'!$Z$2:$Z$4000)),ROW(B453))), \"\")","v":""},{"$f":"IFERROR(INDEX('MEMORIAL DESCRITIVO-BRI'!W:W,SMALL(IF('MEMORIAL DESCRITIVO-BRI'!$E$2:$E$4000=\"Sim\",ROW('MEMORIAL DESCRITIVO-BRI'!$W$2:$W$4000)),ROW(B453))), \"\")","v":""},{"$f":"IFERROR(INDEX('MEMORIAL DESCRITIVO-BRI'!G:G,SMALL(IF('MEMORIAL DESCRITIVO-BRI'!$E$2:$E$4000=\"Sim\",ROW('MEMORIAL DESCRITIVO-BRI'!$G$2:$G$4000)),ROW(B453))), \"\")","v":""},{"$f":"IFERROR(INDEX('MEMORIAL DESCRITIVO-BRI'!P:P,SMALL(IF('MEMORIAL DESCRITIVO-BRI'!$E$2:$E$4000=\"Sim\",ROW('MEMORIAL DESCRITIVO-BRI'!$P$2:$P$4000)),ROW(B453))), \"\")","v":""},{"$f":"IFERROR(INDEX('MEMORIAL DESCRITIVO-BRI'!Q:Q,SMALL(IF('MEMORIAL DESCRITIVO-BRI'!$E$2:$E$4000=\"Sim\",ROW('MEMORIAL DESCRITIVO-BRI'!$Q$2:$Q$4000)),ROW(B453))), \"\")","v":""}]
[null,{"$f":"IFERROR(INDEX('MEMORIAL DESCRITIVO-BRI'!B:B,SMALL(IF('MEMORIAL DESCRITIVO-BRI'!$E$2:$E$4000=\"Sim\",ROW('MEMORIAL DESCRITIVO-BRI'!$B$2:$B$4000)),ROW(B454))), \"\")","v":""},{"$f":"IFERROR(INDEX('MEMORIAL DESCRITIVO-BRI'!I:I,SMALL(IF('MEMORIAL DESCRITIVO-BRI'!$E$2:$E$4000=\"Sim\",ROW('MEMORIAL DESCRITIVO-BRI'!$I$2:$I$4000)),ROW(B454))), \"\")","v":""},{"$f":"IFERROR(INDEX('MEMORIAL DESCRITIVO-BRI'!F:F,SMALL(IF('MEMORIAL DESCRITIVO-BRI'!$E$2:$E$4000=\"Sim\",ROW('MEMORIAL DESCRITIVO-BRI'!$F$2:$F$4000)),ROW(B454))) & \" - \" & INDEX('MEMORIAL DESCRITIVO-BRI'!H:H,SMALL(IF('MEMORIAL DESCRITIVO-BRI'!$E$2:$E$4000=\"Sim\",ROW('MEMORIAL DESCRITIVO-BRI'!$H$2:$H$4000)),ROW(B454))), \"\")","v":""},null,{"$f":"IFERROR(INDEX('MEMORIAL DESCRITIVO-BRI'!S:S,SMALL(IF('MEMORIAL DESCRITIVO-BRI'!$E$2:$E$4000=\"Sim\",ROW('MEMORIAL DESCRITIVO-BRI'!$S$2:$S$4000)),ROW(B454))), \"\")","v":""},{"$f":"IFERROR(INDEX('MEMORIAL DESCRITIVO-BRI'!Z:Z,SMALL(IF('MEMORIAL DESCRITIVO-BRI'!$E$2:$E$4000=\"Sim\",ROW('MEMORIAL DESCRITIVO-BRI'!$Z$2:$Z$4000)),ROW(B454))), \"\")","v":""},{"$f":"IFERROR(INDEX('MEMORIAL DESCRITIVO-BRI'!W:W,SMALL(IF('MEMORIAL DESCRITIVO-BRI'!$E$2:$E$4000=\"Sim\",ROW('MEMORIAL DESCRITIVO-BRI'!$W$2:$W$4000)),ROW(B454))), \"\")","v":""},{"$f":"IFERROR(INDEX('MEMORIAL DESCRITIVO-BRI'!G:G,SMALL(IF('MEMORIAL DESCRITIVO-BRI'!$E$2:$E$4000=\"Sim\",ROW('MEMORIAL DESCRITIVO-BRI'!$G$2:$G$4000)),ROW(B454))), \"\")","v":""},{"$f":"IFERROR(INDEX('MEMORIAL DESCRITIVO-BRI'!P:P,SMALL(IF('MEMORIAL DESCRITIVO-BRI'!$E$2:$E$4000=\"Sim\",ROW('MEMORIAL DESCRITIVO-BRI'!$P$2:$P$4000)),ROW(B454))), \"\")","v":""},{"$f":"IFERROR(INDEX('MEMORIAL DESCRITIVO-BRI'!Q:Q,SMALL(IF('MEMORIAL DESCRITIVO-BRI'!$E$2:$E$4000=\"Sim\",ROW('MEMORIAL DESCRITIVO-BRI'!$Q$2:$Q$4000)),ROW(B454))), \"\")","v":""}]
[null,{"$f":"IFERROR(INDEX('MEMORIAL DESCRITIVO-BRI'!B:B,SMALL(IF('MEMORIAL DESCRITIVO-BRI'!$E$2:$E$4000=\"Sim\",ROW('MEMORIAL DESCRITIVO-BRI'!$B$2:$B$4000)),ROW(B455))), \"\")","v":""},{"$f":"IFERROR(INDEX('MEMORIAL DESCRITIVO-BRI'!I:I,SMALL(IF('MEMORIAL DESCRITIVO-BRI'!$E$2:$E$4000=\"Sim\",ROW('MEMORIAL DESCRITIVO-BRI'!$I$2:$I$4000)),ROW(B455))), \"\")","v":""},{"$f":"IFERROR(INDEX('MEMORIAL DESCRITIVO-BRI'!F:F,SMALL(IF('MEMORIAL DESCRITIVO-BRI'!$E$2:$E$4000=\"Sim\",ROW('MEMORIAL DESCRITIVO-BRI'!$F$2:$F$4000)),ROW(B455))) & \" - \" & INDEX('MEMORIAL DESCRITIVO-BRI'!H:H,SMALL(IF('MEMORIAL DESCRITIVO-BRI'!$E$2:$E$4000=\"Sim\",ROW('MEMORIAL DESCRITIVO-BRI'!$H$2:$H$4000)),ROW(B455))), \"\")","v":""},null,{"$f":"IFERROR(INDEX('MEMORIAL DESCRITIVO-BRI'!S:S,SMALL(IF('MEMORIAL DESCRITIVO-BRI'!$E$2:$E$4000=\"Sim\",ROW('MEMORIAL DESCRITIVO-BRI'!$S$2:$S$4000)),ROW(B455))), \"\")","v":""},{"$f":"IFERROR(INDEX('MEMORIAL DESCRITIVO-BRI'!Z:Z,SMALL(IF('MEMORIAL DESCRITIVO-BRI'!$E$2:$E$4000=\"Sim\",ROW('MEMORIAL DESCRITIVO-BRI'!$Z$2:$Z$4000)),ROW(B455))), \"\")","v":""},{"$f":"IFERROR(INDEX('MEMORIAL DESCRITIVO-BRI'!W:W,SMALL(IF('MEMORIAL DESCRITIVO-BRI'!$E$2:$E$4000=\"Sim\",ROW('MEMORIAL DESCRITIVO-BRI'!$W$2:$W$4000)),ROW(B455))), \"\")","v":""},{"$f":"IFERROR(INDEX('MEMORIAL DESCRITIVO-BRI'!G:G,SMALL(IF('MEMORIAL DESCRITIVO-BRI'!$E$2:$E$4000=\"Sim\",ROW('MEMORIAL DESCRITIVO-BRI'!$G$2:$G$4000)),ROW(B455))), \"\")","v":""},{"$f":"IFERROR(INDEX('MEMORIAL DESCRITIVO-BRI'!P:P,SMALL(IF('MEMORIAL DESCRITIVO-BRI'!$E$2:$E$4000=\"Sim\",ROW('MEMORIAL DESCRITIVO-BRI'!$P$2:$P$4000)),ROW(B455))), \"\")","v":""},{"$f":"IFERROR(INDEX('MEMORIAL DESCRITIVO-BRI'!Q:Q,SMALL(IF('MEMORIAL DESCRITIVO-BRI'!$E$2:$E$4000=\"Sim\",ROW('MEMORIAL DESCRITIVO-BRI'!$Q$2:$Q$4000)),ROW(B455))), \"\")","v":""}]
[null,{"$f":"IFERROR(INDEX('MEMORIAL DESCRITIVO-BRI'!B:B,SMALL(IF('MEMORIAL DESCRITIVO-BRI'!$E$2:$E$4000=\"Sim\",ROW('MEMORIAL DESCRITIVO-BRI'!$B$2:$B$4000)),ROW(B456))), \"\")","v":""},{"$f":"IFERROR(INDEX('MEMORIAL DESCRITIVO-BRI'!I:I,SMALL(IF('MEMORIAL DESCRITIVO-BRI'!$E$2:$E$4000=\"Sim\",ROW('MEMORIAL DESCRITIVO-BRI'!$I$2:$I$4000)),ROW(B456))), \"\")","v":""},{"$f":"IFERROR(INDEX('MEMORIAL DESCRITIVO-BRI'!F:F,SMALL(IF('MEMORIAL DESCRITIVO-BRI'!$E$2:$E$4000=\"Sim\",ROW('MEMORIAL DESCRITIVO-BRI'!$F$2:$F$4000)),ROW(B456))) & \" - \" & INDEX('MEMORIAL DESCRITIVO-BRI'!H:H,SMALL(IF('MEMORIAL DESCRITIVO-BRI'!$E$2:$E$4000=\"Sim\",ROW('MEMORIAL DESCRITIVO-BRI'!$H$2:$H$4000)),ROW(B456))), \"\")","v":""},null,{"$f":"IFERROR(INDEX('MEMORIAL DESCRITIVO-BRI'!S:S,SMALL(IF('MEMORIAL DESCRITIVO-BRI'!$E$2:$E$4000=\"Sim\",ROW('MEMORIAL DESCRITIVO-BRI'!$S$2:$S$4000)),ROW(B456))), \"\")","v":""},{"$f":"IFERROR(INDEX('MEMORIAL DESCRITIVO-BRI'!Z:Z,SMALL(IF('MEMORIAL DESCRITIVO-BRI'!$E$2:$E$4000=\"Sim\",ROW('MEMORIAL DESCRITIVO-BRI'!$Z$2:$Z$4000)),ROW(B456))), \"\")","v":""},{"$f":"IFERROR(INDEX('MEMORIAL DESCRITIVO-BRI'!W:W,SMALL(IF('MEMORIAL DESCRITIVO-BRI'!$E$2:$E$4000=\"Sim\",ROW('MEMORIAL DESCRITIVO-BRI'!$W$2:$W$4000)),ROW(B456))), \"\")","v":""},{"$f":"IFERROR(INDEX('MEMORIAL DESCRITIVO-BRI'!G:G,SMALL(IF('MEMORIAL DESCRITIVO-BRI'!$E$2:$E$4000=\"Sim\",ROW('MEMORIAL DESCRITIVO-BRI'!$G$2:$G$4000)),ROW(B456))), \"\")","v":""},{"$f":"IFERROR(INDEX('MEMORIAL DESCRITIVO-BRI'!P:P,SMALL(IF('MEMORIAL DESCRITIVO-BRI'!$E$2:$E$4000=\"Sim\",ROW('MEMORIAL DESCRITIVO-BRI'!$P$2:$P$4000)),ROW(B456))), \"\")","v":""},{"$f":"IFERROR(INDEX('MEMORIAL DESCRITIVO-BRI'!Q:Q,SMALL(IF('MEMORIAL DESCRITIVO-BRI'!$E$2:$E$4000=\"Sim\",ROW('MEMORIAL DESCRITIVO-BRI'!$Q$2:$Q$4000)),ROW(B456))), \"\")","v":""}]
[null,{"$f":"IFERROR(INDEX('MEMORIAL DESCRITIVO-BRI'!B:B,SMALL(IF('MEMORIAL DESCRITIVO-BRI'!$E$2:$E$4000=\"Sim\",ROW('MEMORIAL DESCRITIVO-BRI'!$B$2:$B$4000)),ROW(B457))), \"\")","v":""},{"$f":"IFERROR(INDEX('MEMORIAL DESCRITIVO-BRI'!I:I,SMALL(IF('MEMORIAL DESCRITIVO-BRI'!$E$2:$E$4000=\"Sim\",ROW('MEMORIAL DESCRITIVO-BRI'!$I$2:$I$4000)),ROW(B457))), \"\")","v":""},{"$f":"IFERROR(INDEX('MEMORIAL DESCRITIVO-BRI'!F:F,SMALL(IF('MEMORIAL DESCRITIVO-BRI'!$E$2:$E$4000=\"Sim\",ROW('MEMORIAL DESCRITIVO-BRI'!$F$2:$F$4000)),ROW(B457))) & \" - \" & INDEX('MEMORIAL DESCRITIVO-BRI'!H:H,SMALL(IF('MEMORIAL DESCRITIVO-BRI'!$E$2:$E$4000=\"Sim\",ROW('MEMORIAL DESCRITIVO-BRI'!$H$2:$H$4000)),ROW(B457))), \"\")","v":""},null,{"$f":"IFERROR(INDEX('MEMORIAL DESCRITIVO-BRI'!S:S,SMALL(IF('MEMORIAL DESCRITIVO-BRI'!$E$2:$E$4000=\"Sim\",ROW('MEMORIAL DESCRITIVO-BRI'!$S$2:$S$4000)),ROW(B457))), \"\")","v":""},{"$f":"IFERROR(INDEX('MEMORIAL DESCRITIVO-BRI'!Z:Z,SMALL(IF('MEMORIAL DESCRITIVO-BRI'!$E$2:$E$4000=\"Sim\",ROW('MEMORIAL DESCRITIVO-BRI'!$Z$2:$Z$4000)),ROW(B457))), \"\")","v":""},{"$f":"IFERROR(INDEX('MEMORIAL DESCRITIVO-BRI'!W:W,SMALL(IF('MEMORIAL DESCRITIVO-BRI'!$E$2:$E$4000=\"Sim\",ROW('MEMORIAL DESCRITIVO-BRI'!$W$2:$W$4000)),ROW(B457))), \"\")","v":""},{"$f":"IFERROR(INDEX('MEMORIAL DESCRITIVO-BRI'!G:G,SMALL(IF('MEMORIAL DESCRITIVO-BRI'!$E$2:$E$4000=\"Sim\",ROW('MEMORIAL DESCRITIVO-BRI'!$G$2:$G$4000)),ROW(B457))), \"\")","v":""},{"$f":"IFERROR(INDEX('MEMORIAL DESCRITIVO-BRI'!P:P,SMALL(IF('MEMORIAL DESCRITIVO-BRI'!$E$2:$E$4000=\"Sim\",ROW('MEMORIAL DESCRITIVO-BRI'!$P$2:$P$4000)),ROW(B457))), \"\")","v":""},{"$f":"IFERROR(INDEX('MEMORIAL DESCRITIVO-BRI'!Q:Q,SMALL(IF('MEMORIAL DESCRITIVO-BRI'!$E$2:$E$4000=\"Sim\",ROW('MEMORIAL DESCRITIVO-BRI'!$Q$2:$Q$4000)),ROW(B457))), \"\")","v":""}]
[null,{"$f":"IFERROR(INDEX('MEMORIAL DESCRITIVO-BRI'!B:B,SMALL(IF('MEMORIAL DESCRITIVO-BRI'!$E$2:$E$4000=\"Sim\",ROW('MEMORIAL DESCRITIVO-BRI'!$B$2:$B$4000)),ROW(B458))), \"\")","v":""},{"$f":"IFERROR(INDEX('MEMORIAL DESCRITIVO-BRI'!I:I,SMALL(IF('MEMORIAL DESCRITIVO-BRI'!$E$2:$E$4000=\"Sim\",ROW('MEMORIAL DESCRITIVO-BRI'!$I$2:$I$4000)),ROW(B458))), \"\")","v":""},{"$f":"IFERROR(INDEX('MEMORIAL DESCRITIVO-BRI'!F:F,SMALL(IF('MEMORIAL DESCRITIVO-BRI'!$E$2:$E$4000=\"Sim\",ROW('MEMORIAL DESCRITIVO-BRI'!$F$2:$F$4000)),ROW(B458))) & \" - \" & INDEX('MEMORIAL DESCRITIVO-BRI'!H:H,SMALL(IF('MEMORIAL DESCRITIVO-BRI'!$E$2:$E$4000=\"Sim\",ROW('MEMORIAL DESCRITIVO-BRI'!$H$2:$H$4000)),ROW(B458))), \"\")","v":""},null,{"$f":"IFERROR(INDEX('MEMORIAL DESCRITIVO-BRI'!S:S,SMALL(IF('MEMORIAL DESCRITIVO-BRI'!$E$2:$E$4000=\"Sim\",ROW('MEMORIAL DESCRITIVO-BRI'!$S$2:$S$4000)),ROW(B458))), \"\")","v":""},{"$f":"IFERROR(INDEX('MEMORIAL DESCRITIVO-BRI'!Z:Z,SMALL(IF('MEMORIAL DESCRITIVO-BRI'!$E$2:$E$4000=\"Sim\",ROW('MEMORIAL DESCRITIVO-BRI'!$Z$2:$Z$4000)),ROW(B458))), \"\")","v":""},{"$f":"IFERROR(INDEX('MEMORIAL DESCRITIVO-BRI'!W:W,SMALL(IF('MEMORIAL DESCRITIVO-BRI'!$E$2:$E$4000=\"Sim\",ROW('MEMORIAL DESCRITIVO-BRI'!$W$2:$W$4000)),ROW(B458))), \"\")","v":""},{"$f":"IFERROR(INDEX('MEMORIAL DESCRITIVO-BRI'!G:G,SMALL(IF('MEMORIAL DESCRITIVO-BRI'!$E$2:$E$4000=\"Sim\",ROW('MEMORIAL DESCRITIVO-BRI'!$G$2:$G$4000)),ROW(B458))), \"\")","v":""},{"$f":"IFERROR(INDEX('MEMORIAL DESCRITIVO-BRI'!P:P,SMALL(IF('MEMORIAL DESCRITIVO-BRI'!$E$2:$E$4000=\"Sim\",ROW('MEMORIAL DESCRITIVO-BRI'!$P$2:$P$4000)),ROW(B458))), \"\")","v":""},{"$f":"IFERROR(INDEX('MEMORIAL DESCRITIVO-BRI'!Q:Q,SMALL(IF('MEMORIAL DESCRITIVO-BRI'!$E$2:$E$4000=\"Sim\",ROW('MEMORIAL DESCRITIVO-BRI'!$Q$2:$Q$4000)),ROW(B458))), \"\")","v":""}]
[null,{"$f":"IFERROR(INDEX('MEMORIAL DESCRITIVO-BRI'!B:B,SMALL(IF('MEMORIAL DESCRITIVO-BRI'!$E$2:$E$4000=\"Sim\",ROW('MEMORIAL DESCRITIVO-BRI'!$B$2:$B$4000)),ROW(B459))), \"\")","v":""},{"$f":"IFERROR(INDEX('MEMORIAL DESCRITIVO-BRI'!I:I,SMALL(IF('MEMORIAL DESCRITIVO-BRI'!$E$2:$E$4000=\"Sim\",ROW('MEMORIAL DESCRITIVO-BRI'!$I$2:$I$4000)),ROW(B459))), \"\")","v":""},{"$f":"IFERROR(INDEX('MEMORIAL DESCRITIVO-BRI'!F:F,SMALL(IF('MEMORIAL DESCRITIVO-BRI'!$E$2:$E$4000=\"Sim\",ROW('MEMORIAL DESCRITIVO-BRI'!$F$2:$F$4000)),ROW(B459))) & \" - \" & INDEX('MEMORIAL DESCRITIVO-BRI'!H:H,SMALL(IF('MEMORIAL DESCRITIVO-BRI'!$E$2:$E$4000=\"Sim\",ROW('MEMORIAL DESCRITIVO-BRI'!$H$2:$H$4000)),ROW(B459))), \"\")","v":""},null,{"$f":"IFERROR(INDEX('MEMORIAL DESCRITIVO-BRI'!S:S,SMALL(IF('MEMORIAL DESCRITIVO-BRI'!$E$2:$E$4000=\"Sim\",ROW('MEMORIAL DESCRITIVO-BRI'!$S$2:$S$4000)),ROW(B459))), \"\")","v":""},{"$f":"IFERROR(INDEX('MEMORIAL DESCRITIVO-BRI'!Z:Z,SMALL(IF('MEMORIAL DESCRITIVO-BRI'!$E$2:$E$4000=\"Sim\",ROW('MEMORIAL DESCRITIVO-BRI'!$Z$2:$Z$4000)),ROW(B459))), \"\")","v":""},{"$f":"IFERROR(INDEX('MEMORIAL DESCRITIVO-BRI'!W:W,SMALL(IF('MEMORIAL DESCRITIVO-BRI'!$E$2:$E$4000=\"Sim\",ROW('MEMORIAL DESCRITIVO-BRI'!$W$2:$W$4000)),ROW(B459))), \"\")","v":""},{"$f":"IFERROR(INDEX('MEMORIAL DESCRITIVO-BRI'!G:G,SMALL(IF('MEMORIAL DESCRITIVO-BRI'!$E$2:$E$4000=\"Sim\",ROW('MEMORIAL DESCRITIVO-BRI'!$G$2:$G$4000)),ROW(B459))), \"\")","v":""},{"$f":"IFERROR(INDEX('MEMORIAL DESCRITIVO-BRI'!P:P,SMALL(IF('MEMORIAL DESCRITIVO-BRI'!$E$2:$E$4000=\"Sim\",ROW('MEMORIAL DESCRITIVO-BRI'!$P$2:$P$4000)),ROW(B459))), \"\")","v":""},{"$f":"IFERROR(INDEX('MEMORIAL DESCRITIVO-BRI'!Q:Q,SMALL(IF('MEMORIAL DESCRITIVO-BRI'!$E$2:$E$4000=\"Sim\",ROW('MEMORIAL DESCRITIVO-BRI'!$Q$2:$Q$4000)),ROW(B459))), \"\")","v":""}]
[null,{"$f":"IFERROR(INDEX('MEMORIAL DESCRITIVO-BRI'!B:B,SMALL(IF('MEMORIAL DESCRITIVO-BRI'!$E$2:$E$4000=\"Sim\",ROW('MEMORIAL DESCRITIVO-BRI'!$B$2:$B$4000)),ROW(B460))), \"\")","v":""},{"$f":"IFERROR(INDEX('MEMORIAL DESCRITIVO-BRI'!I:I,SMALL(IF('MEMORIAL DESCRITIVO-BRI'!$E$2:$E$4000=\"Sim\",ROW('MEMORIAL DESCRITIVO-BRI'!$I$2:$I$4000)),ROW(B460))), \"\")","v":""},{"$f":"IFERROR(INDEX('MEMORIAL DESCRITIVO-BRI'!F:F,SMALL(IF('MEMORIAL DESCRITIVO-BRI'!$E$2:$E$4000=\"Sim\",ROW('MEMORIAL DESCRITIVO-BRI'!$F$2:$F$4000)),ROW(B460))) & \" - \" & INDEX('MEMORIAL DESCRITIVO-BRI'!H:H,SMALL(IF('MEMORIAL DESCRITIVO-BRI'!$E$2:$E$4000=\"Sim\",ROW('MEMORIAL DESCRITIVO-BRI'!$H$2:$H$4000)),ROW(B460))), \"\")","v":""},null,{"$f":"IFERROR(INDEX('MEMORIAL DESCRITIVO-BRI'!S:S,SMALL(IF('MEMORIAL DESCRITIVO-BRI'!$E$2:$E$4000=\"Sim\",ROW('MEMORIAL DESCRITIVO-BRI'!$S$2:$S$4000)),ROW(B460))), \"\")","v":""},{"$f":"IFERROR(INDEX('MEMORIAL DESCRITIVO-BRI'!Z:Z,SMALL(IF('MEMORIAL DESCRITIVO-BRI'!$E$2:$E$4000=\"Sim\",ROW('MEMORIAL DESCRITIVO-BRI'!$Z$2:$Z$4000)),ROW(B460))), \"\")","v":""},{"$f":"IFERROR(INDEX('MEMORIAL DESCRITIVO-BRI'!W:W,SMALL(IF('MEMORIAL DESCRITIVO-BRI'!$E$2:$E$4000=\"Sim\",ROW('MEMORIAL DESCRITIVO-BRI'!$W$2:$W$4000)),ROW(B460))), \"\")","v":""},{"$f":"IFERROR(INDEX('MEMORIAL DESCRITIVO-BRI'!G:G,SMALL(IF('MEMORIAL DESCRITIVO-BRI'!$E$2:$E$4000=\"Sim\",ROW('MEMORIAL DESCRITIVO-BRI'!$G$2:$G$4000)),ROW(B460))), \"\")","v":""},{"$f":"IFERROR(INDEX('MEMORIAL DESCRITIVO-BRI'!P:P,SMALL(IF('MEMORIAL DESCRITIVO-BRI'!$E$2:$E$4000=\"Sim\",ROW('MEMORIAL DESCRITIVO-BRI'!$P$2:$P$4000)),ROW(B460))), \"\")","v":""},{"$f":"IFERROR(INDEX('MEMORIAL DESCRITIVO-BRI'!Q:Q,SMALL(IF('MEMORIAL DESCRITIVO-BRI'!$E$2:$E$4000=\"Sim\",ROW('MEMORIAL DESCRITIVO-BRI'!$Q$2:$Q$4000)),ROW(B460))), \"\")","v":""}]
[null,{"$f":"IFERROR(INDEX('MEMORIAL DESCRITIVO-BRI'!B:B,SMALL(IF('MEMORIAL DESCRITIVO-BRI'!$E$2:$E$4000=\"Sim\",ROW('MEMORIAL DESCRITIVO-BRI'!$B$2:$B$4000)),ROW(B461))), \"\")","v":""},{"$f":"IFERROR(INDEX('MEMORIAL DESCRITIVO-BRI'!I:I,SMALL(IF('MEMORIAL DESCRITIVO-BRI'!$E$2:$E$4000=\"Sim\",ROW('MEMORIAL DESCRITIVO-BRI'!$I$2:$I$4000)),ROW(B461))), \"\")","v":""},{"$f":"IFERROR(INDEX('MEMORIAL DESCRITIVO-BRI'!F:F,SMALL(IF('MEMORIAL DESCRITIVO-BRI'!$E$2:$E$4000=\"Sim\",ROW('MEMORIAL DESCRITIVO-BRI'!$F$2:$F$4000)),ROW(B461))) & \" - \" & INDEX('MEMORIAL DESCRITIVO-BRI'!H:H,SMALL(IF('MEMORIAL DESCRITIVO-BRI'!$E$2:$E$4000=\"Sim\",ROW('MEMORIAL DESCRITIVO-BRI'!$H$2:$H$4000)),ROW(B461))), \"\")","v":""},null,{"$f":"IFERROR(INDEX('MEMORIAL DESCRITIVO-BRI'!S:S,SMALL(IF('MEMORIAL DESCRITIVO-BRI'!$E$2:$E$4000=\"Sim\",ROW('MEMORIAL DESCRITIVO-BRI'!$S$2:$S$4000)),ROW(B461))), \"\")","v":""},{"$f":"IFERROR(INDEX('MEMORIAL DESCRITIVO-BRI'!Z:Z,SMALL(IF('MEMORIAL DESCRITIVO-BRI'!$E$2:$E$4000=\"Sim\",ROW('MEMORIAL DESCRITIVO-BRI'!$Z$2:$Z$4000)),ROW(B461))), \"\")","v":""},{"$f":"IFERROR(INDEX('MEMORIAL DESCRITIVO-BRI'!W:W,SMALL(IF('MEMORIAL DESCRITIVO-BRI'!$E$2:$E$4000=\"Sim\",ROW('MEMORIAL DESCRITIVO-BRI'!$W$2:$W$4000)),ROW(B461))), \"\")","v":""},{"$f":"IFERROR(INDEX('MEMORIAL DESCRITIVO-BRI'!G:G,SMALL(IF('MEMORIAL DESCRITIVO-BRI'!$E$2:$E$4000=\"Sim\",ROW('MEMORIAL DESCRITIVO-BRI'!$G$2:$G$4000)),ROW(B461))), \"\")","v":""},{"$f":"IFERROR(INDEX('MEMORIAL DESCRITIVO-BRI'!P:P,SMALL(IF('MEMORIAL DESCRITIVO-BRI'!$E$2:$E$4000=\"Sim\",ROW('MEMORIAL DESCRITIVO-BRI'!$P$2:$P$4000)),ROW(B461))), \"\")","v":""},{"$f":"IFERROR(INDEX('MEMORIAL DESCRITIVO-BRI'!Q:Q,SMALL(IF('MEMORIAL DESCRITIVO-BRI'!$E$2:$E$4000=\"Sim\",ROW('MEMORIAL DESCRITIVO-BRI'!$Q$2:$Q$4000)),ROW(B461))), \"\")","v":""}]
[null,{"$f":"IFERROR(INDEX('MEMORIAL DESCRITIVO-BRI'!B:B,SMALL(IF('MEMORIAL DESCRITIVO-BRI'!$E$2:$E$4000=\"Sim\",ROW('MEMORIAL DESCRITIVO-BRI'!$B$2:$B$4000)),ROW(B462))), \"\")","v":""},{"$f":"IFERROR(INDEX('MEMORIAL DESCRITIVO-BRI'!I:I,SMALL(IF('MEMORIAL DESCRITIVO-BRI'!$E$2:$E$4000=\"Sim\",ROW('MEMORIAL DESCRITIVO-BRI'!$I$2:$I$4000)),ROW(B462))), \"\")","v":""},{"$f":"IFERROR(INDEX('MEMORIAL DESCRITIVO-BRI'!F:F,SMALL(IF('MEMORIAL DESCRITIVO-BRI'!$E$2:$E$4000=\"Sim\",ROW('MEMORIAL DESCRITIVO-BRI'!$F$2:$F$4000)),ROW(B462))) & \" - \" & INDEX('MEMORIAL DESCRITIVO-BRI'!H:H,SMALL(IF('MEMORIAL DESCRITIVO-BRI'!$E$2:$E$4000=\"Sim\",ROW('MEMORIAL DESCRITIVO-BRI'!$H$2:$H$4000)),ROW(B462))), \"\")","v":""},null,{"$f":"IFERROR(INDEX('MEMORIAL DESCRITIVO-BRI'!S:S,SMALL(IF('MEMORIAL DESCRITIVO-BRI'!$E$2:$E$4000=\"Sim\",ROW('MEMORIAL DESCRITIVO-BRI'!$S$2:$S$4000)),ROW(B462))), \"\")","v":""},{"$f":"IFERROR(INDEX('MEMORIAL DESCRITIVO-BRI'!Z:Z,SMALL(IF('MEMORIAL DESCRITIVO-BRI'!$E$2:$E$4000=\"Sim\",ROW('MEMORIAL DESCRITIVO-BRI'!$Z$2:$Z$4000)),ROW(B462))), \"\")","v":""},{"$f":"IFERROR(INDEX('MEMORIAL DESCRITIVO-BRI'!W:W,SMALL(IF('MEMORIAL DESCRITIVO-BRI'!$E$2:$E$4000=\"Sim\",ROW('MEMORIAL DESCRITIVO-BRI'!$W$2:$W$4000)),ROW(B462))), \"\")","v":""},{"$f":"IFERROR(INDEX('MEMORIAL DESCRITIVO-BRI'!G:G,SMALL(IF('MEMORIAL DESCRITIVO-BRI'!$E$2:$E$4000=\"Sim\",ROW('MEMORIAL DESCRITIVO-BRI'!$G$2:$G$4000)),ROW(B462))), \"\")","v":""},{"$f":"IFERROR(INDEX('MEMORIAL DESCRITIVO-BRI'!P:P,SMALL(IF('MEMORIAL DESCRITIVO-BRI'!$E$2:$E$4000=\"Sim\",ROW('MEMORIAL DESCRITIVO-BRI'!$P$2:$P$4000)),ROW(B462))), \"\")","v":""},{"$f":"IFERROR(INDEX('MEMORIAL DESCRITIVO-BRI'!Q:Q,SMALL(IF('MEMORIAL DESCRITIVO-BRI'!$E$2:$E$4000=\"Sim\",ROW('MEMORIAL DESCRITIVO-BRI'!$Q$2:$Q$4000)),ROW(B462))), \"\")","v":""}]
[null,{"$f":"IFERROR(INDEX('MEMORIAL DESCRITIVO-BRI'!B:B,SMALL(IF('MEMORIAL DESCRITIVO-BRI'!$E$2:$E$4000=\"Sim\",ROW('MEMORIAL DESCRITIVO-BRI'!$B$2:$B$4000)),ROW(B463))), \"\")","v":""},{"$f":"IFERROR(INDEX('MEMORIAL DESCRITIVO-BRI'!I:I,SMALL(IF('MEMORIAL DESCRITIVO-BRI'!$E$2:$E$4000=\"Sim\",ROW('MEMORIAL DESCRITIVO-BRI'!$I$2:$I$4000)),ROW(B463))), \"\")","v":""},{"$f":"IFERROR(INDEX('MEMORIAL DESCRITIVO-BRI'!F:F,SMALL(IF('MEMORIAL DESCRITIVO-BRI'!$E$2:$E$4000=\"Sim\",ROW('MEMORIAL DESCRITIVO-BRI'!$F$2:$F$4000)),ROW(B463))) & \" - \" & INDEX('MEMORIAL DESCRITIVO-BRI'!H:H,SMALL(IF('MEMORIAL DESCRITIVO-BRI'!$E$2:$E$4000=\"Sim\",ROW('MEMORIAL DESCRITIVO-BRI'!$H$2:$H$4000)),ROW(B463))), \"\")","v":""},null,{"$f":"IFERROR(INDEX('MEMORIAL DESCRITIVO-BRI'!S:S,SMALL(IF('MEMORIAL DESCRITIVO-BRI'!$E$2:$E$4000=\"Sim\",ROW('MEMORIAL DESCRITIVO-BRI'!$S$2:$S$4000)),ROW(B463))), \"\")","v":""},{"$f":"IFERROR(INDEX('MEMORIAL DESCRITIVO-BRI'!Z:Z,SMALL(IF('MEMORIAL DESCRITIVO-BRI'!$E$2:$E$4000=\"Sim\",ROW('MEMORIAL DESCRITIVO-BRI'!$Z$2:$Z$4000)),ROW(B463))), \"\")","v":""},{"$f":"IFERROR(INDEX('MEMORIAL DESCRITIVO-BRI'!W:W,SMALL(IF('MEMORIAL DESCRITIVO-BRI'!$E$2:$E$4000=\"Sim\",ROW('MEMORIAL DESCRITIVO-BRI'!$W$2:$W$4000)),ROW(B463))), \"\")","v":""},{"$f":"IFERROR(INDEX('MEMORIAL DESCRITIVO-BRI'!G:G,SMALL(IF('MEMORIAL DESCRITIVO-BRI'!$E$2:$E$4000=\"Sim\",ROW('MEMORIAL DESCRITIVO-BRI'!$G$2:$G$4000)),ROW(B463))), \"\")","v":""},{"$f":"IFERROR(INDEX('MEMORIAL DESCRITIVO-BRI'!P:P,SMALL(IF('MEMORIAL DESCRITIVO-BRI'!$E$2:$E$4000=\"Sim\",ROW('MEMORIAL DESCRITIVO-BRI'!$P$2:$P$4000)),ROW(B463))), \"\")","v":""},{"$f":"IFERROR(INDEX('MEMORIAL DESCRITIVO-BRI'!Q:Q,SMALL(IF('MEMORIAL DESCRITIVO-BRI'!$E$2:$E$4000=\"Sim\",ROW('MEMORIAL DESCRITIVO-BRI'!$Q$2:$Q$4000)),ROW(B463))), \"\")","v":""}]
[null,{"$f":"IFERROR(INDEX('MEMORIAL DESCRITIVO-BRI'!B:B,SMALL(IF('MEMORIAL DESCRITIVO-BRI'!$E$2:$E$4000=\"Sim\",ROW('MEMORIAL DESCRITIVO-BRI'!$B$2:$B$4000)),ROW(B464))), \"\")","v":""},{"$f":"IFERROR(INDEX('MEMORIAL DESCRITIVO-BRI'!I:I,SMALL(IF('MEMORIAL DESCRITIVO-BRI'!$E$2:$E$4000=\"Sim\",ROW('MEMORIAL DESCRITIVO-BRI'!$I$2:$I$4000)),ROW(B464))), \"\")","v":""},{"$f":"IFERROR(INDEX('MEMORIAL DESCRITIVO-BRI'!F:F,SMALL(IF('MEMORIAL DESCRITIVO-BRI'!$E$2:$E$4000=\"Sim\",ROW('MEMORIAL DESCRITIVO-BRI'!$F$2:$F$4000)),ROW(B464))) & \" - \" & INDEX('MEMORIAL DESCRITIVO-BRI'!H:H,SMALL(IF('MEMORIAL DESCRITIVO-BRI'!$E$2:$E$4000=\"Sim\",ROW('MEMORIAL DESCRITIVO-BRI'!$H$2:$H$4000)),ROW(B464))), \"\")","v":""},null,{"$f":"IFERROR(INDEX('MEMORIAL DESCRITIVO-BRI'!S:S,SMALL(IF('MEMORIAL DESCRITIVO-BRI'!$E$2:$E$4000=\"Sim\",ROW('MEMORIAL DESCRITIVO-BRI'!$S$2:$S$4000)),ROW(B464))), \"\")","v":""},{"$f":"IFERROR(INDEX('MEMORIAL DESCRITIVO-BRI'!Z:Z,SMALL(IF('MEMORIAL DESCRITIVO-BRI'!$E$2:$E$4000=\"Sim\",ROW('MEMORIAL DESCRITIVO-BRI'!$Z$2:$Z$4000)),ROW(B464))), \"\")","v":""},{"$f":"IFERROR(INDEX('MEMORIAL DESCRITIVO-BRI'!W:W,SMALL(IF('MEMORIAL DESCRITIVO-BRI'!$E$2:$E$4000=\"Sim\",ROW('MEMORIAL DESCRITIVO-BRI'!$W$2:$W$4000)),ROW(B464))), \"\")","v":""},{"$f":"IFERROR(INDEX('MEMORIAL DESCRITIVO-BRI'!G:G,SMALL(IF('MEMORIAL DESCRITIVO-BRI'!$E$2:$E$4000=\"Sim\",ROW('MEMORIAL DESCRITIVO-BRI'!$G$2:$G$4000)),ROW(B464))), \"\")","v":""},{"$f":"IFERROR(INDEX('MEMORIAL DESCRITIVO-BRI'!P:P,SMALL(IF('MEMORIAL DESCRITIVO-BRI'!$E$2:$E$4000=\"Sim\",ROW('MEMORIAL DESCRITIVO-BRI'!$P$2:$P$4000)),ROW(B464))), \"\")","v":""},{"$f":"IFERROR(INDEX('MEMORIAL DESCRITIVO-BRI'!Q:Q,SMALL(IF('MEMORIAL DESCRITIVO-BRI'!$E$2:$E$4000=\"Sim\",ROW('MEMORIAL DESCRITIVO-BRI'!$Q$2:$Q$4000)),ROW(B464))), \"\")","v":""}]
[null,{"$f":"IFERROR(INDEX('MEMORIAL DESCRITIVO-BRI'!B:B,SMALL(IF('MEMORIAL DESCRITIVO-BRI'!$E$2:$E$4000=\"Sim\",ROW('MEMORIAL DESCRITIVO-BRI'!$B$2:$B$4000)),ROW(B465))), \"\")","v":""},{"$f":"IFERROR(INDEX('MEMORIAL DESCRITIVO-BRI'!I:I,SMALL(IF('MEMORIAL DESCRITIVO-BRI'!$E$2:$E$4000=\"Sim\",ROW('MEMORIAL DESCRITIVO-BRI'!$I$2:$I$4000)),ROW(B465))), \"\")","v":""},{"$f":"IFERROR(INDEX('MEMORIAL DESCRITIVO-BRI'!F:F,SMALL(IF('MEMORIAL DESCRITIVO-BRI'!$E$2:$E$4000=\"Sim\",ROW('MEMORIAL DESCRITIVO-BRI'!$F$2:$F$4000)),ROW(B465))) & \" - \" & INDEX('MEMORIAL DESCRITIVO-BRI'!H:H,SMALL(IF('MEMORIAL DESCRITIVO-BRI'!$E$2:$E$4000=\"Sim\",ROW('MEMORIAL DESCRITIVO-BRI'!$H$2:$H$4000)),ROW(B465))), \"\")","v":""},null,{"$f":"IFERROR(INDEX('MEMORIAL DESCRITIVO-BRI'!S:S,SMALL(IF('MEMORIAL DESCRITIVO-BRI'!$E$2:$E$4000=\"Sim\",ROW('MEMORIAL DESCRITIVO-BRI'!$S$2:$S$4000)),ROW(B465))), \"\")","v":""},{"$f":"IFERROR(INDEX('MEMORIAL DESCRITIVO-BRI'!Z:Z,SMALL(IF('MEMORIAL DESCRITIVO-BRI'!$E$2:$E$4000=\"Sim\",ROW('MEMORIAL DESCRITIVO-BRI'!$Z$2:$Z$4000)),ROW(B465))), \"\")","v":""},{"$f":"IFERROR(INDEX('MEMORIAL DESCRITIVO-BRI'!W:W,SMALL(IF('MEMORIAL DESCRITIVO-BRI'!$E$2:$E$4000=\"Sim\",ROW('MEMORIAL DESCRITIVO-BRI'!$W$2:$W$4000)),ROW(B465))), \"\")","v":""},{"$f":"IFERROR(INDEX('MEMORIAL DESCRITIVO-BRI'!G:G,SMALL(IF('MEMORIAL DESCRITIVO-BRI'!$E$2:$E$4000=\"Sim\",ROW('MEMORIAL DESCRITIVO-BRI'!$G$2:$G$4000)),ROW(B465))), \"\")","v":""},{"$f":"IFERROR(INDEX('MEMORIAL DESCRITIVO-BRI'!P:P,SMALL(IF('MEMORIAL DESCRITIVO-BRI'!$E$2:$E$4000=\"Sim\",ROW('MEMORIAL DESCRITIVO-BRI'!$P$2:$P$4000)),ROW(B465))), \"\")","v":""},{"$f":"IFERROR(INDEX('MEMORIAL DESCRITIVO-BRI'!Q:Q,SMALL(IF('MEMORIAL DESCRITIVO-BRI'!$E$2:$E$4000=\"Sim\",ROW('MEMORIAL DESCRITIVO-BRI'!$Q$2:$Q$4000)),ROW(B465))), \"\")","v":""}]
[null,{"$f":"IFERROR(INDEX('MEMORIAL DESCRITIVO-BRI'!B:B,SMALL(IF('MEMORIAL DESCRITIVO-BRI'!$E$2:$E$4000=\"Sim\",ROW('MEMORIAL DESCRITIVO-BRI'!$B$2:$B$4000)),ROW(B466))), \"\")","v":""},{"$f":"IFERROR(INDEX('MEMORIAL DESCRITIVO-BRI'!I:I,SMALL(IF('MEMORIAL DESCRITIVO-BRI'!$E$2:$E$4000=\"Sim\",ROW('MEMORIAL DESCRITIVO-BRI'!$I$2:$I$4000)),ROW(B466))), \"\")","v":""},{"$f":"IFERROR(INDEX('MEMORIAL DESCRITIVO-BRI'!F:F,SMALL(IF('MEMORIAL DESCRITIVO-BRI'!$E$2:$E$4000=\"Sim\",ROW('MEMORIAL DESCRITIVO-BRI'!$F$2:$F$4000)),ROW(B466))) & \" - \" & INDEX('MEMORIAL DESCRITIVO-BRI'!H:H,SMALL(IF('MEMORIAL DESCRITIVO-BRI'!$E$2:$E$4000=\"Sim\",ROW('MEMORIAL DESCRITIVO-BRI'!$H$2:$H$4000)),ROW(B466))), \"\")","v":""},null,{"$f":"IFERROR(INDEX('MEMORIAL DESCRITIVO-BRI'!S:S,SMALL(IF('MEMORIAL DESCRITIVO-BRI'!$E$2:$E$4000=\"Sim\",ROW('MEMORIAL DESCRITIVO-BRI'!$S$2:$S$4000)),ROW(B466))), \"\")","v":""},{"$f":"IFERROR(INDEX('MEMORIAL DESCRITIVO-BRI'!Z:Z,SMALL(IF('MEMORIAL DESCRITIVO-BRI'!$E$2:$E$4000=\"Sim\",ROW('MEMORIAL DESCRITIVO-BRI'!$Z$2:$Z$4000)),ROW(B466))), \"\")","v":""},{"$f":"IFERROR(INDEX('MEMORIAL DESCRITIVO-BRI'!W:W,SMALL(IF('MEMORIAL DESCRITIVO-BRI'!$E$2:$E$4000=\"Sim\",ROW('MEMORIAL DESCRITIVO-BRI'!$W$2:$W$4000)),ROW(B466))), \"\")","v":""},{"$f":"IFERROR(INDEX('MEMORIAL DESCRITIVO-BRI'!G:G,SMALL(IF('MEMORIAL DESCRITIVO-BRI'!$E$2:$E$4000=\"Sim\",ROW('MEMORIAL DESCRITIVO-BRI'!$G$2:$G$4000)),ROW(B466))), \"\")","v":""},{"$f":"IFERROR(INDEX('MEMORIAL DESCRITIVO-BRI'!P:P,SMALL(IF('MEMORIAL DESCRITIVO-BRI'!$E$2:$E$4000=\"Sim\",ROW('MEMORIAL DESCRITIVO-BRI'!$P$2:$P$4000)),ROW(B466))), \"\")","v":""},{"$f":"IFERROR(INDEX('MEMORIAL DESCRITIVO-BRI'!Q:Q,SMALL(IF('MEMORIAL DESCRITIVO-BRI'!$E$2:$E$4000=\"Sim\",ROW('MEMORIAL DESCRITIVO-BRI'!$Q$2:$Q$4000)),ROW(B466))), \"\")","v":""}]
[null,{"$f":"IFERROR(INDEX('MEMORIAL DESCRITIVO-BRI'!B:B,SMALL(IF('MEMORIAL DESCRITIVO-BRI'!$E$2:$E$4000=\"Sim\",ROW('MEMORIAL DESCRITIVO-BRI'!$B$2:$B$4000)),ROW(B467))), \"\")","v":""},{"$f":"IFERROR(INDEX('MEMORIAL DESCRITIVO-BRI'!I:I,SMALL(IF('MEMORIAL DESCRITIVO-BRI'!$E$2:$E$4000=\"Sim\",ROW('MEMORIAL DESCRITIVO-BRI'!$I$2:$I$4000)),ROW(B467))), \"\")","v":""},{"$f":"IFERROR(INDEX('MEMORIAL DESCRITIVO-BRI'!F:F,SMALL(IF('MEMORIAL DESCRITIVO-BRI'!$E$2:$E$4000=\"Sim\",ROW('MEMORIAL DESCRITIVO-BRI'!$F$2:$F$4000)),ROW(B467))) & \" - \" & INDEX('MEMORIAL DESCRITIVO-BRI'!H:H,SMALL(IF('MEMORIAL DESCRITIVO-BRI'!$E$2:$E$4000=\"Sim\",ROW('MEMORIAL DESCRITIVO-BRI'!$H$2:$H$4000)),ROW(B467))), \"\")","v":""},null,{"$f":"IFERROR(INDEX('MEMORIAL DESCRITIVO-BRI'!S:S,SMALL(IF('MEMORIAL DESCRITIVO-BRI'!$E$2:$E$4000=\"Sim\",ROW('MEMORIAL DESCRITIVO-BRI'!$S$2:$S$4000)),ROW(B467))), \"\")","v":""},{"$f":"IFERROR(INDEX('MEMORIAL DESCRITIVO-BRI'!Z:Z,SMALL(IF('MEMORIAL DESCRITIVO-BRI'!$E$2:$E$4000=\"Sim\",ROW('MEMORIAL DESCRITIVO-BRI'!$Z$2:$Z$4000)),ROW(B467))), \"\")","v":""},{"$f":"IFERROR(INDEX('MEMORIAL DESCRITIVO-BRI'!W:W,SMALL(IF('MEMORIAL DESCRITIVO-BRI'!$E$2:$E$4000=\"Sim\",ROW('MEMORIAL DESCRITIVO-BRI'!$W$2:$W$4000)),ROW(B467))), \"\")","v":""},{"$f":"IFERROR(INDEX('MEMORIAL DESCRITIVO-BRI'!G:G,SMALL(IF('MEMORIAL DESCRITIVO-BRI'!$E$2:$E$4000=\"Sim\",ROW('MEMORIAL DESCRITIVO-BRI'!$G$2:$G$4000)),ROW(B467))), \"\")","v":""},{"$f":"IFERROR(INDEX('MEMORIAL DESCRITIVO-BRI'!P:P,SMALL(IF('MEMORIAL DESCRITIVO-BRI'!$E$2:$E$4000=\"Sim\",ROW('MEMORIAL DESCRITIVO-BRI'!$P$2:$P$4000)),ROW(B467))), \"\")","v":""},{"$f":"IFERROR(INDEX('MEMORIAL DESCRITIVO-BRI'!Q:Q,SMALL(IF('MEMORIAL DESCRITIVO-BRI'!$E$2:$E$4000=\"Sim\",ROW('MEMORIAL DESCRITIVO-BRI'!$Q$2:$Q$4000)),ROW(B467))), \"\")","v":""}]
[null,{"$f":"IFERROR(INDEX('MEMORIAL DESCRITIVO-BRI'!B:B,SMALL(IF('MEMORIAL DESCRITIVO-BRI'!$E$2:$E$4000=\"Sim\",ROW('MEMORIAL DESCRITIVO-BRI'!$B$2:$B$4000)),ROW(B468))), \"\")","v":""},{"$f":"IFERROR(INDEX('MEMORIAL DESCRITIVO-BRI'!I:I,SMALL(IF('MEMORIAL DESCRITIVO-BRI'!$E$2:$E$4000=\"Sim\",ROW('MEMORIAL DESCRITIVO-BRI'!$I$2:$I$4000)),ROW(B468))), \"\")","v":""},{"$f":"IFERROR(INDEX('MEMORIAL DESCRITIVO-BRI'!F:F,SMALL(IF('MEMORIAL DESCRITIVO-BRI'!$E$2:$E$4000=\"Sim\",ROW('MEMORIAL DESCRITIVO-BRI'!$F$2:$F$4000)),ROW(B468))) & \" - \" & INDEX('MEMORIAL DESCRITIVO-BRI'!H:H,SMALL(IF('MEMORIAL DESCRITIVO-BRI'!$E$2:$E$4000=\"Sim\",ROW('MEMORIAL DESCRITIVO-BRI'!$H$2:$H$4000)),ROW(B468))), \"\")","v":""},null,{"$f":"IFERROR(INDEX('MEMORIAL DESCRITIVO-BRI'!S:S,SMALL(IF('MEMORIAL DESCRITIVO-BRI'!$E$2:$E$4000=\"Sim\",ROW('MEMORIAL DESCRITIVO-BRI'!$S$2:$S$4000)),ROW(B468))), \"\")","v":""},{"$f":"IFERROR(INDEX('MEMORIAL DESCRITIVO-BRI'!Z:Z,SMALL(IF('MEMORIAL DESCRITIVO-BRI'!$E$2:$E$4000=\"Sim\",ROW('MEMORIAL DESCRITIVO-BRI'!$Z$2:$Z$4000)),ROW(B468))), \"\")","v":""},{"$f":"IFERROR(INDEX('MEMORIAL DESCRITIVO-BRI'!W:W,SMALL(IF('MEMORIAL DESCRITIVO-BRI'!$E$2:$E$4000=\"Sim\",ROW('MEMORIAL DESCRITIVO-BRI'!$W$2:$W$4000)),ROW(B468))), \"\")","v":""},{"$f":"IFERROR(INDEX('MEMORIAL DESCRITIVO-BRI'!G:G,SMALL(IF('MEMORIAL DESCRITIVO-BRI'!$E$2:$E$4000=\"Sim\",ROW('MEMORIAL DESCRITIVO-BRI'!$G$2:$G$4000)),ROW(B468))), \"\")","v":""},{"$f":"IFERROR(INDEX('MEMORIAL DESCRITIVO-BRI'!P:P,SMALL(IF('MEMORIAL DESCRITIVO-BRI'!$E$2:$E$4000=\"Sim\",ROW('MEMORIAL DESCRITIVO-BRI'!$P$2:$P$4000)),ROW(B468))), \"\")","v":""},{"$f":"IFERROR(INDEX('MEMORIAL DESCRITIVO-BRI'!Q:Q,SMALL(IF('MEMORIAL DESCRITIVO-BRI'!$E$2:$E$4000=\"Sim\",ROW('MEMORIAL DESCRITIVO-BRI'!$Q$2:$Q$4000)),ROW(B468))), \"\")","v":""}]
[null,{"$f":"IFERROR(INDEX('MEMORIAL DESCRITIVO-BRI'!B:B,SMALL(IF('MEMORIAL DESCRITIVO-BRI'!$E$2:$E$4000=\"Sim\",ROW('MEMORIAL DESCRITIVO-BRI'!$B$2:$B$4000)),ROW(B469))), \"\")","v":""},{"$f":"IFERROR(INDEX('MEMORIAL DESCRITIVO-BRI'!I:I,SMALL(IF('MEMORIAL DESCRITIVO-BRI'!$E$2:$E$4000=\"Sim\",ROW('MEMORIAL DESCRITIVO-BRI'!$I$2:$I$4000)),ROW(B469))), \"\")","v":""},{"$f":"IFERROR(INDEX('MEMORIAL DESCRITIVO-BRI'!F:F,SMALL(IF('MEMORIAL DESCRITIVO-BRI'!$E$2:$E$4000=\"Sim\",ROW('MEMORIAL DESCRITIVO-BRI'!$F$2:$F$4000)),ROW(B469))) & \" - \" & INDEX('MEMORIAL DESCRITIVO-BRI'!H:H,SMALL(IF('MEMORIAL DESCRITIVO-BRI'!$E$2:$E$4000=\"Sim\",ROW('MEMORIAL DESCRITIVO-BRI'!$H$2:$H$4000)),ROW(B469))), \"\")","v":""},null,{"$f":"IFERROR(INDEX('MEMORIAL DESCRITIVO-BRI'!S:S,SMALL(IF('MEMORIAL DESCRITIVO-BRI'!$E$2:$E$4000=\"Sim\",ROW('MEMORIAL DESCRITIVO-BRI'!$S$2:$S$4000)),ROW(B469))), \"\")","v":""},{"$f":"IFERROR(INDEX('MEMORIAL DESCRITIVO-BRI'!Z:Z,SMALL(IF('MEMORIAL DESCRITIVO-BRI'!$E$2:$E$4000=\"Sim\",ROW('MEMORIAL DESCRITIVO-BRI'!$Z$2:$Z$4000)),ROW(B469))), \"\")","v":""},{"$f":"IFERROR(INDEX('MEMORIAL DESCRITIVO-BRI'!W:W,SMALL(IF('MEMORIAL DESCRITIVO-BRI'!$E$2:$E$4000=\"Sim\",ROW('MEMORIAL DESCRITIVO-BRI'!$W$2:$W$4000)),ROW(B469))), \"\")","v":""},{"$f":"IFERROR(INDEX('MEMORIAL DESCRITIVO-BRI'!G:G,SMALL(IF('MEMORIAL DESCRITIVO-BRI'!$E$2:$E$4000=\"Sim\",ROW('MEMORIAL DESCRITIVO-BRI'!$G$2:$G$4000)),ROW(B469))), \"\")","v":""},{"$f":"IFERROR(INDEX('MEMORIAL DESCRITIVO-BRI'!P:P,SMALL(IF('MEMORIAL DESCRITIVO-BRI'!$E$2:$E$4000=\"Sim\",ROW('MEMORIAL DESCRITIVO-BRI'!$P$2:$P$4000)),ROW(B469))), \"\")","v":""},{"$f":"IFERROR(INDEX('MEMORIAL DESCRITIVO-BRI'!Q:Q,SMALL(IF('MEMORIAL DESCRITIVO-BRI'!$E$2:$E$4000=\"Sim\",ROW('MEMORIAL DESCRITIVO-BRI'!$Q$2:$Q$4000)),ROW(B469))), \"\")","v":""}]
[null,{"$f":"IFERROR(INDEX('MEMORIAL DESCRITIVO-BRI'!B:B,SMALL(IF('MEMORIAL DESCRITIVO-BRI'!$E$2:$E$4000=\"Sim\",ROW('MEMORIAL DESCRITIVO-BRI'!$B$2:$B$4000)),ROW(B470))), \"\")","v":""},{"$f":"IFERROR(INDEX('MEMORIAL DESCRITIVO-BRI'!I:I,SMALL(IF('MEMORIAL DESCRITIVO-BRI'!$E$2:$E$4000=\"Sim\",ROW('MEMORIAL DESCRITIVO-BRI'!$I$2:$I$4000)),ROW(B470))), \"\")","v":""},{"$f":"IFERROR(INDEX('MEMORIAL DESCRITIVO-BRI'!F:F,SMALL(IF('MEMORIAL DESCRITIVO-BRI'!$E$2:$E$4000=\"Sim\",ROW('MEMORIAL DESCRITIVO-BRI'!$F$2:$F$4000)),ROW(B470))) & \" - \" & INDEX('MEMORIAL DESCRITIVO-BRI'!H:H,SMALL(IF('MEMORIAL DESCRITIVO-BRI'!$E$2:$E$4000=\"Sim\",ROW('MEMORIAL DESCRITIVO-BRI'!$H$2:$H$4000)),ROW(B470))), \"\")","v":""},null,{"$f":"IFERROR(INDEX('MEMORIAL DESCRITIVO-BRI'!S:S,SMALL(IF('MEMORIAL DESCRITIVO-BRI'!$E$2:$E$4000=\"Sim\",ROW('MEMORIAL DESCRITIVO-BRI'!$S$2:$S$4000)),ROW(B470))), \"\")","v":""},{"$f":"IFERROR(INDEX('MEMORIAL DESCRITIVO-BRI'!Z:Z,SMALL(IF('MEMORIAL DESCRITIVO-BRI'!$E$2:$E$4000=\"Sim\",ROW('MEMORIAL DESCRITIVO-BRI'!$Z$2:$Z$4000)),ROW(B470))), \"\")","v":""},{"$f":"IFERROR(INDEX('MEMORIAL DESCRITIVO-BRI'!W:W,SMALL(IF('MEMORIAL DESCRITIVO-BRI'!$E$2:$E$4000=\"Sim\",ROW('MEMORIAL DESCRITIVO-BRI'!$W$2:$W$4000)),ROW(B470))), \"\")","v":""},{"$f":"IFERROR(INDEX('MEMORIAL DESCRITIVO-BRI'!G:G,SMALL(IF('MEMORIAL DESCRITIVO-BRI'!$E$2:$E$4000=\"Sim\",ROW('MEMORIAL DESCRITIVO-BRI'!$G$2:$G$4000)),ROW(B470))), \"\")","v":""},{"$f":"IFERROR(INDEX('MEMORIAL DESCRITIVO-BRI'!P:P,SMALL(IF('MEMORIAL DESCRITIVO-BRI'!$E$2:$E$4000=\"Sim\",ROW('MEMORIAL DESCRITIVO-BRI'!$P$2:$P$4000)),ROW(B470))), \"\")","v":""},{"$f":"IFERROR(INDEX('MEMORIAL DESCRITIVO-BRI'!Q:Q,SMALL(IF('MEMORIAL DESCRITIVO-BRI'!$E$2:$E$4000=\"Sim\",ROW('MEMORIAL DESCRITIVO-BRI'!$Q$2:$Q$4000)),ROW(B470))), \"\")","v":""}]
[null,{"$f":"IFERROR(INDEX('MEMORIAL DESCRITIVO-BRI'!B:B,SMALL(IF('MEMORIAL DESCRITIVO-BRI'!$E$2:$E$4000=\"Sim\",ROW('MEMORIAL DESCRITIVO-BRI'!$B$2:$B$4000)),ROW(B471))), \"\")","v":""},{"$f":"IFERROR(INDEX('MEMORIAL DESCRITIVO-BRI'!I:I,SMALL(IF('MEMORIAL DESCRITIVO-BRI'!$E$2:$E$4000=\"Sim\",ROW('MEMORIAL DESCRITIVO-BRI'!$I$2:$I$4000)),ROW(B471))), \"\")","v":""},{"$f":"IFERROR(INDEX('MEMORIAL DESCRITIVO-BRI'!F:F,SMALL(IF('MEMORIAL DESCRITIVO-BRI'!$E$2:$E$4000=\"Sim\",ROW('MEMORIAL DESCRITIVO-BRI'!$F$2:$F$4000)),ROW(B471))) & \" - \" & INDEX('MEMORIAL DESCRITIVO-BRI'!H:H,SMALL(IF('MEMORIAL DESCRITIVO-BRI'!$E$2:$E$4000=\"Sim\",ROW('MEMORIAL DESCRITIVO-BRI'!$H$2:$H$4000)),ROW(B471))), \"\")","v":""},null,{"$f":"IFERROR(INDEX('MEMORIAL DESCRITIVO-BRI'!S:S,SMALL(IF('MEMORIAL DESCRITIVO-BRI'!$E$2:$E$4000=\"Sim\",ROW('MEMORIAL DESCRITIVO-BRI'!$S$2:$S$4000)),ROW(B471))), \"\")","v":""},{"$f":"IFERROR(INDEX('MEMORIAL DESCRITIVO-BRI'!Z:Z,SMALL(IF('MEMORIAL DESCRITIVO-BRI'!$E$2:$E$4000=\"Sim\",ROW('MEMORIAL DESCRITIVO-BRI'!$Z$2:$Z$4000)),ROW(B471))), \"\")","v":""},{"$f":"IFERROR(INDEX('MEMORIAL DESCRITIVO-BRI'!W:W,SMALL(IF('MEMORIAL DESCRITIVO-BRI'!$E$2:$E$4000=\"Sim\",ROW('MEMORIAL DESCRITIVO-BRI'!$W$2:$W$4000)),ROW(B471))), \"\")","v":""},{"$f":"IFERROR(INDEX('MEMORIAL DESCRITIVO-BRI'!G:G,SMALL(IF('MEMORIAL DESCRITIVO-BRI'!$E$2:$E$4000=\"Sim\",ROW('MEMORIAL DESCRITIVO-BRI'!$G$2:$G$4000)),ROW(B471))), \"\")","v":""},{"$f":"IFERROR(INDEX('MEMORIAL DESCRITIVO-BRI'!P:P,SMALL(IF('MEMORIAL DESCRITIVO-BRI'!$E$2:$E$4000=\"Sim\",ROW('MEMORIAL DESCRITIVO-BRI'!$P$2:$P$4000)),ROW(B471))), \"\")","v":""},{"$f":"IFERROR(INDEX('MEMORIAL DESCRITIVO-BRI'!Q:Q,SMALL(IF('MEMORIAL DESCRITIVO-BRI'!$E$2:$E$4000=\"Sim\",ROW('MEMORIAL DESCRITIVO-BRI'!$Q$2:$Q$4000)),ROW(B471))), \"\")","v":""}]
[null,{"$f":"IFERROR(INDEX('MEMORIAL DESCRITIVO-BRI'!B:B,SMALL(IF('MEMORIAL DESCRITIVO-BRI'!$E$2:$E$4000=\"Sim\",ROW('MEMORIAL DESCRITIVO-BRI'!$B$2:$B$4000)),ROW(B472))), \"\")","v":""},{"$f":"IFERROR(INDEX('MEMORIAL DESCRITIVO-BRI'!I:I,SMALL(IF('MEMORIAL DESCRITIVO-BRI'!$E$2:$E$4000=\"Sim\",ROW('MEMORIAL DESCRITIVO-BRI'!$I$2:$I$4000)),ROW(B472))), \"\")","v":""},{"$f":"IFERROR(INDEX('MEMORIAL DESCRITIVO-BRI'!F:F,SMALL(IF('MEMORIAL DESCRITIVO-BRI'!$E$2:$E$4000=\"Sim\",ROW('MEMORIAL DESCRITIVO-BRI'!$F$2:$F$4000)),ROW(B472))) & \" - \" & INDEX('MEMORIAL DESCRITIVO-BRI'!H:H,SMALL(IF('MEMORIAL DESCRITIVO-BRI'!$E$2:$E$4000=\"Sim\",ROW('MEMORIAL DESCRITIVO-BRI'!$H$2:$H$4000)),ROW(B472))), \"\")","v":""},null,{"$f":"IFERROR(INDEX('MEMORIAL DESCRITIVO-BRI'!S:S,SMALL(IF('MEMORIAL DESCRITIVO-BRI'!$E$2:$E$4000=\"Sim\",ROW('MEMORIAL DESCRITIVO-BRI'!$S$2:$S$4000)),ROW(B472))), \"\")","v":""},{"$f":"IFERROR(INDEX('MEMORIAL DESCRITIVO-BRI'!Z:Z,SMALL(IF('MEMORIAL DESCRITIVO-BRI'!$E$2:$E$4000=\"Sim\",ROW('MEMORIAL DESCRITIVO-BRI'!$Z$2:$Z$4000)),ROW(B472))), \"\")","v":""},{"$f":"IFERROR(INDEX('MEMORIAL DESCRITIVO-BRI'!W:W,SMALL(IF('MEMORIAL DESCRITIVO-BRI'!$E$2:$E$4000=\"Sim\",ROW('MEMORIAL DESCRITIVO-BRI'!$W$2:$W$4000)),ROW(B472))), \"\")","v":""},{"$f":"IFERROR(INDEX('MEMORIAL DESCRITIVO-BRI'!G:G,SMALL(IF('MEMORIAL DESCRITIVO-BRI'!$E$2:$E$4000=\"Sim\",ROW('MEMORIAL DESCRITIVO-BRI'!$G$2:$G$4000)),ROW(B472))), \"\")","v":""},{"$f":"IFERROR(INDEX('MEMORIAL DESCRITIVO-BRI'!P:P,SMALL(IF('MEMORIAL DESCRITIVO-BRI'!$E$2:$E$4000=\"Sim\",ROW('MEMORIAL DESCRITIVO-BRI'!$P$2:$P$4000)),ROW(B472))), \"\")","v":""},{"$f":"IFERROR(INDEX('MEMORIAL DESCRITIVO-BRI'!Q:Q,SMALL(IF('MEMORIAL DESCRITIVO-BRI'!$E$2:$E$4000=\"Sim\",ROW('MEMORIAL DESCRITIVO-BRI'!$Q$2:$Q$4000)),ROW(B472))), \"\")","v":""}]
[null,{"$f":"IFERROR(INDEX('MEMORIAL DESCRITIVO-BRI'!B:B,SMALL(IF('MEMORIAL DESCRITIVO-BRI'!$E$2:$E$4000=\"Sim\",ROW('MEMORIAL DESCRITIVO-BRI'!$B$2:$B$4000)),ROW(B473))), \"\")","v":""},{"$f":"IFERROR(INDEX('MEMORIAL DESCRITIVO-BRI'!I:I,SMALL(IF('MEMORIAL DESCRITIVO-BRI'!$E$2:$E$4000=\"Sim\",ROW('MEMORIAL DESCRITIVO-BRI'!$I$2:$I$4000)),ROW(B473))), \"\")","v":""},{"$f":"IFERROR(INDEX('MEMORIAL DESCRITIVO-BRI'!F:F,SMALL(IF('MEMORIAL DESCRITIVO-BRI'!$E$2:$E$4000=\"Sim\",ROW('MEMORIAL DESCRITIVO-BRI'!$F$2:$F$4000)),ROW(B473))) & \" - \" & INDEX('MEMORIAL DESCRITIVO-BRI'!H:H,SMALL(IF('MEMORIAL DESCRITIVO-BRI'!$E$2:$E$4000=\"Sim\",ROW('MEMORIAL DESCRITIVO-BRI'!$H$2:$H$4000)),ROW(B473))), \"\")","v":""},null,{"$f":"IFERROR(INDEX('MEMORIAL DESCRITIVO-BRI'!S:S,SMALL(IF('MEMORIAL DESCRITIVO-BRI'!$E$2:$E$4000=\"Sim\",ROW('MEMORIAL DESCRITIVO-BRI'!$S$2:$S$4000)),ROW(B473))), \"\")","v":""},{"$f":"IFERROR(INDEX('MEMORIAL DESCRITIVO-BRI'!Z:Z,SMALL(IF('MEMORIAL DESCRITIVO-BRI'!$E$2:$E$4000=\"Sim\",ROW('MEMORIAL DESCRITIVO-BRI'!$Z$2:$Z$4000)),ROW(B473))), \"\")","v":""},{"$f":"IFERROR(INDEX('MEMORIAL DESCRITIVO-BRI'!W:W,SMALL(IF('MEMORIAL DESCRITIVO-BRI'!$E$2:$E$4000=\"Sim\",ROW('MEMORIAL DESCRITIVO-BRI'!$W$2:$W$4000)),ROW(B473))), \"\")","v":""},{"$f":"IFERROR(INDEX('MEMORIAL DESCRITIVO-BRI'!G:G,SMALL(IF('MEMORIAL DESCRITIVO-BRI'!$E$2:$E$4000=\"Sim\",ROW('MEMORIAL DESCRITIVO-BRI'!$G$2:$G$4000)),ROW(B473))), \"\")","v":""},{"$f":"IFERROR(INDEX('MEMORIAL DESCRITIVO-BRI'!P:P,SMALL(IF('MEMORIAL DESCRITIVO-BRI'!$E$2:$E$4000=\"Sim\",ROW('MEMORIAL DESCRITIVO-BRI'!$P$2:$P$4000)),ROW(B473))), \"\")","v":""},{"$f":"IFERROR(INDEX('MEMORIAL DESCRITIVO-BRI'!Q:Q,SMALL(IF('MEMORIAL DESCRITIVO-BRI'!$E$2:$E$4000=\"Sim\",ROW('MEMORIAL DESCRITIVO-BRI'!$Q$2:$Q$4000)),ROW(B473))), \"\")","v":""}]
[null,{"$f":"IFERROR(INDEX('MEMORIAL DESCRITIVO-BRI'!B:B,SMALL(IF('MEMORIAL DESCRITIVO-BRI'!$E$2:$E$4000=\"Sim\",ROW('MEMORIAL DESCRITIVO-BRI'!$B$2:$B$4000)),ROW(B474))), \"\")","v":""},{"$f":"IFERROR(INDEX('MEMORIAL DESCRITIVO-BRI'!I:I,SMALL(IF('MEMORIAL DESCRITIVO-BRI'!$E$2:$E$4000=\"Sim\",ROW('MEMORIAL DESCRITIVO-BRI'!$I$2:$I$4000)),ROW(B474))), \"\")","v":""},{"$f":"IFERROR(INDEX('MEMORIAL DESCRITIVO-BRI'!F:F,SMALL(IF('MEMORIAL DESCRITIVO-BRI'!$E$2:$E$4000=\"Sim\",ROW('MEMORIAL DESCRITIVO-BRI'!$F$2:$F$4000)),ROW(B474))) & \" - \" & INDEX('MEMORIAL DESCRITIVO-BRI'!H:H,SMALL(IF('MEMORIAL DESCRITIVO-BRI'!$E$2:$E$4000=\"Sim\",ROW('MEMORIAL DESCRITIVO-BRI'!$H$2:$H$4000)),ROW(B474))), \"\")","v":""},null,{"$f":"IFERROR(INDEX('MEMORIAL DESCRITIVO-BRI'!S:S,SMALL(IF('MEMORIAL DESCRITIVO-BRI'!$E$2:$E$4000=\"Sim\",ROW('MEMORIAL DESCRITIVO-BRI'!$S$2:$S$4000)),ROW(B474))), \"\")","v":""},{"$f":"IFERROR(INDEX('MEMORIAL DESCRITIVO-BRI'!Z:Z,SMALL(IF('MEMORIAL DESCRITIVO-BRI'!$E$2:$E$4000=\"Sim\",ROW('MEMORIAL DESCRITIVO-BRI'!$Z$2:$Z$4000)),ROW(B474))), \"\")","v":""},{"$f":"IFERROR(INDEX('MEMORIAL DESCRITIVO-BRI'!W:W,SMALL(IF('MEMORIAL DESCRITIVO-BRI'!$E$2:$E$4000=\"Sim\",ROW('MEMORIAL DESCRITIVO-BRI'!$W$2:$W$4000)),ROW(B474))), \"\")","v":""},{"$f":"IFERROR(INDEX('MEMORIAL DESCRITIVO-BRI'!G:G,SMALL(IF('MEMORIAL DESCRITIVO-BRI'!$E$2:$E$4000=\"Sim\",ROW('MEMORIAL DESCRITIVO-BRI'!$G$2:$G$4000)),ROW(B474))), \"\")","v":""},{"$f":"IFERROR(INDEX('MEMORIAL DESCRITIVO-BRI'!P:P,SMALL(IF('MEMORIAL DESCRITIVO-BRI'!$E$2:$E$4000=\"Sim\",ROW('MEMORIAL DESCRITIVO-BRI'!$P$2:$P$4000)),ROW(B474))), \"\")","v":""},{"$f":"IFERROR(INDEX('MEMORIAL DESCRITIVO-BRI'!Q:Q,SMALL(IF('MEMORIAL DESCRITIVO-BRI'!$E$2:$E$4000=\"Sim\",ROW('MEMORIAL DESCRITIVO-BRI'!$Q$2:$Q$4000)),ROW(B474))), \"\")","v":""}]
[null,{"$f":"IFERROR(INDEX('MEMORIAL DESCRITIVO-BRI'!B:B,SMALL(IF('MEMORIAL DESCRITIVO-BRI'!$E$2:$E$4000=\"Sim\",ROW('MEMORIAL DESCRITIVO-BRI'!$B$2:$B$4000)),ROW(B475))), \"\")","v":""},{"$f":"IFERROR(INDEX('MEMORIAL DESCRITIVO-BRI'!I:I,SMALL(IF('MEMORIAL DESCRITIVO-BRI'!$E$2:$E$4000=\"Sim\",ROW('MEMORIAL DESCRITIVO-BRI'!$I$2:$I$4000)),ROW(B475))), \"\")","v":""},{"$f":"IFERROR(INDEX('MEMORIAL DESCRITIVO-BRI'!F:F,SMALL(IF('MEMORIAL DESCRITIVO-BRI'!$E$2:$E$4000=\"Sim\",ROW('MEMORIAL DESCRITIVO-BRI'!$F$2:$F$4000)),ROW(B475))) & \" - \" & INDEX('MEMORIAL DESCRITIVO-BRI'!H:H,SMALL(IF('MEMORIAL DESCRITIVO-BRI'!$E$2:$E$4000=\"Sim\",ROW('MEMORIAL DESCRITIVO-BRI'!$H$2:$H$4000)),ROW(B475))), \"\")","v":""},null,{"$f":"IFERROR(INDEX('MEMORIAL DESCRITIVO-BRI'!S:S,SMALL(IF('MEMORIAL DESCRITIVO-BRI'!$E$2:$E$4000=\"Sim\",ROW('MEMORIAL DESCRITIVO-BRI'!$S$2:$S$4000)),ROW(B475))), \"\")","v":""},{"$f":"IFERROR(INDEX('MEMORIAL DESCRITIVO-BRI'!Z:Z,SMALL(IF('MEMORIAL DESCRITIVO-BRI'!$E$2:$E$4000=\"Sim\",ROW('MEMORIAL DESCRITIVO-BRI'!$Z$2:$Z$4000)),ROW(B475))), \"\")","v":""},{"$f":"IFERROR(INDEX('MEMORIAL DESCRITIVO-BRI'!W:W,SMALL(IF('MEMORIAL DESCRITIVO-BRI'!$E$2:$E$4000=\"Sim\",ROW('MEMORIAL DESCRITIVO-BRI'!$W$2:$W$4000)),ROW(B475))), \"\")","v":""},{"$f":"IFERROR(INDEX('MEMORIAL DESCRITIVO-BRI'!G:G,SMALL(IF('MEMORIAL DESCRITIVO-BRI'!$E$2:$E$4000=\"Sim\",ROW('MEMORIAL DESCRITIVO-BRI'!$G$2:$G$4000)),ROW(B475))), \"\")","v":""},{"$f":"IFERROR(INDEX('MEMORIAL DESCRITIVO-BRI'!P:P,SMALL(IF('MEMORIAL DESCRITIVO-BRI'!$E$2:$E$4000=\"Sim\",ROW('MEMORIAL DESCRITIVO-BRI'!$P$2:$P$4000)),ROW(B475))), \"\")","v":""},{"$f":"IFERROR(INDEX('MEMORIAL DESCRITIVO-BRI'!Q:Q,SMALL(IF('MEMORIAL DESCRITIVO-BRI'!$E$2:$E$4000=\"Sim\",ROW('MEMORIAL DESCRITIVO-BRI'!$Q$2:$Q$4000)),ROW(B475))), \"\")","v":""}]
[null,{"$f":"IFERROR(INDEX('MEMORIAL DESCRITIVO-BRI'!B:B,SMALL(IF('MEMORIAL DESCRITIVO-BRI'!$E$2:$E$4000=\"Sim\",ROW('MEMORIAL DESCRITIVO-BRI'!$B$2:$B$4000)),ROW(B476))), \"\")","v":""},{"$f":"IFERROR(INDEX('MEMORIAL DESCRITIVO-BRI'!I:I,SMALL(IF('MEMORIAL DESCRITIVO-BRI'!$E$2:$E$4000=\"Sim\",ROW('MEMORIAL DESCRITIVO-BRI'!$I$2:$I$4000)),ROW(B476))), \"\")","v":""},{"$f":"IFERROR(INDEX('MEMORIAL DESCRITIVO-BRI'!F:F,SMALL(IF('MEMORIAL DESCRITIVO-BRI'!$E$2:$E$4000=\"Sim\",ROW('MEMORIAL DESCRITIVO-BRI'!$F$2:$F$4000)),ROW(B476))) & \" - \" & INDEX('MEMORIAL DESCRITIVO-BRI'!H:H,SMALL(IF('MEMORIAL DESCRITIVO-BRI'!$E$2:$E$4000=\"Sim\",ROW('MEMORIAL DESCRITIVO-BRI'!$H$2:$H$4000)),ROW(B476))), \"\")","v":""},null,{"$f":"IFERROR(INDEX('MEMORIAL DESCRITIVO-BRI'!S:S,SMALL(IF('MEMORIAL DESCRITIVO-BRI'!$E$2:$E$4000=\"Sim\",ROW('MEMORIAL DESCRITIVO-BRI'!$S$2:$S$4000)),ROW(B476))), \"\")","v":""},{"$f":"IFERROR(INDEX('MEMORIAL DESCRITIVO-BRI'!Z:Z,SMALL(IF('MEMORIAL DESCRITIVO-BRI'!$E$2:$E$4000=\"Sim\",ROW('MEMORIAL DESCRITIVO-BRI'!$Z$2:$Z$4000)),ROW(B476))), \"\")","v":""},{"$f":"IFERROR(INDEX('MEMORIAL DESCRITIVO-BRI'!W:W,SMALL(IF('MEMORIAL DESCRITIVO-BRI'!$E$2:$E$4000=\"Sim\",ROW('MEMORIAL DESCRITIVO-BRI'!$W$2:$W$4000)),ROW(B476))), \"\")","v":""},{"$f":"IFERROR(INDEX('MEMORIAL DESCRITIVO-BRI'!G:G,SMALL(IF('MEMORIAL DESCRITIVO-BRI'!$E$2:$E$4000=\"Sim\",ROW('MEMORIAL DESCRITIVO-BRI'!$G$2:$G$4000)),ROW(B476))), \"\")","v":""},{"$f":"IFERROR(INDEX('MEMORIAL DESCRITIVO-BRI'!P:P,SMALL(IF('MEMORIAL DESCRITIVO-BRI'!$E$2:$E$4000=\"Sim\",ROW('MEMORIAL DESCRITIVO-BRI'!$P$2:$P$4000)),ROW(B476))), \"\")","v":""},{"$f":"IFERROR(INDEX('MEMORIAL DESCRITIVO-BRI'!Q:Q,SMALL(IF('MEMORIAL DESCRITIVO-BRI'!$E$2:$E$4000=\"Sim\",ROW('MEMORIAL DESCRITIVO-BRI'!$Q$2:$Q$4000)),ROW(B476))), \"\")","v":""}]
[null,{"$f":"IFERROR(INDEX('MEMORIAL DESCRITIVO-BRI'!B:B,SMALL(IF('MEMORIAL DESCRITIVO-BRI'!$E$2:$E$4000=\"Sim\",ROW('MEMORIAL DESCRITIVO-BRI'!$B$2:$B$4000)),ROW(B477))), \"\")","v":""},{"$f":"IFERROR(INDEX('MEMORIAL DESCRITIVO-BRI'!I:I,SMALL(IF('MEMORIAL DESCRITIVO-BRI'!$E$2:$E$4000=\"Sim\",ROW('MEMORIAL DESCRITIVO-BRI'!$I$2:$I$4000)),ROW(B477))), \"\")","v":""},{"$f":"IFERROR(INDEX('MEMORIAL DESCRITIVO-BRI'!F:F,SMALL(IF('MEMORIAL DESCRITIVO-BRI'!$E$2:$E$4000=\"Sim\",ROW('MEMORIAL DESCRITIVO-BRI'!$F$2:$F$4000)),ROW(B477))) & \" - \" & INDEX('MEMORIAL DESCRITIVO-BRI'!H:H,SMALL(IF('MEMORIAL DESCRITIVO-BRI'!$E$2:$E$4000=\"Sim\",ROW('MEMORIAL DESCRITIVO-BRI'!$H$2:$H$4000)),ROW(B477))), \"\")","v":""},null,{"$f":"IFERROR(INDEX('MEMORIAL DESCRITIVO-BRI'!S:S,SMALL(IF('MEMORIAL DESCRITIVO-BRI'!$E$2:$E$4000=\"Sim\",ROW('MEMORIAL DESCRITIVO-BRI'!$S$2:$S$4000)),ROW(B477))), \"\")","v":""},{"$f":"IFERROR(INDEX('MEMORIAL DESCRITIVO-BRI'!Z:Z,SMALL(IF('MEMORIAL DESCRITIVO-BRI'!$E$2:$E$4000=\"Sim\",ROW('MEMORIAL DESCRITIVO-BRI'!$Z$2:$Z$4000)),ROW(B477))), \"\")","v":""},{"$f":"IFERROR(INDEX('MEMORIAL DESCRITIVO-BRI'!W:W,SMALL(IF('MEMORIAL DESCRITIVO-BRI'!$E$2:$E$4000=\"Sim\",ROW('MEMORIAL DESCRITIVO-BRI'!$W$2:$W$4000)),ROW(B477))), \"\")","v":""},{"$f":"IFERROR(INDEX('MEMORIAL DESCRITIVO-BRI'!G:G,SMALL(IF('MEMORIAL DESCRITIVO-BRI'!$E$2:$E$4000=\"Sim\",ROW('MEMORIAL DESCRITIVO-BRI'!$G$2:$G$4000)),ROW(B477))), \"\")","v":""},{"$f":"IFERROR(INDEX('MEMORIAL DESCRITIVO-BRI'!P:P,SMALL(IF('MEMORIAL DESCRITIVO-BRI'!$E$2:$E$4000=\"Sim\",ROW('MEMORIAL DESCRITIVO-BRI'!$P$2:$P$4000)),ROW(B477))), \"\")","v":""},{"$f":"IFERROR(INDEX('MEMORIAL DESCRITIVO-BRI'!Q:Q,SMALL(IF('MEMORIAL DESCRITIVO-BRI'!$E$2:$E$4000=\"Sim\",ROW('MEMORIAL DESCRITIVO-BRI'!$Q$2:$Q$4000)),ROW(B477))), \"\")","v":""}]
[null,{"$f":"IFERROR(INDEX('MEMORIAL DESCRITIVO-BRI'!B:B,SMALL(IF('MEMORIAL DESCRITIVO-BRI'!$E$2:$E$4000=\"Sim\",ROW('MEMORIAL DESCRITIVO-BRI'!$B$2:$B$4000)),ROW(B478))), \"\")","v":""},{"$f":"IFERROR(INDEX('MEMORIAL DESCRITIVO-BRI'!I:I,SMALL(IF('MEMORIAL DESCRITIVO-BRI'!$E$2:$E$4000=\"Sim\",ROW('MEMORIAL DESCRITIVO-BRI'!$I$2:$I$4000)),ROW(B478))), \"\")","v":""},{"$f":"IFERROR(INDEX('MEMORIAL DESCRITIVO-BRI'!F:F,SMALL(IF('MEMORIAL DESCRITIVO-BRI'!$E$2:$E$4000=\"Sim\",ROW('MEMORIAL DESCRITIVO-BRI'!$F$2:$F$4000)),ROW(B478))) & \" - \" & INDEX('MEMORIAL DESCRITIVO-BRI'!H:H,SMALL(IF('MEMORIAL DESCRITIVO-BRI'!$E$2:$E$4000=\"Sim\",ROW('MEMORIAL DESCRITIVO-BRI'!$H$2:$H$4000)),ROW(B478))), \"\")","v":""},null,{"$f":"IFERROR(INDEX('MEMORIAL DESCRITIVO-BRI'!S:S,SMALL(IF('MEMORIAL DESCRITIVO-BRI'!$E$2:$E$4000=\"Sim\",ROW('MEMORIAL DESCRITIVO-BRI'!$S$2:$S$4000)),ROW(B478))), \"\")","v":""},{"$f":"IFERROR(INDEX('MEMORIAL DESCRITIVO-BRI'!Z:Z,SMALL(IF('MEMORIAL DESCRITIVO-BRI'!$E$2:$E$4000=\"Sim\",ROW('MEMORIAL DESCRITIVO-BRI'!$Z$2:$Z$4000)),ROW(B478))), \"\")","v":""},{"$f":"IFERROR(INDEX('MEMORIAL DESCRITIVO-BRI'!W:W,SMALL(IF('MEMORIAL DESCRITIVO-BRI'!$E$2:$E$4000=\"Sim\",ROW('MEMORIAL DESCRITIVO-BRI'!$W$2:$W$4000)),ROW(B478))), \"\")","v":""},{"$f":"IFERROR(INDEX('MEMORIAL DESCRITIVO-BRI'!G:G,SMALL(IF('MEMORIAL DESCRITIVO-BRI'!$E$2:$E$4000=\"Sim\",ROW('MEMORIAL DESCRITIVO-BRI'!$G$2:$G$4000)),ROW(B478))), \"\")","v":""},{"$f":"IFERROR(INDEX('MEMORIAL DESCRITIVO-BRI'!P:P,SMALL(IF('MEMORIAL DESCRITIVO-BRI'!$E$2:$E$4000=\"Sim\",ROW('MEMORIAL DESCRITIVO-BRI'!$P$2:$P$4000)),ROW(B478))), \"\")","v":""},{"$f":"IFERROR(INDEX('MEMORIAL DESCRITIVO-BRI'!Q:Q,SMALL(IF('MEMORIAL DESCRITIVO-BRI'!$E$2:$E$4000=\"Sim\",ROW('MEMORIAL DESCRITIVO-BRI'!$Q$2:$Q$4000)),ROW(B478))), \"\")","v":""}]
[null,{"$f":"IFERROR(INDEX('MEMORIAL DESCRITIVO-BRI'!B:B,SMALL(IF('MEMORIAL DESCRITIVO-BRI'!$E$2:$E$4000=\"Sim\",ROW('MEMORIAL DESCRITIVO-BRI'!$B$2:$B$4000)),ROW(B479))), \"\")","v":""},{"$f":"IFERROR(INDEX('MEMORIAL DESCRITIVO-BRI'!I:I,SMALL(IF('MEMORIAL DESCRITIVO-BRI'!$E$2:$E$4000=\"Sim\",ROW('MEMORIAL DESCRITIVO-BRI'!$I$2:$I$4000)),ROW(B479))), \"\")","v":""},{"$f":"IFERROR(INDEX('MEMORIAL DESCRITIVO-BRI'!F:F,SMALL(IF('MEMORIAL DESCRITIVO-BRI'!$E$2:$E$4000=\"Sim\",ROW('MEMORIAL DESCRITIVO-BRI'!$F$2:$F$4000)),ROW(B479))) & \" - \" & INDEX('MEMORIAL DESCRITIVO-BRI'!H:H,SMALL(IF('MEMORIAL DESCRITIVO-BRI'!$E$2:$E$4000=\"Sim\",ROW('MEMORIAL DESCRITIVO-BRI'!$H$2:$H$4000)),ROW(B479))), \"\")","v":""},null,{"$f":"IFERROR(INDEX('MEMORIAL DESCRITIVO-BRI'!S:S,SMALL(IF('MEMORIAL DESCRITIVO-BRI'!$E$2:$E$4000=\"Sim\",ROW('MEMORIAL DESCRITIVO-BRI'!$S$2:$S$4000)),ROW(B479))), \"\")","v":""},{"$f":"IFERROR(INDEX('MEMORIAL DESCRITIVO-BRI'!Z:Z,SMALL(IF('MEMORIAL DESCRITIVO-BRI'!$E$2:$E$4000=\"Sim\",ROW('MEMORIAL DESCRITIVO-BRI'!$Z$2:$Z$4000)),ROW(B479))), \"\")","v":""},{"$f":"IFERROR(INDEX('MEMORIAL DESCRITIVO-BRI'!W:W,SMALL(IF('MEMORIAL DESCRITIVO-BRI'!$E$2:$E$4000=\"Sim\",ROW('MEMORIAL DESCRITIVO-BRI'!$W$2:$W$4000)),ROW(B479))), \"\")","v":""},{"$f":"IFERROR(INDEX('MEMORIAL DESCRITIVO-BRI'!G:G,SMALL(IF('MEMORIAL DESCRITIVO-BRI'!$E$2:$E$4000=\"Sim\",ROW('MEMORIAL DESCRITIVO-BRI'!$G$2:$G$4000)),ROW(B479))), \"\")","v":""},{"$f":"IFERROR(INDEX('MEMORIAL DESCRITIVO-BRI'!P:P,SMALL(IF('MEMORIAL DESCRITIVO-BRI'!$E$2:$E$4000=\"Sim\",ROW('MEMORIAL DESCRITIVO-BRI'!$P$2:$P$4000)),ROW(B479))), \"\")","v":""},{"$f":"IFERROR(INDEX('MEMORIAL DESCRITIVO-BRI'!Q:Q,SMALL(IF('MEMORIAL DESCRITIVO-BRI'!$E$2:$E$4000=\"Sim\",ROW('MEMORIAL DESCRITIVO-BRI'!$Q$2:$Q$4000)),ROW(B479))), \"\")","v":""}]
[null,{"$f":"IFERROR(INDEX('MEMORIAL DESCRITIVO-BRI'!B:B,SMALL(IF('MEMORIAL DESCRITIVO-BRI'!$E$2:$E$4000=\"Sim\",ROW('MEMORIAL DESCRITIVO-BRI'!$B$2:$B$4000)),ROW(B480))), \"\")","v":""},{"$f":"IFERROR(INDEX('MEMORIAL DESCRITIVO-BRI'!I:I,SMALL(IF('MEMORIAL DESCRITIVO-BRI'!$E$2:$E$4000=\"Sim\",ROW('MEMORIAL DESCRITIVO-BRI'!$I$2:$I$4000)),ROW(B480))), \"\")","v":""},{"$f":"IFERROR(INDEX('MEMORIAL DESCRITIVO-BRI'!F:F,SMALL(IF('MEMORIAL DESCRITIVO-BRI'!$E$2:$E$4000=\"Sim\",ROW('MEMORIAL DESCRITIVO-BRI'!$F$2:$F$4000)),ROW(B480))) & \" - \" & INDEX('MEMORIAL DESCRITIVO-BRI'!H:H,SMALL(IF('MEMORIAL DESCRITIVO-BRI'!$E$2:$E$4000=\"Sim\",ROW('MEMORIAL DESCRITIVO-BRI'!$H$2:$H$4000)),ROW(B480))), \"\")","v":""},null,{"$f":"IFERROR(INDEX('MEMORIAL DESCRITIVO-BRI'!S:S,SMALL(IF('MEMORIAL DESCRITIVO-BRI'!$E$2:$E$4000=\"Sim\",ROW('MEMORIAL DESCRITIVO-BRI'!$S$2:$S$4000)),ROW(B480))), \"\")","v":""},{"$f":"IFERROR(INDEX('MEMORIAL DESCRITIVO-BRI'!Z:Z,SMALL(IF('MEMORIAL DESCRITIVO-BRI'!$E$2:$E$4000=\"Sim\",ROW('MEMORIAL DESCRITIVO-BRI'!$Z$2:$Z$4000)),ROW(B480))), \"\")","v":""},{"$f":"IFERROR(INDEX('MEMORIAL DESCRITIVO-BRI'!W:W,SMALL(IF('MEMORIAL DESCRITIVO-BRI'!$E$2:$E$4000=\"Sim\",ROW('MEMORIAL DESCRITIVO-BRI'!$W$2:$W$4000)),ROW(B480))), \"\")","v":""},{"$f":"IFERROR(INDEX('MEMORIAL DESCRITIVO-BRI'!G:G,SMALL(IF('MEMORIAL DESCRITIVO-BRI'!$E$2:$E$4000=\"Sim\",ROW('MEMORIAL DESCRITIVO-BRI'!$G$2:$G$4000)),ROW(B480))), \"\")","v":""},{"$f":"IFERROR(INDEX('MEMORIAL DESCRITIVO-BRI'!P:P,SMALL(IF('MEMORIAL DESCRITIVO-BRI'!$E$2:$E$4000=\"Sim\",ROW('MEMORIAL DESCRITIVO-BRI'!$P$2:$P$4000)),ROW(B480))), \"\")","v":""},{"$f":"IFERROR(INDEX('MEMORIAL DESCRITIVO-BRI'!Q:Q,SMALL(IF('MEMORIAL DESCRITIVO-BRI'!$E$2:$E$4000=\"Sim\",ROW('MEMORIAL DESCRITIVO-BRI'!$Q$2:$Q$4000)),ROW(B480))), \"\")","v":""}]
[null,{"$f":"IFERROR(INDEX('MEMORIAL DESCRITIVO-BRI'!B:B,SMALL(IF('MEMORIAL DESCRITIVO-BRI'!$E$2:$E$4000=\"Sim\",ROW('MEMORIAL DESCRITIVO-BRI'!$B$2:$B$4000)),ROW(B481))), \"\")","v":""},{"$f":"IFERROR(INDEX('MEMORIAL DESCRITIVO-BRI'!I:I,SMALL(IF('MEMORIAL DESCRITIVO-BRI'!$E$2:$E$4000=\"Sim\",ROW('MEMORIAL DESCRITIVO-BRI'!$I$2:$I$4000)),ROW(B481))), \"\")","v":""},{"$f":"IFERROR(INDEX('MEMORIAL DESCRITIVO-BRI'!F:F,SMALL(IF('MEMORIAL DESCRITIVO-BRI'!$E$2:$E$4000=\"Sim\",ROW('MEMORIAL DESCRITIVO-BRI'!$F$2:$F$4000)),ROW(B481))) & \" - \" & INDEX('MEMORIAL DESCRITIVO-BRI'!H:H,SMALL(IF('MEMORIAL DESCRITIVO-BRI'!$E$2:$E$4000=\"Sim\",ROW('MEMORIAL DESCRITIVO-BRI'!$H$2:$H$4000)),ROW(B481))), \"\")","v":""},null,{"$f":"IFERROR(INDEX('MEMORIAL DESCRITIVO-BRI'!S:S,SMALL(IF('MEMORIAL DESCRITIVO-BRI'!$E$2:$E$4000=\"Sim\",ROW('MEMORIAL DESCRITIVO-BRI'!$S$2:$S$4000)),ROW(B481))), \"\")","v":""},{"$f":"IFERROR(INDEX('MEMORIAL DESCRITIVO-BRI'!Z:Z,SMALL(IF('MEMORIAL DESCRITIVO-BRI'!$E$2:$E$4000=\"Sim\",ROW('MEMORIAL DESCRITIVO-BRI'!$Z$2:$Z$4000)),ROW(B481))), \"\")","v":""},{"$f":"IFERROR(INDEX('MEMORIAL DESCRITIVO-BRI'!W:W,SMALL(IF('MEMORIAL DESCRITIVO-BRI'!$E$2:$E$4000=\"Sim\",ROW('MEMORIAL DESCRITIVO-BRI'!$W$2:$W$4000)),ROW(B481))), \"\")","v":""},{"$f":"IFERROR(INDEX('MEMORIAL DESCRITIVO-BRI'!G:G,SMALL(IF('MEMORIAL DESCRITIVO-BRI'!$E$2:$E$4000=\"Sim\",ROW('MEMORIAL DESCRITIVO-BRI'!$G$2:$G$4000)),ROW(B481))), \"\")","v":""},{"$f":"IFERROR(INDEX('MEMORIAL DESCRITIVO-BRI'!P:P,SMALL(IF('MEMORIAL DESCRITIVO-BRI'!$E$2:$E$4000=\"Sim\",ROW('MEMORIAL DESCRITIVO-BRI'!$P$2:$P$4000)),ROW(B481))), \"\")","v":""},{"$f":"IFERROR(INDEX('MEMORIAL DESCRITIVO-BRI'!Q:Q,SMALL(IF('MEMORIAL DESCRITIVO-BRI'!$E$2:$E$4000=\"Sim\",ROW('MEMORIAL DESCRITIVO-BRI'!$Q$2:$Q$4000)),ROW(B481))), \"\")","v":""}]
[null,{"$f":"IFERROR(INDEX('MEMORIAL DESCRITIVO-BRI'!B:B,SMALL(IF('MEMORIAL DESCRITIVO-BRI'!$E$2:$E$4000=\"Sim\",ROW('MEMORIAL DESCRITIVO-BRI'!$B$2:$B$4000)),ROW(B482))), \"\")","v":""},{"$f":"IFERROR(INDEX('MEMORIAL DESCRITIVO-BRI'!I:I,SMALL(IF('MEMORIAL DESCRITIVO-BRI'!$E$2:$E$4000=\"Sim\",ROW('MEMORIAL DESCRITIVO-BRI'!$I$2:$I$4000)),ROW(B482))), \"\")","v":""},{"$f":"IFERROR(INDEX('MEMORIAL DESCRITIVO-BRI'!F:F,SMALL(IF('MEMORIAL DESCRITIVO-BRI'!$E$2:$E$4000=\"Sim\",ROW('MEMORIAL DESCRITIVO-BRI'!$F$2:$F$4000)),ROW(B482))) & \" - \" & INDEX('MEMORIAL DESCRITIVO-BRI'!H:H,SMALL(IF('MEMORIAL DESCRITIVO-BRI'!$E$2:$E$4000=\"Sim\",ROW('MEMORIAL DESCRITIVO-BRI'!$H$2:$H$4000)),ROW(B482))), \"\")","v":""},null,{"$f":"IFERROR(INDEX('MEMORIAL DESCRITIVO-BRI'!S:S,SMALL(IF('MEMORIAL DESCRITIVO-BRI'!$E$2:$E$4000=\"Sim\",ROW('MEMORIAL DESCRITIVO-BRI'!$S$2:$S$4000)),ROW(B482))), \"\")","v":""},{"$f":"IFERROR(INDEX('MEMORIAL DESCRITIVO-BRI'!Z:Z,SMALL(IF('MEMORIAL DESCRITIVO-BRI'!$E$2:$E$4000=\"Sim\",ROW('MEMORIAL DESCRITIVO-BRI'!$Z$2:$Z$4000)),ROW(B482))), \"\")","v":""},{"$f":"IFERROR(INDEX('MEMORIAL DESCRITIVO-BRI'!W:W,SMALL(IF('MEMORIAL DESCRITIVO-BRI'!$E$2:$E$4000=\"Sim\",ROW('MEMORIAL DESCRITIVO-BRI'!$W$2:$W$4000)),ROW(B482))), \"\")","v":""},{"$f":"IFERROR(INDEX('MEMORIAL DESCRITIVO-BRI'!G:G,SMALL(IF('MEMORIAL DESCRITIVO-BRI'!$E$2:$E$4000=\"Sim\",ROW('MEMORIAL DESCRITIVO-BRI'!$G$2:$G$4000)),ROW(B482))), \"\")","v":""},{"$f":"IFERROR(INDEX('MEMORIAL DESCRITIVO-BRI'!P:P,SMALL(IF('MEMORIAL DESCRITIVO-BRI'!$E$2:$E$4000=\"Sim\",ROW('MEMORIAL DESCRITIVO-BRI'!$P$2:$P$4000)),ROW(B482))), \"\")","v":""},{"$f":"IFERROR(INDEX('MEMORIAL DESCRITIVO-BRI'!Q:Q,SMALL(IF('MEMORIAL DESCRITIVO-BRI'!$E$2:$E$4000=\"Sim\",ROW('MEMORIAL DESCRITIVO-BRI'!$Q$2:$Q$4000)),ROW(B482))), \"\")","v":""}]
[null,{"$f":"IFERROR(INDEX('MEMORIAL DESCRITIVO-BRI'!B:B,SMALL(IF('MEMORIAL DESCRITIVO-BRI'!$E$2:$E$4000=\"Sim\",ROW('MEMORIAL DESCRITIVO-BRI'!$B$2:$B$4000)),ROW(B483))), \"\")","v":""},{"$f":"IFERROR(INDEX('MEMORIAL DESCRITIVO-BRI'!I:I,SMALL(IF('MEMORIAL DESCRITIVO-BRI'!$E$2:$E$4000=\"Sim\",ROW('MEMORIAL DESCRITIVO-BRI'!$I$2:$I$4000)),ROW(B483))), \"\")","v":""},{"$f":"IFERROR(INDEX('MEMORIAL DESCRITIVO-BRI'!F:F,SMALL(IF('MEMORIAL DESCRITIVO-BRI'!$E$2:$E$4000=\"Sim\",ROW('MEMORIAL DESCRITIVO-BRI'!$F$2:$F$4000)),ROW(B483))) & \" - \" & INDEX('MEMORIAL DESCRITIVO-BRI'!H:H,SMALL(IF('MEMORIAL DESCRITIVO-BRI'!$E$2:$E$4000=\"Sim\",ROW('MEMORIAL DESCRITIVO-BRI'!$H$2:$H$4000)),ROW(B483))), \"\")","v":""},null,{"$f":"IFERROR(INDEX('MEMORIAL DESCRITIVO-BRI'!S:S,SMALL(IF('MEMORIAL DESCRITIVO-BRI'!$E$2:$E$4000=\"Sim\",ROW('MEMORIAL DESCRITIVO-BRI'!$S$2:$S$4000)),ROW(B483))), \"\")","v":""},{"$f":"IFERROR(INDEX('MEMORIAL DESCRITIVO-BRI'!Z:Z,SMALL(IF('MEMORIAL DESCRITIVO-BRI'!$E$2:$E$4000=\"Sim\",ROW('MEMORIAL DESCRITIVO-BRI'!$Z$2:$Z$4000)),ROW(B483))), \"\")","v":""},{"$f":"IFERROR(INDEX('MEMORIAL DESCRITIVO-BRI'!W:W,SMALL(IF('MEMORIAL DESCRITIVO-BRI'!$E$2:$E$4000=\"Sim\",ROW('MEMORIAL DESCRITIVO-BRI'!$W$2:$W$4000)),ROW(B483))), \"\")","v":""},{"$f":"IFERROR(INDEX('MEMORIAL DESCRITIVO-BRI'!G:G,SMALL(IF('MEMORIAL DESCRITIVO-BRI'!$E$2:$E$4000=\"Sim\",ROW('MEMORIAL DESCRITIVO-BRI'!$G$2:$G$4000)),ROW(B483))), \"\")","v":""},{"$f":"IFERROR(INDEX('MEMORIAL DESCRITIVO-BRI'!P:P,SMALL(IF('MEMORIAL DESCRITIVO-BRI'!$E$2:$E$4000=\"Sim\",ROW('MEMORIAL DESCRITIVO-BRI'!$P$2:$P$4000)),ROW(B483))), \"\")","v":""},{"$f":"IFERROR(INDEX('MEMORIAL DESCRITIVO-BRI'!Q:Q,SMALL(IF('MEMORIAL DESCRITIVO-BRI'!$E$2:$E$4000=\"Sim\",ROW('MEMORIAL DESCRITIVO-BRI'!$Q$2:$Q$4000)),ROW(B483))), \"\")","v":""}]
[null,{"$f":"IFERROR(INDEX('MEMORIAL DESCRITIVO-BRI'!B:B,SMALL(IF('MEMORIAL DESCRITIVO-BRI'!$E$2:$E$4000=\"Sim\",ROW('MEMORIAL DESCRITIVO-BRI'!$B$2:$B$4000)),ROW(B484))), \"\")","v":""},{"$f":"IFERROR(INDEX('MEMORIAL DESCRITIVO-BRI'!I:I,SMALL(IF('MEMORIAL DESCRITIVO-BRI'!$E$2:$E$4000=\"Sim\",ROW('MEMORIAL DESCRITIVO-BRI'!$I$2:$I$4000)),ROW(B484))), \"\")","v":""},{"$f":"IFERROR(INDEX('MEMORIAL DESCRITIVO-BRI'!F:F,SMALL(IF('MEMORIAL DESCRITIVO-BRI'!$E$2:$E$4000=\"Sim\",ROW('MEMORIAL DESCRITIVO-BRI'!$F$2:$F$4000)),ROW(B484))) & \" - \" & INDEX('MEMORIAL DESCRITIVO-BRI'!H:H,SMALL(IF('MEMORIAL DESCRITIVO-BRI'!$E$2:$E$4000=\"Sim\",ROW('MEMORIAL DESCRITIVO-BRI'!$H$2:$H$4000)),ROW(B484))), \"\")","v":""},null,{"$f":"IFERROR(INDEX('MEMORIAL DESCRITIVO-BRI'!S:S,SMALL(IF('MEMORIAL DESCRITIVO-BRI'!$E$2:$E$4000=\"Sim\",ROW('MEMORIAL DESCRITIVO-BRI'!$S$2:$S$4000)),ROW(B484))), \"\")","v":""},{"$f":"IFERROR(INDEX('MEMORIAL DESCRITIVO-BRI'!Z:Z,SMALL(IF('MEMORIAL DESCRITIVO-BRI'!$E$2:$E$4000=\"Sim\",ROW('MEMORIAL DESCRITIVO-BRI'!$Z$2:$Z$4000)),ROW(B484))), \"\")","v":""},{"$f":"IFERROR(INDEX('MEMORIAL DESCRITIVO-BRI'!W:W,SMALL(IF('MEMORIAL DESCRITIVO-BRI'!$E$2:$E$4000=\"Sim\",ROW('MEMORIAL DESCRITIVO-BRI'!$W$2:$W$4000)),ROW(B484))), \"\")","v":""},{"$f":"IFERROR(INDEX('MEMORIAL DESCRITIVO-BRI'!G:G,SMALL(IF('MEMORIAL DESCRITIVO-BRI'!$E$2:$E$4000=\"Sim\",ROW('MEMORIAL DESCRITIVO-BRI'!$G$2:$G$4000)),ROW(B484))), \"\")","v":""},{"$f":"IFERROR(INDEX('MEMORIAL DESCRITIVO-BRI'!P:P,SMALL(IF('MEMORIAL DESCRITIVO-BRI'!$E$2:$E$4000=\"Sim\",ROW('MEMORIAL DESCRITIVO-BRI'!$P$2:$P$4000)),ROW(B484))), \"\")","v":""},{"$f":"IFERROR(INDEX('MEMORIAL DESCRITIVO-BRI'!Q:Q,SMALL(IF('MEMORIAL DESCRITIVO-BRI'!$E$2:$E$4000=\"Sim\",ROW('MEMORIAL DESCRITIVO-BRI'!$Q$2:$Q$4000)),ROW(B484))), \"\")","v":""}]
[null,{"$f":"IFERROR(INDEX('MEMORIAL DESCRITIVO-BRI'!B:B,SMALL(IF('MEMORIAL DESCRITIVO-BRI'!$E$2:$E$4000=\"Sim\",ROW('MEMORIAL DESCRITIVO-BRI'!$B$2:$B$4000)),ROW(B485))), \"\")","v":""},{"$f":"IFERROR(INDEX('MEMORIAL DESCRITIVO-BRI'!I:I,SMALL(IF('MEMORIAL DESCRITIVO-BRI'!$E$2:$E$4000=\"Sim\",ROW('MEMORIAL DESCRITIVO-BRI'!$I$2:$I$4000)),ROW(B485))), \"\")","v":""},{"$f":"IFERROR(INDEX('MEMORIAL DESCRITIVO-BRI'!F:F,SMALL(IF('MEMORIAL DESCRITIVO-BRI'!$E$2:$E$4000=\"Sim\",ROW('MEMORIAL DESCRITIVO-BRI'!$F$2:$F$4000)),ROW(B485))) & \" - \" & INDEX('MEMORIAL DESCRITIVO-BRI'!H:H,SMALL(IF('MEMORIAL DESCRITIVO-BRI'!$E$2:$E$4000=\"Sim\",ROW('MEMORIAL DESCRITIVO-BRI'!$H$2:$H$4000)),ROW(B485))), \"\")","v":""},null,{"$f":"IFERROR(INDEX('MEMORIAL DESCRITIVO-BRI'!S:S,SMALL(IF('MEMORIAL DESCRITIVO-BRI'!$E$2:$E$4000=\"Sim\",ROW('MEMORIAL DESCRITIVO-BRI'!$S$2:$S$4000)),ROW(B485))), \"\")","v":""},{"$f":"IFERROR(INDEX('MEMORIAL DESCRITIVO-BRI'!Z:Z,SMALL(IF('MEMORIAL DESCRITIVO-BRI'!$E$2:$E$4000=\"Sim\",ROW('MEMORIAL DESCRITIVO-BRI'!$Z$2:$Z$4000)),ROW(B485))), \"\")","v":""},{"$f":"IFERROR(INDEX('MEMORIAL DESCRITIVO-BRI'!W:W,SMALL(IF('MEMORIAL DESCRITIVO-BRI'!$E$2:$E$4000=\"Sim\",ROW('MEMORIAL DESCRITIVO-BRI'!$W$2:$W$4000)),ROW(B485))), \"\")","v":""},{"$f":"IFERROR(INDEX('MEMORIAL DESCRITIVO-BRI'!G:G,SMALL(IF('MEMORIAL DESCRITIVO-BRI'!$E$2:$E$4000=\"Sim\",ROW('MEMORIAL DESCRITIVO-BRI'!$G$2:$G$4000)),ROW(B485))), \"\")","v":""},{"$f":"IFERROR(INDEX('MEMORIAL DESCRITIVO-BRI'!P:P,SMALL(IF('MEMORIAL DESCRITIVO-BRI'!$E$2:$E$4000=\"Sim\",ROW('MEMORIAL DESCRITIVO-BRI'!$P$2:$P$4000)),ROW(B485))), \"\")","v":""},{"$f":"IFERROR(INDEX('MEMORIAL DESCRITIVO-BRI'!Q:Q,SMALL(IF('MEMORIAL DESCRITIVO-BRI'!$E$2:$E$4000=\"Sim\",ROW('MEMORIAL DESCRITIVO-BRI'!$Q$2:$Q$4000)),ROW(B485))), \"\")","v":""}]
[null,{"$f":"IFERROR(INDEX('MEMORIAL DESCRITIVO-BRI'!B:B,SMALL(IF('MEMORIAL DESCRITIVO-BRI'!$E$2:$E$4000=\"Sim\",ROW('MEMORIAL DESCRITIVO-BRI'!$B$2:$B$4000)),ROW(B486))), \"\")","v":""},{"$f":"IFERROR(INDEX('MEMORIAL DESCRITIVO-BRI'!I:I,SMALL(IF('MEMORIAL DESCRITIVO-BRI'!$E$2:$E$4000=\"Sim\",ROW('MEMORIAL DESCRITIVO-BRI'!$I$2:$I$4000)),ROW(B486))), \"\")","v":""},{"$f":"IFERROR(INDEX('MEMORIAL DESCRITIVO-BRI'!F:F,SMALL(IF('MEMORIAL DESCRITIVO-BRI'!$E$2:$E$4000=\"Sim\",ROW('MEMORIAL DESCRITIVO-BRI'!$F$2:$F$4000)),ROW(B486))) & \" - \" & INDEX('MEMORIAL DESCRITIVO-BRI'!H:H,SMALL(IF('MEMORIAL DESCRITIVO-BRI'!$E$2:$E$4000=\"Sim\",ROW('MEMORIAL DESCRITIVO-BRI'!$H$2:$H$4000)),ROW(B486))), \"\")","v":""},null,{"$f":"IFERROR(INDEX('MEMORIAL DESCRITIVO-BRI'!S:S,SMALL(IF('MEMORIAL DESCRITIVO-BRI'!$E$2:$E$4000=\"Sim\",ROW('MEMORIAL DESCRITIVO-BRI'!$S$2:$S$4000)),ROW(B486))), \"\")","v":""},{"$f":"IFERROR(INDEX('MEMORIAL DESCRITIVO-BRI'!Z:Z,SMALL(IF('MEMORIAL DESCRITIVO-BRI'!$E$2:$E$4000=\"Sim\",ROW('MEMORIAL DESCRITIVO-BRI'!$Z$2:$Z$4000)),ROW(B486))), \"\")","v":""},{"$f":"IFERROR(INDEX('MEMORIAL DESCRITIVO-BRI'!W:W,SMALL(IF('MEMORIAL DESCRITIVO-BRI'!$E$2:$E$4000=\"Sim\",ROW('MEMORIAL DESCRITIVO-BRI'!$W$2:$W$4000)),ROW(B486))), \"\")","v":""},{"$f":"IFERROR(INDEX('MEMORIAL DESCRITIVO-BRI'!G:G,SMALL(IF('MEMORIAL DESCRITIVO-BRI'!$E$2:$E$4000=\"Sim\",ROW('MEMORIAL DESCRITIVO-BRI'!$G$2:$G$4000)),ROW(B486))), \"\")","v":""},{"$f":"IFERROR(INDEX('MEMORIAL DESCRITIVO-BRI'!P:P,SMALL(IF('MEMORIAL DESCRITIVO-BRI'!$E$2:$E$4000=\"Sim\",ROW('MEMORIAL DESCRITIVO-BRI'!$P$2:$P$4000)),ROW(B486))), \"\")","v":""},{"$f":"IFERROR(INDEX('MEMORIAL DESCRITIVO-BRI'!Q:Q,SMALL(IF('MEMORIAL DESCRITIVO-BRI'!$E$2:$E$4000=\"Sim\",ROW('MEMORIAL DESCRITIVO-BRI'!$Q$2:$Q$4000)),ROW(B486))), \"\")","v":""}]
[null,{"$f":"IFERROR(INDEX('MEMORIAL DESCRITIVO-BRI'!B:B,SMALL(IF('MEMORIAL DESCRITIVO-BRI'!$E$2:$E$4000=\"Sim\",ROW('MEMORIAL DESCRITIVO-BRI'!$B$2:$B$4000)),ROW(B487))), \"\")","v":""},{"$f":"IFERROR(INDEX('MEMORIAL DESCRITIVO-BRI'!I:I,SMALL(IF('MEMORIAL DESCRITIVO-BRI'!$E$2:$E$4000=\"Sim\",ROW('MEMORIAL DESCRITIVO-BRI'!$I$2:$I$4000)),ROW(B487))), \"\")","v":""},{"$f":"IFERROR(INDEX('MEMORIAL DESCRITIVO-BRI'!F:F,SMALL(IF('MEMORIAL DESCRITIVO-BRI'!$E$2:$E$4000=\"Sim\",ROW('MEMORIAL DESCRITIVO-BRI'!$F$2:$F$4000)),ROW(B487))) & \" - \" & INDEX('MEMORIAL DESCRITIVO-BRI'!H:H,SMALL(IF('MEMORIAL DESCRITIVO-BRI'!$E$2:$E$4000=\"Sim\",ROW('MEMORIAL DESCRITIVO-BRI'!$H$2:$H$4000)),ROW(B487))), \"\")","v":""},null,{"$f":"IFERROR(INDEX('MEMORIAL DESCRITIVO-BRI'!S:S,SMALL(IF('MEMORIAL DESCRITIVO-BRI'!$E$2:$E$4000=\"Sim\",ROW('MEMORIAL DESCRITIVO-BRI'!$S$2:$S$4000)),ROW(B487))), \"\")","v":""},{"$f":"IFERROR(INDEX('MEMORIAL DESCRITIVO-BRI'!Z:Z,SMALL(IF('MEMORIAL DESCRITIVO-BRI'!$E$2:$E$4000=\"Sim\",ROW('MEMORIAL DESCRITIVO-BRI'!$Z$2:$Z$4000)),ROW(B487))), \"\")","v":""},{"$f":"IFERROR(INDEX('MEMORIAL DESCRITIVO-BRI'!W:W,SMALL(IF('MEMORIAL DESCRITIVO-BRI'!$E$2:$E$4000=\"Sim\",ROW('MEMORIAL DESCRITIVO-BRI'!$W$2:$W$4000)),ROW(B487))), \"\")","v":""},{"$f":"IFERROR(INDEX('MEMORIAL DESCRITIVO-BRI'!G:G,SMALL(IF('MEMORIAL DESCRITIVO-BRI'!$E$2:$E$4000=\"Sim\",ROW('MEMORIAL DESCRITIVO-BRI'!$G$2:$G$4000)),ROW(B487))), \"\")","v":""},{"$f":"IFERROR(INDEX('MEMORIAL DESCRITIVO-BRI'!P:P,SMALL(IF('MEMORIAL DESCRITIVO-BRI'!$E$2:$E$4000=\"Sim\",ROW('MEMORIAL DESCRITIVO-BRI'!$P$2:$P$4000)),ROW(B487))), \"\")","v":""},{"$f":"IFERROR(INDEX('MEMORIAL DESCRITIVO-BRI'!Q:Q,SMALL(IF('MEMORIAL DESCRITIVO-BRI'!$E$2:$E$4000=\"Sim\",ROW('MEMORIAL DESCRITIVO-BRI'!$Q$2:$Q$4000)),ROW(B487))), \"\")","v":""}]
[null,{"$f":"IFERROR(INDEX('MEMORIAL DESCRITIVO-BRI'!B:B,SMALL(IF('MEMORIAL DESCRITIVO-BRI'!$E$2:$E$4000=\"Sim\",ROW('MEMORIAL DESCRITIVO-BRI'!$B$2:$B$4000)),ROW(B488))), \"\")","v":""},{"$f":"IFERROR(INDEX('MEMORIAL DESCRITIVO-BRI'!I:I,SMALL(IF('MEMORIAL DESCRITIVO-BRI'!$E$2:$E$4000=\"Sim\",ROW('MEMORIAL DESCRITIVO-BRI'!$I$2:$I$4000)),ROW(B488))), \"\")","v":""},{"$f":"IFERROR(INDEX('MEMORIAL DESCRITIVO-BRI'!F:F,SMALL(IF('MEMORIAL DESCRITIVO-BRI'!$E$2:$E$4000=\"Sim\",ROW('MEMORIAL DESCRITIVO-BRI'!$F$2:$F$4000)),ROW(B488))) & \" - \" & INDEX('MEMORIAL DESCRITIVO-BRI'!H:H,SMALL(IF('MEMORIAL DESCRITIVO-BRI'!$E$2:$E$4000=\"Sim\",ROW('MEMORIAL DESCRITIVO-BRI'!$H$2:$H$4000)),ROW(B488))), \"\")","v":""},null,{"$f":"IFERROR(INDEX('MEMORIAL DESCRITIVO-BRI'!S:S,SMALL(IF('MEMORIAL DESCRITIVO-BRI'!$E$2:$E$4000=\"Sim\",ROW('MEMORIAL DESCRITIVO-BRI'!$S$2:$S$4000)),ROW(B488))), \"\")","v":""},{"$f":"IFERROR(INDEX('MEMORIAL DESCRITIVO-BRI'!Z:Z,SMALL(IF('MEMORIAL DESCRITIVO-BRI'!$E$2:$E$4000=\"Sim\",ROW('MEMORIAL DESCRITIVO-BRI'!$Z$2:$Z$4000)),ROW(B488))), \"\")","v":""},{"$f":"IFERROR(INDEX('MEMORIAL DESCRITIVO-BRI'!W:W,SMALL(IF('MEMORIAL DESCRITIVO-BRI'!$E$2:$E$4000=\"Sim\",ROW('MEMORIAL DESCRITIVO-BRI'!$W$2:$W$4000)),ROW(B488))), \"\")","v":""},{"$f":"IFERROR(INDEX('MEMORIAL DESCRITIVO-BRI'!G:G,SMALL(IF('MEMORIAL DESCRITIVO-BRI'!$E$2:$E$4000=\"Sim\",ROW('MEMORIAL DESCRITIVO-BRI'!$G$2:$G$4000)),ROW(B488))), \"\")","v":""},{"$f":"IFERROR(INDEX('MEMORIAL DESCRITIVO-BRI'!P:P,SMALL(IF('MEMORIAL DESCRITIVO-BRI'!$E$2:$E$4000=\"Sim\",ROW('MEMORIAL DESCRITIVO-BRI'!$P$2:$P$4000)),ROW(B488))), \"\")","v":""},{"$f":"IFERROR(INDEX('MEMORIAL DESCRITIVO-BRI'!Q:Q,SMALL(IF('MEMORIAL DESCRITIVO-BRI'!$E$2:$E$4000=\"Sim\",ROW('MEMORIAL DESCRITIVO-BRI'!$Q$2:$Q$4000)),ROW(B488))), \"\")","v":""}]
[null,{"$f":"IFERROR(INDEX('MEMORIAL DESCRITIVO-BRI'!B:B,SMALL(IF('MEMORIAL DESCRITIVO-BRI'!$E$2:$E$4000=\"Sim\",ROW('MEMORIAL DESCRITIVO-BRI'!$B$2:$B$4000)),ROW(B489))), \"\")","v":""},{"$f":"IFERROR(INDEX('MEMORIAL DESCRITIVO-BRI'!I:I,SMALL(IF('MEMORIAL DESCRITIVO-BRI'!$E$2:$E$4000=\"Sim\",ROW('MEMORIAL DESCRITIVO-BRI'!$I$2:$I$4000)),ROW(B489))), \"\")","v":""},{"$f":"IFERROR(INDEX('MEMORIAL DESCRITIVO-BRI'!F:F,SMALL(IF('MEMORIAL DESCRITIVO-BRI'!$E$2:$E$4000=\"Sim\",ROW('MEMORIAL DESCRITIVO-BRI'!$F$2:$F$4000)),ROW(B489))) & \" - \" & INDEX('MEMORIAL DESCRITIVO-BRI'!H:H,SMALL(IF('MEMORIAL DESCRITIVO-BRI'!$E$2:$E$4000=\"Sim\",ROW('MEMORIAL DESCRITIVO-BRI'!$H$2:$H$4000)),ROW(B489))), \"\")","v":""},null,{"$f":"IFERROR(INDEX('MEMORIAL DESCRITIVO-BRI'!S:S,SMALL(IF('MEMORIAL DESCRITIVO-BRI'!$E$2:$E$4000=\"Sim\",ROW('MEMORIAL DESCRITIVO-BRI'!$S$2:$S$4000)),ROW(B489))), \"\")","v":""},{"$f":"IFERROR(INDEX('MEMORIAL DESCRITIVO-BRI'!Z:Z,SMALL(IF('MEMORIAL DESCRITIVO-BRI'!$E$2:$E$4000=\"Sim\",ROW('MEMORIAL DESCRITIVO-BRI'!$Z$2:$Z$4000)),ROW(B489))), \"\")","v":""},{"$f":"IFERROR(INDEX('MEMORIAL DESCRITIVO-BRI'!W:W,SMALL(IF('MEMORIAL DESCRITIVO-BRI'!$E$2:$E$4000=\"Sim\",ROW('MEMORIAL DESCRITIVO-BRI'!$W$2:$W$4000)),ROW(B489))), \"\")","v":""},{"$f":"IFERROR(INDEX('MEMORIAL DESCRITIVO-BRI'!G:G,SMALL(IF('MEMORIAL DESCRITIVO-BRI'!$E$2:$E$4000=\"Sim\",ROW('MEMORIAL DESCRITIVO-BRI'!$G$2:$G$4000)),ROW(B489))), \"\")","v":""},{"$f":"IFERROR(INDEX('MEMORIAL DESCRITIVO-BRI'!P:P,SMALL(IF('MEMORIAL DESCRITIVO-BRI'!$E$2:$E$4000=\"Sim\",ROW('MEMORIAL DESCRITIVO-BRI'!$P$2:$P$4000)),ROW(B489))), \"\")","v":""},{"$f":"IFERROR(INDEX('MEMORIAL DESCRITIVO-BRI'!Q:Q,SMALL(IF('MEMORIAL DESCRITIVO-BRI'!$E$2:$E$4000=\"Sim\",ROW('MEMORIAL DESCRITIVO-BRI'!$Q$2:$Q$4000)),ROW(B489))), \"\")","v":""}]
[null,{"$f":"IFERROR(INDEX('MEMORIAL DESCRITIVO-BRI'!B:B,SMALL(IF('MEMORIAL DESCRITIVO-BRI'!$E$2:$E$4000=\"Sim\",ROW('MEMORIAL DESCRITIVO-BRI'!$B$2:$B$4000)),ROW(B490))), \"\")","v":""},{"$f":"IFERROR(INDEX('MEMORIAL DESCRITIVO-BRI'!I:I,SMALL(IF('MEMORIAL DESCRITIVO-BRI'!$E$2:$E$4000=\"Sim\",ROW('MEMORIAL DESCRITIVO-BRI'!$I$2:$I$4000)),ROW(B490))), \"\")","v":""},{"$f":"IFERROR(INDEX('MEMORIAL DESCRITIVO-BRI'!F:F,SMALL(IF('MEMORIAL DESCRITIVO-BRI'!$E$2:$E$4000=\"Sim\",ROW('MEMORIAL DESCRITIVO-BRI'!$F$2:$F$4000)),ROW(B490))) & \" - \" & INDEX('MEMORIAL DESCRITIVO-BRI'!H:H,SMALL(IF('MEMORIAL DESCRITIVO-BRI'!$E$2:$E$4000=\"Sim\",ROW('MEMORIAL DESCRITIVO-BRI'!$H$2:$H$4000)),ROW(B490))), \"\")","v":""},null,{"$f":"IFERROR(INDEX('MEMORIAL DESCRITIVO-BRI'!S:S,SMALL(IF('MEMORIAL DESCRITIVO-BRI'!$E$2:$E$4000=\"Sim\",ROW('MEMORIAL DESCRITIVO-BRI'!$S$2:$S$4000)),ROW(B490))), \"\")","v":""},{"$f":"IFERROR(INDEX('MEMORIAL DESCRITIVO-BRI'!Z:Z,SMALL(IF('MEMORIAL DESCRITIVO-BRI'!$E$2:$E$4000=\"Sim\",ROW('MEMORIAL DESCRITIVO-BRI'!$Z$2:$Z$4000)),ROW(B490))), \"\")","v":""},{"$f":"IFERROR(INDEX('MEMORIAL DESCRITIVO-BRI'!W:W,SMALL(IF('MEMORIAL DESCRITIVO-BRI'!$E$2:$E$4000=\"Sim\",ROW('MEMORIAL DESCRITIVO-BRI'!$W$2:$W$4000)),ROW(B490))), \"\")","v":""},{"$f":"IFERROR(INDEX('MEMORIAL DESCRITIVO-BRI'!G:G,SMALL(IF('MEMORIAL DESCRITIVO-BRI'!$E$2:$E$4000=\"Sim\",ROW('MEMORIAL DESCRITIVO-BRI'!$G$2:$G$4000)),ROW(B490))), \"\")","v":""},{"$f":"IFERROR(INDEX('MEMORIAL DESCRITIVO-BRI'!P:P,SMALL(IF('MEMORIAL DESCRITIVO-BRI'!$E$2:$E$4000=\"Sim\",ROW('MEMORIAL DESCRITIVO-BRI'!$P$2:$P$4000)),ROW(B490))), \"\")","v":""},{"$f":"IFERROR(INDEX('MEMORIAL DESCRITIVO-BRI'!Q:Q,SMALL(IF('MEMORIAL DESCRITIVO-BRI'!$E$2:$E$4000=\"Sim\",ROW('MEMORIAL DESCRITIVO-BRI'!$Q$2:$Q$4000)),ROW(B490))), \"\")","v":""}]
[null,{"$f":"IFERROR(INDEX('MEMORIAL DESCRITIVO-BRI'!B:B,SMALL(IF('MEMORIAL DESCRITIVO-BRI'!$E$2:$E$4000=\"Sim\",ROW('MEMORIAL DESCRITIVO-BRI'!$B$2:$B$4000)),ROW(B491))), \"\")","v":""},{"$f":"IFERROR(INDEX('MEMORIAL DESCRITIVO-BRI'!I:I,SMALL(IF('MEMORIAL DESCRITIVO-BRI'!$E$2:$E$4000=\"Sim\",ROW('MEMORIAL DESCRITIVO-BRI'!$I$2:$I$4000)),ROW(B491))), \"\")","v":""},{"$f":"IFERROR(INDEX('MEMORIAL DESCRITIVO-BRI'!F:F,SMALL(IF('MEMORIAL DESCRITIVO-BRI'!$E$2:$E$4000=\"Sim\",ROW('MEMORIAL DESCRITIVO-BRI'!$F$2:$F$4000)),ROW(B491))) & \" - \" & INDEX('MEMORIAL DESCRITIVO-BRI'!H:H,SMALL(IF('MEMORIAL DESCRITIVO-BRI'!$E$2:$E$4000=\"Sim\",ROW('MEMORIAL DESCRITIVO-BRI'!$H$2:$H$4000)),ROW(B491))), \"\")","v":""},null,{"$f":"IFERROR(INDEX('MEMORIAL DESCRITIVO-BRI'!S:S,SMALL(IF('MEMORIAL DESCRITIVO-BRI'!$E$2:$E$4000=\"Sim\",ROW('MEMORIAL DESCRITIVO-BRI'!$S$2:$S$4000)),ROW(B491))), \"\")","v":""},{"$f":"IFERROR(INDEX('MEMORIAL DESCRITIVO-BRI'!Z:Z,SMALL(IF('MEMORIAL DESCRITIVO-BRI'!$E$2:$E$4000=\"Sim\",ROW('MEMORIAL DESCRITIVO-BRI'!$Z$2:$Z$4000)),ROW(B491))), \"\")","v":""},{"$f":"IFERROR(INDEX('MEMORIAL DESCRITIVO-BRI'!W:W,SMALL(IF('MEMORIAL DESCRITIVO-BRI'!$E$2:$E$4000=\"Sim\",ROW('MEMORIAL DESCRITIVO-BRI'!$W$2:$W$4000)),ROW(B491))), \"\")","v":""},{"$f":"IFERROR(INDEX('MEMORIAL DESCRITIVO-BRI'!G:G,SMALL(IF('MEMORIAL DESCRITIVO-BRI'!$E$2:$E$4000=\"Sim\",ROW('MEMORIAL DESCRITIVO-BRI'!$G$2:$G$4000)),ROW(B491))), \"\")","v":""},{"$f":"IFERROR(INDEX('MEMORIAL DESCRITIVO-BRI'!P:P,SMALL(IF('MEMORIAL DESCRITIVO-BRI'!$E$2:$E$4000=\"Sim\",ROW('MEMORIAL DESCRITIVO-BRI'!$P$2:$P$4000)),ROW(B491))), \"\")","v":""},{"$f":"IFERROR(INDEX('MEMORIAL DESCRITIVO-BRI'!Q:Q,SMALL(IF('MEMORIAL DESCRITIVO-BRI'!$E$2:$E$4000=\"Sim\",ROW('MEMORIAL DESCRITIVO-BRI'!$Q$2:$Q$4000)),ROW(B491))), \"\")","v":""}]
[null,{"$f":"IFERROR(INDEX('MEMORIAL DESCRITIVO-BRI'!B:B,SMALL(IF('MEMORIAL DESCRITIVO-BRI'!$E$2:$E$4000=\"Sim\",ROW('MEMORIAL DESCRITIVO-BRI'!$B$2:$B$4000)),ROW(B492))), \"\")","v":""},{"$f":"IFERROR(INDEX('MEMORIAL DESCRITIVO-BRI'!I:I,SMALL(IF('MEMORIAL DESCRITIVO-BRI'!$E$2:$E$4000=\"Sim\",ROW('MEMORIAL DESCRITIVO-BRI'!$I$2:$I$4000)),ROW(B492))), \"\")","v":""},{"$f":"IFERROR(INDEX('MEMORIAL DESCRITIVO-BRI'!F:F,SMALL(IF('MEMORIAL DESCRITIVO-BRI'!$E$2:$E$4000=\"Sim\",ROW('MEMORIAL DESCRITIVO-BRI'!$F$2:$F$4000)),ROW(B492))) & \" - \" & INDEX('MEMORIAL DESCRITIVO-BRI'!H:H,SMALL(IF('MEMORIAL DESCRITIVO-BRI'!$E$2:$E$4000=\"Sim\",ROW('MEMORIAL DESCRITIVO-BRI'!$H$2:$H$4000)),ROW(B492))), \"\")","v":""},null,{"$f":"IFERROR(INDEX('MEMORIAL DESCRITIVO-BRI'!S:S,SMALL(IF('MEMORIAL DESCRITIVO-BRI'!$E$2:$E$4000=\"Sim\",ROW('MEMORIAL DESCRITIVO-BRI'!$S$2:$S$4000)),ROW(B492))), \"\")","v":""},{"$f":"IFERROR(INDEX('MEMORIAL DESCRITIVO-BRI'!Z:Z,SMALL(IF('MEMORIAL DESCRITIVO-BRI'!$E$2:$E$4000=\"Sim\",ROW('MEMORIAL DESCRITIVO-BRI'!$Z$2:$Z$4000)),ROW(B492))), \"\")","v":""},{"$f":"IFERROR(INDEX('MEMORIAL DESCRITIVO-BRI'!W:W,SMALL(IF('MEMORIAL DESCRITIVO-BRI'!$E$2:$E$4000=\"Sim\",ROW('MEMORIAL DESCRITIVO-BRI'!$W$2:$W$4000)),ROW(B492))), \"\")","v":""},{"$f":"IFERROR(INDEX('MEMORIAL DESCRITIVO-BRI'!G:G,SMALL(IF('MEMORIAL DESCRITIVO-BRI'!$E$2:$E$4000=\"Sim\",ROW('MEMORIAL DESCRITIVO-BRI'!$G$2:$G$4000)),ROW(B492))), \"\")","v":""},{"$f":"IFERROR(INDEX('MEMORIAL DESCRITIVO-BRI'!P:P,SMALL(IF('MEMORIAL DESCRITIVO-BRI'!$E$2:$E$4000=\"Sim\",ROW('MEMORIAL DESCRITIVO-BRI'!$P$2:$P$4000)),ROW(B492))), \"\")","v":""},{"$f":"IFERROR(INDEX('MEMORIAL DESCRITIVO-BRI'!Q:Q,SMALL(IF('MEMORIAL DESCRITIVO-BRI'!$E$2:$E$4000=\"Sim\",ROW('MEMORIAL DESCRITIVO-BRI'!$Q$2:$Q$4000)),ROW(B492))), \"\")","v":""}]
[null,{"$f":"IFERROR(INDEX('MEMORIAL DESCRITIVO-BRI'!B:B,SMALL(IF('MEMORIAL DESCRITIVO-BRI'!$E$2:$E$4000=\"Sim\",ROW('MEMORIAL DESCRITIVO-BRI'!$B$2:$B$4000)),ROW(B493))), \"\")","v":""},{"$f":"IFERROR(INDEX('MEMORIAL DESCRITIVO-BRI'!I:I,SMALL(IF('MEMORIAL DESCRITIVO-BRI'!$E$2:$E$4000=\"Sim\",ROW('MEMORIAL DESCRITIVO-BRI'!$I$2:$I$4000)),ROW(B493))), \"\")","v":""},{"$f":"IFERROR(INDEX('MEMORIAL DESCRITIVO-BRI'!F:F,SMALL(IF('MEMORIAL DESCRITIVO-BRI'!$E$2:$E$4000=\"Sim\",ROW('MEMORIAL DESCRITIVO-BRI'!$F$2:$F$4000)),ROW(B493))) & \" - \" & INDEX('MEMORIAL DESCRITIVO-BRI'!H:H,SMALL(IF('MEMORIAL DESCRITIVO-BRI'!$E$2:$E$4000=\"Sim\",ROW('MEMORIAL DESCRITIVO-BRI'!$H$2:$H$4000)),ROW(B493))), \"\")","v":""},null,{"$f":"IFERROR(INDEX('MEMORIAL DESCRITIVO-BRI'!S:S,SMALL(IF('MEMORIAL DESCRITIVO-BRI'!$E$2:$E$4000=\"Sim\",ROW('MEMORIAL DESCRITIVO-BRI'!$S$2:$S$4000)),ROW(B493))), \"\")","v":""},{"$f":"IFERROR(INDEX('MEMORIAL DESCRITIVO-BRI'!Z:Z,SMALL(IF('MEMORIAL DESCRITIVO-BRI'!$E$2:$E$4000=\"Sim\",ROW('MEMORIAL DESCRITIVO-BRI'!$Z$2:$Z$4000)),ROW(B493))), \"\")","v":""},{"$f":"IFERROR(INDEX('MEMORIAL DESCRITIVO-BRI'!W:W,SMALL(IF('MEMORIAL DESCRITIVO-BRI'!$E$2:$E$4000=\"Sim\",ROW('MEMORIAL DESCRITIVO-BRI'!$W$2:$W$4000)),ROW(B493))), \"\")","v":""},{"$f":"IFERROR(INDEX('MEMORIAL DESCRITIVO-BRI'!G:G,SMALL(IF('MEMORIAL DESCRITIVO-BRI'!$E$2:$E$4000=\"Sim\",ROW('MEMORIAL DESCRITIVO-BRI'!$G$2:$G$4000)),ROW(B493))), \"\")","v":""},{"$f":"IFERROR(INDEX('MEMORIAL DESCRITIVO-BRI'!P:P,SMALL(IF('MEMORIAL DESCRITIVO-BRI'!$E$2:$E$4000=\"Sim\",ROW('MEMORIAL DESCRITIVO-BRI'!$P$2:$P$4000)),ROW(B493))), \"\")","v":""},{"$f":"IFERROR(INDEX('MEMORIAL DESCRITIVO-BRI'!Q:Q,SMALL(IF('MEMORIAL DESCRITIVO-BRI'!$E$2:$E$4000=\"Sim\",ROW('MEMORIAL DESCRITIVO-BRI'!$Q$2:$Q$4000)),ROW(B493))), \"\")","v":""}]
[null,{"$f":"IFERROR(INDEX('MEMORIAL DESCRITIVO-BRI'!B:B,SMALL(IF('MEMORIAL DESCRITIVO-BRI'!$E$2:$E$4000=\"Sim\",ROW('MEMORIAL DESCRITIVO-BRI'!$B$2:$B$4000)),ROW(B494))), \"\")","v":""},{"$f":"IFERROR(INDEX('MEMORIAL DESCRITIVO-BRI'!I:I,SMALL(IF('MEMORIAL DESCRITIVO-BRI'!$E$2:$E$4000=\"Sim\",ROW('MEMORIAL DESCRITIVO-BRI'!$I$2:$I$4000)),ROW(B494))), \"\")","v":""},{"$f":"IFERROR(INDEX('MEMORIAL DESCRITIVO-BRI'!F:F,SMALL(IF('MEMORIAL DESCRITIVO-BRI'!$E$2:$E$4000=\"Sim\",ROW('MEMORIAL DESCRITIVO-BRI'!$F$2:$F$4000)),ROW(B494))) & \" - \" & INDEX('MEMORIAL DESCRITIVO-BRI'!H:H,SMALL(IF('MEMORIAL DESCRITIVO-BRI'!$E$2:$E$4000=\"Sim\",ROW('MEMORIAL DESCRITIVO-BRI'!$H$2:$H$4000)),ROW(B494))), \"\")","v":""},null,{"$f":"IFERROR(INDEX('MEMORIAL DESCRITIVO-BRI'!S:S,SMALL(IF('MEMORIAL DESCRITIVO-BRI'!$E$2:$E$4000=\"Sim\",ROW('MEMORIAL DESCRITIVO-BRI'!$S$2:$S$4000)),ROW(B494))), \"\")","v":""},{"$f":"IFERROR(INDEX('MEMORIAL DESCRITIVO-BRI'!Z:Z,SMALL(IF('MEMORIAL DESCRITIVO-BRI'!$E$2:$E$4000=\"Sim\",ROW('MEMORIAL DESCRITIVO-BRI'!$Z$2:$Z$4000)),ROW(B494))), \"\")","v":""},{"$f":"IFERROR(INDEX('MEMORIAL DESCRITIVO-BRI'!W:W,SMALL(IF('MEMORIAL DESCRITIVO-BRI'!$E$2:$E$4000=\"Sim\",ROW('MEMORIAL DESCRITIVO-BRI'!$W$2:$W$4000)),ROW(B494))), \"\")","v":""},{"$f":"IFERROR(INDEX('MEMORIAL DESCRITIVO-BRI'!G:G,SMALL(IF('MEMORIAL DESCRITIVO-BRI'!$E$2:$E$4000=\"Sim\",ROW('MEMORIAL DESCRITIVO-BRI'!$G$2:$G$4000)),ROW(B494))), \"\")","v":""},{"$f":"IFERROR(INDEX('MEMORIAL DESCRITIVO-BRI'!P:P,SMALL(IF('MEMORIAL DESCRITIVO-BRI'!$E$2:$E$4000=\"Sim\",ROW('MEMORIAL DESCRITIVO-BRI'!$P$2:$P$4000)),ROW(B494))), \"\")","v":""},{"$f":"IFERROR(INDEX('MEMORIAL DESCRITIVO-BRI'!Q:Q,SMALL(IF('MEMORIAL DESCRITIVO-BRI'!$E$2:$E$4000=\"Sim\",ROW('MEMORIAL DESCRITIVO-BRI'!$Q$2:$Q$4000)),ROW(B494))), \"\")","v":""}]
[null,{"$f":"IFERROR(INDEX('MEMORIAL DESCRITIVO-BRI'!B:B,SMALL(IF('MEMORIAL DESCRITIVO-BRI'!$E$2:$E$4000=\"Sim\",ROW('MEMORIAL DESCRITIVO-BRI'!$B$2:$B$4000)),ROW(B495))), \"\")","v":""},{"$f":"IFERROR(INDEX('MEMORIAL DESCRITIVO-BRI'!I:I,SMALL(IF('MEMORIAL DESCRITIVO-BRI'!$E$2:$E$4000=\"Sim\",ROW('MEMORIAL DESCRITIVO-BRI'!$I$2:$I$4000)),ROW(B495))), \"\")","v":""},{"$f":"IFERROR(INDEX('MEMORIAL DESCRITIVO-BRI'!F:F,SMALL(IF('MEMORIAL DESCRITIVO-BRI'!$E$2:$E$4000=\"Sim\",ROW('MEMORIAL DESCRITIVO-BRI'!$F$2:$F$4000)),ROW(B495))) & \" - \" & INDEX('MEMORIAL DESCRITIVO-BRI'!H:H,SMALL(IF('MEMORIAL DESCRITIVO-BRI'!$E$2:$E$4000=\"Sim\",ROW('MEMORIAL DESCRITIVO-BRI'!$H$2:$H$4000)),ROW(B495))), \"\")","v":""},null,{"$f":"IFERROR(INDEX('MEMORIAL DESCRITIVO-BRI'!S:S,SMALL(IF('MEMORIAL DESCRITIVO-BRI'!$E$2:$E$4000=\"Sim\",ROW('MEMORIAL DESCRITIVO-BRI'!$S$2:$S$4000)),ROW(B495))), \"\")","v":""},{"$f":"IFERROR(INDEX('MEMORIAL DESCRITIVO-BRI'!Z:Z,SMALL(IF('MEMORIAL DESCRITIVO-BRI'!$E$2:$E$4000=\"Sim\",ROW('MEMORIAL DESCRITIVO-BRI'!$Z$2:$Z$4000)),ROW(B495))), \"\")","v":""},{"$f":"IFERROR(INDEX('MEMORIAL DESCRITIVO-BRI'!W:W,SMALL(IF('MEMORIAL DESCRITIVO-BRI'!$E$2:$E$4000=\"Sim\",ROW('MEMORIAL DESCRITIVO-BRI'!$W$2:$W$4000)),ROW(B495))), \"\")","v":""},{"$f":"IFERROR(INDEX('MEMORIAL DESCRITIVO-BRI'!G:G,SMALL(IF('MEMORIAL DESCRITIVO-BRI'!$E$2:$E$4000=\"Sim\",ROW('MEMORIAL DESCRITIVO-BRI'!$G$2:$G$4000)),ROW(B495))), \"\")","v":""},{"$f":"IFERROR(INDEX('MEMORIAL DESCRITIVO-BRI'!P:P,SMALL(IF('MEMORIAL DESCRITIVO-BRI'!$E$2:$E$4000=\"Sim\",ROW('MEMORIAL DESCRITIVO-BRI'!$P$2:$P$4000)),ROW(B495))), \"\")","v":""},{"$f":"IFERROR(INDEX('MEMORIAL DESCRITIVO-BRI'!Q:Q,SMALL(IF('MEMORIAL DESCRITIVO-BRI'!$E$2:$E$4000=\"Sim\",ROW('MEMORIAL DESCRITIVO-BRI'!$Q$2:$Q$4000)),ROW(B495))), \"\")","v":""}]
[null,{"$f":"IFERROR(INDEX('MEMORIAL DESCRITIVO-BRI'!B:B,SMALL(IF('MEMORIAL DESCRITIVO-BRI'!$E$2:$E$4000=\"Sim\",ROW('MEMORIAL DESCRITIVO-BRI'!$B$2:$B$4000)),ROW(B496))), \"\")","v":""},{"$f":"IFERROR(INDEX('MEMORIAL DESCRITIVO-BRI'!I:I,SMALL(IF('MEMORIAL DESCRITIVO-BRI'!$E$2:$E$4000=\"Sim\",ROW('MEMORIAL DESCRITIVO-BRI'!$I$2:$I$4000)),ROW(B496))), \"\")","v":""},{"$f":"IFERROR(INDEX('MEMORIAL DESCRITIVO-BRI'!F:F,SMALL(IF('MEMORIAL DESCRITIVO-BRI'!$E$2:$E$4000=\"Sim\",ROW('MEMORIAL DESCRITIVO-BRI'!$F$2:$F$4000)),ROW(B496))) & \" - \" & INDEX('MEMORIAL DESCRITIVO-BRI'!H:H,SMALL(IF('MEMORIAL DESCRITIVO-BRI'!$E$2:$E$4000=\"Sim\",ROW('MEMORIAL DESCRITIVO-BRI'!$H$2:$H$4000)),ROW(B496))), \"\")","v":""},null,{"$f":"IFERROR(INDEX('MEMORIAL DESCRITIVO-BRI'!S:S,SMALL(IF('MEMORIAL DESCRITIVO-BRI'!$E$2:$E$4000=\"Sim\",ROW('MEMORIAL DESCRITIVO-BRI'!$S$2:$S$4000)),ROW(B496))), \"\")","v":""},{"$f":"IFERROR(INDEX('MEMORIAL DESCRITIVO-BRI'!Z:Z,SMALL(IF('MEMORIAL DESCRITIVO-BRI'!$E$2:$E$4000=\"Sim\",ROW('MEMORIAL DESCRITIVO-BRI'!$Z$2:$Z$4000)),ROW(B496))), \"\")","v":""},{"$f":"IFERROR(INDEX('MEMORIAL DESCRITIVO-BRI'!W:W,SMALL(IF('MEMORIAL DESCRITIVO-BRI'!$E$2:$E$4000=\"Sim\",ROW('MEMORIAL DESCRITIVO-BRI'!$W$2:$W$4000)),ROW(B496))), \"\")","v":""},{"$f":"IFERROR(INDEX('MEMORIAL DESCRITIVO-BRI'!G:G,SMALL(IF('MEMORIAL DESCRITIVO-BRI'!$E$2:$E$4000=\"Sim\",ROW('MEMORIAL DESCRITIVO-BRI'!$G$2:$G$4000)),ROW(B496))), \"\")","v":""},{"$f":"IFERROR(INDEX('MEMORIAL DESCRITIVO-BRI'!P:P,SMALL(IF('MEMORIAL DESCRITIVO-BRI'!$E$2:$E$4000=\"Sim\",ROW('MEMORIAL DESCRITIVO-BRI'!$P$2:$P$4000)),ROW(B496))), \"\")","v":""},{"$f":"IFERROR(INDEX('MEMORIAL DESCRITIVO-BRI'!Q:Q,SMALL(IF('MEMORIAL DESCRITIVO-BRI'!$E$2:$E$4000=\"Sim\",ROW('MEMORIAL DESCRITIVO-BRI'!$Q$2:$Q$4000)),ROW(B496))), \"\")","v":""}]
[null,{"$f":"IFERROR(INDEX('MEMORIAL DESCRITIVO-BRI'!B:B,SMALL(IF('MEMORIAL DESCRITIVO-BRI'!$E$2:$E$4000=\"Sim\",ROW('MEMORIAL DESCRITIVO-BRI'!$B$2:$B$4000)),ROW(B497))), \"\")","v":""},{"$f":"IFERROR(INDEX('MEMORIAL DESCRITIVO-BRI'!I:I,SMALL(IF('MEMORIAL DESCRITIVO-BRI'!$E$2:$E$4000=\"Sim\",ROW('MEMORIAL DESCRITIVO-BRI'!$I$2:$I$4000)),ROW(B497))), \"\")","v":""},{"$f":"IFERROR(INDEX('MEMORIAL DESCRITIVO-BRI'!F:F,SMALL(IF('MEMORIAL DESCRITIVO-BRI'!$E$2:$E$4000=\"Sim\",ROW('MEMORIAL DESCRITIVO-BRI'!$F$2:$F$4000)),ROW(B497))) & \" - \" & INDEX('MEMORIAL DESCRITIVO-BRI'!H:H,SMALL(IF('MEMORIAL DESCRITIVO-BRI'!$E$2:$E$4000=\"Sim\",ROW('MEMORIAL DESCRITIVO-BRI'!$H$2:$H$4000)),ROW(B497))), \"\")","v":""},null,{"$f":"IFERROR(INDEX('MEMORIAL DESCRITIVO-BRI'!S:S,SMALL(IF('MEMORIAL DESCRITIVO-BRI'!$E$2:$E$4000=\"Sim\",ROW('MEMORIAL DESCRITIVO-BRI'!$S$2:$S$4000)),ROW(B497))), \"\")","v":""},{"$f":"IFERROR(INDEX('MEMORIAL DESCRITIVO-BRI'!Z:Z,SMALL(IF('MEMORIAL DESCRITIVO-BRI'!$E$2:$E$4000=\"Sim\",ROW('MEMORIAL DESCRITIVO-BRI'!$Z$2:$Z$4000)),ROW(B497))), \"\")","v":""},{"$f":"IFERROR(INDEX('MEMORIAL DESCRITIVO-BRI'!W:W,SMALL(IF('MEMORIAL DESCRITIVO-BRI'!$E$2:$E$4000=\"Sim\",ROW('MEMORIAL DESCRITIVO-BRI'!$W$2:$W$4000)),ROW(B497))), \"\")","v":""},{"$f":"IFERROR(INDEX('MEMORIAL DESCRITIVO-BRI'!G:G,SMALL(IF('MEMORIAL DESCRITIVO-BRI'!$E$2:$E$4000=\"Sim\",ROW('MEMORIAL DESCRITIVO-BRI'!$G$2:$G$4000)),ROW(B497))), \"\")","v":""},{"$f":"IFERROR(INDEX('MEMORIAL DESCRITIVO-BRI'!P:P,SMALL(IF('MEMORIAL DESCRITIVO-BRI'!$E$2:$E$4000=\"Sim\",ROW('MEMORIAL DESCRITIVO-BRI'!$P$2:$P$4000)),ROW(B497))), \"\")","v":""},{"$f":"IFERROR(INDEX('MEMORIAL DESCRITIVO-BRI'!Q:Q,SMALL(IF('MEMORIAL DESCRITIVO-BRI'!$E$2:$E$4000=\"Sim\",ROW('MEMORIAL DESCRITIVO-BRI'!$Q$2:$Q$4000)),ROW(B497))), \"\")","v":""}]
[null,{"$f":"IFERROR(INDEX('MEMORIAL DESCRITIVO-BRI'!B:B,SMALL(IF('MEMORIAL DESCRITIVO-BRI'!$E$2:$E$4000=\"Sim\",ROW('MEMORIAL DESCRITIVO-BRI'!$B$2:$B$4000)),ROW(B498))), \"\")","v":""},{"$f":"IFERROR(INDEX('MEMORIAL DESCRITIVO-BRI'!I:I,SMALL(IF('MEMORIAL DESCRITIVO-BRI'!$E$2:$E$4000=\"Sim\",ROW('MEMORIAL DESCRITIVO-BRI'!$I$2:$I$4000)),ROW(B498))), \"\")","v":""},{"$f":"IFERROR(INDEX('MEMORIAL DESCRITIVO-BRI'!F:F,SMALL(IF('MEMORIAL DESCRITIVO-BRI'!$E$2:$E$4000=\"Sim\",ROW('MEMORIAL DESCRITIVO-BRI'!$F$2:$F$4000)),ROW(B498))) & \" - \" & INDEX('MEMORIAL DESCRITIVO-BRI'!H:H,SMALL(IF('MEMORIAL DESCRITIVO-BRI'!$E$2:$E$4000=\"Sim\",ROW('MEMORIAL DESCRITIVO-BRI'!$H$2:$H$4000)),ROW(B498))), \"\")","v":""},null,{"$f":"IFERROR(INDEX('MEMORIAL DESCRITIVO-BRI'!S:S,SMALL(IF('MEMORIAL DESCRITIVO-BRI'!$E$2:$E$4000=\"Sim\",ROW('MEMORIAL DESCRITIVO-BRI'!$S$2:$S$4000)),ROW(B498))), \"\")","v":""},{"$f":"IFERROR(INDEX('MEMORIAL DESCRITIVO-BRI'!Z:Z,SMALL(IF('MEMORIAL DESCRITIVO-BRI'!$E$2:$E$4000=\"Sim\",ROW('MEMORIAL DESCRITIVO-BRI'!$Z$2:$Z$4000)),ROW(B498))), \"\")","v":""},{"$f":"IFERROR(INDEX('MEMORIAL DESCRITIVO-BRI'!W:W,SMALL(IF('MEMORIAL DESCRITIVO-BRI'!$E$2:$E$4000=\"Sim\",ROW('MEMORIAL DESCRITIVO-BRI'!$W$2:$W$4000)),ROW(B498))), \"\")","v":""},{"$f":"IFERROR(INDEX('MEMORIAL DESCRITIVO-BRI'!G:G,SMALL(IF('MEMORIAL DESCRITIVO-BRI'!$E$2:$E$4000=\"Sim\",ROW('MEMORIAL DESCRITIVO-BRI'!$G$2:$G$4000)),ROW(B498))), \"\")","v":""},{"$f":"IFERROR(INDEX('MEMORIAL DESCRITIVO-BRI'!P:P,SMALL(IF('MEMORIAL DESCRITIVO-BRI'!$E$2:$E$4000=\"Sim\",ROW('MEMORIAL DESCRITIVO-BRI'!$P$2:$P$4000)),ROW(B498))), \"\")","v":""},{"$f":"IFERROR(INDEX('MEMORIAL DESCRITIVO-BRI'!Q:Q,SMALL(IF('MEMORIAL DESCRITIVO-BRI'!$E$2:$E$4000=\"Sim\",ROW('MEMORIAL DESCRITIVO-BRI'!$Q$2:$Q$4000)),ROW(B498))), \"\")","v":""}]
[null,{"$f":"IFERROR(INDEX('MEMORIAL DESCRITIVO-BRI'!B:B,SMALL(IF('MEMORIAL DESCRITIVO-BRI'!$E$2:$E$4000=\"Sim\",ROW('MEMORIAL DESCRITIVO-BRI'!$B$2:$B$4000)),ROW(B499))), \"\")","v":""},{"$f":"IFERROR(INDEX('MEMORIAL DESCRITIVO-BRI'!I:I,SMALL(IF('MEMORIAL DESCRITIVO-BRI'!$E$2:$E$4000=\"Sim\",ROW('MEMORIAL DESCRITIVO-BRI'!$I$2:$I$4000)),ROW(B499))), \"\")","v":""},{"$f":"IFERROR(INDEX('MEMORIAL DESCRITIVO-BRI'!F:F,SMALL(IF('MEMORIAL DESCRITIVO-BRI'!$E$2:$E$4000=\"Sim\",ROW('MEMORIAL DESCRITIVO-BRI'!$F$2:$F$4000)),ROW(B499))) & \" - \" & INDEX('MEMORIAL DESCRITIVO-BRI'!H:H,SMALL(IF('MEMORIAL DESCRITIVO-BRI'!$E$2:$E$4000=\"Sim\",ROW('MEMORIAL DESCRITIVO-BRI'!$H$2:$H$4000)),ROW(B499))), \"\")","v":""},null,{"$f":"IFERROR(INDEX('MEMORIAL DESCRITIVO-BRI'!S:S,SMALL(IF('MEMORIAL DESCRITIVO-BRI'!$E$2:$E$4000=\"Sim\",ROW('MEMORIAL DESCRITIVO-BRI'!$S$2:$S$4000)),ROW(B499))), \"\")","v":""},{"$f":"IFERROR(INDEX('MEMORIAL DESCRITIVO-BRI'!Z:Z,SMALL(IF('MEMORIAL DESCRITIVO-BRI'!$E$2:$E$4000=\"Sim\",ROW('MEMORIAL DESCRITIVO-BRI'!$Z$2:$Z$4000)),ROW(B499))), \"\")","v":""},{"$f":"IFERROR(INDEX('MEMORIAL DESCRITIVO-BRI'!W:W,SMALL(IF('MEMORIAL DESCRITIVO-BRI'!$E$2:$E$4000=\"Sim\",ROW('MEMORIAL DESCRITIVO-BRI'!$W$2:$W$4000)),ROW(B499))), \"\")","v":""},{"$f":"IFERROR(INDEX('MEMORIAL DESCRITIVO-BRI'!G:G,SMALL(IF('MEMORIAL DESCRITIVO-BRI'!$E$2:$E$4000=\"Sim\",ROW('MEMORIAL DESCRITIVO-BRI'!$G$2:$G$4000)),ROW(B499))), \"\")","v":""},{"$f":"IFERROR(INDEX('MEMORIAL DESCRITIVO-BRI'!P:P,SMALL(IF('MEMORIAL DESCRITIVO-BRI'!$E$2:$E$4000=\"Sim\",ROW('MEMORIAL DESCRITIVO-BRI'!$P$2:$P$4000)),ROW(B499))), \"\")","v":""},{"$f":"IFERROR(INDEX('MEMORIAL DESCRITIVO-BRI'!Q:Q,SMALL(IF('MEMORIAL DESCRITIVO-BRI'!$E$2:$E$4000=\"Sim\",ROW('MEMORIAL DESCRITIVO-BRI'!$Q$2:$Q$4000)),ROW(B499))), \"\")","v":""}]
[null,{"$f":"IFERROR(INDEX('MEMORIAL DESCRITIVO-BRI'!B:B,SMALL(IF('MEMORIAL DESCRITIVO-BRI'!$E$2:$E$4000=\"Sim\",ROW('MEMORIAL DESCRITIVO-BRI'!$B$2:$B$4000)),ROW(B500))), \"\")","v":""},{"$f":"IFERROR(INDEX('MEMORIAL DESCRITIVO-BRI'!I:I,SMALL(IF('MEMORIAL DESCRITIVO-BRI'!$E$2:$E$4000=\"Sim\",ROW('MEMORIAL DESCRITIVO-BRI'!$I$2:$I$4000)),ROW(B500))), \"\")","v":""},{"$f":"IFERROR(INDEX('MEMORIAL DESCRITIVO-BRI'!F:F,SMALL(IF('MEMORIAL DESCRITIVO-BRI'!$E$2:$E$4000=\"Sim\",ROW('MEMORIAL DESCRITIVO-BRI'!$F$2:$F$4000)),ROW(B500))) & \" - \" & INDEX('MEMORIAL DESCRITIVO-BRI'!H:H,SMALL(IF('MEMORIAL DESCRITIVO-BRI'!$E$2:$E$4000=\"Sim\",ROW('MEMORIAL DESCRITIVO-BRI'!$H$2:$H$4000)),ROW(B500))), \"\")","v":""},null,{"$f":"IFERROR(INDEX('MEMORIAL DESCRITIVO-BRI'!S:S,SMALL(IF('MEMORIAL DESCRITIVO-BRI'!$E$2:$E$4000=\"Sim\",ROW('MEMORIAL DESCRITIVO-BRI'!$S$2:$S$4000)),ROW(B500))), \"\")","v":""},{"$f":"IFERROR(INDEX('MEMORIAL DESCRITIVO-BRI'!Z:Z,SMALL(IF('MEMORIAL DESCRITIVO-BRI'!$E$2:$E$4000=\"Sim\",ROW('MEMORIAL DESCRITIVO-BRI'!$Z$2:$Z$4000)),ROW(B500))), \"\")","v":""},{"$f":"IFERROR(INDEX('MEMORIAL DESCRITIVO-BRI'!W:W,SMALL(IF('MEMORIAL DESCRITIVO-BRI'!$E$2:$E$4000=\"Sim\",ROW('MEMORIAL DESCRITIVO-BRI'!$W$2:$W$4000)),ROW(B500))), \"\")","v":""},{"$f":"IFERROR(INDEX('MEMORIAL DESCRITIVO-BRI'!G:G,SMALL(IF('MEMORIAL DESCRITIVO-BRI'!$E$2:$E$4000=\"Sim\",ROW('MEMORIAL DESCRITIVO-BRI'!$G$2:$G$4000)),ROW(B500))), \"\")","v":""},{"$f":"IFERROR(INDEX('MEMORIAL DESCRITIVO-BRI'!P:P,SMALL(IF('MEMORIAL DESCRITIVO-BRI'!$E$2:$E$4000=\"Sim\",ROW('MEMORIAL DESCRITIVO-BRI'!$P$2:$P$4000)),ROW(B500))), \"\")","v":""},{"$f":"IFERROR(INDEX('MEMORIAL DESCRITIVO-BRI'!Q:Q,SMALL(IF('MEMORIAL DESCRITIVO-BRI'!$E$2:$E$4000=\"Sim\",ROW('MEMORIAL DESCRITIVO-BRI'!$Q$2:$Q$4000)),ROW(B500))), \"\")","v":""}]
[null,{"$f":"IFERROR(INDEX('MEMORIAL DESCRITIVO-BRI'!B:B,SMALL(IF('MEMORIAL DESCRITIVO-BRI'!$E$2:$E$4000=\"Sim\",ROW('MEMORIAL DESCRITIVO-BRI'!$B$2:$B$4000)),ROW(B501))), \"\")","v":""},{"$f":"IFERROR(INDEX('MEMORIAL DESCRITIVO-BRI'!I:I,SMALL(IF('MEMORIAL DESCRITIVO-BRI'!$E$2:$E$4000=\"Sim\",ROW('MEMORIAL DESCRITIVO-BRI'!$I$2:$I$4000)),ROW(B501))), \"\")","v":""},{"$f":"IFERROR(INDEX('MEMORIAL DESCRITIVO-BRI'!F:F,SMALL(IF('MEMORIAL DESCRITIVO-BRI'!$E$2:$E$4000=\"Sim\",ROW('MEMORIAL DESCRITIVO-BRI'!$F$2:$F$4000)),ROW(B501))) & \" - \" & INDEX('MEMORIAL DESCRITIVO-BRI'!H:H,SMALL(IF('MEMORIAL DESCRITIVO-BRI'!$E$2:$E$4000=\"Sim\",ROW('MEMORIAL DESCRITIVO-BRI'!$H$2:$H$4000)),ROW(B501))), \"\")","v":""},null,{"$f":"IFERROR(INDEX('MEMORIAL DESCRITIVO-BRI'!S:S,SMALL(IF('MEMORIAL DESCRITIVO-BRI'!$E$2:$E$4000=\"Sim\",ROW('MEMORIAL DESCRITIVO-BRI'!$S$2:$S$4000)),ROW(B501))), \"\")","v":""},{"$f":"IFERROR(INDEX('MEMORIAL DESCRITIVO-BRI'!Z:Z,SMALL(IF('MEMORIAL DESCRITIVO-BRI'!$E$2:$E$4000=\"Sim\",ROW('MEMORIAL DESCRITIVO-BRI'!$Z$2:$Z$4000)),ROW(B501))), \"\")","v":""},{"$f":"IFERROR(INDEX('MEMORIAL DESCRITIVO-BRI'!W:W,SMALL(IF('MEMORIAL DESCRITIVO-BRI'!$E$2:$E$4000=\"Sim\",ROW('MEMORIAL DESCRITIVO-BRI'!$W$2:$W$4000)),ROW(B501))), \"\")","v":""},{"$f":"IFERROR(INDEX('MEMORIAL DESCRITIVO-BRI'!G:G,SMALL(IF('MEMORIAL DESCRITIVO-BRI'!$E$2:$E$4000=\"Sim\",ROW('MEMORIAL DESCRITIVO-BRI'!$G$2:$G$4000)),ROW(B501))), \"\")","v":""},{"$f":"IFERROR(INDEX('MEMORIAL DESCRITIVO-BRI'!P:P,SMALL(IF('MEMORIAL DESCRITIVO-BRI'!$E$2:$E$4000=\"Sim\",ROW('MEMORIAL DESCRITIVO-BRI'!$P$2:$P$4000)),ROW(B501))), \"\")","v":""},{"$f":"IFERROR(INDEX('MEMORIAL DESCRITIVO-BRI'!Q:Q,SMALL(IF('MEMORIAL DESCRITIVO-BRI'!$E$2:$E$4000=\"Sim\",ROW('MEMORIAL DESCRITIVO-BRI'!$Q$2:$Q$4000)),ROW(B501))), \"\")","v":""}]
[null,{"$f":"IFERROR(INDEX('MEMORIAL DESCRITIVO-BRI'!B:B,SMALL(IF('MEMORIAL DESCRITIVO-BRI'!$E$2:$E$4000=\"Sim\",ROW('MEMORIAL DESCRITIVO-BRI'!$B$2:$B$4000)),ROW(B502))), \"\")","v":""},{"$f":"IFERROR(INDEX('MEMORIAL DESCRITIVO-BRI'!I:I,SMALL(IF('MEMORIAL DESCRITIVO-BRI'!$E$2:$E$4000=\"Sim\",ROW('MEMORIAL DESCRITIVO-BRI'!$I$2:$I$4000)),ROW(B502))), \"\")","v":""},{"$f":"IFERROR(INDEX('MEMORIAL DESCRITIVO-BRI'!F:F,SMALL(IF('MEMORIAL DESCRITIVO-BRI'!$E$2:$E$4000=\"Sim\",ROW('MEMORIAL DESCRITIVO-BRI'!$F$2:$F$4000)),ROW(B502))) & \" - \" & INDEX('MEMORIAL DESCRITIVO-BRI'!H:H,SMALL(IF('MEMORIAL DESCRITIVO-BRI'!$E$2:$E$4000=\"Sim\",ROW('MEMORIAL DESCRITIVO-BRI'!$H$2:$H$4000)),ROW(B502))), \"\")","v":""},null,{"$f":"IFERROR(INDEX('MEMORIAL DESCRITIVO-BRI'!S:S,SMALL(IF('MEMORIAL DESCRITIVO-BRI'!$E$2:$E$4000=\"Sim\",ROW('MEMORIAL DESCRITIVO-BRI'!$S$2:$S$4000)),ROW(B502))), \"\")","v":""},{"$f":"IFERROR(INDEX('MEMORIAL DESCRITIVO-BRI'!Z:Z,SMALL(IF('MEMORIAL DESCRITIVO-BRI'!$E$2:$E$4000=\"Sim\",ROW('MEMORIAL DESCRITIVO-BRI'!$Z$2:$Z$4000)),ROW(B502))), \"\")","v":""},{"$f":"IFERROR(INDEX('MEMORIAL DESCRITIVO-BRI'!W:W,SMALL(IF('MEMORIAL DESCRITIVO-BRI'!$E$2:$E$4000=\"Sim\",ROW('MEMORIAL DESCRITIVO-BRI'!$W$2:$W$4000)),ROW(B502))), \"\")","v":""},{"$f":"IFERROR(INDEX('MEMORIAL DESCRITIVO-BRI'!G:G,SMALL(IF('MEMORIAL DESCRITIVO-BRI'!$E$2:$E$4000=\"Sim\",ROW('MEMORIAL DESCRITIVO-BRI'!$G$2:$G$4000)),ROW(B502))), \"\")","v":""},{"$f":"IFERROR(INDEX('MEMORIAL DESCRITIVO-BRI'!P:P,SMALL(IF('MEMORIAL DESCRITIVO-BRI'!$E$2:$E$4000=\"Sim\",ROW('MEMORIAL DESCRITIVO-BRI'!$P$2:$P$4000)),ROW(B502))), \"\")","v":""},{"$f":"IFERROR(INDEX('MEMORIAL DESCRITIVO-BRI'!Q:Q,SMALL(IF('MEMORIAL DESCRITIVO-BRI'!$E$2:$E$4000=\"Sim\",ROW('MEMORIAL DESCRITIVO-BRI'!$Q$2:$Q$4000)),ROW(B502))), \"\")","v":""}]
[null,{"$f":"IFERROR(INDEX('MEMORIAL DESCRITIVO-BRI'!B:B,SMALL(IF('MEMORIAL DESCRITIVO-BRI'!$E$2:$E$4000=\"Sim\",ROW('MEMORIAL DESCRITIVO-BRI'!$B$2:$B$4000)),ROW(B503))), \"\")","v":""},{"$f":"IFERROR(INDEX('MEMORIAL DESCRITIVO-BRI'!I:I,SMALL(IF('MEMORIAL DESCRITIVO-BRI'!$E$2:$E$4000=\"Sim\",ROW('MEMORIAL DESCRITIVO-BRI'!$I$2:$I$4000)),ROW(B503))), \"\")","v":""},{"$f":"IFERROR(INDEX('MEMORIAL DESCRITIVO-BRI'!F:F,SMALL(IF('MEMORIAL DESCRITIVO-BRI'!$E$2:$E$4000=\"Sim\",ROW('MEMORIAL DESCRITIVO-BRI'!$F$2:$F$4000)),ROW(B503))) & \" - \" & INDEX('MEMORIAL DESCRITIVO-BRI'!H:H,SMALL(IF('MEMORIAL DESCRITIVO-BRI'!$E$2:$E$4000=\"Sim\",ROW('MEMORIAL DESCRITIVO-BRI'!$H$2:$H$4000)),ROW(B503))), \"\")","v":""},null,{"$f":"IFERROR(INDEX('MEMORIAL DESCRITIVO-BRI'!S:S,SMALL(IF('MEMORIAL DESCRITIVO-BRI'!$E$2:$E$4000=\"Sim\",ROW('MEMORIAL DESCRITIVO-BRI'!$S$2:$S$4000)),ROW(B503))), \"\")","v":""},{"$f":"IFERROR(INDEX('MEMORIAL DESCRITIVO-BRI'!Z:Z,SMALL(IF('MEMORIAL DESCRITIVO-BRI'!$E$2:$E$4000=\"Sim\",ROW('MEMORIAL DESCRITIVO-BRI'!$Z$2:$Z$4000)),ROW(B503))), \"\")","v":""},{"$f":"IFERROR(INDEX('MEMORIAL DESCRITIVO-BRI'!W:W,SMALL(IF('MEMORIAL DESCRITIVO-BRI'!$E$2:$E$4000=\"Sim\",ROW('MEMORIAL DESCRITIVO-BRI'!$W$2:$W$4000)),ROW(B503))), \"\")","v":""},{"$f":"IFERROR(INDEX('MEMORIAL DESCRITIVO-BRI'!G:G,SMALL(IF('MEMORIAL DESCRITIVO-BRI'!$E$2:$E$4000=\"Sim\",ROW('MEMORIAL DESCRITIVO-BRI'!$G$2:$G$4000)),ROW(B503))), \"\")","v":""},{"$f":"IFERROR(INDEX('MEMORIAL DESCRITIVO-BRI'!P:P,SMALL(IF('MEMORIAL DESCRITIVO-BRI'!$E$2:$E$4000=\"Sim\",ROW('MEMORIAL DESCRITIVO-BRI'!$P$2:$P$4000)),ROW(B503))), \"\")","v":""},{"$f":"IFERROR(INDEX('MEMORIAL DESCRITIVO-BRI'!Q:Q,SMALL(IF('MEMORIAL DESCRITIVO-BRI'!$E$2:$E$4000=\"Sim\",ROW('MEMORIAL DESCRITIVO-BRI'!$Q$2:$Q$4000)),ROW(B503))), \"\")","v":""}]
[null,{"$f":"IFERROR(INDEX('MEMORIAL DESCRITIVO-BRI'!B:B,SMALL(IF('MEMORIAL DESCRITIVO-BRI'!$E$2:$E$4000=\"Sim\",ROW('MEMORIAL DESCRITIVO-BRI'!$B$2:$B$4000)),ROW(B504))), \"\")","v":""},{"$f":"IFERROR(INDEX('MEMORIAL DESCRITIVO-BRI'!I:I,SMALL(IF('MEMORIAL DESCRITIVO-BRI'!$E$2:$E$4000=\"Sim\",ROW('MEMORIAL DESCRITIVO-BRI'!$I$2:$I$4000)),ROW(B504))), \"\")","v":""},{"$f":"IFERROR(INDEX('MEMORIAL DESCRITIVO-BRI'!F:F,SMALL(IF('MEMORIAL DESCRITIVO-BRI'!$E$2:$E$4000=\"Sim\",ROW('MEMORIAL DESCRITIVO-BRI'!$F$2:$F$4000)),ROW(B504))) & \" - \" & INDEX('MEMORIAL DESCRITIVO-BRI'!H:H,SMALL(IF('MEMORIAL DESCRITIVO-BRI'!$E$2:$E$4000=\"Sim\",ROW('MEMORIAL DESCRITIVO-BRI'!$H$2:$H$4000)),ROW(B504))), \"\")","v":""},null,{"$f":"IFERROR(INDEX('MEMORIAL DESCRITIVO-BRI'!S:S,SMALL(IF('MEMORIAL DESCRITIVO-BRI'!$E$2:$E$4000=\"Sim\",ROW('MEMORIAL DESCRITIVO-BRI'!$S$2:$S$4000)),ROW(B504))), \"\")","v":""},{"$f":"IFERROR(INDEX('MEMORIAL DESCRITIVO-BRI'!Z:Z,SMALL(IF('MEMORIAL DESCRITIVO-BRI'!$E$2:$E$4000=\"Sim\",ROW('MEMORIAL DESCRITIVO-BRI'!$Z$2:$Z$4000)),ROW(B504))), \"\")","v":""},{"$f":"IFERROR(INDEX('MEMORIAL DESCRITIVO-BRI'!W:W,SMALL(IF('MEMORIAL DESCRITIVO-BRI'!$E$2:$E$4000=\"Sim\",ROW('MEMORIAL DESCRITIVO-BRI'!$W$2:$W$4000)),ROW(B504))), \"\")","v":""},{"$f":"IFERROR(INDEX('MEMORIAL DESCRITIVO-BRI'!G:G,SMALL(IF('MEMORIAL DESCRITIVO-BRI'!$E$2:$E$4000=\"Sim\",ROW('MEMORIAL DESCRITIVO-BRI'!$G$2:$G$4000)),ROW(B504))), \"\")","v":""},{"$f":"IFERROR(INDEX('MEMORIAL DESCRITIVO-BRI'!P:P,SMALL(IF('MEMORIAL DESCRITIVO-BRI'!$E$2:$E$4000=\"Sim\",ROW('MEMORIAL DESCRITIVO-BRI'!$P$2:$P$4000)),ROW(B504))), \"\")","v":""},{"$f":"IFERROR(INDEX('MEMORIAL DESCRITIVO-BRI'!Q:Q,SMALL(IF('MEMORIAL DESCRITIVO-BRI'!$E$2:$E$4000=\"Sim\",ROW('MEMORIAL DESCRITIVO-BRI'!$Q$2:$Q$4000)),ROW(B504))), \"\")","v":""}]
[null,{"$f":"IFERROR(INDEX('MEMORIAL DESCRITIVO-BRI'!B:B,SMALL(IF('MEMORIAL DESCRITIVO-BRI'!$E$2:$E$4000=\"Sim\",ROW('MEMORIAL DESCRITIVO-BRI'!$B$2:$B$4000)),ROW(B505))), \"\")","v":""},{"$f":"IFERROR(INDEX('MEMORIAL DESCRITIVO-BRI'!I:I,SMALL(IF('MEMORIAL DESCRITIVO-BRI'!$E$2:$E$4000=\"Sim\",ROW('MEMORIAL DESCRITIVO-BRI'!$I$2:$I$4000)),ROW(B505))), \"\")","v":""},{"$f":"IFERROR(INDEX('MEMORIAL DESCRITIVO-BRI'!F:F,SMALL(IF('MEMORIAL DESCRITIVO-BRI'!$E$2:$E$4000=\"Sim\",ROW('MEMORIAL DESCRITIVO-BRI'!$F$2:$F$4000)),ROW(B505))) & \" - \" & INDEX('MEMORIAL DESCRITIVO-BRI'!H:H,SMALL(IF('MEMORIAL DESCRITIVO-BRI'!$E$2:$E$4000=\"Sim\",ROW('MEMORIAL DESCRITIVO-BRI'!$H$2:$H$4000)),ROW(B505))), \"\")","v":""},null,{"$f":"IFERROR(INDEX('MEMORIAL DESCRITIVO-BRI'!S:S,SMALL(IF('MEMORIAL DESCRITIVO-BRI'!$E$2:$E$4000=\"Sim\",ROW('MEMORIAL DESCRITIVO-BRI'!$S$2:$S$4000)),ROW(B505))), \"\")","v":""},{"$f":"IFERROR(INDEX('MEMORIAL DESCRITIVO-BRI'!Z:Z,SMALL(IF('MEMORIAL DESCRITIVO-BRI'!$E$2:$E$4000=\"Sim\",ROW('MEMORIAL DESCRITIVO-BRI'!$Z$2:$Z$4000)),ROW(B505))), \"\")","v":""},{"$f":"IFERROR(INDEX('MEMORIAL DESCRITIVO-BRI'!W:W,SMALL(IF('MEMORIAL DESCRITIVO-BRI'!$E$2:$E$4000=\"Sim\",ROW('MEMORIAL DESCRITIVO-BRI'!$W$2:$W$4000)),ROW(B505))), \"\")","v":""},{"$f":"IFERROR(INDEX('MEMORIAL DESCRITIVO-BRI'!G:G,SMALL(IF('MEMORIAL DESCRITIVO-BRI'!$E$2:$E$4000=\"Sim\",ROW('MEMORIAL DESCRITIVO-BRI'!$G$2:$G$4000)),ROW(B505))), \"\")","v":""},{"$f":"IFERROR(INDEX('MEMORIAL DESCRITIVO-BRI'!P:P,SMALL(IF('MEMORIAL DESCRITIVO-BRI'!$E$2:$E$4000=\"Sim\",ROW('MEMORIAL DESCRITIVO-BRI'!$P$2:$P$4000)),ROW(B505))), \"\")","v":""},{"$f":"IFERROR(INDEX('MEMORIAL DESCRITIVO-BRI'!Q:Q,SMALL(IF('MEMORIAL DESCRITIVO-BRI'!$E$2:$E$4000=\"Sim\",ROW('MEMORIAL DESCRITIVO-BRI'!$Q$2:$Q$4000)),ROW(B505))), \"\")","v":""}]
[null,{"$f":"IFERROR(INDEX('MEMORIAL DESCRITIVO-BRI'!B:B,SMALL(IF('MEMORIAL DESCRITIVO-BRI'!$E$2:$E$4000=\"Sim\",ROW('MEMORIAL DESCRITIVO-BRI'!$B$2:$B$4000)),ROW(B506))), \"\")","v":""},{"$f":"IFERROR(INDEX('MEMORIAL DESCRITIVO-BRI'!I:I,SMALL(IF('MEMORIAL DESCRITIVO-BRI'!$E$2:$E$4000=\"Sim\",ROW('MEMORIAL DESCRITIVO-BRI'!$I$2:$I$4000)),ROW(B506))), \"\")","v":""},{"$f":"IFERROR(INDEX('MEMORIAL DESCRITIVO-BRI'!F:F,SMALL(IF('MEMORIAL DESCRITIVO-BRI'!$E$2:$E$4000=\"Sim\",ROW('MEMORIAL DESCRITIVO-BRI'!$F$2:$F$4000)),ROW(B506))) & \" - \" & INDEX('MEMORIAL DESCRITIVO-BRI'!H:H,SMALL(IF('MEMORIAL DESCRITIVO-BRI'!$E$2:$E$4000=\"Sim\",ROW('MEMORIAL DESCRITIVO-BRI'!$H$2:$H$4000)),ROW(B506))), \"\")","v":""},null,{"$f":"IFERROR(INDEX('MEMORIAL DESCRITIVO-BRI'!S:S,SMALL(IF('MEMORIAL DESCRITIVO-BRI'!$E$2:$E$4000=\"Sim\",ROW('MEMORIAL DESCRITIVO-BRI'!$S$2:$S$4000)),ROW(B506))), \"\")","v":""},{"$f":"IFERROR(INDEX('MEMORIAL DESCRITIVO-BRI'!Z:Z,SMALL(IF('MEMORIAL DESCRITIVO-BRI'!$E$2:$E$4000=\"Sim\",ROW('MEMORIAL DESCRITIVO-BRI'!$Z$2:$Z$4000)),ROW(B506))), \"\")","v":""},{"$f":"IFERROR(INDEX('MEMORIAL DESCRITIVO-BRI'!W:W,SMALL(IF('MEMORIAL DESCRITIVO-BRI'!$E$2:$E$4000=\"Sim\",ROW('MEMORIAL DESCRITIVO-BRI'!$W$2:$W$4000)),ROW(B506))), \"\")","v":""},{"$f":"IFERROR(INDEX('MEMORIAL DESCRITIVO-BRI'!G:G,SMALL(IF('MEMORIAL DESCRITIVO-BRI'!$E$2:$E$4000=\"Sim\",ROW('MEMORIAL DESCRITIVO-BRI'!$G$2:$G$4000)),ROW(B506))), \"\")","v":""},{"$f":"IFERROR(INDEX('MEMORIAL DESCRITIVO-BRI'!P:P,SMALL(IF('MEMORIAL DESCRITIVO-BRI'!$E$2:$E$4000=\"Sim\",ROW('MEMORIAL DESCRITIVO-BRI'!$P$2:$P$4000)),ROW(B506))), \"\")","v":""},{"$f":"IFERROR(INDEX('MEMORIAL DESCRITIVO-BRI'!Q:Q,SMALL(IF('MEMORIAL DESCRITIVO-BRI'!$E$2:$E$4000=\"Sim\",ROW('MEMORIAL DESCRITIVO-BRI'!$Q$2:$Q$4000)),ROW(B506))), \"\")","v":""}]
[null,{"$f":"IFERROR(INDEX('MEMORIAL DESCRITIVO-BRI'!B:B,SMALL(IF('MEMORIAL DESCRITIVO-BRI'!$E$2:$E$4000=\"Sim\",ROW('MEMORIAL DESCRITIVO-BRI'!$B$2:$B$4000)),ROW(B507))), \"\")","v":""},{"$f":"IFERROR(INDEX('MEMORIAL DESCRITIVO-BRI'!I:I,SMALL(IF('MEMORIAL DESCRITIVO-BRI'!$E$2:$E$4000=\"Sim\",ROW('MEMORIAL DESCRITIVO-BRI'!$I$2:$I$4000)),ROW(B507))), \"\")","v":""},{"$f":"IFERROR(INDEX('MEMORIAL DESCRITIVO-BRI'!F:F,SMALL(IF('MEMORIAL DESCRITIVO-BRI'!$E$2:$E$4000=\"Sim\",ROW('MEMORIAL DESCRITIVO-BRI'!$F$2:$F$4000)),ROW(B507))) & \" - \" & INDEX('MEMORIAL DESCRITIVO-BRI'!H:H,SMALL(IF('MEMORIAL DESCRITIVO-BRI'!$E$2:$E$4000=\"Sim\",ROW('MEMORIAL DESCRITIVO-BRI'!$H$2:$H$4000)),ROW(B507))), \"\")","v":""},null,{"$f":"IFERROR(INDEX('MEMORIAL DESCRITIVO-BRI'!S:S,SMALL(IF('MEMORIAL DESCRITIVO-BRI'!$E$2:$E$4000=\"Sim\",ROW('MEMORIAL DESCRITIVO-BRI'!$S$2:$S$4000)),ROW(B507))), \"\")","v":""},{"$f":"IFERROR(INDEX('MEMORIAL DESCRITIVO-BRI'!Z:Z,SMALL(IF('MEMORIAL DESCRITIVO-BRI'!$E$2:$E$4000=\"Sim\",ROW('MEMORIAL DESCRITIVO-BRI'!$Z$2:$Z$4000)),ROW(B507))), \"\")","v":""},{"$f":"IFERROR(INDEX('MEMORIAL DESCRITIVO-BRI'!W:W,SMALL(IF('MEMORIAL DESCRITIVO-BRI'!$E$2:$E$4000=\"Sim\",ROW('MEMORIAL DESCRITIVO-BRI'!$W$2:$W$4000)),ROW(B507))), \"\")","v":""},{"$f":"IFERROR(INDEX('MEMORIAL DESCRITIVO-BRI'!G:G,SMALL(IF('MEMORIAL DESCRITIVO-BRI'!$E$2:$E$4000=\"Sim\",ROW('MEMORIAL DESCRITIVO-BRI'!$G$2:$G$4000)),ROW(B507))), \"\")","v":""},{"$f":"IFERROR(INDEX('MEMORIAL DESCRITIVO-BRI'!P:P,SMALL(IF('MEMORIAL DESCRITIVO-BRI'!$E$2:$E$4000=\"Sim\",ROW('MEMORIAL DESCRITIVO-BRI'!$P$2:$P$4000)),ROW(B507))), \"\")","v":""},{"$f":"IFERROR(INDEX('MEMORIAL DESCRITIVO-BRI'!Q:Q,SMALL(IF('MEMORIAL DESCRITIVO-BRI'!$E$2:$E$4000=\"Sim\",ROW('MEMORIAL DESCRITIVO-BRI'!$Q$2:$Q$4000)),ROW(B507))), \"\")","v":""}]
[null,{"$f":"IFERROR(INDEX('MEMORIAL DESCRITIVO-BRI'!B:B,SMALL(IF('MEMORIAL DESCRITIVO-BRI'!$E$2:$E$4000=\"Sim\",ROW('MEMORIAL DESCRITIVO-BRI'!$B$2:$B$4000)),ROW(B508))), \"\")","v":""},{"$f":"IFERROR(INDEX('MEMORIAL DESCRITIVO-BRI'!I:I,SMALL(IF('MEMORIAL DESCRITIVO-BRI'!$E$2:$E$4000=\"Sim\",ROW('MEMORIAL DESCRITIVO-BRI'!$I$2:$I$4000)),ROW(B508))), \"\")","v":""},{"$f":"IFERROR(INDEX('MEMORIAL DESCRITIVO-BRI'!F:F,SMALL(IF('MEMORIAL DESCRITIVO-BRI'!$E$2:$E$4000=\"Sim\",ROW('MEMORIAL DESCRITIVO-BRI'!$F$2:$F$4000)),ROW(B508))) & \" - \" & INDEX('MEMORIAL DESCRITIVO-BRI'!H:H,SMALL(IF('MEMORIAL DESCRITIVO-BRI'!$E$2:$E$4000=\"Sim\",ROW('MEMORIAL DESCRITIVO-BRI'!$H$2:$H$4000)),ROW(B508))), \"\")","v":""},null,{"$f":"IFERROR(INDEX('MEMORIAL DESCRITIVO-BRI'!S:S,SMALL(IF('MEMORIAL DESCRITIVO-BRI'!$E$2:$E$4000=\"Sim\",ROW('MEMORIAL DESCRITIVO-BRI'!$S$2:$S$4000)),ROW(B508))), \"\")","v":""},{"$f":"IFERROR(INDEX('MEMORIAL DESCRITIVO-BRI'!Z:Z,SMALL(IF('MEMORIAL DESCRITIVO-BRI'!$E$2:$E$4000=\"Sim\",ROW('MEMORIAL DESCRITIVO-BRI'!$Z$2:$Z$4000)),ROW(B508))), \"\")","v":""},{"$f":"IFERROR(INDEX('MEMORIAL DESCRITIVO-BRI'!W:W,SMALL(IF('MEMORIAL DESCRITIVO-BRI'!$E$2:$E$4000=\"Sim\",ROW('MEMORIAL DESCRITIVO-BRI'!$W$2:$W$4000)),ROW(B508))), \"\")","v":""},{"$f":"IFERROR(INDEX('MEMORIAL DESCRITIVO-BRI'!G:G,SMALL(IF('MEMORIAL DESCRITIVO-BRI'!$E$2:$E$4000=\"Sim\",ROW('MEMORIAL DESCRITIVO-BRI'!$G$2:$G$4000)),ROW(B508))), \"\")","v":""},{"$f":"IFERROR(INDEX('MEMORIAL DESCRITIVO-BRI'!P:P,SMALL(IF('MEMORIAL DESCRITIVO-BRI'!$E$2:$E$4000=\"Sim\",ROW('MEMORIAL DESCRITIVO-BRI'!$P$2:$P$4000)),ROW(B508))), \"\")","v":""},{"$f":"IFERROR(INDEX('MEMORIAL DESCRITIVO-BRI'!Q:Q,SMALL(IF('MEMORIAL DESCRITIVO-BRI'!$E$2:$E$4000=\"Sim\",ROW('MEMORIAL DESCRITIVO-BRI'!$Q$2:$Q$4000)),ROW(B508))), \"\")","v":""}]
[null,{"$f":"IFERROR(INDEX('MEMORIAL DESCRITIVO-BRI'!B:B,SMALL(IF('MEMORIAL DESCRITIVO-BRI'!$E$2:$E$4000=\"Sim\",ROW('MEMORIAL DESCRITIVO-BRI'!$B$2:$B$4000)),ROW(B509))), \"\")","v":""},{"$f":"IFERROR(INDEX('MEMORIAL DESCRITIVO-BRI'!I:I,SMALL(IF('MEMORIAL DESCRITIVO-BRI'!$E$2:$E$4000=\"Sim\",ROW('MEMORIAL DESCRITIVO-BRI'!$I$2:$I$4000)),ROW(B509))), \"\")","v":""},{"$f":"IFERROR(INDEX('MEMORIAL DESCRITIVO-BRI'!F:F,SMALL(IF('MEMORIAL DESCRITIVO-BRI'!$E$2:$E$4000=\"Sim\",ROW('MEMORIAL DESCRITIVO-BRI'!$F$2:$F$4000)),ROW(B509))) & \" - \" & INDEX('MEMORIAL DESCRITIVO-BRI'!H:H,SMALL(IF('MEMORIAL DESCRITIVO-BRI'!$E$2:$E$4000=\"Sim\",ROW('MEMORIAL DESCRITIVO-BRI'!$H$2:$H$4000)),ROW(B509))), \"\")","v":""},null,{"$f":"IFERROR(INDEX('MEMORIAL DESCRITIVO-BRI'!S:S,SMALL(IF('MEMORIAL DESCRITIVO-BRI'!$E$2:$E$4000=\"Sim\",ROW('MEMORIAL DESCRITIVO-BRI'!$S$2:$S$4000)),ROW(B509))), \"\")","v":""},{"$f":"IFERROR(INDEX('MEMORIAL DESCRITIVO-BRI'!Z:Z,SMALL(IF('MEMORIAL DESCRITIVO-BRI'!$E$2:$E$4000=\"Sim\",ROW('MEMORIAL DESCRITIVO-BRI'!$Z$2:$Z$4000)),ROW(B509))), \"\")","v":""},{"$f":"IFERROR(INDEX('MEMORIAL DESCRITIVO-BRI'!W:W,SMALL(IF('MEMORIAL DESCRITIVO-BRI'!$E$2:$E$4000=\"Sim\",ROW('MEMORIAL DESCRITIVO-BRI'!$W$2:$W$4000)),ROW(B509))), \"\")","v":""},{"$f":"IFERROR(INDEX('MEMORIAL DESCRITIVO-BRI'!G:G,SMALL(IF('MEMORIAL DESCRITIVO-BRI'!$E$2:$E$4000=\"Sim\",ROW('MEMORIAL DESCRITIVO-BRI'!$G$2:$G$4000)),ROW(B509))), \"\")","v":""},{"$f":"IFERROR(INDEX('MEMORIAL DESCRITIVO-BRI'!P:P,SMALL(IF('MEMORIAL DESCRITIVO-BRI'!$E$2:$E$4000=\"Sim\",ROW('MEMORIAL DESCRITIVO-BRI'!$P$2:$P$4000)),ROW(B509))), \"\")","v":""},{"$f":"IFERROR(INDEX('MEMORIAL DESCRITIVO-BRI'!Q:Q,SMALL(IF('MEMORIAL DESCRITIVO-BRI'!$E$2:$E$4000=\"Sim\",ROW('MEMORIAL DESCRITIVO-BRI'!$Q$2:$Q$4000)),ROW(B509))), \"\")","v":""}]
[null,{"$f":"IFERROR(INDEX('MEMORIAL DESCRITIVO-BRI'!B:B,SMALL(IF('MEMORIAL DESCRITIVO-BRI'!$E$2:$E$4000=\"Sim\",ROW('MEMORIAL DESCRITIVO-BRI'!$B$2:$B$4000)),ROW(B510))), \"\")","v":""},{"$f":"IFERROR(INDEX('MEMORIAL DESCRITIVO-BRI'!I:I,SMALL(IF('MEMORIAL DESCRITIVO-BRI'!$E$2:$E$4000=\"Sim\",ROW('MEMORIAL DESCRITIVO-BRI'!$I$2:$I$4000)),ROW(B510))), \"\")","v":""},{"$f":"IFERROR(INDEX('MEMORIAL DESCRITIVO-BRI'!F:F,SMALL(IF('MEMORIAL DESCRITIVO-BRI'!$E$2:$E$4000=\"Sim\",ROW('MEMORIAL DESCRITIVO-BRI'!$F$2:$F$4000)),ROW(B510))) & \" - \" & INDEX('MEMORIAL DESCRITIVO-BRI'!H:H,SMALL(IF('MEMORIAL DESCRITIVO-BRI'!$E$2:$E$4000=\"Sim\",ROW('MEMORIAL DESCRITIVO-BRI'!$H$2:$H$4000)),ROW(B510))), \"\")","v":""},null,{"$f":"IFERROR(INDEX('MEMORIAL DESCRITIVO-BRI'!S:S,SMALL(IF('MEMORIAL DESCRITIVO-BRI'!$E$2:$E$4000=\"Sim\",ROW('MEMORIAL DESCRITIVO-BRI'!$S$2:$S$4000)),ROW(B510))), \"\")","v":""},{"$f":"IFERROR(INDEX('MEMORIAL DESCRITIVO-BRI'!Z:Z,SMALL(IF('MEMORIAL DESCRITIVO-BRI'!$E$2:$E$4000=\"Sim\",ROW('MEMORIAL DESCRITIVO-BRI'!$Z$2:$Z$4000)),ROW(B510))), \"\")","v":""},{"$f":"IFERROR(INDEX('MEMORIAL DESCRITIVO-BRI'!W:W,SMALL(IF('MEMORIAL DESCRITIVO-BRI'!$E$2:$E$4000=\"Sim\",ROW('MEMORIAL DESCRITIVO-BRI'!$W$2:$W$4000)),ROW(B510))), \"\")","v":""},{"$f":"IFERROR(INDEX('MEMORIAL DESCRITIVO-BRI'!G:G,SMALL(IF('MEMORIAL DESCRITIVO-BRI'!$E$2:$E$4000=\"Sim\",ROW('MEMORIAL DESCRITIVO-BRI'!$G$2:$G$4000)),ROW(B510))), \"\")","v":""},{"$f":"IFERROR(INDEX('MEMORIAL DESCRITIVO-BRI'!P:P,SMALL(IF('MEMORIAL DESCRITIVO-BRI'!$E$2:$E$4000=\"Sim\",ROW('MEMORIAL DESCRITIVO-BRI'!$P$2:$P$4000)),ROW(B510))), \"\")","v":""},{"$f":"IFERROR(INDEX('MEMORIAL DESCRITIVO-BRI'!Q:Q,SMALL(IF('MEMORIAL DESCRITIVO-BRI'!$E$2:$E$4000=\"Sim\",ROW('MEMORIAL DESCRITIVO-BRI'!$Q$2:$Q$4000)),ROW(B510))), \"\")","v":""}]
[null,{"$f":"IFERROR(INDEX('MEMORIAL DESCRITIVO-BRI'!B:B,SMALL(IF('MEMORIAL DESCRITIVO-BRI'!$E$2:$E$4000=\"Sim\",ROW('MEMORIAL DESCRITIVO-BRI'!$B$2:$B$4000)),ROW(B511))), \"\")","v":""},{"$f":"IFERROR(INDEX('MEMORIAL DESCRITIVO-BRI'!I:I,SMALL(IF('MEMORIAL DESCRITIVO-BRI'!$E$2:$E$4000=\"Sim\",ROW('MEMORIAL DESCRITIVO-BRI'!$I$2:$I$4000)),ROW(B511))), \"\")","v":""},{"$f":"IFERROR(INDEX('MEMORIAL DESCRITIVO-BRI'!F:F,SMALL(IF('MEMORIAL DESCRITIVO-BRI'!$E$2:$E$4000=\"Sim\",ROW('MEMORIAL DESCRITIVO-BRI'!$F$2:$F$4000)),ROW(B511))) & \" - \" & INDEX('MEMORIAL DESCRITIVO-BRI'!H:H,SMALL(IF('MEMORIAL DESCRITIVO-BRI'!$E$2:$E$4000=\"Sim\",ROW('MEMORIAL DESCRITIVO-BRI'!$H$2:$H$4000)),ROW(B511))), \"\")","v":""},null,{"$f":"IFERROR(INDEX('MEMORIAL DESCRITIVO-BRI'!S:S,SMALL(IF('MEMORIAL DESCRITIVO-BRI'!$E$2:$E$4000=\"Sim\",ROW('MEMORIAL DESCRITIVO-BRI'!$S$2:$S$4000)),ROW(B511))), \"\")","v":""},{"$f":"IFERROR(INDEX('MEMORIAL DESCRITIVO-BRI'!Z:Z,SMALL(IF('MEMORIAL DESCRITIVO-BRI'!$E$2:$E$4000=\"Sim\",ROW('MEMORIAL DESCRITIVO-BRI'!$Z$2:$Z$4000)),ROW(B511))), \"\")","v":""},{"$f":"IFERROR(INDEX('MEMORIAL DESCRITIVO-BRI'!W:W,SMALL(IF('MEMORIAL DESCRITIVO-BRI'!$E$2:$E$4000=\"Sim\",ROW('MEMORIAL DESCRITIVO-BRI'!$W$2:$W$4000)),ROW(B511))), \"\")","v":""},{"$f":"IFERROR(INDEX('MEMORIAL DESCRITIVO-BRI'!G:G,SMALL(IF('MEMORIAL DESCRITIVO-BRI'!$E$2:$E$4000=\"Sim\",ROW('MEMORIAL DESCRITIVO-BRI'!$G$2:$G$4000)),ROW(B511))), \"\")","v":""},{"$f":"IFERROR(INDEX('MEMORIAL DESCRITIVO-BRI'!P:P,SMALL(IF('MEMORIAL DESCRITIVO-BRI'!$E$2:$E$4000=\"Sim\",ROW('MEMORIAL DESCRITIVO-BRI'!$P$2:$P$4000)),ROW(B511))), \"\")","v":""},{"$f":"IFERROR(INDEX('MEMORIAL DESCRITIVO-BRI'!Q:Q,SMALL(IF('MEMORIAL DESCRITIVO-BRI'!$E$2:$E$4000=\"Sim\",ROW('MEMORIAL DESCRITIVO-BRI'!$Q$2:$Q$4000)),ROW(B511))), \"\")","v":""}]
[null,{"$f":"IFERROR(INDEX('MEMORIAL DESCRITIVO-BRI'!B:B,SMALL(IF('MEMORIAL DESCRITIVO-BRI'!$E$2:$E$4000=\"Sim\",ROW('MEMORIAL DESCRITIVO-BRI'!$B$2:$B$4000)),ROW(B512))), \"\")","v":""},{"$f":"IFERROR(INDEX('MEMORIAL DESCRITIVO-BRI'!I:I,SMALL(IF('MEMORIAL DESCRITIVO-BRI'!$E$2:$E$4000=\"Sim\",ROW('MEMORIAL DESCRITIVO-BRI'!$I$2:$I$4000)),ROW(B512))), \"\")","v":""},{"$f":"IFERROR(INDEX('MEMORIAL DESCRITIVO-BRI'!F:F,SMALL(IF('MEMORIAL DESCRITIVO-BRI'!$E$2:$E$4000=\"Sim\",ROW('MEMORIAL DESCRITIVO-BRI'!$F$2:$F$4000)),ROW(B512))) & \" - \" & INDEX('MEMORIAL DESCRITIVO-BRI'!H:H,SMALL(IF('MEMORIAL DESCRITIVO-BRI'!$E$2:$E$4000=\"Sim\",ROW('MEMORIAL DESCRITIVO-BRI'!$H$2:$H$4000)),ROW(B512))), \"\")","v":""},null,{"$f":"IFERROR(INDEX('MEMORIAL DESCRITIVO-BRI'!S:S,SMALL(IF('MEMORIAL DESCRITIVO-BRI'!$E$2:$E$4000=\"Sim\",ROW('MEMORIAL DESCRITIVO-BRI'!$S$2:$S$4000)),ROW(B512))), \"\")","v":""},{"$f":"IFERROR(INDEX('MEMORIAL DESCRITIVO-BRI'!Z:Z,SMALL(IF('MEMORIAL DESCRITIVO-BRI'!$E$2:$E$4000=\"Sim\",ROW('MEMORIAL DESCRITIVO-BRI'!$Z$2:$Z$4000)),ROW(B512))), \"\")","v":""},{"$f":"IFERROR(INDEX('MEMORIAL DESCRITIVO-BRI'!W:W,SMALL(IF('MEMORIAL DESCRITIVO-BRI'!$E$2:$E$4000=\"Sim\",ROW('MEMORIAL DESCRITIVO-BRI'!$W$2:$W$4000)),ROW(B512))), \"\")","v":""},{"$f":"IFERROR(INDEX('MEMORIAL DESCRITIVO-BRI'!G:G,SMALL(IF('MEMORIAL DESCRITIVO-BRI'!$E$2:$E$4000=\"Sim\",ROW('MEMORIAL DESCRITIVO-BRI'!$G$2:$G$4000)),ROW(B512))), \"\")","v":""},{"$f":"IFERROR(INDEX('MEMORIAL DESCRITIVO-BRI'!P:P,SMALL(IF('MEMORIAL DESCRITIVO-BRI'!$E$2:$E$4000=\"Sim\",ROW('MEMORIAL DESCRITIVO-BRI'!$P$2:$P$4000)),ROW(B512))), \"\")","v":""},{"$f":"IFERROR(INDEX('MEMORIAL DESCRITIVO-BRI'!Q:Q,SMALL(IF('MEMORIAL DESCRITIVO-BRI'!$E$2:$E$4000=\"Sim\",ROW('MEMORIAL DESCRITIVO-BRI'!$Q$2:$Q$4000)),ROW(B512))), \"\")","v":""}]
[null,{"$f":"IFERROR(INDEX('MEMORIAL DESCRITIVO-BRI'!B:B,SMALL(IF('MEMORIAL DESCRITIVO-BRI'!$E$2:$E$4000=\"Sim\",ROW('MEMORIAL DESCRITIVO-BRI'!$B$2:$B$4000)),ROW(B513))), \"\")","v":""},{"$f":"IFERROR(INDEX('MEMORIAL DESCRITIVO-BRI'!I:I,SMALL(IF('MEMORIAL DESCRITIVO-BRI'!$E$2:$E$4000=\"Sim\",ROW('MEMORIAL DESCRITIVO-BRI'!$I$2:$I$4000)),ROW(B513))), \"\")","v":""},{"$f":"IFERROR(INDEX('MEMORIAL DESCRITIVO-BRI'!F:F,SMALL(IF('MEMORIAL DESCRITIVO-BRI'!$E$2:$E$4000=\"Sim\",ROW('MEMORIAL DESCRITIVO-BRI'!$F$2:$F$4000)),ROW(B513))) & \" - \" & INDEX('MEMORIAL DESCRITIVO-BRI'!H:H,SMALL(IF('MEMORIAL DESCRITIVO-BRI'!$E$2:$E$4000=\"Sim\",ROW('MEMORIAL DESCRITIVO-BRI'!$H$2:$H$4000)),ROW(B513))), \"\")","v":""},null,{"$f":"IFERROR(INDEX('MEMORIAL DESCRITIVO-BRI'!S:S,SMALL(IF('MEMORIAL DESCRITIVO-BRI'!$E$2:$E$4000=\"Sim\",ROW('MEMORIAL DESCRITIVO-BRI'!$S$2:$S$4000)),ROW(B513))), \"\")","v":""},{"$f":"IFERROR(INDEX('MEMORIAL DESCRITIVO-BRI'!Z:Z,SMALL(IF('MEMORIAL DESCRITIVO-BRI'!$E$2:$E$4000=\"Sim\",ROW('MEMORIAL DESCRITIVO-BRI'!$Z$2:$Z$4000)),ROW(B513))), \"\")","v":""},{"$f":"IFERROR(INDEX('MEMORIAL DESCRITIVO-BRI'!W:W,SMALL(IF('MEMORIAL DESCRITIVO-BRI'!$E$2:$E$4000=\"Sim\",ROW('MEMORIAL DESCRITIVO-BRI'!$W$2:$W$4000)),ROW(B513))), \"\")","v":""},{"$f":"IFERROR(INDEX('MEMORIAL DESCRITIVO-BRI'!G:G,SMALL(IF('MEMORIAL DESCRITIVO-BRI'!$E$2:$E$4000=\"Sim\",ROW('MEMORIAL DESCRITIVO-BRI'!$G$2:$G$4000)),ROW(B513))), \"\")","v":""},{"$f":"IFERROR(INDEX('MEMORIAL DESCRITIVO-BRI'!P:P,SMALL(IF('MEMORIAL DESCRITIVO-BRI'!$E$2:$E$4000=\"Sim\",ROW('MEMORIAL DESCRITIVO-BRI'!$P$2:$P$4000)),ROW(B513))), \"\")","v":""},{"$f":"IFERROR(INDEX('MEMORIAL DESCRITIVO-BRI'!Q:Q,SMALL(IF('MEMORIAL DESCRITIVO-BRI'!$E$2:$E$4000=\"Sim\",ROW('MEMORIAL DESCRITIVO-BRI'!$Q$2:$Q$4000)),ROW(B513))), \"\")","v":""}]
[null,{"$f":"IFERROR(INDEX('MEMORIAL DESCRITIVO-BRI'!B:B,SMALL(IF('MEMORIAL DESCRITIVO-BRI'!$E$2:$E$4000=\"Sim\",ROW('MEMORIAL DESCRITIVO-BRI'!$B$2:$B$4000)),ROW(B514))), \"\")","v":""},{"$f":"IFERROR(INDEX('MEMORIAL DESCRITIVO-BRI'!I:I,SMALL(IF('MEMORIAL DESCRITIVO-BRI'!$E$2:$E$4000=\"Sim\",ROW('MEMORIAL DESCRITIVO-BRI'!$I$2:$I$4000)),ROW(B514))), \"\")","v":""},{"$f":"IFERROR(INDEX('MEMORIAL DESCRITIVO-BRI'!F:F,SMALL(IF('MEMORIAL DESCRITIVO-BRI'!$E$2:$E$4000=\"Sim\",ROW('MEMORIAL DESCRITIVO-BRI'!$F$2:$F$4000)),ROW(B514))) & \" - \" & INDEX('MEMORIAL DESCRITIVO-BRI'!H:H,SMALL(IF('MEMORIAL DESCRITIVO-BRI'!$E$2:$E$4000=\"Sim\",ROW('MEMORIAL DESCRITIVO-BRI'!$H$2:$H$4000)),ROW(B514))), \"\")","v":""},null,{"$f":"IFERROR(INDEX('MEMORIAL DESCRITIVO-BRI'!S:S,SMALL(IF('MEMORIAL DESCRITIVO-BRI'!$E$2:$E$4000=\"Sim\",ROW('MEMORIAL DESCRITIVO-BRI'!$S$2:$S$4000)),ROW(B514))), \"\")","v":""},{"$f":"IFERROR(INDEX('MEMORIAL DESCRITIVO-BRI'!Z:Z,SMALL(IF('MEMORIAL DESCRITIVO-BRI'!$E$2:$E$4000=\"Sim\",ROW('MEMORIAL DESCRITIVO-BRI'!$Z$2:$Z$4000)),ROW(B514))), \"\")","v":""},{"$f":"IFERROR(INDEX('MEMORIAL DESCRITIVO-BRI'!W:W,SMALL(IF('MEMORIAL DESCRITIVO-BRI'!$E$2:$E$4000=\"Sim\",ROW('MEMORIAL DESCRITIVO-BRI'!$W$2:$W$4000)),ROW(B514))), \"\")","v":""},{"$f":"IFERROR(INDEX('MEMORIAL DESCRITIVO-BRI'!G:G,SMALL(IF('MEMORIAL DESCRITIVO-BRI'!$E$2:$E$4000=\"Sim\",ROW('MEMORIAL DESCRITIVO-BRI'!$G$2:$G$4000)),ROW(B514))), \"\")","v":""},{"$f":"IFERROR(INDEX('MEMORIAL DESCRITIVO-BRI'!P:P,SMALL(IF('MEMORIAL DESCRITIVO-BRI'!$E$2:$E$4000=\"Sim\",ROW('MEMORIAL DESCRITIVO-BRI'!$P$2:$P$4000)),ROW(B514))), \"\")","v":""},{"$f":"IFERROR(INDEX('MEMORIAL DESCRITIVO-BRI'!Q:Q,SMALL(IF('MEMORIAL DESCRITIVO-BRI'!$E$2:$E$4000=\"Sim\",ROW('MEMORIAL DESCRITIVO-BRI'!$Q$2:$Q$4000)),ROW(B514))), \"\")","v":""}]
[null,{"$f":"IFERROR(INDEX('MEMORIAL DESCRITIVO-BRI'!B:B,SMALL(IF('MEMORIAL DESCRITIVO-BRI'!$E$2:$E$4000=\"Sim\",ROW('MEMORIAL DESCRITIVO-BRI'!$B$2:$B$4000)),ROW(B515))), \"\")","v":""},{"$f":"IFERROR(INDEX('MEMORIAL DESCRITIVO-BRI'!I:I,SMALL(IF('MEMORIAL DESCRITIVO-BRI'!$E$2:$E$4000=\"Sim\",ROW('MEMORIAL DESCRITIVO-BRI'!$I$2:$I$4000)),ROW(B515))), \"\")","v":""},{"$f":"IFERROR(INDEX('MEMORIAL DESCRITIVO-BRI'!F:F,SMALL(IF('MEMORIAL DESCRITIVO-BRI'!$E$2:$E$4000=\"Sim\",ROW('MEMORIAL DESCRITIVO-BRI'!$F$2:$F$4000)),ROW(B515))) & \" - \" & INDEX('MEMORIAL DESCRITIVO-BRI'!H:H,SMALL(IF('MEMORIAL DESCRITIVO-BRI'!$E$2:$E$4000=\"Sim\",ROW('MEMORIAL DESCRITIVO-BRI'!$H$2:$H$4000)),ROW(B515))), \"\")","v":""},null,{"$f":"IFERROR(INDEX('MEMORIAL DESCRITIVO-BRI'!S:S,SMALL(IF('MEMORIAL DESCRITIVO-BRI'!$E$2:$E$4000=\"Sim\",ROW('MEMORIAL DESCRITIVO-BRI'!$S$2:$S$4000)),ROW(B515))), \"\")","v":""},{"$f":"IFERROR(INDEX('MEMORIAL DESCRITIVO-BRI'!Z:Z,SMALL(IF('MEMORIAL DESCRITIVO-BRI'!$E$2:$E$4000=\"Sim\",ROW('MEMORIAL DESCRITIVO-BRI'!$Z$2:$Z$4000)),ROW(B515))), \"\")","v":""},{"$f":"IFERROR(INDEX('MEMORIAL DESCRITIVO-BRI'!W:W,SMALL(IF('MEMORIAL DESCRITIVO-BRI'!$E$2:$E$4000=\"Sim\",ROW('MEMORIAL DESCRITIVO-BRI'!$W$2:$W$4000)),ROW(B515))), \"\")","v":""},{"$f":"IFERROR(INDEX('MEMORIAL DESCRITIVO-BRI'!G:G,SMALL(IF('MEMORIAL DESCRITIVO-BRI'!$E$2:$E$4000=\"Sim\",ROW('MEMORIAL DESCRITIVO-BRI'!$G$2:$G$4000)),ROW(B515))), \"\")","v":""},{"$f":"IFERROR(INDEX('MEMORIAL DESCRITIVO-BRI'!P:P,SMALL(IF('MEMORIAL DESCRITIVO-BRI'!$E$2:$E$4000=\"Sim\",ROW('MEMORIAL DESCRITIVO-BRI'!$P$2:$P$4000)),ROW(B515))), \"\")","v":""},{"$f":"IFERROR(INDEX('MEMORIAL DESCRITIVO-BRI'!Q:Q,SMALL(IF('MEMORIAL DESCRITIVO-BRI'!$E$2:$E$4000=\"Sim\",ROW('MEMORIAL DESCRITIVO-BRI'!$Q$2:$Q$4000)),ROW(B515))), \"\")","v":""}]
[null,{"$f":"IFERROR(INDEX('MEMORIAL DESCRITIVO-BRI'!B:B,SMALL(IF('MEMORIAL DESCRITIVO-BRI'!$E$2:$E$4000=\"Sim\",ROW('MEMORIAL DESCRITIVO-BRI'!$B$2:$B$4000)),ROW(B516))), \"\")","v":""},{"$f":"IFERROR(INDEX('MEMORIAL DESCRITIVO-BRI'!I:I,SMALL(IF('MEMORIAL DESCRITIVO-BRI'!$E$2:$E$4000=\"Sim\",ROW('MEMORIAL DESCRITIVO-BRI'!$I$2:$I$4000)),ROW(B516))), \"\")","v":""},{"$f":"IFERROR(INDEX('MEMORIAL DESCRITIVO-BRI'!F:F,SMALL(IF('MEMORIAL DESCRITIVO-BRI'!$E$2:$E$4000=\"Sim\",ROW('MEMORIAL DESCRITIVO-BRI'!$F$2:$F$4000)),ROW(B516))) & \" - \" & INDEX('MEMORIAL DESCRITIVO-BRI'!H:H,SMALL(IF('MEMORIAL DESCRITIVO-BRI'!$E$2:$E$4000=\"Sim\",ROW('MEMORIAL DESCRITIVO-BRI'!$H$2:$H$4000)),ROW(B516))), \"\")","v":""},null,{"$f":"IFERROR(INDEX('MEMORIAL DESCRITIVO-BRI'!S:S,SMALL(IF('MEMORIAL DESCRITIVO-BRI'!$E$2:$E$4000=\"Sim\",ROW('MEMORIAL DESCRITIVO-BRI'!$S$2:$S$4000)),ROW(B516))), \"\")","v":""},{"$f":"IFERROR(INDEX('MEMORIAL DESCRITIVO-BRI'!Z:Z,SMALL(IF('MEMORIAL DESCRITIVO-BRI'!$E$2:$E$4000=\"Sim\",ROW('MEMORIAL DESCRITIVO-BRI'!$Z$2:$Z$4000)),ROW(B516))), \"\")","v":""},{"$f":"IFERROR(INDEX('MEMORIAL DESCRITIVO-BRI'!W:W,SMALL(IF('MEMORIAL DESCRITIVO-BRI'!$E$2:$E$4000=\"Sim\",ROW('MEMORIAL DESCRITIVO-BRI'!$W$2:$W$4000)),ROW(B516))), \"\")","v":""},{"$f":"IFERROR(INDEX('MEMORIAL DESCRITIVO-BRI'!G:G,SMALL(IF('MEMORIAL DESCRITIVO-BRI'!$E$2:$E$4000=\"Sim\",ROW('MEMORIAL DESCRITIVO-BRI'!$G$2:$G$4000)),ROW(B516))), \"\")","v":""},{"$f":"IFERROR(INDEX('MEMORIAL DESCRITIVO-BRI'!P:P,SMALL(IF('MEMORIAL DESCRITIVO-BRI'!$E$2:$E$4000=\"Sim\",ROW('MEMORIAL DESCRITIVO-BRI'!$P$2:$P$4000)),ROW(B516))), \"\")","v":""},{"$f":"IFERROR(INDEX('MEMORIAL DESCRITIVO-BRI'!Q:Q,SMALL(IF('MEMORIAL DESCRITIVO-BRI'!$E$2:$E$4000=\"Sim\",ROW('MEMORIAL DESCRITIVO-BRI'!$Q$2:$Q$4000)),ROW(B516))), \"\")","v":""}]
[null,{"$f":"IFERROR(INDEX('MEMORIAL DESCRITIVO-BRI'!B:B,SMALL(IF('MEMORIAL DESCRITIVO-BRI'!$E$2:$E$4000=\"Sim\",ROW('MEMORIAL DESCRITIVO-BRI'!$B$2:$B$4000)),ROW(B517))), \"\")","v":""},{"$f":"IFERROR(INDEX('MEMORIAL DESCRITIVO-BRI'!I:I,SMALL(IF('MEMORIAL DESCRITIVO-BRI'!$E$2:$E$4000=\"Sim\",ROW('MEMORIAL DESCRITIVO-BRI'!$I$2:$I$4000)),ROW(B517))), \"\")","v":""},{"$f":"IFERROR(INDEX('MEMORIAL DESCRITIVO-BRI'!F:F,SMALL(IF('MEMORIAL DESCRITIVO-BRI'!$E$2:$E$4000=\"Sim\",ROW('MEMORIAL DESCRITIVO-BRI'!$F$2:$F$4000)),ROW(B517))) & \" - \" & INDEX('MEMORIAL DESCRITIVO-BRI'!H:H,SMALL(IF('MEMORIAL DESCRITIVO-BRI'!$E$2:$E$4000=\"Sim\",ROW('MEMORIAL DESCRITIVO-BRI'!$H$2:$H$4000)),ROW(B517))), \"\")","v":""},null,{"$f":"IFERROR(INDEX('MEMORIAL DESCRITIVO-BRI'!S:S,SMALL(IF('MEMORIAL DESCRITIVO-BRI'!$E$2:$E$4000=\"Sim\",ROW('MEMORIAL DESCRITIVO-BRI'!$S$2:$S$4000)),ROW(B517))), \"\")","v":""},{"$f":"IFERROR(INDEX('MEMORIAL DESCRITIVO-BRI'!Z:Z,SMALL(IF('MEMORIAL DESCRITIVO-BRI'!$E$2:$E$4000=\"Sim\",ROW('MEMORIAL DESCRITIVO-BRI'!$Z$2:$Z$4000)),ROW(B517))), \"\")","v":""},{"$f":"IFERROR(INDEX('MEMORIAL DESCRITIVO-BRI'!W:W,SMALL(IF('MEMORIAL DESCRITIVO-BRI'!$E$2:$E$4000=\"Sim\",ROW('MEMORIAL DESCRITIVO-BRI'!$W$2:$W$4000)),ROW(B517))), \"\")","v":""},{"$f":"IFERROR(INDEX('MEMORIAL DESCRITIVO-BRI'!G:G,SMALL(IF('MEMORIAL DESCRITIVO-BRI'!$E$2:$E$4000=\"Sim\",ROW('MEMORIAL DESCRITIVO-BRI'!$G$2:$G$4000)),ROW(B517))), \"\")","v":""},{"$f":"IFERROR(INDEX('MEMORIAL DESCRITIVO-BRI'!P:P,SMALL(IF('MEMORIAL DESCRITIVO-BRI'!$E$2:$E$4000=\"Sim\",ROW('MEMORIAL DESCRITIVO-BRI'!$P$2:$P$4000)),ROW(B517))), \"\")","v":""},{"$f":"IFERROR(INDEX('MEMORIAL DESCRITIVO-BRI'!Q:Q,SMALL(IF('MEMORIAL DESCRITIVO-BRI'!$E$2:$E$4000=\"Sim\",ROW('MEMORIAL DESCRITIVO-BRI'!$Q$2:$Q$4000)),ROW(B517))), \"\")","v":""}]
[null,{"$f":"IFERROR(INDEX('MEMORIAL DESCRITIVO-BRI'!B:B,SMALL(IF('MEMORIAL DESCRITIVO-BRI'!$E$2:$E$4000=\"Sim\",ROW('MEMORIAL DESCRITIVO-BRI'!$B$2:$B$4000)),ROW(B518))), \"\")","v":""},{"$f":"IFERROR(INDEX('MEMORIAL DESCRITIVO-BRI'!I:I,SMALL(IF('MEMORIAL DESCRITIVO-BRI'!$E$2:$E$4000=\"Sim\",ROW('MEMORIAL DESCRITIVO-BRI'!$I$2:$I$4000)),ROW(B518))), \"\")","v":""},{"$f":"IFERROR(INDEX('MEMORIAL DESCRITIVO-BRI'!F:F,SMALL(IF('MEMORIAL DESCRITIVO-BRI'!$E$2:$E$4000=\"Sim\",ROW('MEMORIAL DESCRITIVO-BRI'!$F$2:$F$4000)),ROW(B518))) & \" - \" & INDEX('MEMORIAL DESCRITIVO-BRI'!H:H,SMALL(IF('MEMORIAL DESCRITIVO-BRI'!$E$2:$E$4000=\"Sim\",ROW('MEMORIAL DESCRITIVO-BRI'!$H$2:$H$4000)),ROW(B518))), \"\")","v":""},null,{"$f":"IFERROR(INDEX('MEMORIAL DESCRITIVO-BRI'!S:S,SMALL(IF('MEMORIAL DESCRITIVO-BRI'!$E$2:$E$4000=\"Sim\",ROW('MEMORIAL DESCRITIVO-BRI'!$S$2:$S$4000)),ROW(B518))), \"\")","v":""},{"$f":"IFERROR(INDEX('MEMORIAL DESCRITIVO-BRI'!Z:Z,SMALL(IF('MEMORIAL DESCRITIVO-BRI'!$E$2:$E$4000=\"Sim\",ROW('MEMORIAL DESCRITIVO-BRI'!$Z$2:$Z$4000)),ROW(B518))), \"\")","v":""},{"$f":"IFERROR(INDEX('MEMORIAL DESCRITIVO-BRI'!W:W,SMALL(IF('MEMORIAL DESCRITIVO-BRI'!$E$2:$E$4000=\"Sim\",ROW('MEMORIAL DESCRITIVO-BRI'!$W$2:$W$4000)),ROW(B518))), \"\")","v":""},{"$f":"IFERROR(INDEX('MEMORIAL DESCRITIVO-BRI'!G:G,SMALL(IF('MEMORIAL DESCRITIVO-BRI'!$E$2:$E$4000=\"Sim\",ROW('MEMORIAL DESCRITIVO-BRI'!$G$2:$G$4000)),ROW(B518))), \"\")","v":""},{"$f":"IFERROR(INDEX('MEMORIAL DESCRITIVO-BRI'!P:P,SMALL(IF('MEMORIAL DESCRITIVO-BRI'!$E$2:$E$4000=\"Sim\",ROW('MEMORIAL DESCRITIVO-BRI'!$P$2:$P$4000)),ROW(B518))), \"\")","v":""},{"$f":"IFERROR(INDEX('MEMORIAL DESCRITIVO-BRI'!Q:Q,SMALL(IF('MEMORIAL DESCRITIVO-BRI'!$E$2:$E$4000=\"Sim\",ROW('MEMORIAL DESCRITIVO-BRI'!$Q$2:$Q$4000)),ROW(B518))), \"\")","v":""}]
[null,{"$f":"IFERROR(INDEX('MEMORIAL DESCRITIVO-BRI'!B:B,SMALL(IF('MEMORIAL DESCRITIVO-BRI'!$E$2:$E$4000=\"Sim\",ROW('MEMORIAL DESCRITIVO-BRI'!$B$2:$B$4000)),ROW(B519))), \"\")","v":""},{"$f":"IFERROR(INDEX('MEMORIAL DESCRITIVO-BRI'!I:I,SMALL(IF('MEMORIAL DESCRITIVO-BRI'!$E$2:$E$4000=\"Sim\",ROW('MEMORIAL DESCRITIVO-BRI'!$I$2:$I$4000)),ROW(B519))), \"\")","v":""},{"$f":"IFERROR(INDEX('MEMORIAL DESCRITIVO-BRI'!F:F,SMALL(IF('MEMORIAL DESCRITIVO-BRI'!$E$2:$E$4000=\"Sim\",ROW('MEMORIAL DESCRITIVO-BRI'!$F$2:$F$4000)),ROW(B519))) & \" - \" & INDEX('MEMORIAL DESCRITIVO-BRI'!H:H,SMALL(IF('MEMORIAL DESCRITIVO-BRI'!$E$2:$E$4000=\"Sim\",ROW('MEMORIAL DESCRITIVO-BRI'!$H$2:$H$4000)),ROW(B519))), \"\")","v":""},null,{"$f":"IFERROR(INDEX('MEMORIAL DESCRITIVO-BRI'!S:S,SMALL(IF('MEMORIAL DESCRITIVO-BRI'!$E$2:$E$4000=\"Sim\",ROW('MEMORIAL DESCRITIVO-BRI'!$S$2:$S$4000)),ROW(B519))), \"\")","v":""},{"$f":"IFERROR(INDEX('MEMORIAL DESCRITIVO-BRI'!Z:Z,SMALL(IF('MEMORIAL DESCRITIVO-BRI'!$E$2:$E$4000=\"Sim\",ROW('MEMORIAL DESCRITIVO-BRI'!$Z$2:$Z$4000)),ROW(B519))), \"\")","v":""},{"$f":"IFERROR(INDEX('MEMORIAL DESCRITIVO-BRI'!W:W,SMALL(IF('MEMORIAL DESCRITIVO-BRI'!$E$2:$E$4000=\"Sim\",ROW('MEMORIAL DESCRITIVO-BRI'!$W$2:$W$4000)),ROW(B519))), \"\")","v":""},{"$f":"IFERROR(INDEX('MEMORIAL DESCRITIVO-BRI'!G:G,SMALL(IF('MEMORIAL DESCRITIVO-BRI'!$E$2:$E$4000=\"Sim\",ROW('MEMORIAL DESCRITIVO-BRI'!$G$2:$G$4000)),ROW(B519))), \"\")","v":""},{"$f":"IFERROR(INDEX('MEMORIAL DESCRITIVO-BRI'!P:P,SMALL(IF('MEMORIAL DESCRITIVO-BRI'!$E$2:$E$4000=\"Sim\",ROW('MEMORIAL DESCRITIVO-BRI'!$P$2:$P$4000)),ROW(B519))), \"\")","v":""},{"$f":"IFERROR(INDEX('MEMORIAL DESCRITIVO-BRI'!Q:Q,SMALL(IF('MEMORIAL DESCRITIVO-BRI'!$E$2:$E$4000=\"Sim\",ROW('MEMORIAL DESCRITIVO-BRI'!$Q$2:$Q$4000)),ROW(B519))), \"\")","v":""}]
[null,{"$f":"IFERROR(INDEX('MEMORIAL DESCRITIVO-BRI'!B:B,SMALL(IF('MEMORIAL DESCRITIVO-BRI'!$E$2:$E$4000=\"Sim\",ROW('MEMORIAL DESCRITIVO-BRI'!$B$2:$B$4000)),ROW(B520))), \"\")","v":""},{"$f":"IFERROR(INDEX('MEMORIAL DESCRITIVO-BRI'!I:I,SMALL(IF('MEMORIAL DESCRITIVO-BRI'!$E$2:$E$4000=\"Sim\",ROW('MEMORIAL DESCRITIVO-BRI'!$I$2:$I$4000)),ROW(B520))), \"\")","v":""},{"$f":"IFERROR(INDEX('MEMORIAL DESCRITIVO-BRI'!F:F,SMALL(IF('MEMORIAL DESCRITIVO-BRI'!$E$2:$E$4000=\"Sim\",ROW('MEMORIAL DESCRITIVO-BRI'!$F$2:$F$4000)),ROW(B520))) & \" - \" & INDEX('MEMORIAL DESCRITIVO-BRI'!H:H,SMALL(IF('MEMORIAL DESCRITIVO-BRI'!$E$2:$E$4000=\"Sim\",ROW('MEMORIAL DESCRITIVO-BRI'!$H$2:$H$4000)),ROW(B520))), \"\")","v":""},null,{"$f":"IFERROR(INDEX('MEMORIAL DESCRITIVO-BRI'!S:S,SMALL(IF('MEMORIAL DESCRITIVO-BRI'!$E$2:$E$4000=\"Sim\",ROW('MEMORIAL DESCRITIVO-BRI'!$S$2:$S$4000)),ROW(B520))), \"\")","v":""},{"$f":"IFERROR(INDEX('MEMORIAL DESCRITIVO-BRI'!Z:Z,SMALL(IF('MEMORIAL DESCRITIVO-BRI'!$E$2:$E$4000=\"Sim\",ROW('MEMORIAL DESCRITIVO-BRI'!$Z$2:$Z$4000)),ROW(B520))), \"\")","v":""},{"$f":"IFERROR(INDEX('MEMORIAL DESCRITIVO-BRI'!W:W,SMALL(IF('MEMORIAL DESCRITIVO-BRI'!$E$2:$E$4000=\"Sim\",ROW('MEMORIAL DESCRITIVO-BRI'!$W$2:$W$4000)),ROW(B520))), \"\")","v":""},{"$f":"IFERROR(INDEX('MEMORIAL DESCRITIVO-BRI'!G:G,SMALL(IF('MEMORIAL DESCRITIVO-BRI'!$E$2:$E$4000=\"Sim\",ROW('MEMORIAL DESCRITIVO-BRI'!$G$2:$G$4000)),ROW(B520))), \"\")","v":""},{"$f":"IFERROR(INDEX('MEMORIAL DESCRITIVO-BRI'!P:P,SMALL(IF('MEMORIAL DESCRITIVO-BRI'!$E$2:$E$4000=\"Sim\",ROW('MEMORIAL DESCRITIVO-BRI'!$P$2:$P$4000)),ROW(B520))), \"\")","v":""},{"$f":"IFERROR(INDEX('MEMORIAL DESCRITIVO-BRI'!Q:Q,SMALL(IF('MEMORIAL DESCRITIVO-BRI'!$E$2:$E$4000=\"Sim\",ROW('MEMORIAL DESCRITIVO-BRI'!$Q$2:$Q$4000)),ROW(B520))), \"\")","v":""}]
[null,{"$f":"IFERROR(INDEX('MEMORIAL DESCRITIVO-BRI'!B:B,SMALL(IF('MEMORIAL DESCRITIVO-BRI'!$E$2:$E$4000=\"Sim\",ROW('MEMORIAL DESCRITIVO-BRI'!$B$2:$B$4000)),ROW(B521))), \"\")","v":""},{"$f":"IFERROR(INDEX('MEMORIAL DESCRITIVO-BRI'!I:I,SMALL(IF('MEMORIAL DESCRITIVO-BRI'!$E$2:$E$4000=\"Sim\",ROW('MEMORIAL DESCRITIVO-BRI'!$I$2:$I$4000)),ROW(B521))), \"\")","v":""},{"$f":"IFERROR(INDEX('MEMORIAL DESCRITIVO-BRI'!F:F,SMALL(IF('MEMORIAL DESCRITIVO-BRI'!$E$2:$E$4000=\"Sim\",ROW('MEMORIAL DESCRITIVO-BRI'!$F$2:$F$4000)),ROW(B521))) & \" - \" & INDEX('MEMORIAL DESCRITIVO-BRI'!H:H,SMALL(IF('MEMORIAL DESCRITIVO-BRI'!$E$2:$E$4000=\"Sim\",ROW('MEMORIAL DESCRITIVO-BRI'!$H$2:$H$4000)),ROW(B521))), \"\")","v":""},null,{"$f":"IFERROR(INDEX('MEMORIAL DESCRITIVO-BRI'!S:S,SMALL(IF('MEMORIAL DESCRITIVO-BRI'!$E$2:$E$4000=\"Sim\",ROW('MEMORIAL DESCRITIVO-BRI'!$S$2:$S$4000)),ROW(B521))), \"\")","v":""},{"$f":"IFERROR(INDEX('MEMORIAL DESCRITIVO-BRI'!Z:Z,SMALL(IF('MEMORIAL DESCRITIVO-BRI'!$E$2:$E$4000=\"Sim\",ROW('MEMORIAL DESCRITIVO-BRI'!$Z$2:$Z$4000)),ROW(B521))), \"\")","v":""},{"$f":"IFERROR(INDEX('MEMORIAL DESCRITIVO-BRI'!W:W,SMALL(IF('MEMORIAL DESCRITIVO-BRI'!$E$2:$E$4000=\"Sim\",ROW('MEMORIAL DESCRITIVO-BRI'!$W$2:$W$4000)),ROW(B521))), \"\")","v":""},{"$f":"IFERROR(INDEX('MEMORIAL DESCRITIVO-BRI'!G:G,SMALL(IF('MEMORIAL DESCRITIVO-BRI'!$E$2:$E$4000=\"Sim\",ROW('MEMORIAL DESCRITIVO-BRI'!$G$2:$G$4000)),ROW(B521))), \"\")","v":""},{"$f":"IFERROR(INDEX('MEMORIAL DESCRITIVO-BRI'!P:P,SMALL(IF('MEMORIAL DESCRITIVO-BRI'!$E$2:$E$4000=\"Sim\",ROW('MEMORIAL DESCRITIVO-BRI'!$P$2:$P$4000)),ROW(B521))), \"\")","v":""},{"$f":"IFERROR(INDEX('MEMORIAL DESCRITIVO-BRI'!Q:Q,SMALL(IF('MEMORIAL DESCRITIVO-BRI'!$E$2:$E$4000=\"Sim\",ROW('MEMORIAL DESCRITIVO-BRI'!$Q$2:$Q$4000)),ROW(B521))), \"\")","v":""}]
[null,{"$f":"IFERROR(INDEX('MEMORIAL DESCRITIVO-BRI'!B:B,SMALL(IF('MEMORIAL DESCRITIVO-BRI'!$E$2:$E$4000=\"Sim\",ROW('MEMORIAL DESCRITIVO-BRI'!$B$2:$B$4000)),ROW(B522))), \"\")","v":""},{"$f":"IFERROR(INDEX('MEMORIAL DESCRITIVO-BRI'!I:I,SMALL(IF('MEMORIAL DESCRITIVO-BRI'!$E$2:$E$4000=\"Sim\",ROW('MEMORIAL DESCRITIVO-BRI'!$I$2:$I$4000)),ROW(B522))), \"\")","v":""},{"$f":"IFERROR(INDEX('MEMORIAL DESCRITIVO-BRI'!F:F,SMALL(IF('MEMORIAL DESCRITIVO-BRI'!$E$2:$E$4000=\"Sim\",ROW('MEMORIAL DESCRITIVO-BRI'!$F$2:$F$4000)),ROW(B522))) & \" - \" & INDEX('MEMORIAL DESCRITIVO-BRI'!H:H,SMALL(IF('MEMORIAL DESCRITIVO-BRI'!$E$2:$E$4000=\"Sim\",ROW('MEMORIAL DESCRITIVO-BRI'!$H$2:$H$4000)),ROW(B522))), \"\")","v":""},null,{"$f":"IFERROR(INDEX('MEMORIAL DESCRITIVO-BRI'!S:S,SMALL(IF('MEMORIAL DESCRITIVO-BRI'!$E$2:$E$4000=\"Sim\",ROW('MEMORIAL DESCRITIVO-BRI'!$S$2:$S$4000)),ROW(B522))), \"\")","v":""},{"$f":"IFERROR(INDEX('MEMORIAL DESCRITIVO-BRI'!Z:Z,SMALL(IF('MEMORIAL DESCRITIVO-BRI'!$E$2:$E$4000=\"Sim\",ROW('MEMORIAL DESCRITIVO-BRI'!$Z$2:$Z$4000)),ROW(B522))), \"\")","v":""},{"$f":"IFERROR(INDEX('MEMORIAL DESCRITIVO-BRI'!W:W,SMALL(IF('MEMORIAL DESCRITIVO-BRI'!$E$2:$E$4000=\"Sim\",ROW('MEMORIAL DESCRITIVO-BRI'!$W$2:$W$4000)),ROW(B522))), \"\")","v":""},{"$f":"IFERROR(INDEX('MEMORIAL DESCRITIVO-BRI'!G:G,SMALL(IF('MEMORIAL DESCRITIVO-BRI'!$E$2:$E$4000=\"Sim\",ROW('MEMORIAL DESCRITIVO-BRI'!$G$2:$G$4000)),ROW(B522))), \"\")","v":""},{"$f":"IFERROR(INDEX('MEMORIAL DESCRITIVO-BRI'!P:P,SMALL(IF('MEMORIAL DESCRITIVO-BRI'!$E$2:$E$4000=\"Sim\",ROW('MEMORIAL DESCRITIVO-BRI'!$P$2:$P$4000)),ROW(B522))), \"\")","v":""},{"$f":"IFERROR(INDEX('MEMORIAL DESCRITIVO-BRI'!Q:Q,SMALL(IF('MEMORIAL DESCRITIVO-BRI'!$E$2:$E$4000=\"Sim\",ROW('MEMORIAL DESCRITIVO-BRI'!$Q$2:$Q$4000)),ROW(B522))), \"\")","v":""}]
[null,{"$f":"IFERROR(INDEX('MEMORIAL DESCRITIVO-BRI'!B:B,SMALL(IF('MEMORIAL DESCRITIVO-BRI'!$E$2:$E$4000=\"Sim\",ROW('MEMORIAL DESCRITIVO-BRI'!$B$2:$B$4000)),ROW(B523))), \"\")","v":""},{"$f":"IFERROR(INDEX('MEMORIAL DESCRITIVO-BRI'!I:I,SMALL(IF('MEMORIAL DESCRITIVO-BRI'!$E$2:$E$4000=\"Sim\",ROW('MEMORIAL DESCRITIVO-BRI'!$I$2:$I$4000)),ROW(B523))), \"\")","v":""},{"$f":"IFERROR(INDEX('MEMORIAL DESCRITIVO-BRI'!F:F,SMALL(IF('MEMORIAL DESCRITIVO-BRI'!$E$2:$E$4000=\"Sim\",ROW('MEMORIAL DESCRITIVO-BRI'!$F$2:$F$4000)),ROW(B523))) & \" - \" & INDEX('MEMORIAL DESCRITIVO-BRI'!H:H,SMALL(IF('MEMORIAL DESCRITIVO-BRI'!$E$2:$E$4000=\"Sim\",ROW('MEMORIAL DESCRITIVO-BRI'!$H$2:$H$4000)),ROW(B523))), \"\")","v":""},null,{"$f":"IFERROR(INDEX('MEMORIAL DESCRITIVO-BRI'!S:S,SMALL(IF('MEMORIAL DESCRITIVO-BRI'!$E$2:$E$4000=\"Sim\",ROW('MEMORIAL DESCRITIVO-BRI'!$S$2:$S$4000)),ROW(B523))), \"\")","v":""},{"$f":"IFERROR(INDEX('MEMORIAL DESCRITIVO-BRI'!Z:Z,SMALL(IF('MEMORIAL DESCRITIVO-BRI'!$E$2:$E$4000=\"Sim\",ROW('MEMORIAL DESCRITIVO-BRI'!$Z$2:$Z$4000)),ROW(B523))), \"\")","v":""},{"$f":"IFERROR(INDEX('MEMORIAL DESCRITIVO-BRI'!W:W,SMALL(IF('MEMORIAL DESCRITIVO-BRI'!$E$2:$E$4000=\"Sim\",ROW('MEMORIAL DESCRITIVO-BRI'!$W$2:$W$4000)),ROW(B523))), \"\")","v":""},{"$f":"IFERROR(INDEX('MEMORIAL DESCRITIVO-BRI'!G:G,SMALL(IF('MEMORIAL DESCRITIVO-BRI'!$E$2:$E$4000=\"Sim\",ROW('MEMORIAL DESCRITIVO-BRI'!$G$2:$G$4000)),ROW(B523))), \"\")","v":""},{"$f":"IFERROR(INDEX('MEMORIAL DESCRITIVO-BRI'!P:P,SMALL(IF('MEMORIAL DESCRITIVO-BRI'!$E$2:$E$4000=\"Sim\",ROW('MEMORIAL DESCRITIVO-BRI'!$P$2:$P$4000)),ROW(B523))), \"\")","v":""},{"$f":"IFERROR(INDEX('MEMORIAL DESCRITIVO-BRI'!Q:Q,SMALL(IF('MEMORIAL DESCRITIVO-BRI'!$E$2:$E$4000=\"Sim\",ROW('MEMORIAL DESCRITIVO-BRI'!$Q$2:$Q$4000)),ROW(B523))), \"\")","v":""}]
[null,{"$f":"IFERROR(INDEX('MEMORIAL DESCRITIVO-BRI'!B:B,SMALL(IF('MEMORIAL DESCRITIVO-BRI'!$E$2:$E$4000=\"Sim\",ROW('MEMORIAL DESCRITIVO-BRI'!$B$2:$B$4000)),ROW(B524))), \"\")","v":""},{"$f":"IFERROR(INDEX('MEMORIAL DESCRITIVO-BRI'!I:I,SMALL(IF('MEMORIAL DESCRITIVO-BRI'!$E$2:$E$4000=\"Sim\",ROW('MEMORIAL DESCRITIVO-BRI'!$I$2:$I$4000)),ROW(B524))), \"\")","v":""},{"$f":"IFERROR(INDEX('MEMORIAL DESCRITIVO-BRI'!F:F,SMALL(IF('MEMORIAL DESCRITIVO-BRI'!$E$2:$E$4000=\"Sim\",ROW('MEMORIAL DESCRITIVO-BRI'!$F$2:$F$4000)),ROW(B524))) & \" - \" & INDEX('MEMORIAL DESCRITIVO-BRI'!H:H,SMALL(IF('MEMORIAL DESCRITIVO-BRI'!$E$2:$E$4000=\"Sim\",ROW('MEMORIAL DESCRITIVO-BRI'!$H$2:$H$4000)),ROW(B524))), \"\")","v":""},null,{"$f":"IFERROR(INDEX('MEMORIAL DESCRITIVO-BRI'!S:S,SMALL(IF('MEMORIAL DESCRITIVO-BRI'!$E$2:$E$4000=\"Sim\",ROW('MEMORIAL DESCRITIVO-BRI'!$S$2:$S$4000)),ROW(B524))), \"\")","v":""},{"$f":"IFERROR(INDEX('MEMORIAL DESCRITIVO-BRI'!Z:Z,SMALL(IF('MEMORIAL DESCRITIVO-BRI'!$E$2:$E$4000=\"Sim\",ROW('MEMORIAL DESCRITIVO-BRI'!$Z$2:$Z$4000)),ROW(B524))), \"\")","v":""},{"$f":"IFERROR(INDEX('MEMORIAL DESCRITIVO-BRI'!W:W,SMALL(IF('MEMORIAL DESCRITIVO-BRI'!$E$2:$E$4000=\"Sim\",ROW('MEMORIAL DESCRITIVO-BRI'!$W$2:$W$4000)),ROW(B524))), \"\")","v":""},{"$f":"IFERROR(INDEX('MEMORIAL DESCRITIVO-BRI'!G:G,SMALL(IF('MEMORIAL DESCRITIVO-BRI'!$E$2:$E$4000=\"Sim\",ROW('MEMORIAL DESCRITIVO-BRI'!$G$2:$G$4000)),ROW(B524))), \"\")","v":""},{"$f":"IFERROR(INDEX('MEMORIAL DESCRITIVO-BRI'!P:P,SMALL(IF('MEMORIAL DESCRITIVO-BRI'!$E$2:$E$4000=\"Sim\",ROW('MEMORIAL DESCRITIVO-BRI'!$P$2:$P$4000)),ROW(B524))), \"\")","v":""},{"$f":"IFERROR(INDEX('MEMORIAL DESCRITIVO-BRI'!Q:Q,SMALL(IF('MEMORIAL DESCRITIVO-BRI'!$E$2:$E$4000=\"Sim\",ROW('MEMORIAL DESCRITIVO-BRI'!$Q$2:$Q$4000)),ROW(B524))), \"\")","v":""}]
[null,{"$f":"IFERROR(INDEX('MEMORIAL DESCRITIVO-BRI'!B:B,SMALL(IF('MEMORIAL DESCRITIVO-BRI'!$E$2:$E$4000=\"Sim\",ROW('MEMORIAL DESCRITIVO-BRI'!$B$2:$B$4000)),ROW(B525))), \"\")","v":""},{"$f":"IFERROR(INDEX('MEMORIAL DESCRITIVO-BRI'!I:I,SMALL(IF('MEMORIAL DESCRITIVO-BRI'!$E$2:$E$4000=\"Sim\",ROW('MEMORIAL DESCRITIVO-BRI'!$I$2:$I$4000)),ROW(B525))), \"\")","v":""},{"$f":"IFERROR(INDEX('MEMORIAL DESCRITIVO-BRI'!F:F,SMALL(IF('MEMORIAL DESCRITIVO-BRI'!$E$2:$E$4000=\"Sim\",ROW('MEMORIAL DESCRITIVO-BRI'!$F$2:$F$4000)),ROW(B525))) & \" - \" & INDEX('MEMORIAL DESCRITIVO-BRI'!H:H,SMALL(IF('MEMORIAL DESCRITIVO-BRI'!$E$2:$E$4000=\"Sim\",ROW('MEMORIAL DESCRITIVO-BRI'!$H$2:$H$4000)),ROW(B525))), \"\")","v":""},null,{"$f":"IFERROR(INDEX('MEMORIAL DESCRITIVO-BRI'!S:S,SMALL(IF('MEMORIAL DESCRITIVO-BRI'!$E$2:$E$4000=\"Sim\",ROW('MEMORIAL DESCRITIVO-BRI'!$S$2:$S$4000)),ROW(B525))), \"\")","v":""},{"$f":"IFERROR(INDEX('MEMORIAL DESCRITIVO-BRI'!Z:Z,SMALL(IF('MEMORIAL DESCRITIVO-BRI'!$E$2:$E$4000=\"Sim\",ROW('MEMORIAL DESCRITIVO-BRI'!$Z$2:$Z$4000)),ROW(B525))), \"\")","v":""},{"$f":"IFERROR(INDEX('MEMORIAL DESCRITIVO-BRI'!W:W,SMALL(IF('MEMORIAL DESCRITIVO-BRI'!$E$2:$E$4000=\"Sim\",ROW('MEMORIAL DESCRITIVO-BRI'!$W$2:$W$4000)),ROW(B525))), \"\")","v":""},{"$f":"IFERROR(INDEX('MEMORIAL DESCRITIVO-BRI'!G:G,SMALL(IF('MEMORIAL DESCRITIVO-BRI'!$E$2:$E$4000=\"Sim\",ROW('MEMORIAL DESCRITIVO-BRI'!$G$2:$G$4000)),ROW(B525))), \"\")","v":""},{"$f":"IFERROR(INDEX('MEMORIAL DESCRITIVO-BRI'!P:P,SMALL(IF('MEMORIAL DESCRITIVO-BRI'!$E$2:$E$4000=\"Sim\",ROW('MEMORIAL DESCRITIVO-BRI'!$P$2:$P$4000)),ROW(B525))), \"\")","v":""},{"$f":"IFERROR(INDEX('MEMORIAL DESCRITIVO-BRI'!Q:Q,SMALL(IF('MEMORIAL DESCRITIVO-BRI'!$E$2:$E$4000=\"Sim\",ROW('MEMORIAL DESCRITIVO-BRI'!$Q$2:$Q$4000)),ROW(B525))), \"\")","v":""}]
[null,{"$f":"IFERROR(INDEX('MEMORIAL DESCRITIVO-BRI'!B:B,SMALL(IF('MEMORIAL DESCRITIVO-BRI'!$E$2:$E$4000=\"Sim\",ROW('MEMORIAL DESCRITIVO-BRI'!$B$2:$B$4000)),ROW(B526))), \"\")","v":""},{"$f":"IFERROR(INDEX('MEMORIAL DESCRITIVO-BRI'!I:I,SMALL(IF('MEMORIAL DESCRITIVO-BRI'!$E$2:$E$4000=\"Sim\",ROW('MEMORIAL DESCRITIVO-BRI'!$I$2:$I$4000)),ROW(B526))), \"\")","v":""},{"$f":"IFERROR(INDEX('MEMORIAL DESCRITIVO-BRI'!F:F,SMALL(IF('MEMORIAL DESCRITIVO-BRI'!$E$2:$E$4000=\"Sim\",ROW('MEMORIAL DESCRITIVO-BRI'!$F$2:$F$4000)),ROW(B526))) & \" - \" & INDEX('MEMORIAL DESCRITIVO-BRI'!H:H,SMALL(IF('MEMORIAL DESCRITIVO-BRI'!$E$2:$E$4000=\"Sim\",ROW('MEMORIAL DESCRITIVO-BRI'!$H$2:$H$4000)),ROW(B526))), \"\")","v":""},null,{"$f":"IFERROR(INDEX('MEMORIAL DESCRITIVO-BRI'!S:S,SMALL(IF('MEMORIAL DESCRITIVO-BRI'!$E$2:$E$4000=\"Sim\",ROW('MEMORIAL DESCRITIVO-BRI'!$S$2:$S$4000)),ROW(B526))), \"\")","v":""},{"$f":"IFERROR(INDEX('MEMORIAL DESCRITIVO-BRI'!Z:Z,SMALL(IF('MEMORIAL DESCRITIVO-BRI'!$E$2:$E$4000=\"Sim\",ROW('MEMORIAL DESCRITIVO-BRI'!$Z$2:$Z$4000)),ROW(B526))), \"\")","v":""},{"$f":"IFERROR(INDEX('MEMORIAL DESCRITIVO-BRI'!W:W,SMALL(IF('MEMORIAL DESCRITIVO-BRI'!$E$2:$E$4000=\"Sim\",ROW('MEMORIAL DESCRITIVO-BRI'!$W$2:$W$4000)),ROW(B526))), \"\")","v":""},{"$f":"IFERROR(INDEX('MEMORIAL DESCRITIVO-BRI'!G:G,SMALL(IF('MEMORIAL DESCRITIVO-BRI'!$E$2:$E$4000=\"Sim\",ROW('MEMORIAL DESCRITIVO-BRI'!$G$2:$G$4000)),ROW(B526))), \"\")","v":""},{"$f":"IFERROR(INDEX('MEMORIAL DESCRITIVO-BRI'!P:P,SMALL(IF('MEMORIAL DESCRITIVO-BRI'!$E$2:$E$4000=\"Sim\",ROW('MEMORIAL DESCRITIVO-BRI'!$P$2:$P$4000)),ROW(B526))), \"\")","v":""},{"$f":"IFERROR(INDEX('MEMORIAL DESCRITIVO-BRI'!Q:Q,SMALL(IF('MEMORIAL DESCRITIVO-BRI'!$E$2:$E$4000=\"Sim\",ROW('MEMORIAL DESCRITIVO-BRI'!$Q$2:$Q$4000)),ROW(B526))), \"\")","v":""}]
[null,{"$f":"IFERROR(INDEX('MEMORIAL DESCRITIVO-BRI'!B:B,SMALL(IF('MEMORIAL DESCRITIVO-BRI'!$E$2:$E$4000=\"Sim\",ROW('MEMORIAL DESCRITIVO-BRI'!$B$2:$B$4000)),ROW(B527))), \"\")","v":""},{"$f":"IFERROR(INDEX('MEMORIAL DESCRITIVO-BRI'!I:I,SMALL(IF('MEMORIAL DESCRITIVO-BRI'!$E$2:$E$4000=\"Sim\",ROW('MEMORIAL DESCRITIVO-BRI'!$I$2:$I$4000)),ROW(B527))), \"\")","v":""},{"$f":"IFERROR(INDEX('MEMORIAL DESCRITIVO-BRI'!F:F,SMALL(IF('MEMORIAL DESCRITIVO-BRI'!$E$2:$E$4000=\"Sim\",ROW('MEMORIAL DESCRITIVO-BRI'!$F$2:$F$4000)),ROW(B527))) & \" - \" & INDEX('MEMORIAL DESCRITIVO-BRI'!H:H,SMALL(IF('MEMORIAL DESCRITIVO-BRI'!$E$2:$E$4000=\"Sim\",ROW('MEMORIAL DESCRITIVO-BRI'!$H$2:$H$4000)),ROW(B527))), \"\")","v":""},null,{"$f":"IFERROR(INDEX('MEMORIAL DESCRITIVO-BRI'!S:S,SMALL(IF('MEMORIAL DESCRITIVO-BRI'!$E$2:$E$4000=\"Sim\",ROW('MEMORIAL DESCRITIVO-BRI'!$S$2:$S$4000)),ROW(B527))), \"\")","v":""},{"$f":"IFERROR(INDEX('MEMORIAL DESCRITIVO-BRI'!Z:Z,SMALL(IF('MEMORIAL DESCRITIVO-BRI'!$E$2:$E$4000=\"Sim\",ROW('MEMORIAL DESCRITIVO-BRI'!$Z$2:$Z$4000)),ROW(B527))), \"\")","v":""},{"$f":"IFERROR(INDEX('MEMORIAL DESCRITIVO-BRI'!W:W,SMALL(IF('MEMORIAL DESCRITIVO-BRI'!$E$2:$E$4000=\"Sim\",ROW('MEMORIAL DESCRITIVO-BRI'!$W$2:$W$4000)),ROW(B527))), \"\")","v":""},{"$f":"IFERROR(INDEX('MEMORIAL DESCRITIVO-BRI'!G:G,SMALL(IF('MEMORIAL DESCRITIVO-BRI'!$E$2:$E$4000=\"Sim\",ROW('MEMORIAL DESCRITIVO-BRI'!$G$2:$G$4000)),ROW(B527))), \"\")","v":""},{"$f":"IFERROR(INDEX('MEMORIAL DESCRITIVO-BRI'!P:P,SMALL(IF('MEMORIAL DESCRITIVO-BRI'!$E$2:$E$4000=\"Sim\",ROW('MEMORIAL DESCRITIVO-BRI'!$P$2:$P$4000)),ROW(B527))), \"\")","v":""},{"$f":"IFERROR(INDEX('MEMORIAL DESCRITIVO-BRI'!Q:Q,SMALL(IF('MEMORIAL DESCRITIVO-BRI'!$E$2:$E$4000=\"Sim\",ROW('MEMORIAL DESCRITIVO-BRI'!$Q$2:$Q$4000)),ROW(B527))), \"\")","v":""}]
[null,{"$f":"IFERROR(INDEX('MEMORIAL DESCRITIVO-BRI'!B:B,SMALL(IF('MEMORIAL DESCRITIVO-BRI'!$E$2:$E$4000=\"Sim\",ROW('MEMORIAL DESCRITIVO-BRI'!$B$2:$B$4000)),ROW(B528))), \"\")","v":""},{"$f":"IFERROR(INDEX('MEMORIAL DESCRITIVO-BRI'!I:I,SMALL(IF('MEMORIAL DESCRITIVO-BRI'!$E$2:$E$4000=\"Sim\",ROW('MEMORIAL DESCRITIVO-BRI'!$I$2:$I$4000)),ROW(B528))), \"\")","v":""},{"$f":"IFERROR(INDEX('MEMORIAL DESCRITIVO-BRI'!F:F,SMALL(IF('MEMORIAL DESCRITIVO-BRI'!$E$2:$E$4000=\"Sim\",ROW('MEMORIAL DESCRITIVO-BRI'!$F$2:$F$4000)),ROW(B528))) & \" - \" & INDEX('MEMORIAL DESCRITIVO-BRI'!H:H,SMALL(IF('MEMORIAL DESCRITIVO-BRI'!$E$2:$E$4000=\"Sim\",ROW('MEMORIAL DESCRITIVO-BRI'!$H$2:$H$4000)),ROW(B528))), \"\")","v":""},null,{"$f":"IFERROR(INDEX('MEMORIAL DESCRITIVO-BRI'!S:S,SMALL(IF('MEMORIAL DESCRITIVO-BRI'!$E$2:$E$4000=\"Sim\",ROW('MEMORIAL DESCRITIVO-BRI'!$S$2:$S$4000)),ROW(B528))), \"\")","v":""},{"$f":"IFERROR(INDEX('MEMORIAL DESCRITIVO-BRI'!Z:Z,SMALL(IF('MEMORIAL DESCRITIVO-BRI'!$E$2:$E$4000=\"Sim\",ROW('MEMORIAL DESCRITIVO-BRI'!$Z$2:$Z$4000)),ROW(B528))), \"\")","v":""},{"$f":"IFERROR(INDEX('MEMORIAL DESCRITIVO-BRI'!W:W,SMALL(IF('MEMORIAL DESCRITIVO-BRI'!$E$2:$E$4000=\"Sim\",ROW('MEMORIAL DESCRITIVO-BRI'!$W$2:$W$4000)),ROW(B528))), \"\")","v":""},{"$f":"IFERROR(INDEX('MEMORIAL DESCRITIVO-BRI'!G:G,SMALL(IF('MEMORIAL DESCRITIVO-BRI'!$E$2:$E$4000=\"Sim\",ROW('MEMORIAL DESCRITIVO-BRI'!$G$2:$G$4000)),ROW(B528))), \"\")","v":""},{"$f":"IFERROR(INDEX('MEMORIAL DESCRITIVO-BRI'!P:P,SMALL(IF('MEMORIAL DESCRITIVO-BRI'!$E$2:$E$4000=\"Sim\",ROW('MEMORIAL DESCRITIVO-BRI'!$P$2:$P$4000)),ROW(B528))), \"\")","v":""},{"$f":"IFERROR(INDEX('MEMORIAL DESCRITIVO-BRI'!Q:Q,SMALL(IF('MEMORIAL DESCRITIVO-BRI'!$E$2:$E$4000=\"Sim\",ROW('MEMORIAL DESCRITIVO-BRI'!$Q$2:$Q$4000)),ROW(B528))), \"\")","v":""}]
[null,{"$f":"IFERROR(INDEX('MEMORIAL DESCRITIVO-BRI'!B:B,SMALL(IF('MEMORIAL DESCRITIVO-BRI'!$E$2:$E$4000=\"Sim\",ROW('MEMORIAL DESCRITIVO-BRI'!$B$2:$B$4000)),ROW(B529))), \"\")","v":""},{"$f":"IFERROR(INDEX('MEMORIAL DESCRITIVO-BRI'!I:I,SMALL(IF('MEMORIAL DESCRITIVO-BRI'!$E$2:$E$4000=\"Sim\",ROW('MEMORIAL DESCRITIVO-BRI'!$I$2:$I$4000)),ROW(B529))), \"\")","v":""},{"$f":"IFERROR(INDEX('MEMORIAL DESCRITIVO-BRI'!F:F,SMALL(IF('MEMORIAL DESCRITIVO-BRI'!$E$2:$E$4000=\"Sim\",ROW('MEMORIAL DESCRITIVO-BRI'!$F$2:$F$4000)),ROW(B529))) & \" - \" & INDEX('MEMORIAL DESCRITIVO-BRI'!H:H,SMALL(IF('MEMORIAL DESCRITIVO-BRI'!$E$2:$E$4000=\"Sim\",ROW('MEMORIAL DESCRITIVO-BRI'!$H$2:$H$4000)),ROW(B529))), \"\")","v":""},null,{"$f":"IFERROR(INDEX('MEMORIAL DESCRITIVO-BRI'!S:S,SMALL(IF('MEMORIAL DESCRITIVO-BRI'!$E$2:$E$4000=\"Sim\",ROW('MEMORIAL DESCRITIVO-BRI'!$S$2:$S$4000)),ROW(B529))), \"\")","v":""},{"$f":"IFERROR(INDEX('MEMORIAL DESCRITIVO-BRI'!Z:Z,SMALL(IF('MEMORIAL DESCRITIVO-BRI'!$E$2:$E$4000=\"Sim\",ROW('MEMORIAL DESCRITIVO-BRI'!$Z$2:$Z$4000)),ROW(B529))), \"\")","v":""},{"$f":"IFERROR(INDEX('MEMORIAL DESCRITIVO-BRI'!W:W,SMALL(IF('MEMORIAL DESCRITIVO-BRI'!$E$2:$E$4000=\"Sim\",ROW('MEMORIAL DESCRITIVO-BRI'!$W$2:$W$4000)),ROW(B529))), \"\")","v":""},{"$f":"IFERROR(INDEX('MEMORIAL DESCRITIVO-BRI'!G:G,SMALL(IF('MEMORIAL DESCRITIVO-BRI'!$E$2:$E$4000=\"Sim\",ROW('MEMORIAL DESCRITIVO-BRI'!$G$2:$G$4000)),ROW(B529))), \"\")","v":""},{"$f":"IFERROR(INDEX('MEMORIAL DESCRITIVO-BRI'!P:P,SMALL(IF('MEMORIAL DESCRITIVO-BRI'!$E$2:$E$4000=\"Sim\",ROW('MEMORIAL DESCRITIVO-BRI'!$P$2:$P$4000)),ROW(B529))), \"\")","v":""},{"$f":"IFERROR(INDEX('MEMORIAL DESCRITIVO-BRI'!Q:Q,SMALL(IF('MEMORIAL DESCRITIVO-BRI'!$E$2:$E$4000=\"Sim\",ROW('MEMORIAL DESCRITIVO-BRI'!$Q$2:$Q$4000)),ROW(B529))), \"\")","v":""}]
[null,{"$f":"IFERROR(INDEX('MEMORIAL DESCRITIVO-BRI'!B:B,SMALL(IF('MEMORIAL DESCRITIVO-BRI'!$E$2:$E$4000=\"Sim\",ROW('MEMORIAL DESCRITIVO-BRI'!$B$2:$B$4000)),ROW(B530))), \"\")","v":""},{"$f":"IFERROR(INDEX('MEMORIAL DESCRITIVO-BRI'!I:I,SMALL(IF('MEMORIAL DESCRITIVO-BRI'!$E$2:$E$4000=\"Sim\",ROW('MEMORIAL DESCRITIVO-BRI'!$I$2:$I$4000)),ROW(B530))), \"\")","v":""},{"$f":"IFERROR(INDEX('MEMORIAL DESCRITIVO-BRI'!F:F,SMALL(IF('MEMORIAL DESCRITIVO-BRI'!$E$2:$E$4000=\"Sim\",ROW('MEMORIAL DESCRITIVO-BRI'!$F$2:$F$4000)),ROW(B530))) & \" - \" & INDEX('MEMORIAL DESCRITIVO-BRI'!H:H,SMALL(IF('MEMORIAL DESCRITIVO-BRI'!$E$2:$E$4000=\"Sim\",ROW('MEMORIAL DESCRITIVO-BRI'!$H$2:$H$4000)),ROW(B530))), \"\")","v":""},null,{"$f":"IFERROR(INDEX('MEMORIAL DESCRITIVO-BRI'!S:S,SMALL(IF('MEMORIAL DESCRITIVO-BRI'!$E$2:$E$4000=\"Sim\",ROW('MEMORIAL DESCRITIVO-BRI'!$S$2:$S$4000)),ROW(B530))), \"\")","v":""},{"$f":"IFERROR(INDEX('MEMORIAL DESCRITIVO-BRI'!Z:Z,SMALL(IF('MEMORIAL DESCRITIVO-BRI'!$E$2:$E$4000=\"Sim\",ROW('MEMORIAL DESCRITIVO-BRI'!$Z$2:$Z$4000)),ROW(B530))), \"\")","v":""},{"$f":"IFERROR(INDEX('MEMORIAL DESCRITIVO-BRI'!W:W,SMALL(IF('MEMORIAL DESCRITIVO-BRI'!$E$2:$E$4000=\"Sim\",ROW('MEMORIAL DESCRITIVO-BRI'!$W$2:$W$4000)),ROW(B530))), \"\")","v":""},{"$f":"IFERROR(INDEX('MEMORIAL DESCRITIVO-BRI'!G:G,SMALL(IF('MEMORIAL DESCRITIVO-BRI'!$E$2:$E$4000=\"Sim\",ROW('MEMORIAL DESCRITIVO-BRI'!$G$2:$G$4000)),ROW(B530))), \"\")","v":""},{"$f":"IFERROR(INDEX('MEMORIAL DESCRITIVO-BRI'!P:P,SMALL(IF('MEMORIAL DESCRITIVO-BRI'!$E$2:$E$4000=\"Sim\",ROW('MEMORIAL DESCRITIVO-BRI'!$P$2:$P$4000)),ROW(B530))), \"\")","v":""},{"$f":"IFERROR(INDEX('MEMORIAL DESCRITIVO-BRI'!Q:Q,SMALL(IF('MEMORIAL DESCRITIVO-BRI'!$E$2:$E$4000=\"Sim\",ROW('MEMORIAL DESCRITIVO-BRI'!$Q$2:$Q$4000)),ROW(B530))), \"\")","v":""}]
[null,{"$f":"IFERROR(INDEX('MEMORIAL DESCRITIVO-BRI'!B:B,SMALL(IF('MEMORIAL DESCRITIVO-BRI'!$E$2:$E$4000=\"Sim\",ROW('MEMORIAL DESCRITIVO-BRI'!$B$2:$B$4000)),ROW(B531))), \"\")","v":""},{"$f":"IFERROR(INDEX('MEMORIAL DESCRITIVO-BRI'!I:I,SMALL(IF('MEMORIAL DESCRITIVO-BRI'!$E$2:$E$4000=\"Sim\",ROW('MEMORIAL DESCRITIVO-BRI'!$I$2:$I$4000)),ROW(B531))), \"\")","v":""},{"$f":"IFERROR(INDEX('MEMORIAL DESCRITIVO-BRI'!F:F,SMALL(IF('MEMORIAL DESCRITIVO-BRI'!$E$2:$E$4000=\"Sim\",ROW('MEMORIAL DESCRITIVO-BRI'!$F$2:$F$4000)),ROW(B531))) & \" - \" & INDEX('MEMORIAL DESCRITIVO-BRI'!H:H,SMALL(IF('MEMORIAL DESCRITIVO-BRI'!$E$2:$E$4000=\"Sim\",ROW('MEMORIAL DESCRITIVO-BRI'!$H$2:$H$4000)),ROW(B531))), \"\")","v":""},null,{"$f":"IFERROR(INDEX('MEMORIAL DESCRITIVO-BRI'!S:S,SMALL(IF('MEMORIAL DESCRITIVO-BRI'!$E$2:$E$4000=\"Sim\",ROW('MEMORIAL DESCRITIVO-BRI'!$S$2:$S$4000)),ROW(B531))), \"\")","v":""},{"$f":"IFERROR(INDEX('MEMORIAL DESCRITIVO-BRI'!Z:Z,SMALL(IF('MEMORIAL DESCRITIVO-BRI'!$E$2:$E$4000=\"Sim\",ROW('MEMORIAL DESCRITIVO-BRI'!$Z$2:$Z$4000)),ROW(B531))), \"\")","v":""},{"$f":"IFERROR(INDEX('MEMORIAL DESCRITIVO-BRI'!W:W,SMALL(IF('MEMORIAL DESCRITIVO-BRI'!$E$2:$E$4000=\"Sim\",ROW('MEMORIAL DESCRITIVO-BRI'!$W$2:$W$4000)),ROW(B531))), \"\")","v":""},{"$f":"IFERROR(INDEX('MEMORIAL DESCRITIVO-BRI'!G:G,SMALL(IF('MEMORIAL DESCRITIVO-BRI'!$E$2:$E$4000=\"Sim\",ROW('MEMORIAL DESCRITIVO-BRI'!$G$2:$G$4000)),ROW(B531))), \"\")","v":""},{"$f":"IFERROR(INDEX('MEMORIAL DESCRITIVO-BRI'!P:P,SMALL(IF('MEMORIAL DESCRITIVO-BRI'!$E$2:$E$4000=\"Sim\",ROW('MEMORIAL DESCRITIVO-BRI'!$P$2:$P$4000)),ROW(B531))), \"\")","v":""},{"$f":"IFERROR(INDEX('MEMORIAL DESCRITIVO-BRI'!Q:Q,SMALL(IF('MEMORIAL DESCRITIVO-BRI'!$E$2:$E$4000=\"Sim\",ROW('MEMORIAL DESCRITIVO-BRI'!$Q$2:$Q$4000)),ROW(B531))), \"\")","v":""}]
[null,{"$f":"IFERROR(INDEX('MEMORIAL DESCRITIVO-BRI'!B:B,SMALL(IF('MEMORIAL DESCRITIVO-BRI'!$E$2:$E$4000=\"Sim\",ROW('MEMORIAL DESCRITIVO-BRI'!$B$2:$B$4000)),ROW(B532))), \"\")","v":""},{"$f":"IFERROR(INDEX('MEMORIAL DESCRITIVO-BRI'!I:I,SMALL(IF('MEMORIAL DESCRITIVO-BRI'!$E$2:$E$4000=\"Sim\",ROW('MEMORIAL DESCRITIVO-BRI'!$I$2:$I$4000)),ROW(B532))), \"\")","v":""},{"$f":"IFERROR(INDEX('MEMORIAL DESCRITIVO-BRI'!F:F,SMALL(IF('MEMORIAL DESCRITIVO-BRI'!$E$2:$E$4000=\"Sim\",ROW('MEMORIAL DESCRITIVO-BRI'!$F$2:$F$4000)),ROW(B532))) & \" - \" & INDEX('MEMORIAL DESCRITIVO-BRI'!H:H,SMALL(IF('MEMORIAL DESCRITIVO-BRI'!$E$2:$E$4000=\"Sim\",ROW('MEMORIAL DESCRITIVO-BRI'!$H$2:$H$4000)),ROW(B532))), \"\")","v":""},null,{"$f":"IFERROR(INDEX('MEMORIAL DESCRITIVO-BRI'!S:S,SMALL(IF('MEMORIAL DESCRITIVO-BRI'!$E$2:$E$4000=\"Sim\",ROW('MEMORIAL DESCRITIVO-BRI'!$S$2:$S$4000)),ROW(B532))), \"\")","v":""},{"$f":"IFERROR(INDEX('MEMORIAL DESCRITIVO-BRI'!Z:Z,SMALL(IF('MEMORIAL DESCRITIVO-BRI'!$E$2:$E$4000=\"Sim\",ROW('MEMORIAL DESCRITIVO-BRI'!$Z$2:$Z$4000)),ROW(B532))), \"\")","v":""},{"$f":"IFERROR(INDEX('MEMORIAL DESCRITIVO-BRI'!W:W,SMALL(IF('MEMORIAL DESCRITIVO-BRI'!$E$2:$E$4000=\"Sim\",ROW('MEMORIAL DESCRITIVO-BRI'!$W$2:$W$4000)),ROW(B532))), \"\")","v":""},{"$f":"IFERROR(INDEX('MEMORIAL DESCRITIVO-BRI'!G:G,SMALL(IF('MEMORIAL DESCRITIVO-BRI'!$E$2:$E$4000=\"Sim\",ROW('MEMORIAL DESCRITIVO-BRI'!$G$2:$G$4000)),ROW(B532))), \"\")","v":""},{"$f":"IFERROR(INDEX('MEMORIAL DESCRITIVO-BRI'!P:P,SMALL(IF('MEMORIAL DESCRITIVO-BRI'!$E$2:$E$4000=\"Sim\",ROW('MEMORIAL DESCRITIVO-BRI'!$P$2:$P$4000)),ROW(B532))), \"\")","v":""},{"$f":"IFERROR(INDEX('MEMORIAL DESCRITIVO-BRI'!Q:Q,SMALL(IF('MEMORIAL DESCRITIVO-BRI'!$E$2:$E$4000=\"Sim\",ROW('MEMORIAL DESCRITIVO-BRI'!$Q$2:$Q$4000)),ROW(B532))), \"\")","v":""}]
[null,{"$f":"IFERROR(INDEX('MEMORIAL DESCRITIVO-BRI'!B:B,SMALL(IF('MEMORIAL DESCRITIVO-BRI'!$E$2:$E$4000=\"Sim\",ROW('MEMORIAL DESCRITIVO-BRI'!$B$2:$B$4000)),ROW(B533))), \"\")","v":""},{"$f":"IFERROR(INDEX('MEMORIAL DESCRITIVO-BRI'!I:I,SMALL(IF('MEMORIAL DESCRITIVO-BRI'!$E$2:$E$4000=\"Sim\",ROW('MEMORIAL DESCRITIVO-BRI'!$I$2:$I$4000)),ROW(B533))), \"\")","v":""},{"$f":"IFERROR(INDEX('MEMORIAL DESCRITIVO-BRI'!F:F,SMALL(IF('MEMORIAL DESCRITIVO-BRI'!$E$2:$E$4000=\"Sim\",ROW('MEMORIAL DESCRITIVO-BRI'!$F$2:$F$4000)),ROW(B533))) & \" - \" & INDEX('MEMORIAL DESCRITIVO-BRI'!H:H,SMALL(IF('MEMORIAL DESCRITIVO-BRI'!$E$2:$E$4000=\"Sim\",ROW('MEMORIAL DESCRITIVO-BRI'!$H$2:$H$4000)),ROW(B533))), \"\")","v":""},null,{"$f":"IFERROR(INDEX('MEMORIAL DESCRITIVO-BRI'!S:S,SMALL(IF('MEMORIAL DESCRITIVO-BRI'!$E$2:$E$4000=\"Sim\",ROW('MEMORIAL DESCRITIVO-BRI'!$S$2:$S$4000)),ROW(B533))), \"\")","v":""},{"$f":"IFERROR(INDEX('MEMORIAL DESCRITIVO-BRI'!Z:Z,SMALL(IF('MEMORIAL DESCRITIVO-BRI'!$E$2:$E$4000=\"Sim\",ROW('MEMORIAL DESCRITIVO-BRI'!$Z$2:$Z$4000)),ROW(B533))), \"\")","v":""},{"$f":"IFERROR(INDEX('MEMORIAL DESCRITIVO-BRI'!W:W,SMALL(IF('MEMORIAL DESCRITIVO-BRI'!$E$2:$E$4000=\"Sim\",ROW('MEMORIAL DESCRITIVO-BRI'!$W$2:$W$4000)),ROW(B533))), \"\")","v":""},{"$f":"IFERROR(INDEX('MEMORIAL DESCRITIVO-BRI'!G:G,SMALL(IF('MEMORIAL DESCRITIVO-BRI'!$E$2:$E$4000=\"Sim\",ROW('MEMORIAL DESCRITIVO-BRI'!$G$2:$G$4000)),ROW(B533))), \"\")","v":""},{"$f":"IFERROR(INDEX('MEMORIAL DESCRITIVO-BRI'!P:P,SMALL(IF('MEMORIAL DESCRITIVO-BRI'!$E$2:$E$4000=\"Sim\",ROW('MEMORIAL DESCRITIVO-BRI'!$P$2:$P$4000)),ROW(B533))), \"\")","v":""},{"$f":"IFERROR(INDEX('MEMORIAL DESCRITIVO-BRI'!Q:Q,SMALL(IF('MEMORIAL DESCRITIVO-BRI'!$E$2:$E$4000=\"Sim\",ROW('MEMORIAL DESCRITIVO-BRI'!$Q$2:$Q$4000)),ROW(B533))), \"\")","v":""}]
[null,{"$f":"IFERROR(INDEX('MEMORIAL DESCRITIVO-BRI'!B:B,SMALL(IF('MEMORIAL DESCRITIVO-BRI'!$E$2:$E$4000=\"Sim\",ROW('MEMORIAL DESCRITIVO-BRI'!$B$2:$B$4000)),ROW(B534))), \"\")","v":""},{"$f":"IFERROR(INDEX('MEMORIAL DESCRITIVO-BRI'!I:I,SMALL(IF('MEMORIAL DESCRITIVO-BRI'!$E$2:$E$4000=\"Sim\",ROW('MEMORIAL DESCRITIVO-BRI'!$I$2:$I$4000)),ROW(B534))), \"\")","v":""},{"$f":"IFERROR(INDEX('MEMORIAL DESCRITIVO-BRI'!F:F,SMALL(IF('MEMORIAL DESCRITIVO-BRI'!$E$2:$E$4000=\"Sim\",ROW('MEMORIAL DESCRITIVO-BRI'!$F$2:$F$4000)),ROW(B534))) & \" - \" & INDEX('MEMORIAL DESCRITIVO-BRI'!H:H,SMALL(IF('MEMORIAL DESCRITIVO-BRI'!$E$2:$E$4000=\"Sim\",ROW('MEMORIAL DESCRITIVO-BRI'!$H$2:$H$4000)),ROW(B534))), \"\")","v":""},null,{"$f":"IFERROR(INDEX('MEMORIAL DESCRITIVO-BRI'!S:S,SMALL(IF('MEMORIAL DESCRITIVO-BRI'!$E$2:$E$4000=\"Sim\",ROW('MEMORIAL DESCRITIVO-BRI'!$S$2:$S$4000)),ROW(B534))), \"\")","v":""},{"$f":"IFERROR(INDEX('MEMORIAL DESCRITIVO-BRI'!Z:Z,SMALL(IF('MEMORIAL DESCRITIVO-BRI'!$E$2:$E$4000=\"Sim\",ROW('MEMORIAL DESCRITIVO-BRI'!$Z$2:$Z$4000)),ROW(B534))), \"\")","v":""},{"$f":"IFERROR(INDEX('MEMORIAL DESCRITIVO-BRI'!W:W,SMALL(IF('MEMORIAL DESCRITIVO-BRI'!$E$2:$E$4000=\"Sim\",ROW('MEMORIAL DESCRITIVO-BRI'!$W$2:$W$4000)),ROW(B534))), \"\")","v":""},{"$f":"IFERROR(INDEX('MEMORIAL DESCRITIVO-BRI'!G:G,SMALL(IF('MEMORIAL DESCRITIVO-BRI'!$E$2:$E$4000=\"Sim\",ROW('MEMORIAL DESCRITIVO-BRI'!$G$2:$G$4000)),ROW(B534))), \"\")","v":""},{"$f":"IFERROR(INDEX('MEMORIAL DESCRITIVO-BRI'!P:P,SMALL(IF('MEMORIAL DESCRITIVO-BRI'!$E$2:$E$4000=\"Sim\",ROW('MEMORIAL DESCRITIVO-BRI'!$P$2:$P$4000)),ROW(B534))), \"\")","v":""},{"$f":"IFERROR(INDEX('MEMORIAL DESCRITIVO-BRI'!Q:Q,SMALL(IF('MEMORIAL DESCRITIVO-BRI'!$E$2:$E$4000=\"Sim\",ROW('MEMORIAL DESCRITIVO-BRI'!$Q$2:$Q$4000)),ROW(B534))), \"\")","v":""}]
[null,{"$f":"IFERROR(INDEX('MEMORIAL DESCRITIVO-BRI'!B:B,SMALL(IF('MEMORIAL DESCRITIVO-BRI'!$E$2:$E$4000=\"Sim\",ROW('MEMORIAL DESCRITIVO-BRI'!$B$2:$B$4000)),ROW(B535))), \"\")","v":""},{"$f":"IFERROR(INDEX('MEMORIAL DESCRITIVO-BRI'!I:I,SMALL(IF('MEMORIAL DESCRITIVO-BRI'!$E$2:$E$4000=\"Sim\",ROW('MEMORIAL DESCRITIVO-BRI'!$I$2:$I$4000)),ROW(B535))), \"\")","v":""},{"$f":"IFERROR(INDEX('MEMORIAL DESCRITIVO-BRI'!F:F,SMALL(IF('MEMORIAL DESCRITIVO-BRI'!$E$2:$E$4000=\"Sim\",ROW('MEMORIAL DESCRITIVO-BRI'!$F$2:$F$4000)),ROW(B535))) & \" - \" & INDEX('MEMORIAL DESCRITIVO-BRI'!H:H,SMALL(IF('MEMORIAL DESCRITIVO-BRI'!$E$2:$E$4000=\"Sim\",ROW('MEMORIAL DESCRITIVO-BRI'!$H$2:$H$4000)),ROW(B535))), \"\")","v":""},null,{"$f":"IFERROR(INDEX('MEMORIAL DESCRITIVO-BRI'!S:S,SMALL(IF('MEMORIAL DESCRITIVO-BRI'!$E$2:$E$4000=\"Sim\",ROW('MEMORIAL DESCRITIVO-BRI'!$S$2:$S$4000)),ROW(B535))), \"\")","v":""},{"$f":"IFERROR(INDEX('MEMORIAL DESCRITIVO-BRI'!Z:Z,SMALL(IF('MEMORIAL DESCRITIVO-BRI'!$E$2:$E$4000=\"Sim\",ROW('MEMORIAL DESCRITIVO-BRI'!$Z$2:$Z$4000)),ROW(B535))), \"\")","v":""},{"$f":"IFERROR(INDEX('MEMORIAL DESCRITIVO-BRI'!W:W,SMALL(IF('MEMORIAL DESCRITIVO-BRI'!$E$2:$E$4000=\"Sim\",ROW('MEMORIAL DESCRITIVO-BRI'!$W$2:$W$4000)),ROW(B535))), \"\")","v":""},{"$f":"IFERROR(INDEX('MEMORIAL DESCRITIVO-BRI'!G:G,SMALL(IF('MEMORIAL DESCRITIVO-BRI'!$E$2:$E$4000=\"Sim\",ROW('MEMORIAL DESCRITIVO-BRI'!$G$2:$G$4000)),ROW(B535))), \"\")","v":""},{"$f":"IFERROR(INDEX('MEMORIAL DESCRITIVO-BRI'!P:P,SMALL(IF('MEMORIAL DESCRITIVO-BRI'!$E$2:$E$4000=\"Sim\",ROW('MEMORIAL DESCRITIVO-BRI'!$P$2:$P$4000)),ROW(B535))), \"\")","v":""},{"$f":"IFERROR(INDEX('MEMORIAL DESCRITIVO-BRI'!Q:Q,SMALL(IF('MEMORIAL DESCRITIVO-BRI'!$E$2:$E$4000=\"Sim\",ROW('MEMORIAL DESCRITIVO-BRI'!$Q$2:$Q$4000)),ROW(B535))), \"\")","v":""}]
[null,{"$f":"IFERROR(INDEX('MEMORIAL DESCRITIVO-BRI'!B:B,SMALL(IF('MEMORIAL DESCRITIVO-BRI'!$E$2:$E$4000=\"Sim\",ROW('MEMORIAL DESCRITIVO-BRI'!$B$2:$B$4000)),ROW(B536))), \"\")","v":""},{"$f":"IFERROR(INDEX('MEMORIAL DESCRITIVO-BRI'!I:I,SMALL(IF('MEMORIAL DESCRITIVO-BRI'!$E$2:$E$4000=\"Sim\",ROW('MEMORIAL DESCRITIVO-BRI'!$I$2:$I$4000)),ROW(B536))), \"\")","v":""},{"$f":"IFERROR(INDEX('MEMORIAL DESCRITIVO-BRI'!F:F,SMALL(IF('MEMORIAL DESCRITIVO-BRI'!$E$2:$E$4000=\"Sim\",ROW('MEMORIAL DESCRITIVO-BRI'!$F$2:$F$4000)),ROW(B536))) & \" - \" & INDEX('MEMORIAL DESCRITIVO-BRI'!H:H,SMALL(IF('MEMORIAL DESCRITIVO-BRI'!$E$2:$E$4000=\"Sim\",ROW('MEMORIAL DESCRITIVO-BRI'!$H$2:$H$4000)),ROW(B536))), \"\")","v":""},null,{"$f":"IFERROR(INDEX('MEMORIAL DESCRITIVO-BRI'!S:S,SMALL(IF('MEMORIAL DESCRITIVO-BRI'!$E$2:$E$4000=\"Sim\",ROW('MEMORIAL DESCRITIVO-BRI'!$S$2:$S$4000)),ROW(B536))), \"\")","v":""},{"$f":"IFERROR(INDEX('MEMORIAL DESCRITIVO-BRI'!Z:Z,SMALL(IF('MEMORIAL DESCRITIVO-BRI'!$E$2:$E$4000=\"Sim\",ROW('MEMORIAL DESCRITIVO-BRI'!$Z$2:$Z$4000)),ROW(B536))), \"\")","v":""},{"$f":"IFERROR(INDEX('MEMORIAL DESCRITIVO-BRI'!W:W,SMALL(IF('MEMORIAL DESCRITIVO-BRI'!$E$2:$E$4000=\"Sim\",ROW('MEMORIAL DESCRITIVO-BRI'!$W$2:$W$4000)),ROW(B536))), \"\")","v":""},{"$f":"IFERROR(INDEX('MEMORIAL DESCRITIVO-BRI'!G:G,SMALL(IF('MEMORIAL DESCRITIVO-BRI'!$E$2:$E$4000=\"Sim\",ROW('MEMORIAL DESCRITIVO-BRI'!$G$2:$G$4000)),ROW(B536))), \"\")","v":""},{"$f":"IFERROR(INDEX('MEMORIAL DESCRITIVO-BRI'!P:P,SMALL(IF('MEMORIAL DESCRITIVO-BRI'!$E$2:$E$4000=\"Sim\",ROW('MEMORIAL DESCRITIVO-BRI'!$P$2:$P$4000)),ROW(B536))), \"\")","v":""},{"$f":"IFERROR(INDEX('MEMORIAL DESCRITIVO-BRI'!Q:Q,SMALL(IF('MEMORIAL DESCRITIVO-BRI'!$E$2:$E$4000=\"Sim\",ROW('MEMORIAL DESCRITIVO-BRI'!$Q$2:$Q$4000)),ROW(B536))), \"\")","v":""}]
[null,{"$f":"IFERROR(INDEX('MEMORIAL DESCRITIVO-BRI'!B:B,SMALL(IF('MEMORIAL DESCRITIVO-BRI'!$E$2:$E$4000=\"Sim\",ROW('MEMORIAL DESCRITIVO-BRI'!$B$2:$B$4000)),ROW(B537))), \"\")","v":""},{"$f":"IFERROR(INDEX('MEMORIAL DESCRITIVO-BRI'!I:I,SMALL(IF('MEMORIAL DESCRITIVO-BRI'!$E$2:$E$4000=\"Sim\",ROW('MEMORIAL DESCRITIVO-BRI'!$I$2:$I$4000)),ROW(B537))), \"\")","v":""},{"$f":"IFERROR(INDEX('MEMORIAL DESCRITIVO-BRI'!F:F,SMALL(IF('MEMORIAL DESCRITIVO-BRI'!$E$2:$E$4000=\"Sim\",ROW('MEMORIAL DESCRITIVO-BRI'!$F$2:$F$4000)),ROW(B537))) & \" - \" & INDEX('MEMORIAL DESCRITIVO-BRI'!H:H,SMALL(IF('MEMORIAL DESCRITIVO-BRI'!$E$2:$E$4000=\"Sim\",ROW('MEMORIAL DESCRITIVO-BRI'!$H$2:$H$4000)),ROW(B537))), \"\")","v":""},null,{"$f":"IFERROR(INDEX('MEMORIAL DESCRITIVO-BRI'!S:S,SMALL(IF('MEMORIAL DESCRITIVO-BRI'!$E$2:$E$4000=\"Sim\",ROW('MEMORIAL DESCRITIVO-BRI'!$S$2:$S$4000)),ROW(B537))), \"\")","v":""},{"$f":"IFERROR(INDEX('MEMORIAL DESCRITIVO-BRI'!Z:Z,SMALL(IF('MEMORIAL DESCRITIVO-BRI'!$E$2:$E$4000=\"Sim\",ROW('MEMORIAL DESCRITIVO-BRI'!$Z$2:$Z$4000)),ROW(B537))), \"\")","v":""},{"$f":"IFERROR(INDEX('MEMORIAL DESCRITIVO-BRI'!W:W,SMALL(IF('MEMORIAL DESCRITIVO-BRI'!$E$2:$E$4000=\"Sim\",ROW('MEMORIAL DESCRITIVO-BRI'!$W$2:$W$4000)),ROW(B537))), \"\")","v":""},{"$f":"IFERROR(INDEX('MEMORIAL DESCRITIVO-BRI'!G:G,SMALL(IF('MEMORIAL DESCRITIVO-BRI'!$E$2:$E$4000=\"Sim\",ROW('MEMORIAL DESCRITIVO-BRI'!$G$2:$G$4000)),ROW(B537))), \"\")","v":""},{"$f":"IFERROR(INDEX('MEMORIAL DESCRITIVO-BRI'!P:P,SMALL(IF('MEMORIAL DESCRITIVO-BRI'!$E$2:$E$4000=\"Sim\",ROW('MEMORIAL DESCRITIVO-BRI'!$P$2:$P$4000)),ROW(B537))), \"\")","v":""},{"$f":"IFERROR(INDEX('MEMORIAL DESCRITIVO-BRI'!Q:Q,SMALL(IF('MEMORIAL DESCRITIVO-BRI'!$E$2:$E$4000=\"Sim\",ROW('MEMORIAL DESCRITIVO-BRI'!$Q$2:$Q$4000)),ROW(B537))), \"\")","v":""}]
[null,{"$f":"IFERROR(INDEX('MEMORIAL DESCRITIVO-BRI'!B:B,SMALL(IF('MEMORIAL DESCRITIVO-BRI'!$E$2:$E$4000=\"Sim\",ROW('MEMORIAL DESCRITIVO-BRI'!$B$2:$B$4000)),ROW(B538))), \"\")","v":""},{"$f":"IFERROR(INDEX('MEMORIAL DESCRITIVO-BRI'!I:I,SMALL(IF('MEMORIAL DESCRITIVO-BRI'!$E$2:$E$4000=\"Sim\",ROW('MEMORIAL DESCRITIVO-BRI'!$I$2:$I$4000)),ROW(B538))), \"\")","v":""},{"$f":"IFERROR(INDEX('MEMORIAL DESCRITIVO-BRI'!F:F,SMALL(IF('MEMORIAL DESCRITIVO-BRI'!$E$2:$E$4000=\"Sim\",ROW('MEMORIAL DESCRITIVO-BRI'!$F$2:$F$4000)),ROW(B538))) & \" - \" & INDEX('MEMORIAL DESCRITIVO-BRI'!H:H,SMALL(IF('MEMORIAL DESCRITIVO-BRI'!$E$2:$E$4000=\"Sim\",ROW('MEMORIAL DESCRITIVO-BRI'!$H$2:$H$4000)),ROW(B538))), \"\")","v":""},null,{"$f":"IFERROR(INDEX('MEMORIAL DESCRITIVO-BRI'!S:S,SMALL(IF('MEMORIAL DESCRITIVO-BRI'!$E$2:$E$4000=\"Sim\",ROW('MEMORIAL DESCRITIVO-BRI'!$S$2:$S$4000)),ROW(B538))), \"\")","v":""},{"$f":"IFERROR(INDEX('MEMORIAL DESCRITIVO-BRI'!Z:Z,SMALL(IF('MEMORIAL DESCRITIVO-BRI'!$E$2:$E$4000=\"Sim\",ROW('MEMORIAL DESCRITIVO-BRI'!$Z$2:$Z$4000)),ROW(B538))), \"\")","v":""},{"$f":"IFERROR(INDEX('MEMORIAL DESCRITIVO-BRI'!W:W,SMALL(IF('MEMORIAL DESCRITIVO-BRI'!$E$2:$E$4000=\"Sim\",ROW('MEMORIAL DESCRITIVO-BRI'!$W$2:$W$4000)),ROW(B538))), \"\")","v":""},{"$f":"IFERROR(INDEX('MEMORIAL DESCRITIVO-BRI'!G:G,SMALL(IF('MEMORIAL DESCRITIVO-BRI'!$E$2:$E$4000=\"Sim\",ROW('MEMORIAL DESCRITIVO-BRI'!$G$2:$G$4000)),ROW(B538))), \"\")","v":""},{"$f":"IFERROR(INDEX('MEMORIAL DESCRITIVO-BRI'!P:P,SMALL(IF('MEMORIAL DESCRITIVO-BRI'!$E$2:$E$4000=\"Sim\",ROW('MEMORIAL DESCRITIVO-BRI'!$P$2:$P$4000)),ROW(B538))), \"\")","v":""},{"$f":"IFERROR(INDEX('MEMORIAL DESCRITIVO-BRI'!Q:Q,SMALL(IF('MEMORIAL DESCRITIVO-BRI'!$E$2:$E$4000=\"Sim\",ROW('MEMORIAL DESCRITIVO-BRI'!$Q$2:$Q$4000)),ROW(B538))), \"\")","v":""}]
[null,{"$f":"IFERROR(INDEX('MEMORIAL DESCRITIVO-BRI'!B:B,SMALL(IF('MEMORIAL DESCRITIVO-BRI'!$E$2:$E$4000=\"Sim\",ROW('MEMORIAL DESCRITIVO-BRI'!$B$2:$B$4000)),ROW(B539))), \"\")","v":""},{"$f":"IFERROR(INDEX('MEMORIAL DESCRITIVO-BRI'!I:I,SMALL(IF('MEMORIAL DESCRITIVO-BRI'!$E$2:$E$4000=\"Sim\",ROW('MEMORIAL DESCRITIVO-BRI'!$I$2:$I$4000)),ROW(B539))), \"\")","v":""},{"$f":"IFERROR(INDEX('MEMORIAL DESCRITIVO-BRI'!F:F,SMALL(IF('MEMORIAL DESCRITIVO-BRI'!$E$2:$E$4000=\"Sim\",ROW('MEMORIAL DESCRITIVO-BRI'!$F$2:$F$4000)),ROW(B539))) & \" - \" & INDEX('MEMORIAL DESCRITIVO-BRI'!H:H,SMALL(IF('MEMORIAL DESCRITIVO-BRI'!$E$2:$E$4000=\"Sim\",ROW('MEMORIAL DESCRITIVO-BRI'!$H$2:$H$4000)),ROW(B539))), \"\")","v":""},null,{"$f":"IFERROR(INDEX('MEMORIAL DESCRITIVO-BRI'!S:S,SMALL(IF('MEMORIAL DESCRITIVO-BRI'!$E$2:$E$4000=\"Sim\",ROW('MEMORIAL DESCRITIVO-BRI'!$S$2:$S$4000)),ROW(B539))), \"\")","v":""},{"$f":"IFERROR(INDEX('MEMORIAL DESCRITIVO-BRI'!Z:Z,SMALL(IF('MEMORIAL DESCRITIVO-BRI'!$E$2:$E$4000=\"Sim\",ROW('MEMORIAL DESCRITIVO-BRI'!$Z$2:$Z$4000)),ROW(B539))), \"\")","v":""},{"$f":"IFERROR(INDEX('MEMORIAL DESCRITIVO-BRI'!W:W,SMALL(IF('MEMORIAL DESCRITIVO-BRI'!$E$2:$E$4000=\"Sim\",ROW('MEMORIAL DESCRITIVO-BRI'!$W$2:$W$4000)),ROW(B539))), \"\")","v":""},{"$f":"IFERROR(INDEX('MEMORIAL DESCRITIVO-BRI'!G:G,SMALL(IF('MEMORIAL DESCRITIVO-BRI'!$E$2:$E$4000=\"Sim\",ROW('MEMORIAL DESCRITIVO-BRI'!$G$2:$G$4000)),ROW(B539))), \"\")","v":""},{"$f":"IFERROR(INDEX('MEMORIAL DESCRITIVO-BRI'!P:P,SMALL(IF('MEMORIAL DESCRITIVO-BRI'!$E$2:$E$4000=\"Sim\",ROW('MEMORIAL DESCRITIVO-BRI'!$P$2:$P$4000)),ROW(B539))), \"\")","v":""},{"$f":"IFERROR(INDEX('MEMORIAL DESCRITIVO-BRI'!Q:Q,SMALL(IF('MEMORIAL DESCRITIVO-BRI'!$E$2:$E$4000=\"Sim\",ROW('MEMORIAL DESCRITIVO-BRI'!$Q$2:$Q$4000)),ROW(B539))), \"\")","v":""}]
[null,{"$f":"IFERROR(INDEX('MEMORIAL DESCRITIVO-BRI'!B:B,SMALL(IF('MEMORIAL DESCRITIVO-BRI'!$E$2:$E$4000=\"Sim\",ROW('MEMORIAL DESCRITIVO-BRI'!$B$2:$B$4000)),ROW(B540))), \"\")","v":""},{"$f":"IFERROR(INDEX('MEMORIAL DESCRITIVO-BRI'!I:I,SMALL(IF('MEMORIAL DESCRITIVO-BRI'!$E$2:$E$4000=\"Sim\",ROW('MEMORIAL DESCRITIVO-BRI'!$I$2:$I$4000)),ROW(B540))), \"\")","v":""},{"$f":"IFERROR(INDEX('MEMORIAL DESCRITIVO-BRI'!F:F,SMALL(IF('MEMORIAL DESCRITIVO-BRI'!$E$2:$E$4000=\"Sim\",ROW('MEMORIAL DESCRITIVO-BRI'!$F$2:$F$4000)),ROW(B540))) & \" - \" & INDEX('MEMORIAL DESCRITIVO-BRI'!H:H,SMALL(IF('MEMORIAL DESCRITIVO-BRI'!$E$2:$E$4000=\"Sim\",ROW('MEMORIAL DESCRITIVO-BRI'!$H$2:$H$4000)),ROW(B540))), \"\")","v":""},null,{"$f":"IFERROR(INDEX('MEMORIAL DESCRITIVO-BRI'!S:S,SMALL(IF('MEMORIAL DESCRITIVO-BRI'!$E$2:$E$4000=\"Sim\",ROW('MEMORIAL DESCRITIVO-BRI'!$S$2:$S$4000)),ROW(B540))), \"\")","v":""},{"$f":"IFERROR(INDEX('MEMORIAL DESCRITIVO-BRI'!Z:Z,SMALL(IF('MEMORIAL DESCRITIVO-BRI'!$E$2:$E$4000=\"Sim\",ROW('MEMORIAL DESCRITIVO-BRI'!$Z$2:$Z$4000)),ROW(B540))), \"\")","v":""},{"$f":"IFERROR(INDEX('MEMORIAL DESCRITIVO-BRI'!W:W,SMALL(IF('MEMORIAL DESCRITIVO-BRI'!$E$2:$E$4000=\"Sim\",ROW('MEMORIAL DESCRITIVO-BRI'!$W$2:$W$4000)),ROW(B540))), \"\")","v":""},{"$f":"IFERROR(INDEX('MEMORIAL DESCRITIVO-BRI'!G:G,SMALL(IF('MEMORIAL DESCRITIVO-BRI'!$E$2:$E$4000=\"Sim\",ROW('MEMORIAL DESCRITIVO-BRI'!$G$2:$G$4000)),ROW(B540))), \"\")","v":""},{"$f":"IFERROR(INDEX('MEMORIAL DESCRITIVO-BRI'!P:P,SMALL(IF('MEMORIAL DESCRITIVO-BRI'!$E$2:$E$4000=\"Sim\",ROW('MEMORIAL DESCRITIVO-BRI'!$P$2:$P$4000)),ROW(B540))), \"\")","v":""},{"$f":"IFERROR(INDEX('MEMORIAL DESCRITIVO-BRI'!Q:Q,SMALL(IF('MEMORIAL DESCRITIVO-BRI'!$E$2:$E$4000=\"Sim\",ROW('MEMORIAL DESCRITIVO-BRI'!$Q$2:$Q$4000)),ROW(B540))), \"\")","v":""}]
[null,{"$f":"IFERROR(INDEX('MEMORIAL DESCRITIVO-BRI'!B:B,SMALL(IF('MEMORIAL DESCRITIVO-BRI'!$E$2:$E$4000=\"Sim\",ROW('MEMORIAL DESCRITIVO-BRI'!$B$2:$B$4000)),ROW(B541))), \"\")","v":""},{"$f":"IFERROR(INDEX('MEMORIAL DESCRITIVO-BRI'!I:I,SMALL(IF('MEMORIAL DESCRITIVO-BRI'!$E$2:$E$4000=\"Sim\",ROW('MEMORIAL DESCRITIVO-BRI'!$I$2:$I$4000)),ROW(B541))), \"\")","v":""},{"$f":"IFERROR(INDEX('MEMORIAL DESCRITIVO-BRI'!F:F,SMALL(IF('MEMORIAL DESCRITIVO-BRI'!$E$2:$E$4000=\"Sim\",ROW('MEMORIAL DESCRITIVO-BRI'!$F$2:$F$4000)),ROW(B541))) & \" - \" & INDEX('MEMORIAL DESCRITIVO-BRI'!H:H,SMALL(IF('MEMORIAL DESCRITIVO-BRI'!$E$2:$E$4000=\"Sim\",ROW('MEMORIAL DESCRITIVO-BRI'!$H$2:$H$4000)),ROW(B541))), \"\")","v":""},null,{"$f":"IFERROR(INDEX('MEMORIAL DESCRITIVO-BRI'!S:S,SMALL(IF('MEMORIAL DESCRITIVO-BRI'!$E$2:$E$4000=\"Sim\",ROW('MEMORIAL DESCRITIVO-BRI'!$S$2:$S$4000)),ROW(B541))), \"\")","v":""},{"$f":"IFERROR(INDEX('MEMORIAL DESCRITIVO-BRI'!Z:Z,SMALL(IF('MEMORIAL DESCRITIVO-BRI'!$E$2:$E$4000=\"Sim\",ROW('MEMORIAL DESCRITIVO-BRI'!$Z$2:$Z$4000)),ROW(B541))), \"\")","v":""},{"$f":"IFERROR(INDEX('MEMORIAL DESCRITIVO-BRI'!W:W,SMALL(IF('MEMORIAL DESCRITIVO-BRI'!$E$2:$E$4000=\"Sim\",ROW('MEMORIAL DESCRITIVO-BRI'!$W$2:$W$4000)),ROW(B541))), \"\")","v":""},{"$f":"IFERROR(INDEX('MEMORIAL DESCRITIVO-BRI'!G:G,SMALL(IF('MEMORIAL DESCRITIVO-BRI'!$E$2:$E$4000=\"Sim\",ROW('MEMORIAL DESCRITIVO-BRI'!$G$2:$G$4000)),ROW(B541))), \"\")","v":""},{"$f":"IFERROR(INDEX('MEMORIAL DESCRITIVO-BRI'!P:P,SMALL(IF('MEMORIAL DESCRITIVO-BRI'!$E$2:$E$4000=\"Sim\",ROW('MEMORIAL DESCRITIVO-BRI'!$P$2:$P$4000)),ROW(B541))), \"\")","v":""},{"$f":"IFERROR(INDEX('MEMORIAL DESCRITIVO-BRI'!Q:Q,SMALL(IF('MEMORIAL DESCRITIVO-BRI'!$E$2:$E$4000=\"Sim\",ROW('MEMORIAL DESCRITIVO-BRI'!$Q$2:$Q$4000)),ROW(B541))), \"\")","v":""}]
[null,{"$f":"IFERROR(INDEX('MEMORIAL DESCRITIVO-BRI'!B:B,SMALL(IF('MEMORIAL DESCRITIVO-BRI'!$E$2:$E$4000=\"Sim\",ROW('MEMORIAL DESCRITIVO-BRI'!$B$2:$B$4000)),ROW(B542))), \"\")","v":""},{"$f":"IFERROR(INDEX('MEMORIAL DESCRITIVO-BRI'!I:I,SMALL(IF('MEMORIAL DESCRITIVO-BRI'!$E$2:$E$4000=\"Sim\",ROW('MEMORIAL DESCRITIVO-BRI'!$I$2:$I$4000)),ROW(B542))), \"\")","v":""},{"$f":"IFERROR(INDEX('MEMORIAL DESCRITIVO-BRI'!F:F,SMALL(IF('MEMORIAL DESCRITIVO-BRI'!$E$2:$E$4000=\"Sim\",ROW('MEMORIAL DESCRITIVO-BRI'!$F$2:$F$4000)),ROW(B542))) & \" - \" & INDEX('MEMORIAL DESCRITIVO-BRI'!H:H,SMALL(IF('MEMORIAL DESCRITIVO-BRI'!$E$2:$E$4000=\"Sim\",ROW('MEMORIAL DESCRITIVO-BRI'!$H$2:$H$4000)),ROW(B542))), \"\")","v":""},null,{"$f":"IFERROR(INDEX('MEMORIAL DESCRITIVO-BRI'!S:S,SMALL(IF('MEMORIAL DESCRITIVO-BRI'!$E$2:$E$4000=\"Sim\",ROW('MEMORIAL DESCRITIVO-BRI'!$S$2:$S$4000)),ROW(B542))), \"\")","v":""},{"$f":"IFERROR(INDEX('MEMORIAL DESCRITIVO-BRI'!Z:Z,SMALL(IF('MEMORIAL DESCRITIVO-BRI'!$E$2:$E$4000=\"Sim\",ROW('MEMORIAL DESCRITIVO-BRI'!$Z$2:$Z$4000)),ROW(B542))), \"\")","v":""},{"$f":"IFERROR(INDEX('MEMORIAL DESCRITIVO-BRI'!W:W,SMALL(IF('MEMORIAL DESCRITIVO-BRI'!$E$2:$E$4000=\"Sim\",ROW('MEMORIAL DESCRITIVO-BRI'!$W$2:$W$4000)),ROW(B542))), \"\")","v":""},{"$f":"IFERROR(INDEX('MEMORIAL DESCRITIVO-BRI'!G:G,SMALL(IF('MEMORIAL DESCRITIVO-BRI'!$E$2:$E$4000=\"Sim\",ROW('MEMORIAL DESCRITIVO-BRI'!$G$2:$G$4000)),ROW(B542))), \"\")","v":""},{"$f":"IFERROR(INDEX('MEMORIAL DESCRITIVO-BRI'!P:P,SMALL(IF('MEMORIAL DESCRITIVO-BRI'!$E$2:$E$4000=\"Sim\",ROW('MEMORIAL DESCRITIVO-BRI'!$P$2:$P$4000)),ROW(B542))), \"\")","v":""},{"$f":"IFERROR(INDEX('MEMORIAL DESCRITIVO-BRI'!Q:Q,SMALL(IF('MEMORIAL DESCRITIVO-BRI'!$E$2:$E$4000=\"Sim\",ROW('MEMORIAL DESCRITIVO-BRI'!$Q$2:$Q$4000)),ROW(B542))), \"\")","v":""}]
[null,{"$f":"IFERROR(INDEX('MEMORIAL DESCRITIVO-BRI'!B:B,SMALL(IF('MEMORIAL DESCRITIVO-BRI'!$E$2:$E$4000=\"Sim\",ROW('MEMORIAL DESCRITIVO-BRI'!$B$2:$B$4000)),ROW(B543))), \"\")","v":""},{"$f":"IFERROR(INDEX('MEMORIAL DESCRITIVO-BRI'!I:I,SMALL(IF('MEMORIAL DESCRITIVO-BRI'!$E$2:$E$4000=\"Sim\",ROW('MEMORIAL DESCRITIVO-BRI'!$I$2:$I$4000)),ROW(B543))), \"\")","v":""},{"$f":"IFERROR(INDEX('MEMORIAL DESCRITIVO-BRI'!F:F,SMALL(IF('MEMORIAL DESCRITIVO-BRI'!$E$2:$E$4000=\"Sim\",ROW('MEMORIAL DESCRITIVO-BRI'!$F$2:$F$4000)),ROW(B543))) & \" - \" & INDEX('MEMORIAL DESCRITIVO-BRI'!H:H,SMALL(IF('MEMORIAL DESCRITIVO-BRI'!$E$2:$E$4000=\"Sim\",ROW('MEMORIAL DESCRITIVO-BRI'!$H$2:$H$4000)),ROW(B543))), \"\")","v":""},null,{"$f":"IFERROR(INDEX('MEMORIAL DESCRITIVO-BRI'!S:S,SMALL(IF('MEMORIAL DESCRITIVO-BRI'!$E$2:$E$4000=\"Sim\",ROW('MEMORIAL DESCRITIVO-BRI'!$S$2:$S$4000)),ROW(B543))), \"\")","v":""},{"$f":"IFERROR(INDEX('MEMORIAL DESCRITIVO-BRI'!Z:Z,SMALL(IF('MEMORIAL DESCRITIVO-BRI'!$E$2:$E$4000=\"Sim\",ROW('MEMORIAL DESCRITIVO-BRI'!$Z$2:$Z$4000)),ROW(B543))), \"\")","v":""},{"$f":"IFERROR(INDEX('MEMORIAL DESCRITIVO-BRI'!W:W,SMALL(IF('MEMORIAL DESCRITIVO-BRI'!$E$2:$E$4000=\"Sim\",ROW('MEMORIAL DESCRITIVO-BRI'!$W$2:$W$4000)),ROW(B543))), \"\")","v":""},{"$f":"IFERROR(INDEX('MEMORIAL DESCRITIVO-BRI'!G:G,SMALL(IF('MEMORIAL DESCRITIVO-BRI'!$E$2:$E$4000=\"Sim\",ROW('MEMORIAL DESCRITIVO-BRI'!$G$2:$G$4000)),ROW(B543))), \"\")","v":""},{"$f":"IFERROR(INDEX('MEMORIAL DESCRITIVO-BRI'!P:P,SMALL(IF('MEMORIAL DESCRITIVO-BRI'!$E$2:$E$4000=\"Sim\",ROW('MEMORIAL DESCRITIVO-BRI'!$P$2:$P$4000)),ROW(B543))), \"\")","v":""},{"$f":"IFERROR(INDEX('MEMORIAL DESCRITIVO-BRI'!Q:Q,SMALL(IF('MEMORIAL DESCRITIVO-BRI'!$E$2:$E$4000=\"Sim\",ROW('MEMORIAL DESCRITIVO-BRI'!$Q$2:$Q$4000)),ROW(B543))), \"\")","v":""}]
[null,{"$f":"IFERROR(INDEX('MEMORIAL DESCRITIVO-BRI'!B:B,SMALL(IF('MEMORIAL DESCRITIVO-BRI'!$E$2:$E$4000=\"Sim\",ROW('MEMORIAL DESCRITIVO-BRI'!$B$2:$B$4000)),ROW(B544))), \"\")","v":""},{"$f":"IFERROR(INDEX('MEMORIAL DESCRITIVO-BRI'!I:I,SMALL(IF('MEMORIAL DESCRITIVO-BRI'!$E$2:$E$4000=\"Sim\",ROW('MEMORIAL DESCRITIVO-BRI'!$I$2:$I$4000)),ROW(B544))), \"\")","v":""},{"$f":"IFERROR(INDEX('MEMORIAL DESCRITIVO-BRI'!F:F,SMALL(IF('MEMORIAL DESCRITIVO-BRI'!$E$2:$E$4000=\"Sim\",ROW('MEMORIAL DESCRITIVO-BRI'!$F$2:$F$4000)),ROW(B544))) & \" - \" & INDEX('MEMORIAL DESCRITIVO-BRI'!H:H,SMALL(IF('MEMORIAL DESCRITIVO-BRI'!$E$2:$E$4000=\"Sim\",ROW('MEMORIAL DESCRITIVO-BRI'!$H$2:$H$4000)),ROW(B544))), \"\")","v":""},null,{"$f":"IFERROR(INDEX('MEMORIAL DESCRITIVO-BRI'!S:S,SMALL(IF('MEMORIAL DESCRITIVO-BRI'!$E$2:$E$4000=\"Sim\",ROW('MEMORIAL DESCRITIVO-BRI'!$S$2:$S$4000)),ROW(B544))), \"\")","v":""},{"$f":"IFERROR(INDEX('MEMORIAL DESCRITIVO-BRI'!Z:Z,SMALL(IF('MEMORIAL DESCRITIVO-BRI'!$E$2:$E$4000=\"Sim\",ROW('MEMORIAL DESCRITIVO-BRI'!$Z$2:$Z$4000)),ROW(B544))), \"\")","v":""},{"$f":"IFERROR(INDEX('MEMORIAL DESCRITIVO-BRI'!W:W,SMALL(IF('MEMORIAL DESCRITIVO-BRI'!$E$2:$E$4000=\"Sim\",ROW('MEMORIAL DESCRITIVO-BRI'!$W$2:$W$4000)),ROW(B544))), \"\")","v":""},{"$f":"IFERROR(INDEX('MEMORIAL DESCRITIVO-BRI'!G:G,SMALL(IF('MEMORIAL DESCRITIVO-BRI'!$E$2:$E$4000=\"Sim\",ROW('MEMORIAL DESCRITIVO-BRI'!$G$2:$G$4000)),ROW(B544))), \"\")","v":""},{"$f":"IFERROR(INDEX('MEMORIAL DESCRITIVO-BRI'!P:P,SMALL(IF('MEMORIAL DESCRITIVO-BRI'!$E$2:$E$4000=\"Sim\",ROW('MEMORIAL DESCRITIVO-BRI'!$P$2:$P$4000)),ROW(B544))), \"\")","v":""},{"$f":"IFERROR(INDEX('MEMORIAL DESCRITIVO-BRI'!Q:Q,SMALL(IF('MEMORIAL DESCRITIVO-BRI'!$E$2:$E$4000=\"Sim\",ROW('MEMORIAL DESCRITIVO-BRI'!$Q$2:$Q$4000)),ROW(B544))), \"\")","v":""}]
[null,{"$f":"IFERROR(INDEX('MEMORIAL DESCRITIVO-BRI'!B:B,SMALL(IF('MEMORIAL DESCRITIVO-BRI'!$E$2:$E$4000=\"Sim\",ROW('MEMORIAL DESCRITIVO-BRI'!$B$2:$B$4000)),ROW(B545))), \"\")","v":""},{"$f":"IFERROR(INDEX('MEMORIAL DESCRITIVO-BRI'!I:I,SMALL(IF('MEMORIAL DESCRITIVO-BRI'!$E$2:$E$4000=\"Sim\",ROW('MEMORIAL DESCRITIVO-BRI'!$I$2:$I$4000)),ROW(B545))), \"\")","v":""},{"$f":"IFERROR(INDEX('MEMORIAL DESCRITIVO-BRI'!F:F,SMALL(IF('MEMORIAL DESCRITIVO-BRI'!$E$2:$E$4000=\"Sim\",ROW('MEMORIAL DESCRITIVO-BRI'!$F$2:$F$4000)),ROW(B545))) & \" - \" & INDEX('MEMORIAL DESCRITIVO-BRI'!H:H,SMALL(IF('MEMORIAL DESCRITIVO-BRI'!$E$2:$E$4000=\"Sim\",ROW('MEMORIAL DESCRITIVO-BRI'!$H$2:$H$4000)),ROW(B545))), \"\")","v":""},null,{"$f":"IFERROR(INDEX('MEMORIAL DESCRITIVO-BRI'!S:S,SMALL(IF('MEMORIAL DESCRITIVO-BRI'!$E$2:$E$4000=\"Sim\",ROW('MEMORIAL DESCRITIVO-BRI'!$S$2:$S$4000)),ROW(B545))), \"\")","v":""},{"$f":"IFERROR(INDEX('MEMORIAL DESCRITIVO-BRI'!Z:Z,SMALL(IF('MEMORIAL DESCRITIVO-BRI'!$E$2:$E$4000=\"Sim\",ROW('MEMORIAL DESCRITIVO-BRI'!$Z$2:$Z$4000)),ROW(B545))), \"\")","v":""},{"$f":"IFERROR(INDEX('MEMORIAL DESCRITIVO-BRI'!W:W,SMALL(IF('MEMORIAL DESCRITIVO-BRI'!$E$2:$E$4000=\"Sim\",ROW('MEMORIAL DESCRITIVO-BRI'!$W$2:$W$4000)),ROW(B545))), \"\")","v":""},{"$f":"IFERROR(INDEX('MEMORIAL DESCRITIVO-BRI'!G:G,SMALL(IF('MEMORIAL DESCRITIVO-BRI'!$E$2:$E$4000=\"Sim\",ROW('MEMORIAL DESCRITIVO-BRI'!$G$2:$G$4000)),ROW(B545))), \"\")","v":""},{"$f":"IFERROR(INDEX('MEMORIAL DESCRITIVO-BRI'!P:P,SMALL(IF('MEMORIAL DESCRITIVO-BRI'!$E$2:$E$4000=\"Sim\",ROW('MEMORIAL DESCRITIVO-BRI'!$P$2:$P$4000)),ROW(B545))), \"\")","v":""},{"$f":"IFERROR(INDEX('MEMORIAL DESCRITIVO-BRI'!Q:Q,SMALL(IF('MEMORIAL DESCRITIVO-BRI'!$E$2:$E$4000=\"Sim\",ROW('MEMORIAL DESCRITIVO-BRI'!$Q$2:$Q$4000)),ROW(B545))), \"\")","v":""}]
[null,{"$f":"IFERROR(INDEX('MEMORIAL DESCRITIVO-BRI'!B:B,SMALL(IF('MEMORIAL DESCRITIVO-BRI'!$E$2:$E$4000=\"Sim\",ROW('MEMORIAL DESCRITIVO-BRI'!$B$2:$B$4000)),ROW(B546))), \"\")","v":""},{"$f":"IFERROR(INDEX('MEMORIAL DESCRITIVO-BRI'!I:I,SMALL(IF('MEMORIAL DESCRITIVO-BRI'!$E$2:$E$4000=\"Sim\",ROW('MEMORIAL DESCRITIVO-BRI'!$I$2:$I$4000)),ROW(B546))), \"\")","v":""},{"$f":"IFERROR(INDEX('MEMORIAL DESCRITIVO-BRI'!F:F,SMALL(IF('MEMORIAL DESCRITIVO-BRI'!$E$2:$E$4000=\"Sim\",ROW('MEMORIAL DESCRITIVO-BRI'!$F$2:$F$4000)),ROW(B546))) & \" - \" & INDEX('MEMORIAL DESCRITIVO-BRI'!H:H,SMALL(IF('MEMORIAL DESCRITIVO-BRI'!$E$2:$E$4000=\"Sim\",ROW('MEMORIAL DESCRITIVO-BRI'!$H$2:$H$4000)),ROW(B546))), \"\")","v":""},null,{"$f":"IFERROR(INDEX('MEMORIAL DESCRITIVO-BRI'!S:S,SMALL(IF('MEMORIAL DESCRITIVO-BRI'!$E$2:$E$4000=\"Sim\",ROW('MEMORIAL DESCRITIVO-BRI'!$S$2:$S$4000)),ROW(B546))), \"\")","v":""},{"$f":"IFERROR(INDEX('MEMORIAL DESCRITIVO-BRI'!Z:Z,SMALL(IF('MEMORIAL DESCRITIVO-BRI'!$E$2:$E$4000=\"Sim\",ROW('MEMORIAL DESCRITIVO-BRI'!$Z$2:$Z$4000)),ROW(B546))), \"\")","v":""},{"$f":"IFERROR(INDEX('MEMORIAL DESCRITIVO-BRI'!W:W,SMALL(IF('MEMORIAL DESCRITIVO-BRI'!$E$2:$E$4000=\"Sim\",ROW('MEMORIAL DESCRITIVO-BRI'!$W$2:$W$4000)),ROW(B546))), \"\")","v":""},{"$f":"IFERROR(INDEX('MEMORIAL DESCRITIVO-BRI'!G:G,SMALL(IF('MEMORIAL DESCRITIVO-BRI'!$E$2:$E$4000=\"Sim\",ROW('MEMORIAL DESCRITIVO-BRI'!$G$2:$G$4000)),ROW(B546))), \"\")","v":""},{"$f":"IFERROR(INDEX('MEMORIAL DESCRITIVO-BRI'!P:P,SMALL(IF('MEMORIAL DESCRITIVO-BRI'!$E$2:$E$4000=\"Sim\",ROW('MEMORIAL DESCRITIVO-BRI'!$P$2:$P$4000)),ROW(B546))), \"\")","v":""},{"$f":"IFERROR(INDEX('MEMORIAL DESCRITIVO-BRI'!Q:Q,SMALL(IF('MEMORIAL DESCRITIVO-BRI'!$E$2:$E$4000=\"Sim\",ROW('MEMORIAL DESCRITIVO-BRI'!$Q$2:$Q$4000)),ROW(B546))), \"\")","v":""}]
[null,{"$f":"IFERROR(INDEX('MEMORIAL DESCRITIVO-BRI'!B:B,SMALL(IF('MEMORIAL DESCRITIVO-BRI'!$E$2:$E$4000=\"Sim\",ROW('MEMORIAL DESCRITIVO-BRI'!$B$2:$B$4000)),ROW(B547))), \"\")","v":""},{"$f":"IFERROR(INDEX('MEMORIAL DESCRITIVO-BRI'!I:I,SMALL(IF('MEMORIAL DESCRITIVO-BRI'!$E$2:$E$4000=\"Sim\",ROW('MEMORIAL DESCRITIVO-BRI'!$I$2:$I$4000)),ROW(B547))), \"\")","v":""},{"$f":"IFERROR(INDEX('MEMORIAL DESCRITIVO-BRI'!F:F,SMALL(IF('MEMORIAL DESCRITIVO-BRI'!$E$2:$E$4000=\"Sim\",ROW('MEMORIAL DESCRITIVO-BRI'!$F$2:$F$4000)),ROW(B547))) & \" - \" & INDEX('MEMORIAL DESCRITIVO-BRI'!H:H,SMALL(IF('MEMORIAL DESCRITIVO-BRI'!$E$2:$E$4000=\"Sim\",ROW('MEMORIAL DESCRITIVO-BRI'!$H$2:$H$4000)),ROW(B547))), \"\")","v":""},null,{"$f":"IFERROR(INDEX('MEMORIAL DESCRITIVO-BRI'!S:S,SMALL(IF('MEMORIAL DESCRITIVO-BRI'!$E$2:$E$4000=\"Sim\",ROW('MEMORIAL DESCRITIVO-BRI'!$S$2:$S$4000)),ROW(B547))), \"\")","v":""},{"$f":"IFERROR(INDEX('MEMORIAL DESCRITIVO-BRI'!Z:Z,SMALL(IF('MEMORIAL DESCRITIVO-BRI'!$E$2:$E$4000=\"Sim\",ROW('MEMORIAL DESCRITIVO-BRI'!$Z$2:$Z$4000)),ROW(B547))), \"\")","v":""},{"$f":"IFERROR(INDEX('MEMORIAL DESCRITIVO-BRI'!W:W,SMALL(IF('MEMORIAL DESCRITIVO-BRI'!$E$2:$E$4000=\"Sim\",ROW('MEMORIAL DESCRITIVO-BRI'!$W$2:$W$4000)),ROW(B547))), \"\")","v":""},{"$f":"IFERROR(INDEX('MEMORIAL DESCRITIVO-BRI'!G:G,SMALL(IF('MEMORIAL DESCRITIVO-BRI'!$E$2:$E$4000=\"Sim\",ROW('MEMORIAL DESCRITIVO-BRI'!$G$2:$G$4000)),ROW(B547))), \"\")","v":""},{"$f":"IFERROR(INDEX('MEMORIAL DESCRITIVO-BRI'!P:P,SMALL(IF('MEMORIAL DESCRITIVO-BRI'!$E$2:$E$4000=\"Sim\",ROW('MEMORIAL DESCRITIVO-BRI'!$P$2:$P$4000)),ROW(B547))), \"\")","v":""},{"$f":"IFERROR(INDEX('MEMORIAL DESCRITIVO-BRI'!Q:Q,SMALL(IF('MEMORIAL DESCRITIVO-BRI'!$E$2:$E$4000=\"Sim\",ROW('MEMORIAL DESCRITIVO-BRI'!$Q$2:$Q$4000)),ROW(B547))), \"\")","v":""}]
[null,{"$f":"IFERROR(INDEX('MEMORIAL DESCRITIVO-BRI'!B:B,SMALL(IF('MEMORIAL DESCRITIVO-BRI'!$E$2:$E$4000=\"Sim\",ROW('MEMORIAL DESCRITIVO-BRI'!$B$2:$B$4000)),ROW(B548))), \"\")","v":""},{"$f":"IFERROR(INDEX('MEMORIAL DESCRITIVO-BRI'!I:I,SMALL(IF('MEMORIAL DESCRITIVO-BRI'!$E$2:$E$4000=\"Sim\",ROW('MEMORIAL DESCRITIVO-BRI'!$I$2:$I$4000)),ROW(B548))), \"\")","v":""},{"$f":"IFERROR(INDEX('MEMORIAL DESCRITIVO-BRI'!F:F,SMALL(IF('MEMORIAL DESCRITIVO-BRI'!$E$2:$E$4000=\"Sim\",ROW('MEMORIAL DESCRITIVO-BRI'!$F$2:$F$4000)),ROW(B548))) & \" - \" & INDEX('MEMORIAL DESCRITIVO-BRI'!H:H,SMALL(IF('MEMORIAL DESCRITIVO-BRI'!$E$2:$E$4000=\"Sim\",ROW('MEMORIAL DESCRITIVO-BRI'!$H$2:$H$4000)),ROW(B548))), \"\")","v":""},null,{"$f":"IFERROR(INDEX('MEMORIAL DESCRITIVO-BRI'!S:S,SMALL(IF('MEMORIAL DESCRITIVO-BRI'!$E$2:$E$4000=\"Sim\",ROW('MEMORIAL DESCRITIVO-BRI'!$S$2:$S$4000)),ROW(B548))), \"\")","v":""},{"$f":"IFERROR(INDEX('MEMORIAL DESCRITIVO-BRI'!Z:Z,SMALL(IF('MEMORIAL DESCRITIVO-BRI'!$E$2:$E$4000=\"Sim\",ROW('MEMORIAL DESCRITIVO-BRI'!$Z$2:$Z$4000)),ROW(B548))), \"\")","v":""},{"$f":"IFERROR(INDEX('MEMORIAL DESCRITIVO-BRI'!W:W,SMALL(IF('MEMORIAL DESCRITIVO-BRI'!$E$2:$E$4000=\"Sim\",ROW('MEMORIAL DESCRITIVO-BRI'!$W$2:$W$4000)),ROW(B548))), \"\")","v":""},{"$f":"IFERROR(INDEX('MEMORIAL DESCRITIVO-BRI'!G:G,SMALL(IF('MEMORIAL DESCRITIVO-BRI'!$E$2:$E$4000=\"Sim\",ROW('MEMORIAL DESCRITIVO-BRI'!$G$2:$G$4000)),ROW(B548))), \"\")","v":""},{"$f":"IFERROR(INDEX('MEMORIAL DESCRITIVO-BRI'!P:P,SMALL(IF('MEMORIAL DESCRITIVO-BRI'!$E$2:$E$4000=\"Sim\",ROW('MEMORIAL DESCRITIVO-BRI'!$P$2:$P$4000)),ROW(B548))), \"\")","v":""},{"$f":"IFERROR(INDEX('MEMORIAL DESCRITIVO-BRI'!Q:Q,SMALL(IF('MEMORIAL DESCRITIVO-BRI'!$E$2:$E$4000=\"Sim\",ROW('MEMORIAL DESCRITIVO-BRI'!$Q$2:$Q$4000)),ROW(B548))), \"\")","v":""}]
[null,{"$f":"IFERROR(INDEX('MEMORIAL DESCRITIVO-BRI'!B:B,SMALL(IF('MEMORIAL DESCRITIVO-BRI'!$E$2:$E$4000=\"Sim\",ROW('MEMORIAL DESCRITIVO-BRI'!$B$2:$B$4000)),ROW(B549))), \"\")","v":""},{"$f":"IFERROR(INDEX('MEMORIAL DESCRITIVO-BRI'!I:I,SMALL(IF('MEMORIAL DESCRITIVO-BRI'!$E$2:$E$4000=\"Sim\",ROW('MEMORIAL DESCRITIVO-BRI'!$I$2:$I$4000)),ROW(B549))), \"\")","v":""},{"$f":"IFERROR(INDEX('MEMORIAL DESCRITIVO-BRI'!F:F,SMALL(IF('MEMORIAL DESCRITIVO-BRI'!$E$2:$E$4000=\"Sim\",ROW('MEMORIAL DESCRITIVO-BRI'!$F$2:$F$4000)),ROW(B549))) & \" - \" & INDEX('MEMORIAL DESCRITIVO-BRI'!H:H,SMALL(IF('MEMORIAL DESCRITIVO-BRI'!$E$2:$E$4000=\"Sim\",ROW('MEMORIAL DESCRITIVO-BRI'!$H$2:$H$4000)),ROW(B549))), \"\")","v":""},null,{"$f":"IFERROR(INDEX('MEMORIAL DESCRITIVO-BRI'!S:S,SMALL(IF('MEMORIAL DESCRITIVO-BRI'!$E$2:$E$4000=\"Sim\",ROW('MEMORIAL DESCRITIVO-BRI'!$S$2:$S$4000)),ROW(B549))), \"\")","v":""},{"$f":"IFERROR(INDEX('MEMORIAL DESCRITIVO-BRI'!Z:Z,SMALL(IF('MEMORIAL DESCRITIVO-BRI'!$E$2:$E$4000=\"Sim\",ROW('MEMORIAL DESCRITIVO-BRI'!$Z$2:$Z$4000)),ROW(B549))), \"\")","v":""},{"$f":"IFERROR(INDEX('MEMORIAL DESCRITIVO-BRI'!W:W,SMALL(IF('MEMORIAL DESCRITIVO-BRI'!$E$2:$E$4000=\"Sim\",ROW('MEMORIAL DESCRITIVO-BRI'!$W$2:$W$4000)),ROW(B549))), \"\")","v":""},{"$f":"IFERROR(INDEX('MEMORIAL DESCRITIVO-BRI'!G:G,SMALL(IF('MEMORIAL DESCRITIVO-BRI'!$E$2:$E$4000=\"Sim\",ROW('MEMORIAL DESCRITIVO-BRI'!$G$2:$G$4000)),ROW(B549))), \"\")","v":""},{"$f":"IFERROR(INDEX('MEMORIAL DESCRITIVO-BRI'!P:P,SMALL(IF('MEMORIAL DESCRITIVO-BRI'!$E$2:$E$4000=\"Sim\",ROW('MEMORIAL DESCRITIVO-BRI'!$P$2:$P$4000)),ROW(B549))), \"\")","v":""},{"$f":"IFERROR(INDEX('MEMORIAL DESCRITIVO-BRI'!Q:Q,SMALL(IF('MEMORIAL DESCRITIVO-BRI'!$E$2:$E$4000=\"Sim\",ROW('MEMORIAL DESCRITIVO-BRI'!$Q$2:$Q$4000)),ROW(B549))), \"\")","v":""}]
[null,{"$f":"IFERROR(INDEX('MEMORIAL DESCRITIVO-BRI'!B:B,SMALL(IF('MEMORIAL DESCRITIVO-BRI'!$E$2:$E$4000=\"Sim\",ROW('MEMORIAL DESCRITIVO-BRI'!$B$2:$B$4000)),ROW(B550))), \"\")","v":""},{"$f":"IFERROR(INDEX('MEMORIAL DESCRITIVO-BRI'!I:I,SMALL(IF('MEMORIAL DESCRITIVO-BRI'!$E$2:$E$4000=\"Sim\",ROW('MEMORIAL DESCRITIVO-BRI'!$I$2:$I$4000)),ROW(B550))), \"\")","v":""},{"$f":"IFERROR(INDEX('MEMORIAL DESCRITIVO-BRI'!F:F,SMALL(IF('MEMORIAL DESCRITIVO-BRI'!$E$2:$E$4000=\"Sim\",ROW('MEMORIAL DESCRITIVO-BRI'!$F$2:$F$4000)),ROW(B550))) & \" - \" & INDEX('MEMORIAL DESCRITIVO-BRI'!H:H,SMALL(IF('MEMORIAL DESCRITIVO-BRI'!$E$2:$E$4000=\"Sim\",ROW('MEMORIAL DESCRITIVO-BRI'!$H$2:$H$4000)),ROW(B550))), \"\")","v":""},null,{"$f":"IFERROR(INDEX('MEMORIAL DESCRITIVO-BRI'!S:S,SMALL(IF('MEMORIAL DESCRITIVO-BRI'!$E$2:$E$4000=\"Sim\",ROW('MEMORIAL DESCRITIVO-BRI'!$S$2:$S$4000)),ROW(B550))), \"\")","v":""},{"$f":"IFERROR(INDEX('MEMORIAL DESCRITIVO-BRI'!Z:Z,SMALL(IF('MEMORIAL DESCRITIVO-BRI'!$E$2:$E$4000=\"Sim\",ROW('MEMORIAL DESCRITIVO-BRI'!$Z$2:$Z$4000)),ROW(B550))), \"\")","v":""},{"$f":"IFERROR(INDEX('MEMORIAL DESCRITIVO-BRI'!W:W,SMALL(IF('MEMORIAL DESCRITIVO-BRI'!$E$2:$E$4000=\"Sim\",ROW('MEMORIAL DESCRITIVO-BRI'!$W$2:$W$4000)),ROW(B550))), \"\")","v":""},{"$f":"IFERROR(INDEX('MEMORIAL DESCRITIVO-BRI'!G:G,SMALL(IF('MEMORIAL DESCRITIVO-BRI'!$E$2:$E$4000=\"Sim\",ROW('MEMORIAL DESCRITIVO-BRI'!$G$2:$G$4000)),ROW(B550))), \"\")","v":""},{"$f":"IFERROR(INDEX('MEMORIAL DESCRITIVO-BRI'!P:P,SMALL(IF('MEMORIAL DESCRITIVO-BRI'!$E$2:$E$4000=\"Sim\",ROW('MEMORIAL DESCRITIVO-BRI'!$P$2:$P$4000)),ROW(B550))), \"\")","v":""},{"$f":"IFERROR(INDEX('MEMORIAL DESCRITIVO-BRI'!Q:Q,SMALL(IF('MEMORIAL DESCRITIVO-BRI'!$E$2:$E$4000=\"Sim\",ROW('MEMORIAL DESCRITIVO-BRI'!$Q$2:$Q$4000)),ROW(B550))), \"\")","v":""}]
[null,{"$f":"IFERROR(INDEX('MEMORIAL DESCRITIVO-BRI'!B:B,SMALL(IF('MEMORIAL DESCRITIVO-BRI'!$E$2:$E$4000=\"Sim\",ROW('MEMORIAL DESCRITIVO-BRI'!$B$2:$B$4000)),ROW(B551))), \"\")","v":""},{"$f":"IFERROR(INDEX('MEMORIAL DESCRITIVO-BRI'!I:I,SMALL(IF('MEMORIAL DESCRITIVO-BRI'!$E$2:$E$4000=\"Sim\",ROW('MEMORIAL DESCRITIVO-BRI'!$I$2:$I$4000)),ROW(B551))), \"\")","v":""},{"$f":"IFERROR(INDEX('MEMORIAL DESCRITIVO-BRI'!F:F,SMALL(IF('MEMORIAL DESCRITIVO-BRI'!$E$2:$E$4000=\"Sim\",ROW('MEMORIAL DESCRITIVO-BRI'!$F$2:$F$4000)),ROW(B551))) & \" - \" & INDEX('MEMORIAL DESCRITIVO-BRI'!H:H,SMALL(IF('MEMORIAL DESCRITIVO-BRI'!$E$2:$E$4000=\"Sim\",ROW('MEMORIAL DESCRITIVO-BRI'!$H$2:$H$4000)),ROW(B551))), \"\")","v":""},null,{"$f":"IFERROR(INDEX('MEMORIAL DESCRITIVO-BRI'!S:S,SMALL(IF('MEMORIAL DESCRITIVO-BRI'!$E$2:$E$4000=\"Sim\",ROW('MEMORIAL DESCRITIVO-BRI'!$S$2:$S$4000)),ROW(B551))), \"\")","v":""},{"$f":"IFERROR(INDEX('MEMORIAL DESCRITIVO-BRI'!Z:Z,SMALL(IF('MEMORIAL DESCRITIVO-BRI'!$E$2:$E$4000=\"Sim\",ROW('MEMORIAL DESCRITIVO-BRI'!$Z$2:$Z$4000)),ROW(B551))), \"\")","v":""},{"$f":"IFERROR(INDEX('MEMORIAL DESCRITIVO-BRI'!W:W,SMALL(IF('MEMORIAL DESCRITIVO-BRI'!$E$2:$E$4000=\"Sim\",ROW('MEMORIAL DESCRITIVO-BRI'!$W$2:$W$4000)),ROW(B551))), \"\")","v":""},{"$f":"IFERROR(INDEX('MEMORIAL DESCRITIVO-BRI'!G:G,SMALL(IF('MEMORIAL DESCRITIVO-BRI'!$E$2:$E$4000=\"Sim\",ROW('MEMORIAL DESCRITIVO-BRI'!$G$2:$G$4000)),ROW(B551))), \"\")","v":""},{"$f":"IFERROR(INDEX('MEMORIAL DESCRITIVO-BRI'!P:P,SMALL(IF('MEMORIAL DESCRITIVO-BRI'!$E$2:$E$4000=\"Sim\",ROW('MEMORIAL DESCRITIVO-BRI'!$P$2:$P$4000)),ROW(B551))), \"\")","v":""},{"$f":"IFERROR(INDEX('MEMORIAL DESCRITIVO-BRI'!Q:Q,SMALL(IF('MEMORIAL DESCRITIVO-BRI'!$E$2:$E$4000=\"Sim\",ROW('MEMORIAL DESCRITIVO-BRI'!$Q$2:$Q$4000)),ROW(B551))), \"\")","v":""}]
[null,{"$f":"IFERROR(INDEX('MEMORIAL DESCRITIVO-BRI'!B:B,SMALL(IF('MEMORIAL DESCRITIVO-BRI'!$E$2:$E$4000=\"Sim\",ROW('MEMORIAL DESCRITIVO-BRI'!$B$2:$B$4000)),ROW(B552))), \"\")","v":""},{"$f":"IFERROR(INDEX('MEMORIAL DESCRITIVO-BRI'!I:I,SMALL(IF('MEMORIAL DESCRITIVO-BRI'!$E$2:$E$4000=\"Sim\",ROW('MEMORIAL DESCRITIVO-BRI'!$I$2:$I$4000)),ROW(B552))), \"\")","v":""},{"$f":"IFERROR(INDEX('MEMORIAL DESCRITIVO-BRI'!F:F,SMALL(IF('MEMORIAL DESCRITIVO-BRI'!$E$2:$E$4000=\"Sim\",ROW('MEMORIAL DESCRITIVO-BRI'!$F$2:$F$4000)),ROW(B552))) & \" - \" & INDEX('MEMORIAL DESCRITIVO-BRI'!H:H,SMALL(IF('MEMORIAL DESCRITIVO-BRI'!$E$2:$E$4000=\"Sim\",ROW('MEMORIAL DESCRITIVO-BRI'!$H$2:$H$4000)),ROW(B552))), \"\")","v":""},null,{"$f":"IFERROR(INDEX('MEMORIAL DESCRITIVO-BRI'!S:S,SMALL(IF('MEMORIAL DESCRITIVO-BRI'!$E$2:$E$4000=\"Sim\",ROW('MEMORIAL DESCRITIVO-BRI'!$S$2:$S$4000)),ROW(B552))), \"\")","v":""},{"$f":"IFERROR(INDEX('MEMORIAL DESCRITIVO-BRI'!Z:Z,SMALL(IF('MEMORIAL DESCRITIVO-BRI'!$E$2:$E$4000=\"Sim\",ROW('MEMORIAL DESCRITIVO-BRI'!$Z$2:$Z$4000)),ROW(B552))), \"\")","v":""},{"$f":"IFERROR(INDEX('MEMORIAL DESCRITIVO-BRI'!W:W,SMALL(IF('MEMORIAL DESCRITIVO-BRI'!$E$2:$E$4000=\"Sim\",ROW('MEMORIAL DESCRITIVO-BRI'!$W$2:$W$4000)),ROW(B552))), \"\")","v":""},{"$f":"IFERROR(INDEX('MEMORIAL DESCRITIVO-BRI'!G:G,SMALL(IF('MEMORIAL DESCRITIVO-BRI'!$E$2:$E$4000=\"Sim\",ROW('MEMORIAL DESCRITIVO-BRI'!$G$2:$G$4000)),ROW(B552))), \"\")","v":""},{"$f":"IFERROR(INDEX('MEMORIAL DESCRITIVO-BRI'!P:P,SMALL(IF('MEMORIAL DESCRITIVO-BRI'!$E$2:$E$4000=\"Sim\",ROW('MEMORIAL DESCRITIVO-BRI'!$P$2:$P$4000)),ROW(B552))), \"\")","v":""},{"$f":"IFERROR(INDEX('MEMORIAL DESCRITIVO-BRI'!Q:Q,SMALL(IF('MEMORIAL DESCRITIVO-BRI'!$E$2:$E$4000=\"Sim\",ROW('MEMORIAL DESCRITIVO-BRI'!$Q$2:$Q$4000)),ROW(B552))), \"\")","v":""}]
[null,{"$f":"IFERROR(INDEX('MEMORIAL DESCRITIVO-BRI'!B:B,SMALL(IF('MEMORIAL DESCRITIVO-BRI'!$E$2:$E$4000=\"Sim\",ROW('MEMORIAL DESCRITIVO-BRI'!$B$2:$B$4000)),ROW(B553))), \"\")","v":""},{"$f":"IFERROR(INDEX('MEMORIAL DESCRITIVO-BRI'!I:I,SMALL(IF('MEMORIAL DESCRITIVO-BRI'!$E$2:$E$4000=\"Sim\",ROW('MEMORIAL DESCRITIVO-BRI'!$I$2:$I$4000)),ROW(B553))), \"\")","v":""},{"$f":"IFERROR(INDEX('MEMORIAL DESCRITIVO-BRI'!F:F,SMALL(IF('MEMORIAL DESCRITIVO-BRI'!$E$2:$E$4000=\"Sim\",ROW('MEMORIAL DESCRITIVO-BRI'!$F$2:$F$4000)),ROW(B553))) & \" - \" & INDEX('MEMORIAL DESCRITIVO-BRI'!H:H,SMALL(IF('MEMORIAL DESCRITIVO-BRI'!$E$2:$E$4000=\"Sim\",ROW('MEMORIAL DESCRITIVO-BRI'!$H$2:$H$4000)),ROW(B553))), \"\")","v":""},null,{"$f":"IFERROR(INDEX('MEMORIAL DESCRITIVO-BRI'!S:S,SMALL(IF('MEMORIAL DESCRITIVO-BRI'!$E$2:$E$4000=\"Sim\",ROW('MEMORIAL DESCRITIVO-BRI'!$S$2:$S$4000)),ROW(B553))), \"\")","v":""},{"$f":"IFERROR(INDEX('MEMORIAL DESCRITIVO-BRI'!Z:Z,SMALL(IF('MEMORIAL DESCRITIVO-BRI'!$E$2:$E$4000=\"Sim\",ROW('MEMORIAL DESCRITIVO-BRI'!$Z$2:$Z$4000)),ROW(B553))), \"\")","v":""},{"$f":"IFERROR(INDEX('MEMORIAL DESCRITIVO-BRI'!W:W,SMALL(IF('MEMORIAL DESCRITIVO-BRI'!$E$2:$E$4000=\"Sim\",ROW('MEMORIAL DESCRITIVO-BRI'!$W$2:$W$4000)),ROW(B553))), \"\")","v":""},{"$f":"IFERROR(INDEX('MEMORIAL DESCRITIVO-BRI'!G:G,SMALL(IF('MEMORIAL DESCRITIVO-BRI'!$E$2:$E$4000=\"Sim\",ROW('MEMORIAL DESCRITIVO-BRI'!$G$2:$G$4000)),ROW(B553))), \"\")","v":""},{"$f":"IFERROR(INDEX('MEMORIAL DESCRITIVO-BRI'!P:P,SMALL(IF('MEMORIAL DESCRITIVO-BRI'!$E$2:$E$4000=\"Sim\",ROW('MEMORIAL DESCRITIVO-BRI'!$P$2:$P$4000)),ROW(B553))), \"\")","v":""},{"$f":"IFERROR(INDEX('MEMORIAL DESCRITIVO-BRI'!Q:Q,SMALL(IF('MEMORIAL DESCRITIVO-BRI'!$E$2:$E$4000=\"Sim\",ROW('MEMORIAL DESCRITIVO-BRI'!$Q$2:$Q$4000)),ROW(B553))), \"\")","v":""}]
[null,{"$f":"IFERROR(INDEX('MEMORIAL DESCRITIVO-BRI'!B:B,SMALL(IF('MEMORIAL DESCRITIVO-BRI'!$E$2:$E$4000=\"Sim\",ROW('MEMORIAL DESCRITIVO-BRI'!$B$2:$B$4000)),ROW(B554))), \"\")","v":""},{"$f":"IFERROR(INDEX('MEMORIAL DESCRITIVO-BRI'!I:I,SMALL(IF('MEMORIAL DESCRITIVO-BRI'!$E$2:$E$4000=\"Sim\",ROW('MEMORIAL DESCRITIVO-BRI'!$I$2:$I$4000)),ROW(B554))), \"\")","v":""},{"$f":"IFERROR(INDEX('MEMORIAL DESCRITIVO-BRI'!F:F,SMALL(IF('MEMORIAL DESCRITIVO-BRI'!$E$2:$E$4000=\"Sim\",ROW('MEMORIAL DESCRITIVO-BRI'!$F$2:$F$4000)),ROW(B554))) & \" - \" & INDEX('MEMORIAL DESCRITIVO-BRI'!H:H,SMALL(IF('MEMORIAL DESCRITIVO-BRI'!$E$2:$E$4000=\"Sim\",ROW('MEMORIAL DESCRITIVO-BRI'!$H$2:$H$4000)),ROW(B554))), \"\")","v":""},null,{"$f":"IFERROR(INDEX('MEMORIAL DESCRITIVO-BRI'!S:S,SMALL(IF('MEMORIAL DESCRITIVO-BRI'!$E$2:$E$4000=\"Sim\",ROW('MEMORIAL DESCRITIVO-BRI'!$S$2:$S$4000)),ROW(B554))), \"\")","v":""},{"$f":"IFERROR(INDEX('MEMORIAL DESCRITIVO-BRI'!Z:Z,SMALL(IF('MEMORIAL DESCRITIVO-BRI'!$E$2:$E$4000=\"Sim\",ROW('MEMORIAL DESCRITIVO-BRI'!$Z$2:$Z$4000)),ROW(B554))), \"\")","v":""},{"$f":"IFERROR(INDEX('MEMORIAL DESCRITIVO-BRI'!W:W,SMALL(IF('MEMORIAL DESCRITIVO-BRI'!$E$2:$E$4000=\"Sim\",ROW('MEMORIAL DESCRITIVO-BRI'!$W$2:$W$4000)),ROW(B554))), \"\")","v":""},{"$f":"IFERROR(INDEX('MEMORIAL DESCRITIVO-BRI'!G:G,SMALL(IF('MEMORIAL DESCRITIVO-BRI'!$E$2:$E$4000=\"Sim\",ROW('MEMORIAL DESCRITIVO-BRI'!$G$2:$G$4000)),ROW(B554))), \"\")","v":""},{"$f":"IFERROR(INDEX('MEMORIAL DESCRITIVO-BRI'!P:P,SMALL(IF('MEMORIAL DESCRITIVO-BRI'!$E$2:$E$4000=\"Sim\",ROW('MEMORIAL DESCRITIVO-BRI'!$P$2:$P$4000)),ROW(B554))), \"\")","v":""},{"$f":"IFERROR(INDEX('MEMORIAL DESCRITIVO-BRI'!Q:Q,SMALL(IF('MEMORIAL DESCRITIVO-BRI'!$E$2:$E$4000=\"Sim\",ROW('MEMORIAL DESCRITIVO-BRI'!$Q$2:$Q$4000)),ROW(B554))), \"\")","v":""}]
[null,{"$f":"IFERROR(INDEX('MEMORIAL DESCRITIVO-BRI'!B:B,SMALL(IF('MEMORIAL DESCRITIVO-BRI'!$E$2:$E$4000=\"Sim\",ROW('MEMORIAL DESCRITIVO-BRI'!$B$2:$B$4000)),ROW(B555))), \"\")","v":""},{"$f":"IFERROR(INDEX('MEMORIAL DESCRITIVO-BRI'!I:I,SMALL(IF('MEMORIAL DESCRITIVO-BRI'!$E$2:$E$4000=\"Sim\",ROW('MEMORIAL DESCRITIVO-BRI'!$I$2:$I$4000)),ROW(B555))), \"\")","v":""},{"$f":"IFERROR(INDEX('MEMORIAL DESCRITIVO-BRI'!F:F,SMALL(IF('MEMORIAL DESCRITIVO-BRI'!$E$2:$E$4000=\"Sim\",ROW('MEMORIAL DESCRITIVO-BRI'!$F$2:$F$4000)),ROW(B555))) & \" - \" & INDEX('MEMORIAL DESCRITIVO-BRI'!H:H,SMALL(IF('MEMORIAL DESCRITIVO-BRI'!$E$2:$E$4000=\"Sim\",ROW('MEMORIAL DESCRITIVO-BRI'!$H$2:$H$4000)),ROW(B555))), \"\")","v":""},null,{"$f":"IFERROR(INDEX('MEMORIAL DESCRITIVO-BRI'!S:S,SMALL(IF('MEMORIAL DESCRITIVO-BRI'!$E$2:$E$4000=\"Sim\",ROW('MEMORIAL DESCRITIVO-BRI'!$S$2:$S$4000)),ROW(B555))), \"\")","v":""},{"$f":"IFERROR(INDEX('MEMORIAL DESCRITIVO-BRI'!Z:Z,SMALL(IF('MEMORIAL DESCRITIVO-BRI'!$E$2:$E$4000=\"Sim\",ROW('MEMORIAL DESCRITIVO-BRI'!$Z$2:$Z$4000)),ROW(B555))), \"\")","v":""},{"$f":"IFERROR(INDEX('MEMORIAL DESCRITIVO-BRI'!W:W,SMALL(IF('MEMORIAL DESCRITIVO-BRI'!$E$2:$E$4000=\"Sim\",ROW('MEMORIAL DESCRITIVO-BRI'!$W$2:$W$4000)),ROW(B555))), \"\")","v":""},{"$f":"IFERROR(INDEX('MEMORIAL DESCRITIVO-BRI'!G:G,SMALL(IF('MEMORIAL DESCRITIVO-BRI'!$E$2:$E$4000=\"Sim\",ROW('MEMORIAL DESCRITIVO-BRI'!$G$2:$G$4000)),ROW(B555))), \"\")","v":""},{"$f":"IFERROR(INDEX('MEMORIAL DESCRITIVO-BRI'!P:P,SMALL(IF('MEMORIAL DESCRITIVO-BRI'!$E$2:$E$4000=\"Sim\",ROW('MEMORIAL DESCRITIVO-BRI'!$P$2:$P$4000)),ROW(B555))), \"\")","v":""},{"$f":"IFERROR(INDEX('MEMORIAL DESCRITIVO-BRI'!Q:Q,SMALL(IF('MEMORIAL DESCRITIVO-BRI'!$E$2:$E$4000=\"Sim\",ROW('MEMORIAL DESCRITIVO-BRI'!$Q$2:$Q$4000)),ROW(B555))), \"\")","v":""}]
[null,{"$f":"IFERROR(INDEX('MEMORIAL DESCRITIVO-BRI'!B:B,SMALL(IF('MEMORIAL DESCRITIVO-BRI'!$E$2:$E$4000=\"Sim\",ROW('MEMORIAL DESCRITIVO-BRI'!$B$2:$B$4000)),ROW(B556))), \"\")","v":""},{"$f":"IFERROR(INDEX('MEMORIAL DESCRITIVO-BRI'!I:I,SMALL(IF('MEMORIAL DESCRITIVO-BRI'!$E$2:$E$4000=\"Sim\",ROW('MEMORIAL DESCRITIVO-BRI'!$I$2:$I$4000)),ROW(B556))), \"\")","v":""},{"$f":"IFERROR(INDEX('MEMORIAL DESCRITIVO-BRI'!F:F,SMALL(IF('MEMORIAL DESCRITIVO-BRI'!$E$2:$E$4000=\"Sim\",ROW('MEMORIAL DESCRITIVO-BRI'!$F$2:$F$4000)),ROW(B556))) & \" - \" & INDEX('MEMORIAL DESCRITIVO-BRI'!H:H,SMALL(IF('MEMORIAL DESCRITIVO-BRI'!$E$2:$E$4000=\"Sim\",ROW('MEMORIAL DESCRITIVO-BRI'!$H$2:$H$4000)),ROW(B556))), \"\")","v":""},null,{"$f":"IFERROR(INDEX('MEMORIAL DESCRITIVO-BRI'!S:S,SMALL(IF('MEMORIAL DESCRITIVO-BRI'!$E$2:$E$4000=\"Sim\",ROW('MEMORIAL DESCRITIVO-BRI'!$S$2:$S$4000)),ROW(B556))), \"\")","v":""},{"$f":"IFERROR(INDEX('MEMORIAL DESCRITIVO-BRI'!Z:Z,SMALL(IF('MEMORIAL DESCRITIVO-BRI'!$E$2:$E$4000=\"Sim\",ROW('MEMORIAL DESCRITIVO-BRI'!$Z$2:$Z$4000)),ROW(B556))), \"\")","v":""},{"$f":"IFERROR(INDEX('MEMORIAL DESCRITIVO-BRI'!W:W,SMALL(IF('MEMORIAL DESCRITIVO-BRI'!$E$2:$E$4000=\"Sim\",ROW('MEMORIAL DESCRITIVO-BRI'!$W$2:$W$4000)),ROW(B556))), \"\")","v":""},{"$f":"IFERROR(INDEX('MEMORIAL DESCRITIVO-BRI'!G:G,SMALL(IF('MEMORIAL DESCRITIVO-BRI'!$E$2:$E$4000=\"Sim\",ROW('MEMORIAL DESCRITIVO-BRI'!$G$2:$G$4000)),ROW(B556))), \"\")","v":""},{"$f":"IFERROR(INDEX('MEMORIAL DESCRITIVO-BRI'!P:P,SMALL(IF('MEMORIAL DESCRITIVO-BRI'!$E$2:$E$4000=\"Sim\",ROW('MEMORIAL DESCRITIVO-BRI'!$P$2:$P$4000)),ROW(B556))), \"\")","v":""},{"$f":"IFERROR(INDEX('MEMORIAL DESCRITIVO-BRI'!Q:Q,SMALL(IF('MEMORIAL DESCRITIVO-BRI'!$E$2:$E$4000=\"Sim\",ROW('MEMORIAL DESCRITIVO-BRI'!$Q$2:$Q$4000)),ROW(B556))), \"\")","v":""}]
[null,{"$f":"IFERROR(INDEX('MEMORIAL DESCRITIVO-BRI'!B:B,SMALL(IF('MEMORIAL DESCRITIVO-BRI'!$E$2:$E$4000=\"Sim\",ROW('MEMORIAL DESCRITIVO-BRI'!$B$2:$B$4000)),ROW(B557))), \"\")","v":""},{"$f":"IFERROR(INDEX('MEMORIAL DESCRITIVO-BRI'!I:I,SMALL(IF('MEMORIAL DESCRITIVO-BRI'!$E$2:$E$4000=\"Sim\",ROW('MEMORIAL DESCRITIVO-BRI'!$I$2:$I$4000)),ROW(B557))), \"\")","v":""},{"$f":"IFERROR(INDEX('MEMORIAL DESCRITIVO-BRI'!F:F,SMALL(IF('MEMORIAL DESCRITIVO-BRI'!$E$2:$E$4000=\"Sim\",ROW('MEMORIAL DESCRITIVO-BRI'!$F$2:$F$4000)),ROW(B557))) & \" - \" & INDEX('MEMORIAL DESCRITIVO-BRI'!H:H,SMALL(IF('MEMORIAL DESCRITIVO-BRI'!$E$2:$E$4000=\"Sim\",ROW('MEMORIAL DESCRITIVO-BRI'!$H$2:$H$4000)),ROW(B557))), \"\")","v":""},null,{"$f":"IFERROR(INDEX('MEMORIAL DESCRITIVO-BRI'!S:S,SMALL(IF('MEMORIAL DESCRITIVO-BRI'!$E$2:$E$4000=\"Sim\",ROW('MEMORIAL DESCRITIVO-BRI'!$S$2:$S$4000)),ROW(B557))), \"\")","v":""},{"$f":"IFERROR(INDEX('MEMORIAL DESCRITIVO-BRI'!Z:Z,SMALL(IF('MEMORIAL DESCRITIVO-BRI'!$E$2:$E$4000=\"Sim\",ROW('MEMORIAL DESCRITIVO-BRI'!$Z$2:$Z$4000)),ROW(B557))), \"\")","v":""},{"$f":"IFERROR(INDEX('MEMORIAL DESCRITIVO-BRI'!W:W,SMALL(IF('MEMORIAL DESCRITIVO-BRI'!$E$2:$E$4000=\"Sim\",ROW('MEMORIAL DESCRITIVO-BRI'!$W$2:$W$4000)),ROW(B557))), \"\")","v":""},{"$f":"IFERROR(INDEX('MEMORIAL DESCRITIVO-BRI'!G:G,SMALL(IF('MEMORIAL DESCRITIVO-BRI'!$E$2:$E$4000=\"Sim\",ROW('MEMORIAL DESCRITIVO-BRI'!$G$2:$G$4000)),ROW(B557))), \"\")","v":""},{"$f":"IFERROR(INDEX('MEMORIAL DESCRITIVO-BRI'!P:P,SMALL(IF('MEMORIAL DESCRITIVO-BRI'!$E$2:$E$4000=\"Sim\",ROW('MEMORIAL DESCRITIVO-BRI'!$P$2:$P$4000)),ROW(B557))), \"\")","v":""},{"$f":"IFERROR(INDEX('MEMORIAL DESCRITIVO-BRI'!Q:Q,SMALL(IF('MEMORIAL DESCRITIVO-BRI'!$E$2:$E$4000=\"Sim\",ROW('MEMORIAL DESCRITIVO-BRI'!$Q$2:$Q$4000)),ROW(B557))), \"\")","v":""}]
[null,{"$f":"IFERROR(INDEX('MEMORIAL DESCRITIVO-BRI'!B:B,SMALL(IF('MEMORIAL DESCRITIVO-BRI'!$E$2:$E$4000=\"Sim\",ROW('MEMORIAL DESCRITIVO-BRI'!$B$2:$B$4000)),ROW(B558))), \"\")","v":""},{"$f":"IFERROR(INDEX('MEMORIAL DESCRITIVO-BRI'!I:I,SMALL(IF('MEMORIAL DESCRITIVO-BRI'!$E$2:$E$4000=\"Sim\",ROW('MEMORIAL DESCRITIVO-BRI'!$I$2:$I$4000)),ROW(B558))), \"\")","v":""},{"$f":"IFERROR(INDEX('MEMORIAL DESCRITIVO-BRI'!F:F,SMALL(IF('MEMORIAL DESCRITIVO-BRI'!$E$2:$E$4000=\"Sim\",ROW('MEMORIAL DESCRITIVO-BRI'!$F$2:$F$4000)),ROW(B558))) & \" - \" & INDEX('MEMORIAL DESCRITIVO-BRI'!H:H,SMALL(IF('MEMORIAL DESCRITIVO-BRI'!$E$2:$E$4000=\"Sim\",ROW('MEMORIAL DESCRITIVO-BRI'!$H$2:$H$4000)),ROW(B558))), \"\")","v":""},null,{"$f":"IFERROR(INDEX('MEMORIAL DESCRITIVO-BRI'!S:S,SMALL(IF('MEMORIAL DESCRITIVO-BRI'!$E$2:$E$4000=\"Sim\",ROW('MEMORIAL DESCRITIVO-BRI'!$S$2:$S$4000)),ROW(B558))), \"\")","v":""},{"$f":"IFERROR(INDEX('MEMORIAL DESCRITIVO-BRI'!Z:Z,SMALL(IF('MEMORIAL DESCRITIVO-BRI'!$E$2:$E$4000=\"Sim\",ROW('MEMORIAL DESCRITIVO-BRI'!$Z$2:$Z$4000)),ROW(B558))), \"\")","v":""},{"$f":"IFERROR(INDEX('MEMORIAL DESCRITIVO-BRI'!W:W,SMALL(IF('MEMORIAL DESCRITIVO-BRI'!$E$2:$E$4000=\"Sim\",ROW('MEMORIAL DESCRITIVO-BRI'!$W$2:$W$4000)),ROW(B558))), \"\")","v":""},{"$f":"IFERROR(INDEX('MEMORIAL DESCRITIVO-BRI'!G:G,SMALL(IF('MEMORIAL DESCRITIVO-BRI'!$E$2:$E$4000=\"Sim\",ROW('MEMORIAL DESCRITIVO-BRI'!$G$2:$G$4000)),ROW(B558))), \"\")","v":""},{"$f":"IFERROR(INDEX('MEMORIAL DESCRITIVO-BRI'!P:P,SMALL(IF('MEMORIAL DESCRITIVO-BRI'!$E$2:$E$4000=\"Sim\",ROW('MEMORIAL DESCRITIVO-BRI'!$P$2:$P$4000)),ROW(B558))), \"\")","v":""},{"$f":"IFERROR(INDEX('MEMORIAL DESCRITIVO-BRI'!Q:Q,SMALL(IF('MEMORIAL DESCRITIVO-BRI'!$E$2:$E$4000=\"Sim\",ROW('MEMORIAL DESCRITIVO-BRI'!$Q$2:$Q$4000)),ROW(B558))), \"\")","v":""}]
[null,{"$f":"IFERROR(INDEX('MEMORIAL DESCRITIVO-BRI'!B:B,SMALL(IF('MEMORIAL DESCRITIVO-BRI'!$E$2:$E$4000=\"Sim\",ROW('MEMORIAL DESCRITIVO-BRI'!$B$2:$B$4000)),ROW(B559))), \"\")","v":""},{"$f":"IFERROR(INDEX('MEMORIAL DESCRITIVO-BRI'!I:I,SMALL(IF('MEMORIAL DESCRITIVO-BRI'!$E$2:$E$4000=\"Sim\",ROW('MEMORIAL DESCRITIVO-BRI'!$I$2:$I$4000)),ROW(B559))), \"\")","v":""},{"$f":"IFERROR(INDEX('MEMORIAL DESCRITIVO-BRI'!F:F,SMALL(IF('MEMORIAL DESCRITIVO-BRI'!$E$2:$E$4000=\"Sim\",ROW('MEMORIAL DESCRITIVO-BRI'!$F$2:$F$4000)),ROW(B559))) & \" - \" & INDEX('MEMORIAL DESCRITIVO-BRI'!H:H,SMALL(IF('MEMORIAL DESCRITIVO-BRI'!$E$2:$E$4000=\"Sim\",ROW('MEMORIAL DESCRITIVO-BRI'!$H$2:$H$4000)),ROW(B559))), \"\")","v":""},null,{"$f":"IFERROR(INDEX('MEMORIAL DESCRITIVO-BRI'!S:S,SMALL(IF('MEMORIAL DESCRITIVO-BRI'!$E$2:$E$4000=\"Sim\",ROW('MEMORIAL DESCRITIVO-BRI'!$S$2:$S$4000)),ROW(B559))), \"\")","v":""},{"$f":"IFERROR(INDEX('MEMORIAL DESCRITIVO-BRI'!Z:Z,SMALL(IF('MEMORIAL DESCRITIVO-BRI'!$E$2:$E$4000=\"Sim\",ROW('MEMORIAL DESCRITIVO-BRI'!$Z$2:$Z$4000)),ROW(B559))), \"\")","v":""},{"$f":"IFERROR(INDEX('MEMORIAL DESCRITIVO-BRI'!W:W,SMALL(IF('MEMORIAL DESCRITIVO-BRI'!$E$2:$E$4000=\"Sim\",ROW('MEMORIAL DESCRITIVO-BRI'!$W$2:$W$4000)),ROW(B559))), \"\")","v":""},{"$f":"IFERROR(INDEX('MEMORIAL DESCRITIVO-BRI'!G:G,SMALL(IF('MEMORIAL DESCRITIVO-BRI'!$E$2:$E$4000=\"Sim\",ROW('MEMORIAL DESCRITIVO-BRI'!$G$2:$G$4000)),ROW(B559))), \"\")","v":""},{"$f":"IFERROR(INDEX('MEMORIAL DESCRITIVO-BRI'!P:P,SMALL(IF('MEMORIAL DESCRITIVO-BRI'!$E$2:$E$4000=\"Sim\",ROW('MEMORIAL DESCRITIVO-BRI'!$P$2:$P$4000)),ROW(B559))), \"\")","v":""},{"$f":"IFERROR(INDEX('MEMORIAL DESCRITIVO-BRI'!Q:Q,SMALL(IF('MEMORIAL DESCRITIVO-BRI'!$E$2:$E$4000=\"Sim\",ROW('MEMORIAL DESCRITIVO-BRI'!$Q$2:$Q$4000)),ROW(B559))), \"\")","v":""}]
[null,{"$f":"IFERROR(INDEX('MEMORIAL DESCRITIVO-BRI'!B:B,SMALL(IF('MEMORIAL DESCRITIVO-BRI'!$E$2:$E$4000=\"Sim\",ROW('MEMORIAL DESCRITIVO-BRI'!$B$2:$B$4000)),ROW(B560))), \"\")","v":""},{"$f":"IFERROR(INDEX('MEMORIAL DESCRITIVO-BRI'!I:I,SMALL(IF('MEMORIAL DESCRITIVO-BRI'!$E$2:$E$4000=\"Sim\",ROW('MEMORIAL DESCRITIVO-BRI'!$I$2:$I$4000)),ROW(B560))), \"\")","v":""},{"$f":"IFERROR(INDEX('MEMORIAL DESCRITIVO-BRI'!F:F,SMALL(IF('MEMORIAL DESCRITIVO-BRI'!$E$2:$E$4000=\"Sim\",ROW('MEMORIAL DESCRITIVO-BRI'!$F$2:$F$4000)),ROW(B560))) & \" - \" & INDEX('MEMORIAL DESCRITIVO-BRI'!H:H,SMALL(IF('MEMORIAL DESCRITIVO-BRI'!$E$2:$E$4000=\"Sim\",ROW('MEMORIAL DESCRITIVO-BRI'!$H$2:$H$4000)),ROW(B560))), \"\")","v":""},null,{"$f":"IFERROR(INDEX('MEMORIAL DESCRITIVO-BRI'!S:S,SMALL(IF('MEMORIAL DESCRITIVO-BRI'!$E$2:$E$4000=\"Sim\",ROW('MEMORIAL DESCRITIVO-BRI'!$S$2:$S$4000)),ROW(B560))), \"\")","v":""},{"$f":"IFERROR(INDEX('MEMORIAL DESCRITIVO-BRI'!Z:Z,SMALL(IF('MEMORIAL DESCRITIVO-BRI'!$E$2:$E$4000=\"Sim\",ROW('MEMORIAL DESCRITIVO-BRI'!$Z$2:$Z$4000)),ROW(B560))), \"\")","v":""},{"$f":"IFERROR(INDEX('MEMORIAL DESCRITIVO-BRI'!W:W,SMALL(IF('MEMORIAL DESCRITIVO-BRI'!$E$2:$E$4000=\"Sim\",ROW('MEMORIAL DESCRITIVO-BRI'!$W$2:$W$4000)),ROW(B560))), \"\")","v":""},{"$f":"IFERROR(INDEX('MEMORIAL DESCRITIVO-BRI'!G:G,SMALL(IF('MEMORIAL DESCRITIVO-BRI'!$E$2:$E$4000=\"Sim\",ROW('MEMORIAL DESCRITIVO-BRI'!$G$2:$G$4000)),ROW(B560))), \"\")","v":""},{"$f":"IFERROR(INDEX('MEMORIAL DESCRITIVO-BRI'!P:P,SMALL(IF('MEMORIAL DESCRITIVO-BRI'!$E$2:$E$4000=\"Sim\",ROW('MEMORIAL DESCRITIVO-BRI'!$P$2:$P$4000)),ROW(B560))), \"\")","v":""},{"$f":"IFERROR(INDEX('MEMORIAL DESCRITIVO-BRI'!Q:Q,SMALL(IF('MEMORIAL DESCRITIVO-BRI'!$E$2:$E$4000=\"Sim\",ROW('MEMORIAL DESCRITIVO-BRI'!$Q$2:$Q$4000)),ROW(B560))), \"\")","v":""}]
[null,{"$f":"IFERROR(INDEX('MEMORIAL DESCRITIVO-BRI'!B:B,SMALL(IF('MEMORIAL DESCRITIVO-BRI'!$E$2:$E$4000=\"Sim\",ROW('MEMORIAL DESCRITIVO-BRI'!$B$2:$B$4000)),ROW(B561))), \"\")","v":""},{"$f":"IFERROR(INDEX('MEMORIAL DESCRITIVO-BRI'!I:I,SMALL(IF('MEMORIAL DESCRITIVO-BRI'!$E$2:$E$4000=\"Sim\",ROW('MEMORIAL DESCRITIVO-BRI'!$I$2:$I$4000)),ROW(B561))), \"\")","v":""},{"$f":"IFERROR(INDEX('MEMORIAL DESCRITIVO-BRI'!F:F,SMALL(IF('MEMORIAL DESCRITIVO-BRI'!$E$2:$E$4000=\"Sim\",ROW('MEMORIAL DESCRITIVO-BRI'!$F$2:$F$4000)),ROW(B561))) & \" - \" & INDEX('MEMORIAL DESCRITIVO-BRI'!H:H,SMALL(IF('MEMORIAL DESCRITIVO-BRI'!$E$2:$E$4000=\"Sim\",ROW('MEMORIAL DESCRITIVO-BRI'!$H$2:$H$4000)),ROW(B561))), \"\")","v":""},null,{"$f":"IFERROR(INDEX('MEMORIAL DESCRITIVO-BRI'!S:S,SMALL(IF('MEMORIAL DESCRITIVO-BRI'!$E$2:$E$4000=\"Sim\",ROW('MEMORIAL DESCRITIVO-BRI'!$S$2:$S$4000)),ROW(B561))), \"\")","v":""},{"$f":"IFERROR(INDEX('MEMORIAL DESCRITIVO-BRI'!Z:Z,SMALL(IF('MEMORIAL DESCRITIVO-BRI'!$E$2:$E$4000=\"Sim\",ROW('MEMORIAL DESCRITIVO-BRI'!$Z$2:$Z$4000)),ROW(B561))), \"\")","v":""},{"$f":"IFERROR(INDEX('MEMORIAL DESCRITIVO-BRI'!W:W,SMALL(IF('MEMORIAL DESCRITIVO-BRI'!$E$2:$E$4000=\"Sim\",ROW('MEMORIAL DESCRITIVO-BRI'!$W$2:$W$4000)),ROW(B561))), \"\")","v":""},{"$f":"IFERROR(INDEX('MEMORIAL DESCRITIVO-BRI'!G:G,SMALL(IF('MEMORIAL DESCRITIVO-BRI'!$E$2:$E$4000=\"Sim\",ROW('MEMORIAL DESCRITIVO-BRI'!$G$2:$G$4000)),ROW(B561))), \"\")","v":""},{"$f":"IFERROR(INDEX('MEMORIAL DESCRITIVO-BRI'!P:P,SMALL(IF('MEMORIAL DESCRITIVO-BRI'!$E$2:$E$4000=\"Sim\",ROW('MEMORIAL DESCRITIVO-BRI'!$P$2:$P$4000)),ROW(B561))), \"\")","v":""},{"$f":"IFERROR(INDEX('MEMORIAL DESCRITIVO-BRI'!Q:Q,SMALL(IF('MEMORIAL DESCRITIVO-BRI'!$E$2:$E$4000=\"Sim\",ROW('MEMORIAL DESCRITIVO-BRI'!$Q$2:$Q$4000)),ROW(B561))), \"\")","v":""}]
[null,{"$f":"IFERROR(INDEX('MEMORIAL DESCRITIVO-BRI'!B:B,SMALL(IF('MEMORIAL DESCRITIVO-BRI'!$E$2:$E$4000=\"Sim\",ROW('MEMORIAL DESCRITIVO-BRI'!$B$2:$B$4000)),ROW(B562))), \"\")","v":""},{"$f":"IFERROR(INDEX('MEMORIAL DESCRITIVO-BRI'!I:I,SMALL(IF('MEMORIAL DESCRITIVO-BRI'!$E$2:$E$4000=\"Sim\",ROW('MEMORIAL DESCRITIVO-BRI'!$I$2:$I$4000)),ROW(B562))), \"\")","v":""},{"$f":"IFERROR(INDEX('MEMORIAL DESCRITIVO-BRI'!F:F,SMALL(IF('MEMORIAL DESCRITIVO-BRI'!$E$2:$E$4000=\"Sim\",ROW('MEMORIAL DESCRITIVO-BRI'!$F$2:$F$4000)),ROW(B562))) & \" - \" & INDEX('MEMORIAL DESCRITIVO-BRI'!H:H,SMALL(IF('MEMORIAL DESCRITIVO-BRI'!$E$2:$E$4000=\"Sim\",ROW('MEMORIAL DESCRITIVO-BRI'!$H$2:$H$4000)),ROW(B562))), \"\")","v":""},null,{"$f":"IFERROR(INDEX('MEMORIAL DESCRITIVO-BRI'!S:S,SMALL(IF('MEMORIAL DESCRITIVO-BRI'!$E$2:$E$4000=\"Sim\",ROW('MEMORIAL DESCRITIVO-BRI'!$S$2:$S$4000)),ROW(B562))), \"\")","v":""},{"$f":"IFERROR(INDEX('MEMORIAL DESCRITIVO-BRI'!Z:Z,SMALL(IF('MEMORIAL DESCRITIVO-BRI'!$E$2:$E$4000=\"Sim\",ROW('MEMORIAL DESCRITIVO-BRI'!$Z$2:$Z$4000)),ROW(B562))), \"\")","v":""},{"$f":"IFERROR(INDEX('MEMORIAL DESCRITIVO-BRI'!W:W,SMALL(IF('MEMORIAL DESCRITIVO-BRI'!$E$2:$E$4000=\"Sim\",ROW('MEMORIAL DESCRITIVO-BRI'!$W$2:$W$4000)),ROW(B562))), \"\")","v":""},{"$f":"IFERROR(INDEX('MEMORIAL DESCRITIVO-BRI'!G:G,SMALL(IF('MEMORIAL DESCRITIVO-BRI'!$E$2:$E$4000=\"Sim\",ROW('MEMORIAL DESCRITIVO-BRI'!$G$2:$G$4000)),ROW(B562))), \"\")","v":""},{"$f":"IFERROR(INDEX('MEMORIAL DESCRITIVO-BRI'!P:P,SMALL(IF('MEMORIAL DESCRITIVO-BRI'!$E$2:$E$4000=\"Sim\",ROW('MEMORIAL DESCRITIVO-BRI'!$P$2:$P$4000)),ROW(B562))), \"\")","v":""},{"$f":"IFERROR(INDEX('MEMORIAL DESCRITIVO-BRI'!Q:Q,SMALL(IF('MEMORIAL DESCRITIVO-BRI'!$E$2:$E$4000=\"Sim\",ROW('MEMORIAL DESCRITIVO-BRI'!$Q$2:$Q$4000)),ROW(B562))), \"\")","v":""}]
[null,{"$f":"IFERROR(INDEX('MEMORIAL DESCRITIVO-BRI'!B:B,SMALL(IF('MEMORIAL DESCRITIVO-BRI'!$E$2:$E$4000=\"Sim\",ROW('MEMORIAL DESCRITIVO-BRI'!$B$2:$B$4000)),ROW(B563))), \"\")","v":""},{"$f":"IFERROR(INDEX('MEMORIAL DESCRITIVO-BRI'!I:I,SMALL(IF('MEMORIAL DESCRITIVO-BRI'!$E$2:$E$4000=\"Sim\",ROW('MEMORIAL DESCRITIVO-BRI'!$I$2:$I$4000)),ROW(B563))), \"\")","v":""},{"$f":"IFERROR(INDEX('MEMORIAL DESCRITIVO-BRI'!F:F,SMALL(IF('MEMORIAL DESCRITIVO-BRI'!$E$2:$E$4000=\"Sim\",ROW('MEMORIAL DESCRITIVO-BRI'!$F$2:$F$4000)),ROW(B563))) & \" - \" & INDEX('MEMORIAL DESCRITIVO-BRI'!H:H,SMALL(IF('MEMORIAL DESCRITIVO-BRI'!$E$2:$E$4000=\"Sim\",ROW('MEMORIAL DESCRITIVO-BRI'!$H$2:$H$4000)),ROW(B563))), \"\")","v":""},null,{"$f":"IFERROR(INDEX('MEMORIAL DESCRITIVO-BRI'!S:S,SMALL(IF('MEMORIAL DESCRITIVO-BRI'!$E$2:$E$4000=\"Sim\",ROW('MEMORIAL DESCRITIVO-BRI'!$S$2:$S$4000)),ROW(B563))), \"\")","v":""},{"$f":"IFERROR(INDEX('MEMORIAL DESCRITIVO-BRI'!Z:Z,SMALL(IF('MEMORIAL DESCRITIVO-BRI'!$E$2:$E$4000=\"Sim\",ROW('MEMORIAL DESCRITIVO-BRI'!$Z$2:$Z$4000)),ROW(B563))), \"\")","v":""},{"$f":"IFERROR(INDEX('MEMORIAL DESCRITIVO-BRI'!W:W,SMALL(IF('MEMORIAL DESCRITIVO-BRI'!$E$2:$E$4000=\"Sim\",ROW('MEMORIAL DESCRITIVO-BRI'!$W$2:$W$4000)),ROW(B563))), \"\")","v":""},{"$f":"IFERROR(INDEX('MEMORIAL DESCRITIVO-BRI'!G:G,SMALL(IF('MEMORIAL DESCRITIVO-BRI'!$E$2:$E$4000=\"Sim\",ROW('MEMORIAL DESCRITIVO-BRI'!$G$2:$G$4000)),ROW(B563))), \"\")","v":""},{"$f":"IFERROR(INDEX('MEMORIAL DESCRITIVO-BRI'!P:P,SMALL(IF('MEMORIAL DESCRITIVO-BRI'!$E$2:$E$4000=\"Sim\",ROW('MEMORIAL DESCRITIVO-BRI'!$P$2:$P$4000)),ROW(B563))), \"\")","v":""},{"$f":"IFERROR(INDEX('MEMORIAL DESCRITIVO-BRI'!Q:Q,SMALL(IF('MEMORIAL DESCRITIVO-BRI'!$E$2:$E$4000=\"Sim\",ROW('MEMORIAL DESCRITIVO-BRI'!$Q$2:$Q$4000)),ROW(B563))), \"\")","v":""}]
[null,{"$f":"IFERROR(INDEX('MEMORIAL DESCRITIVO-BRI'!B:B,SMALL(IF('MEMORIAL DESCRITIVO-BRI'!$E$2:$E$4000=\"Sim\",ROW('MEMORIAL DESCRITIVO-BRI'!$B$2:$B$4000)),ROW(B564))), \"\")","v":""},{"$f":"IFERROR(INDEX('MEMORIAL DESCRITIVO-BRI'!I:I,SMALL(IF('MEMORIAL DESCRITIVO-BRI'!$E$2:$E$4000=\"Sim\",ROW('MEMORIAL DESCRITIVO-BRI'!$I$2:$I$4000)),ROW(B564))), \"\")","v":""},{"$f":"IFERROR(INDEX('MEMORIAL DESCRITIVO-BRI'!F:F,SMALL(IF('MEMORIAL DESCRITIVO-BRI'!$E$2:$E$4000=\"Sim\",ROW('MEMORIAL DESCRITIVO-BRI'!$F$2:$F$4000)),ROW(B564))) & \" - \" & INDEX('MEMORIAL DESCRITIVO-BRI'!H:H,SMALL(IF('MEMORIAL DESCRITIVO-BRI'!$E$2:$E$4000=\"Sim\",ROW('MEMORIAL DESCRITIVO-BRI'!$H$2:$H$4000)),ROW(B564))), \"\")","v":""},null,{"$f":"IFERROR(INDEX('MEMORIAL DESCRITIVO-BRI'!S:S,SMALL(IF('MEMORIAL DESCRITIVO-BRI'!$E$2:$E$4000=\"Sim\",ROW('MEMORIAL DESCRITIVO-BRI'!$S$2:$S$4000)),ROW(B564))), \"\")","v":""},{"$f":"IFERROR(INDEX('MEMORIAL DESCRITIVO-BRI'!Z:Z,SMALL(IF('MEMORIAL DESCRITIVO-BRI'!$E$2:$E$4000=\"Sim\",ROW('MEMORIAL DESCRITIVO-BRI'!$Z$2:$Z$4000)),ROW(B564))), \"\")","v":""},{"$f":"IFERROR(INDEX('MEMORIAL DESCRITIVO-BRI'!W:W,SMALL(IF('MEMORIAL DESCRITIVO-BRI'!$E$2:$E$4000=\"Sim\",ROW('MEMORIAL DESCRITIVO-BRI'!$W$2:$W$4000)),ROW(B564))), \"\")","v":""},{"$f":"IFERROR(INDEX('MEMORIAL DESCRITIVO-BRI'!G:G,SMALL(IF('MEMORIAL DESCRITIVO-BRI'!$E$2:$E$4000=\"Sim\",ROW('MEMORIAL DESCRITIVO-BRI'!$G$2:$G$4000)),ROW(B564))), \"\")","v":""},{"$f":"IFERROR(INDEX('MEMORIAL DESCRITIVO-BRI'!P:P,SMALL(IF('MEMORIAL DESCRITIVO-BRI'!$E$2:$E$4000=\"Sim\",ROW('MEMORIAL DESCRITIVO-BRI'!$P$2:$P$4000)),ROW(B564))), \"\")","v":""},{"$f":"IFERROR(INDEX('MEMORIAL DESCRITIVO-BRI'!Q:Q,SMALL(IF('MEMORIAL DESCRITIVO-BRI'!$E$2:$E$4000=\"Sim\",ROW('MEMORIAL DESCRITIVO-BRI'!$Q$2:$Q$4000)),ROW(B564))), \"\")","v":""}]
[null,{"$f":"IFERROR(INDEX('MEMORIAL DESCRITIVO-BRI'!B:B,SMALL(IF('MEMORIAL DESCRITIVO-BRI'!$E$2:$E$4000=\"Sim\",ROW('MEMORIAL DESCRITIVO-BRI'!$B$2:$B$4000)),ROW(B565))), \"\")","v":""},{"$f":"IFERROR(INDEX('MEMORIAL DESCRITIVO-BRI'!I:I,SMALL(IF('MEMORIAL DESCRITIVO-BRI'!$E$2:$E$4000=\"Sim\",ROW('MEMORIAL DESCRITIVO-BRI'!$I$2:$I$4000)),ROW(B565))), \"\")","v":""},{"$f":"IFERROR(INDEX('MEMORIAL DESCRITIVO-BRI'!F:F,SMALL(IF('MEMORIAL DESCRITIVO-BRI'!$E$2:$E$4000=\"Sim\",ROW('MEMORIAL DESCRITIVO-BRI'!$F$2:$F$4000)),ROW(B565))) & \" - \" & INDEX('MEMORIAL DESCRITIVO-BRI'!H:H,SMALL(IF('MEMORIAL DESCRITIVO-BRI'!$E$2:$E$4000=\"Sim\",ROW('MEMORIAL DESCRITIVO-BRI'!$H$2:$H$4000)),ROW(B565))), \"\")","v":""},null,{"$f":"IFERROR(INDEX('MEMORIAL DESCRITIVO-BRI'!S:S,SMALL(IF('MEMORIAL DESCRITIVO-BRI'!$E$2:$E$4000=\"Sim\",ROW('MEMORIAL DESCRITIVO-BRI'!$S$2:$S$4000)),ROW(B565))), \"\")","v":""},{"$f":"IFERROR(INDEX('MEMORIAL DESCRITIVO-BRI'!Z:Z,SMALL(IF('MEMORIAL DESCRITIVO-BRI'!$E$2:$E$4000=\"Sim\",ROW('MEMORIAL DESCRITIVO-BRI'!$Z$2:$Z$4000)),ROW(B565))), \"\")","v":""},{"$f":"IFERROR(INDEX('MEMORIAL DESCRITIVO-BRI'!W:W,SMALL(IF('MEMORIAL DESCRITIVO-BRI'!$E$2:$E$4000=\"Sim\",ROW('MEMORIAL DESCRITIVO-BRI'!$W$2:$W$4000)),ROW(B565))), \"\")","v":""},{"$f":"IFERROR(INDEX('MEMORIAL DESCRITIVO-BRI'!G:G,SMALL(IF('MEMORIAL DESCRITIVO-BRI'!$E$2:$E$4000=\"Sim\",ROW('MEMORIAL DESCRITIVO-BRI'!$G$2:$G$4000)),ROW(B565))), \"\")","v":""},{"$f":"IFERROR(INDEX('MEMORIAL DESCRITIVO-BRI'!P:P,SMALL(IF('MEMORIAL DESCRITIVO-BRI'!$E$2:$E$4000=\"Sim\",ROW('MEMORIAL DESCRITIVO-BRI'!$P$2:$P$4000)),ROW(B565))), \"\")","v":""},{"$f":"IFERROR(INDEX('MEMORIAL DESCRITIVO-BRI'!Q:Q,SMALL(IF('MEMORIAL DESCRITIVO-BRI'!$E$2:$E$4000=\"Sim\",ROW('MEMORIAL DESCRITIVO-BRI'!$Q$2:$Q$4000)),ROW(B565))), \"\")","v":""}]

{"sheet":"DADOS","index":6,"n_rows":43,"n_cols":46,"rows_kept":43,"cut":false,"hidden":true,"merged":[]}
[null,"-","-","-","-"]
["-","NACIONAL","INICIAL","MODELO 2","BERÇO"]
["SIM","IMPORTADO","MANUTENÇÃO","MODELO 5","ANDADOR",null,null,null,null,null,null,null,null,null,null,null,null,null,null,null,null,null,null,null,null,null,null,null,null,"-"]
["NÃO",null,"INCLUSÃO / REVISÃO","MODELO 1b - LOTE","MÓBILE",null,null,null,null,null,null,null,null,null,null,null,null,null,null,null,null,null,null,null,null,null,null,null,null,"Elétrico"]
["N° DA LICENÇA P/ USO DE MARCAS:",null,"RECERTIFICAÇÃO",null,"JUMPER",null,null,null,null,null,null,null,null,null,null,null,null,null,null,null,null,null,null,null,null,null,null,null,null,"Manual"]
[null,null,"TRANSFERÊNCIA",null,"BOUNCER"]
[null,null,null,null,"OUTROS"]
[]
["-",null,null,null,null,null,2,3,4,5,6,7,8,9,10,11,12,13,14,15,16,17,18,19,20,21,22,23,24,25,26,27,28,29,30,31,32,33,34,35,36,37,38,39,40,41]
["Conforme",null,null,null,null,"MODELO 1b - LOTE","* Família","Itens","Critério\n* Escolha do pai","* Pai","Modelo/Referência","Marca","Nome Comercial do Produto","Código de barras","É produto com sortimento na mesma referência/cod. Barras?","Quantidade (importação)","N° do Lote de Fabricação","NCM (Importado)","Nº Licença de Importação (L.I) / Declaração de importação (DI ou DUIMP)","Data da Fabricação","Restrição de faixa etária","Indicação de faixa etária ","Mercado alvo a que se destina","Relação dos materiais utilizados para a confecção do brinquedo","O produto possuí PVC ou Vinil?","O produto possuí EVA?","Se madeira, passou por tratamento de fumigação? (Não aplicável a derivados de madeira, exemplo: MDF)","Etapas principais do processo de fabricação","Se pelúcia, definir  por:\na) Material exterior\nb) Tipos de enchimento\nc) Modo de costura\nd) Fixação dos componentes  ","Se pelúcia, \na) Tamanho conforme sua altura:\na.1) de 0 a 15 cm \na.2) maior que 15 cm e menor que 50 cm  \na.3) maior que 50 cm ","Mecânismo de funcionamento: (Manual ou elétrico)","Se elétrico, definir a fonte de alimentação de energia:","Possui pó, pasta, líquido ou gel?  Se sim, especifique a substância.  ","Possui corda /cordão?","Emite som?","Possui imã?","Possui rádio-frequencia?","Detalhe funcionamento caso o brinquedo seja de controle remoto sem fio (por exemplo: rádio frequência ou infra-vermelho)","Velocidade","Potência máxima","Acessórios","Apresenta laser, infra-vermelho ou led? \nSe sim, detalhe qual e para qual finalidade.","Objetivo do brinquedo (ABNT ISO/TR 8124-8)","Dimensões","Cor","Foto\n(800x600 dpi - mínimo)"]
["Não conforme",null,null,null,null,"MODELO 2","* Família","Itens","Critério\n* Escolha do pai","* Pai","Modelo/Referência","Marca","Nome Comercial do Produto","Código de barras","É produto com sortimento na mesma referência/cod. Barras?","N/A","N/A","N/A","N/A","N/A","Restrição de faixa etária","Indicação de faixa etária ","Mercado alvo a que se destina","Relação dos materiais utilizados para a confecção do brinquedo","O produto possuí PVC ou Vinil?","O produto possuí EVA?","Se madeira, passou por tratamento de fumigação? (Não aplicável a derivados de madeira, exemplo: MDF)","Etapas principais do processo de fabricação","Se pelúcia, definir  por:\na) Material exterior\nb) Tipos de enchimento\nc) Modo de costura\nd) Fixação dos componentes  ","Se pelúcia, \na) Tamanho conforme sua altura:\na.1) de 0 a 15 cm \na.2) maior que 15 cm e menor que 50 cm  \na.3) maior que 50 cm ","Mecânismo de funcionamento: (Manual ou elétrico)","Se elétrico, definir a fonte de alimentação de energia:","Possui pó, pasta, líquido ou gel?  Se sim, especifique a substância.  ","Possui corda /cordão?","Emite som?","Possui imã?","Possui rádio-frequencia?","Detalhe funcionamento caso o brinquedo seja de controle remoto sem fio (por exemplo: rádio frequência ou infra-vermelho)","Velocidade","Potência máxima","Acessórios","Apresenta laser, infra-vermelho ou led? \nSe sim, detalhe qual e para qual finalidade.","Objetivo do brinquedo (ABNT ISO/TR 8124-8)","Dimensões","Cor","Foto\n(800x600 dpi min)"]
[null,null,null,null,null,"MODELO 5","* Família","Itens","Critério\n* Escolha do pai","* Pai","Modelo/Referência","Marca","Nome Comercial do Produto","Código de barras","É produto com sortimento na mesma referência/cod. Barras?","N/A","N/A","N/A","N/A","N/A","Restrição de faixa etária","Indicação de faixa etária ","Mercado alvo a que se destina","Relação dos materiais utilizados para a confecção do brinquedo","O produto possuí PVC ou Vinil?","O produto possuí EVA?","Se madeira, passou por tratamento de fumigação? (Não aplicável a derivados de madeira, exemplo: MDF)","Etapas principais do processo de fabricação","Se pelúcia, definir  por:\na) Material exterior\nb) Tipos de enchimento\nc) Modo de costura\nd) Fixação dos componentes  ","Se pelúcia, \na) Tamanho conforme sua altura:\na.1) de 0 a 15 cm \na.2) maior que 15 cm e menor que 50 cm  \na.3) maior que 50 cm ","Mecânismo de funcionamento: (Manual ou elétrico)","Se elétrico, definir a fonte de alimentação de energia:","Possui pó, pasta, líquido ou gel?  Se sim, especifique a substância.  ","Possui corda /cordão?","Emite som?","Possui imã?","Possui rádio-frequencia?","Detalhe funcionamento caso o brinquedo seja de controle remoto sem fio (por exemplo: rádio frequência ou infra-vermelho)","Velocidade","Potência máxima","Acessórios","Apresenta laser, infra-vermelho ou led? \nSe sim, detalhe qual e para qual finalidade.","Objetivo do brinquedo (ABNT ISO/TR 8124-8)","Dimensões","Cor","Foto\n(800x600 dpi min)"]
[null,"-"]
["LABORATÓRIOS DE ENSAIOS"]
["Selecionar laboratório de ensaios",null,"-"]
["BAZHOU HUIHANG PLASTIC MANUFACTURE CO,LTD",null,"I - os brinquedos para a primeira idade - atividades sensório-motoras;"]
["COMPANHIA DOREL BRASIL PRODUTOS INFANTIS",null,"II - os brinquedos para a atividade física;"]
["CSI SPA",null,"III - os brinquedos para atividades intelectuais;"]
["DOREL JUVENILE (ZHONGSHAN) PRODUCT CO. LTD",null,"IV - os brinquedos que reproduzem o mundo técnico;"]
["EXCELÊNCIA LABORATORIAL GLOBAL LTDA – CRL0756",null,"V - os brinquedos para o desenvolvimento afetivo;"]
["GUANGDONG INSPECTION AND QUARANTINE TECHNOLOGY CENTER - IQTC",null,"VI - brinquedos para atividades criativas;"]
["INSTITUTO LAB SYSTEM DE PESQUISA E ENSAIOS LTDA",null,"VII - os brinquedos para as relações sociais."]
["INTERTEK DO BRASIL LABORATÓRIOS LTDA"]
["INTERTEK TESTING SERVICES HONG KONG LTD."]
["INTERTEK TESTING SERVICES SHENZHEN LTD."]
["ITEN - INSTITUTO TECNOLOGICO DE ENSAIOS LTDA"]
["JIANGSU EQO TESTING SERVICES CO., LTD."]
["JIANGSU LUCKY BABY SAFETY SYSTEM MFG.CO., LTD. (LAC LAB SUBCONTRATA)"]
["L. A. FALCÃO BAUER - CENTRO TECNOLÓGICO DE CONTROLE QUALIDADE LTDA."]
["LAC-LAB - LABORATÓRIO DE AVALIAÇÃO DA CONFORMIDADE PARA PRODUTOS LTDA"]
["MARINHO INDÚSTRIA E COMÉRCIO DE PLÁSTICOS LTDA"]
["NTD / NÚCLEO DE TÉCNOLOGIA E DESENVOLVIMENTO EIRELI - EPP"]
["SGS DO BRASIL LTDA - UNIDADE BARUERI"]
["SGS DO BRASIL LTDA - UNIDADE PIRACICABA"]
["SGS-CSTC STANDARDS TECHNICAL SERVICES (SHANGHAI) CO., LTD., (ENVIRONMENTAL SERVICES)"]
["TÜV NORD MOBILITÄT GMBH & CO. KG"]
["TUV RHEINLAND INTERCERT KFT."]
["TÜV SÜD AUTO SERVICE GMBH"]
["TUV SUD CZECH S.R.O"]
["UNITEC UNIDADE DE TECNOLOGIA E ENSAIO LTDA ME"]
["UTAC - UNION TECHNIQUE DE I’AUTOMOBILE, DU MOTOCYCLE ET DU CYCLE"]
["WONDERLAND TESTING LABORATORY CENTER"]
["-"]